BEGIN:VCALENDAR
VERSION:2.0
PRODID:-//Beverly Main Streets - ECPv6.15.20//NONSGML v1.0//EN
CALSCALE:GREGORIAN
METHOD:PUBLISH
X-WR-CALNAME:Beverly Main Streets
X-ORIGINAL-URL:https://bevmain.org
X-WR-CALDESC:Events for Beverly Main Streets
REFRESH-INTERVAL;VALUE=DURATION:PT1H
X-Robots-Tag:noindex
X-PUBLISHED-TTL:PT1H
BEGIN:VTIMEZONE
TZID:America/New_York
BEGIN:DAYLIGHT
TZOFFSETFROM:-0500
TZOFFSETTO:-0400
TZNAME:EDT
DTSTART:20250309T070000
END:DAYLIGHT
BEGIN:STANDARD
TZOFFSETFROM:-0400
TZOFFSETTO:-0500
TZNAME:EST
DTSTART:20251102T060000
END:STANDARD
BEGIN:DAYLIGHT
TZOFFSETFROM:-0500
TZOFFSETTO:-0400
TZNAME:EDT
DTSTART:20260308T070000
END:DAYLIGHT
BEGIN:STANDARD
TZOFFSETFROM:-0400
TZOFFSETTO:-0500
TZNAME:EST
DTSTART:20261101T060000
END:STANDARD
BEGIN:DAYLIGHT
TZOFFSETFROM:-0500
TZOFFSETTO:-0400
TZNAME:EDT
DTSTART:20270314T070000
END:DAYLIGHT
BEGIN:STANDARD
TZOFFSETFROM:-0400
TZOFFSETTO:-0500
TZNAME:EST
DTSTART:20271107T060000
END:STANDARD
END:VTIMEZONE
BEGIN:VEVENT
DTSTART;TZID=America/New_York:20260416T110000
DTEND;TZID=America/New_York:20260420T210000
DTSTAMP:20260421T091825
CREATED:20250417T172123Z
LAST-MODIFIED:20250417T172123Z
UID:10029350-1776337200-1776718800@bevmain.org
SUMMARY:Burrito & A Beer
DESCRIPTION:Craving a burrito and a beer? We’ve got you covered! \nGet our Burrito & a Beer combo\, all for only $20\, Monday through Friday!
URL:https://bevmain.org/event/burrito-a-beer/2026-04-16/
LOCATION:La Qchara\, 275 Cabot Street\, Beverly\, 01915\, United States
CATEGORIES:Beer/Wine,Food
ATTACH;FMTTYPE=image/jpeg:https://bevmain.org/wp-content/uploads/2025/04/Burrito-and-a-Beer-Beverly-Main-Streets-Ad.jpg
ORGANIZER;CN="La Qchara":MAILTO:marketing@laqchara.com
GEO:42.5509677;-70.8781069
X-APPLE-STRUCTURED-LOCATION;VALUE=URI;X-ADDRESS=La Qchara 275 Cabot Street Beverly 01915 United States;X-APPLE-RADIUS=500;X-TITLE=275 Cabot Street:geo:-70.8781069,42.5509677
END:VEVENT
BEGIN:VEVENT
DTSTART;TZID=America/New_York:20260417T110000
DTEND;TZID=America/New_York:20260421T210000
DTSTAMP:20260421T091825
CREATED:20250417T172123Z
LAST-MODIFIED:20250417T172123Z
UID:10029351-1776423600-1776805200@bevmain.org
SUMMARY:Burrito & A Beer
DESCRIPTION:Craving a burrito and a beer? We’ve got you covered! \nGet our Burrito & a Beer combo\, all for only $20\, Monday through Friday!
URL:https://bevmain.org/event/burrito-a-beer/2026-04-17/
LOCATION:La Qchara\, 275 Cabot Street\, Beverly\, 01915\, United States
CATEGORIES:Beer/Wine,Food
ATTACH;FMTTYPE=image/jpeg:https://bevmain.org/wp-content/uploads/2025/04/Burrito-and-a-Beer-Beverly-Main-Streets-Ad.jpg
ORGANIZER;CN="La Qchara":MAILTO:marketing@laqchara.com
GEO:42.5509677;-70.8781069
X-APPLE-STRUCTURED-LOCATION;VALUE=URI;X-ADDRESS=La Qchara 275 Cabot Street Beverly 01915 United States;X-APPLE-RADIUS=500;X-TITLE=275 Cabot Street:geo:-70.8781069,42.5509677
END:VEVENT
BEGIN:VEVENT
DTSTART;TZID=America/New_York:20260420T110000
DTEND;TZID=America/New_York:20260420T210000
DTSTAMP:20260421T091825
CREATED:20250606T163015Z
LAST-MODIFIED:20250606T163015Z
UID:10034039-1776682800-1776718800@bevmain.org
SUMMARY:Beverly 400+ Fundraiser
DESCRIPTION:Donate with every order to support the volunteers of Beverly 400+ in planning celebratory events to honor the town of Beverly’s 400th Anniversary! \nPlease Note: This fundraiser applies to our Beverly location only
URL:https://bevmain.org/event/beverly-400-fundraiser/2026-04-20/
LOCATION:La Qchara\, 275 Cabot Street\, Beverly\, 01915\, United States
CATEGORIES:Food
ATTACH;FMTTYPE=image/jpeg:https://bevmain.org/wp-content/uploads/2025/06/Dine-Donate-Beverly-Main-Streets-Event.jpg
ORGANIZER;CN="La Qchara":MAILTO:marketing@laqchara.com
GEO:42.5509677;-70.8781069
X-APPLE-STRUCTURED-LOCATION;VALUE=URI;X-ADDRESS=La Qchara 275 Cabot Street Beverly 01915 United States;X-APPLE-RADIUS=500;X-TITLE=275 Cabot Street:geo:-70.8781069,42.5509677
END:VEVENT
BEGIN:VEVENT
DTSTART;TZID=America/New_York:20260420T110000
DTEND;TZID=America/New_York:20260424T210000
DTSTAMP:20260421T091825
CREATED:20250417T172123Z
LAST-MODIFIED:20250417T172123Z
UID:10029352-1776682800-1777064400@bevmain.org
SUMMARY:Burrito & A Beer
DESCRIPTION:Craving a burrito and a beer? We’ve got you covered! \nGet our Burrito & a Beer combo\, all for only $20\, Monday through Friday!
URL:https://bevmain.org/event/burrito-a-beer/2026-04-20/
LOCATION:La Qchara\, 275 Cabot Street\, Beverly\, 01915\, United States
CATEGORIES:Beer/Wine,Food
ATTACH;FMTTYPE=image/jpeg:https://bevmain.org/wp-content/uploads/2025/04/Burrito-and-a-Beer-Beverly-Main-Streets-Ad.jpg
ORGANIZER;CN="La Qchara":MAILTO:marketing@laqchara.com
GEO:42.5509677;-70.8781069
X-APPLE-STRUCTURED-LOCATION;VALUE=URI;X-ADDRESS=La Qchara 275 Cabot Street Beverly 01915 United States;X-APPLE-RADIUS=500;X-TITLE=275 Cabot Street:geo:-70.8781069,42.5509677
END:VEVENT
BEGIN:VEVENT
DTSTART;TZID=America/New_York:20260420T150000
DTEND;TZID=America/New_York:20260420T210000
DTSTAMP:20260421T091825
CREATED:20260106T150850Z
LAST-MODIFIED:20260106T150851Z
UID:10030959-1776697200-1776718800@bevmain.org
SUMMARY:Pre-Theater Pre-Fixe Menu
DESCRIPTION:Already have tickets to The Cabot? Why not enjoy dinner and a show! \nStop by for a delicious 3-course meal with a pre-fixe price of $28 when you order off our Pre-Theater Menu! \n*This offer is only available on performance days at The Cabot
URL:https://bevmain.org/event/pre-theater-pre-fixe-menu-2/2026-04-20/
LOCATION:La Qchara\, 275 Cabot Street\, Beverly\, 01915\, United States
CATEGORIES:Food,Theatre
ATTACH;FMTTYPE=image/jpeg:https://bevmain.org/wp-content/uploads/2025/05/Pre-Theater-Pre-Fixe-Beverly-Main-Streets-Event.jpg
ORGANIZER;CN="La Qchara":MAILTO:marketing@laqchara.com
GEO:42.5509677;-70.8781069
X-APPLE-STRUCTURED-LOCATION;VALUE=URI;X-ADDRESS=La Qchara 275 Cabot Street Beverly 01915 United States;X-APPLE-RADIUS=500;X-TITLE=275 Cabot Street:geo:-70.8781069,42.5509677
END:VEVENT
BEGIN:VEVENT
DTSTART;TZID=America/New_York:20260420T170000
DTEND;TZID=America/New_York:20260420T190000
DTSTAMP:20260421T091825
CREATED:20230314T150712Z
LAST-MODIFIED:20230314T150712Z
UID:10017390-1776704400-1776711600@bevmain.org
SUMMARY:Backbeat Street Fleet Run Club
DESCRIPTION:Run Club meets every Monday from 5pm to 7pm with groups going out at 6pm. All walkers and runners welcome. Earn prizes each week!
URL:https://bevmain.org/event/backbeat-street-fleet-run-club/2026-04-20/
LOCATION:Backbeat Brewing\, 31A Park Street\, Beverly\, MA\, 01915\, United States
CATEGORIES:Beer/Wine,Community Events,Free,Outdoor
ATTACH;FMTTYPE=image/jpeg:https://bevmain.org/wp-content/uploads/2023/03/backbeatrunclub.jpg
GEO:42.5476788;-70.8846903
X-APPLE-STRUCTURED-LOCATION;VALUE=URI;X-ADDRESS=Backbeat Brewing 31A Park Street Beverly MA 01915 United States;X-APPLE-RADIUS=500;X-TITLE=31A Park Street:geo:-70.8846903,42.5476788
END:VEVENT
BEGIN:VEVENT
DTSTART;TZID=America/New_York:20260420T200000
DTEND;TZID=America/New_York:20260420T230000
DTSTAMP:20260421T091825
CREATED:20230628T150156Z
LAST-MODIFIED:20231108T191914Z
UID:10019344-1776715200-1776726000@bevmain.org
SUMMARY:Open Mic at Indo
DESCRIPTION:Hosted by Bob Kramer & Nick Consone!
URL:https://bevmain.org/event/open-mic-at-indo/2026-04-20/
LOCATION:The Indo\, 298 Cabot Street\, Beverly\, MA\, 01915\, United States
CATEGORIES:Beer/Wine,Comedy,Food,Nightlife
ATTACH;FMTTYPE=image/jpeg:https://bevmain.org/wp-content/uploads/2023/06/IndoOpenMic.jpg
GEO:42.5521772;-70.8790122
X-APPLE-STRUCTURED-LOCATION;VALUE=URI;X-ADDRESS=The Indo 298 Cabot Street Beverly MA 01915 United States;X-APPLE-RADIUS=500;X-TITLE=298 Cabot Street:geo:-70.8790122,42.5521772
END:VEVENT
END:VCALENDAR