BEGIN:VCALENDAR
VERSION:2.0
PRODID:-//Beverly Main Streets - ECPv6.15.20//NONSGML v1.0//EN
CALSCALE:GREGORIAN
METHOD:PUBLISH
X-WR-CALNAME:Beverly Main Streets
X-ORIGINAL-URL:https://bevmain.org
X-WR-CALDESC:Events for Beverly Main Streets
REFRESH-INTERVAL;VALUE=DURATION:PT1H
X-Robots-Tag:noindex
X-PUBLISHED-TTL:PT1H
BEGIN:VTIMEZONE
TZID:America/New_York
BEGIN:DAYLIGHT
TZOFFSETFROM:-0500
TZOFFSETTO:-0400
TZNAME:EDT
DTSTART:20250309T070000
END:DAYLIGHT
BEGIN:STANDARD
TZOFFSETFROM:-0400
TZOFFSETTO:-0500
TZNAME:EST
DTSTART:20251102T060000
END:STANDARD
BEGIN:DAYLIGHT
TZOFFSETFROM:-0500
TZOFFSETTO:-0400
TZNAME:EDT
DTSTART:20260308T070000
END:DAYLIGHT
BEGIN:STANDARD
TZOFFSETFROM:-0400
TZOFFSETTO:-0500
TZNAME:EST
DTSTART:20261101T060000
END:STANDARD
BEGIN:DAYLIGHT
TZOFFSETFROM:-0500
TZOFFSETTO:-0400
TZNAME:EDT
DTSTART:20270314T070000
END:DAYLIGHT
BEGIN:STANDARD
TZOFFSETFROM:-0400
TZOFFSETTO:-0500
TZNAME:EST
DTSTART:20271107T060000
END:STANDARD
END:VTIMEZONE
BEGIN:VEVENT
DTSTART;TZID=America/New_York:20260420T110000
DTEND;TZID=America/New_York:20260424T210000
DTSTAMP:20260423T011921
CREATED:20250417T172123Z
LAST-MODIFIED:20250417T172123Z
UID:10029352-1776682800-1777064400@bevmain.org
SUMMARY:Burrito & A Beer
DESCRIPTION:Craving a burrito and a beer? We’ve got you covered! \nGet our Burrito & a Beer combo\, all for only $20\, Monday through Friday!
URL:https://bevmain.org/event/burrito-a-beer/2026-04-20/
LOCATION:La Qchara\, 275 Cabot Street\, Beverly\, 01915\, United States
CATEGORIES:Beer/Wine,Food
ATTACH;FMTTYPE=image/jpeg:https://bevmain.org/wp-content/uploads/2025/04/Burrito-and-a-Beer-Beverly-Main-Streets-Ad.jpg
ORGANIZER;CN="La Qchara":MAILTO:marketing@laqchara.com
GEO:42.5509677;-70.8781069
X-APPLE-STRUCTURED-LOCATION;VALUE=URI;X-ADDRESS=La Qchara 275 Cabot Street Beverly 01915 United States;X-APPLE-RADIUS=500;X-TITLE=275 Cabot Street:geo:-70.8781069,42.5509677
END:VEVENT
BEGIN:VEVENT
DTSTART;TZID=America/New_York:20260421T110000
DTEND;TZID=America/New_York:20260425T210000
DTSTAMP:20260423T011921
CREATED:20250417T172123Z
LAST-MODIFIED:20250417T172123Z
UID:10029353-1776769200-1777150800@bevmain.org
SUMMARY:Burrito & A Beer
DESCRIPTION:Craving a burrito and a beer? We’ve got you covered! \nGet our Burrito & a Beer combo\, all for only $20\, Monday through Friday!
URL:https://bevmain.org/event/burrito-a-beer/2026-04-21/
LOCATION:La Qchara\, 275 Cabot Street\, Beverly\, 01915\, United States
CATEGORIES:Beer/Wine,Food
ATTACH;FMTTYPE=image/jpeg:https://bevmain.org/wp-content/uploads/2025/04/Burrito-and-a-Beer-Beverly-Main-Streets-Ad.jpg
ORGANIZER;CN="La Qchara":MAILTO:marketing@laqchara.com
GEO:42.5509677;-70.8781069
X-APPLE-STRUCTURED-LOCATION;VALUE=URI;X-ADDRESS=La Qchara 275 Cabot Street Beverly 01915 United States;X-APPLE-RADIUS=500;X-TITLE=275 Cabot Street:geo:-70.8781069,42.5509677
END:VEVENT
BEGIN:VEVENT
DTSTART;TZID=America/New_York:20260422T110000
DTEND;TZID=America/New_York:20260426T210000
DTSTAMP:20260423T011921
CREATED:20250417T172123Z
LAST-MODIFIED:20250417T172123Z
UID:10029354-1776855600-1777237200@bevmain.org
SUMMARY:Burrito & A Beer
DESCRIPTION:Craving a burrito and a beer? We’ve got you covered! \nGet our Burrito & a Beer combo\, all for only $20\, Monday through Friday!
URL:https://bevmain.org/event/burrito-a-beer/2026-04-22/
LOCATION:La Qchara\, 275 Cabot Street\, Beverly\, 01915\, United States
CATEGORIES:Beer/Wine,Food
ATTACH;FMTTYPE=image/jpeg:https://bevmain.org/wp-content/uploads/2025/04/Burrito-and-a-Beer-Beverly-Main-Streets-Ad.jpg
ORGANIZER;CN="La Qchara":MAILTO:marketing@laqchara.com
GEO:42.5509677;-70.8781069
X-APPLE-STRUCTURED-LOCATION;VALUE=URI;X-ADDRESS=La Qchara 275 Cabot Street Beverly 01915 United States;X-APPLE-RADIUS=500;X-TITLE=275 Cabot Street:geo:-70.8781069,42.5509677
END:VEVENT
BEGIN:VEVENT
DTSTART;TZID=America/New_York:20260423T110000
DTEND;TZID=America/New_York:20260423T210000
DTSTAMP:20260423T011921
CREATED:20250606T163015Z
LAST-MODIFIED:20250606T163015Z
UID:10034042-1776942000-1776978000@bevmain.org
SUMMARY:Beverly 400+ Fundraiser
DESCRIPTION:Donate with every order to support the volunteers of Beverly 400+ in planning celebratory events to honor the town of Beverly’s 400th Anniversary! \nPlease Note: This fundraiser applies to our Beverly location only
URL:https://bevmain.org/event/beverly-400-fundraiser/2026-04-23/
LOCATION:La Qchara\, 275 Cabot Street\, Beverly\, 01915\, United States
CATEGORIES:Food
ATTACH;FMTTYPE=image/jpeg:https://bevmain.org/wp-content/uploads/2025/06/Dine-Donate-Beverly-Main-Streets-Event.jpg
ORGANIZER;CN="La Qchara":MAILTO:marketing@laqchara.com
GEO:42.5509677;-70.8781069
X-APPLE-STRUCTURED-LOCATION;VALUE=URI;X-ADDRESS=La Qchara 275 Cabot Street Beverly 01915 United States;X-APPLE-RADIUS=500;X-TITLE=275 Cabot Street:geo:-70.8781069,42.5509677
END:VEVENT
BEGIN:VEVENT
DTSTART;TZID=America/New_York:20260423T110000
DTEND;TZID=America/New_York:20260427T210000
DTSTAMP:20260423T011921
CREATED:20250417T172123Z
LAST-MODIFIED:20250417T172123Z
UID:10029355-1776942000-1777323600@bevmain.org
SUMMARY:Burrito & A Beer
DESCRIPTION:Craving a burrito and a beer? We’ve got you covered! \nGet our Burrito & a Beer combo\, all for only $20\, Monday through Friday!
URL:https://bevmain.org/event/burrito-a-beer/2026-04-23/
LOCATION:La Qchara\, 275 Cabot Street\, Beverly\, 01915\, United States
CATEGORIES:Beer/Wine,Food
ATTACH;FMTTYPE=image/jpeg:https://bevmain.org/wp-content/uploads/2025/04/Burrito-and-a-Beer-Beverly-Main-Streets-Ad.jpg
ORGANIZER;CN="La Qchara":MAILTO:marketing@laqchara.com
GEO:42.5509677;-70.8781069
X-APPLE-STRUCTURED-LOCATION;VALUE=URI;X-ADDRESS=La Qchara 275 Cabot Street Beverly 01915 United States;X-APPLE-RADIUS=500;X-TITLE=275 Cabot Street:geo:-70.8781069,42.5509677
END:VEVENT
BEGIN:VEVENT
DTSTART;TZID=America/New_York:20260423T150000
DTEND;TZID=America/New_York:20260423T210000
DTSTAMP:20260423T011921
CREATED:20260106T150850Z
LAST-MODIFIED:20260106T150851Z
UID:10030962-1776956400-1776978000@bevmain.org
SUMMARY:Pre-Theater Pre-Fixe Menu
DESCRIPTION:Already have tickets to The Cabot? Why not enjoy dinner and a show! \nStop by for a delicious 3-course meal with a pre-fixe price of $28 when you order off our Pre-Theater Menu! \n*This offer is only available on performance days at The Cabot
URL:https://bevmain.org/event/pre-theater-pre-fixe-menu-2/2026-04-23/
LOCATION:La Qchara\, 275 Cabot Street\, Beverly\, 01915\, United States
CATEGORIES:Food,Theatre
ATTACH;FMTTYPE=image/jpeg:https://bevmain.org/wp-content/uploads/2025/05/Pre-Theater-Pre-Fixe-Beverly-Main-Streets-Event.jpg
ORGANIZER;CN="La Qchara":MAILTO:marketing@laqchara.com
GEO:42.5509677;-70.8781069
X-APPLE-STRUCTURED-LOCATION;VALUE=URI;X-ADDRESS=La Qchara 275 Cabot Street Beverly 01915 United States;X-APPLE-RADIUS=500;X-TITLE=275 Cabot Street:geo:-70.8781069,42.5509677
END:VEVENT
BEGIN:VEVENT
DTSTART;TZID=America/New_York:20260423T180000
DTEND;TZID=America/New_York:20260423T200000
DTSTAMP:20260423T011921
CREATED:20230307T165824Z
LAST-MODIFIED:20250207T134021Z
UID:10013662-1776967200-1776974400@bevmain.org
SUMMARY:RunABV - Run Club
DESCRIPTION:Attention Beverly Vehicles: 3.1 weekly run/walk every Thursday!\nRunners of all levels are invited down to the Gentile taproom for a 5k loop starting and ending at the brewery. Not a runner? Not a problem! Walking is encouraged\, just as long as you’re back for last call! We will depart the taproom at 6:00 so please come in a little early to drop off your stuff and sign in!\nWhen you’re done feel free to hang out\, meet new friends and enjoy some of Beverly’s finest brews! Kid and dog friendly and make sure to bring dinner or snacks to refuel when you get back!\nSo lace up and meet us at the taproom at 59 Park Street!
URL:https://bevmain.org/event/runabv-run-club/2026-04-23/
LOCATION:Gentile Brewing\, 59 Park Street\, Beverly\, MA\, 01915\, United States
CATEGORIES:Beer/Wine,Free,Outdoor
ATTACH;FMTTYPE=image/jpeg:https://bevmain.org/wp-content/uploads/2023/03/RunABV.jpg
GEO:42.5493727;-70.8842259
X-APPLE-STRUCTURED-LOCATION;VALUE=URI;X-ADDRESS=Gentile Brewing 59 Park Street Beverly MA 01915 United States;X-APPLE-RADIUS=500;X-TITLE=59 Park Street:geo:-70.8842259,42.5493727
END:VEVENT
BEGIN:VEVENT
DTSTART;TZID=America/New_York:20260423T190000
DTEND;TZID=America/New_York:20260423T203000
DTSTAMP:20260423T011921
CREATED:20230320T153549Z
LAST-MODIFIED:20230502T171345Z
UID:10016868-1776970800-1776976200@bevmain.org
SUMMARY:Worthy Girl IG Live Sale
DESCRIPTION:>>VIRTUAL EVENT ON IG<<< \nCome get silly with us during our Thursday night Instagram Live Sales. Follow us on Instagram @worthygirlshop and tune in at 7pm to see 60 brand-new-never-been-out-on-the-sales-floor items. Simply comment SOLD to purchase and we’ll invoice you after the sale ends!
URL:https://bevmain.org/event/worthy-girl-ig-live-sale-2/2026-04-23/
LOCATION:Worthy Girl\, 276 Cabot Street\, Beverly\, MA\, 01915\, United States
CATEGORIES:Free,Shopping,Virtual
ATTACH;FMTTYPE=image/jpeg:https://bevmain.org/wp-content/uploads/2023/03/WG-LiveSale_1.20.jpg
GEO:42.5505805;-70.8781959
X-APPLE-STRUCTURED-LOCATION;VALUE=URI;X-ADDRESS=Worthy Girl 276 Cabot Street Beverly MA 01915 United States;X-APPLE-RADIUS=500;X-TITLE=276 Cabot Street:geo:-70.8781959,42.5505805
END:VEVENT
BEGIN:VEVENT
DTSTART;TZID=America/New_York:20260423T190000
DTEND;TZID=America/New_York:20260423T210000
DTSTAMP:20260423T011921
CREATED:20230307T174243Z
LAST-MODIFIED:20230315T143421Z
UID:10014194-1776970800-1776978000@bevmain.org
SUMMARY:Thursday Night Trivia
DESCRIPTION:Like a little friendly competition? want to win cool prizes? Come to TRIVIA Thursday nights at 7pm at Old Planters Brewing Co!
URL:https://bevmain.org/event/thursday-night-trivia/2026-04-23/
LOCATION:Old Planter's Brewing Co.\, 232 Rantoul St.\, Beverly\, MA\, 01915\, United States
CATEGORIES:Beer/Wine,Free,Nightlife
ATTACH;FMTTYPE=image/jpeg:https://bevmain.org/wp-content/uploads/2023/03/thursdaytriviaoldplanters.jpg
GEO:42.5493085;-70.8838543
X-APPLE-STRUCTURED-LOCATION;VALUE=URI;X-ADDRESS=Old Planter's Brewing Co. 232 Rantoul St. Beverly MA 01915 United States;X-APPLE-RADIUS=500;X-TITLE=232 Rantoul St.:geo:-70.8838543,42.5493085
END:VEVENT
BEGIN:VEVENT
DTSTART;TZID=America/New_York:20260423T193000
DTEND;TZID=America/New_York:20260424T213000
DTSTAMP:20260423T011921
CREATED:20250910T175542Z
LAST-MODIFIED:20250910T175542Z
UID:10035883-1776972600-1777066200@bevmain.org
SUMMARY:Scottish Country Dancing
DESCRIPTION:All are invited to hop\, skip and jump with us to invigorating music with welcoming people. Please wear soft-soled shoes. We will show you the moves. Contact MaryEllen: weebluets@rscdsboston.org to reserve your spot in the class.
URL:https://bevmain.org/event/scottish-country-dancing/2026-04-23/
LOCATION:Wonder Yoga\, 240 Rantoul St\, Beverly\, 01915\, United States
CATEGORIES:Dance
ATTACH;FMTTYPE=image/jpeg:https://bevmain.org/wp-content/uploads/2025/09/2-1.jpg
ORGANIZER;CN="Royal Scottish Country Dance Society Boston Branch":MAILTO:weebluets@rscdsboston.org
GEO:42.549606;-70.8838342
X-APPLE-STRUCTURED-LOCATION;VALUE=URI;X-ADDRESS=Wonder Yoga 240 Rantoul St Beverly 01915 United States;X-APPLE-RADIUS=500;X-TITLE=240 Rantoul St:geo:-70.8838342,42.549606
END:VEVENT
BEGIN:VEVENT
DTSTART;TZID=America/New_York:20260423T200000
DTEND;TZID=America/New_York:20260423T223000
DTSTAMP:20260423T011921
CREATED:20230424T165615Z
LAST-MODIFIED:20230424T165615Z
UID:10018142-1776974400-1776983400@bevmain.org
SUMMARY:Open Mic at Off Cabot
DESCRIPTION:Off Cabot Open Mic Night on the last Thursday of every month! \nThis show-and-go open mic will serve as one of the best places in New England to hone your comedic craft and showcase your talent in front of The Cabot Theater and John Tobin Presents teams! The list and the house will fill up quickly so get there early! \n8-10:30pm\nFree Admission!\n4-minute spots\nList available at 7:30pm \nSHOW UP — SIGN UP — GO UP!
URL:https://bevmain.org/event/open-mic-at-off-cabot/2026-04-23/
LOCATION:MA
CATEGORIES:Beer/Wine,Comedy,Free,Nightlife
ATTACH;FMTTYPE=image/jpeg:https://bevmain.org/wp-content/uploads/2023/04/open-mic.jpg
END:VEVENT
BEGIN:VEVENT
DTSTART;TZID=America/New_York:20260423T210000
DTEND;TZID=America/New_York:20260424T010000
DTSTAMP:20260423T011921
CREATED:20230307T180614Z
LAST-MODIFIED:20230307T194535Z
UID:10014978-1776978000-1776992400@bevmain.org
SUMMARY:Live DJ at the Pickled Onion
DESCRIPTION:Live DJ Night!
URL:https://bevmain.org/event/live-dj-at-the-pickled-onion/2026-04-23/
LOCATION:Pickled Onion\, 355 Rantoul Street\, Beverly\, MA\, 01915\, United States
CATEGORIES:Beer/Wine,Music/Concert,Nightlife
ATTACH;FMTTYPE=image/jpeg:https://bevmain.org/wp-content/uploads/2023/03/pickledonionDJ.jpg
GEO:42.5522933;-70.8824043
X-APPLE-STRUCTURED-LOCATION;VALUE=URI;X-ADDRESS=Pickled Onion 355 Rantoul Street Beverly MA 01915 United States;X-APPLE-RADIUS=500;X-TITLE=355 Rantoul Street:geo:-70.8824043,42.5522933
END:VEVENT
BEGIN:VEVENT
DTSTART;TZID=America/New_York:20260423T210000
DTEND;TZID=America/New_York:20260424T010000
DTSTAMP:20260423T011921
CREATED:20240613T160116Z
LAST-MODIFIED:20240613T160116Z
UID:10023231-1776978000-1776992400@bevmain.org
SUMMARY:Karaoke at Jacobs Corner
DESCRIPTION:Karaoke at Jacobs Corner every Thursday at 9pm
URL:https://bevmain.org/event/karaoke-at-jacobs-corner/2026-04-23/
LOCATION:Jacobs Corner\, Rantoul Street\, Beverly\, Massachusetts\, 01915\, United States
CATEGORIES:Music/Concert
ATTACH;FMTTYPE=image/jpeg:https://bevmain.org/wp-content/uploads/2024/06/JCKar.jpg
GEO:42.5505049;-70.8834463
X-APPLE-STRUCTURED-LOCATION;VALUE=URI;X-ADDRESS=Jacobs Corner Rantoul Street Beverly Massachusetts 01915 United States;X-APPLE-RADIUS=500;X-TITLE=Rantoul Street:geo:-70.8834463,42.5505049
END:VEVENT
END:VCALENDAR