BEGIN:VCALENDAR
VERSION:2.0
PRODID:-//Beverly Main Streets - ECPv6.15.20//NONSGML v1.0//EN
CALSCALE:GREGORIAN
METHOD:PUBLISH
X-ORIGINAL-URL:https://bevmain.org
X-WR-CALDESC:Events for Beverly Main Streets
REFRESH-INTERVAL;VALUE=DURATION:PT1H
X-Robots-Tag:noindex
X-PUBLISHED-TTL:PT1H
BEGIN:VTIMEZONE
TZID:America/New_York
BEGIN:DAYLIGHT
TZOFFSETFROM:-0500
TZOFFSETTO:-0400
TZNAME:EDT
DTSTART:20240310T070000
END:DAYLIGHT
BEGIN:STANDARD
TZOFFSETFROM:-0400
TZOFFSETTO:-0500
TZNAME:EST
DTSTART:20241103T060000
END:STANDARD
BEGIN:DAYLIGHT
TZOFFSETFROM:-0500
TZOFFSETTO:-0400
TZNAME:EDT
DTSTART:20250309T070000
END:DAYLIGHT
BEGIN:STANDARD
TZOFFSETFROM:-0400
TZOFFSETTO:-0500
TZNAME:EST
DTSTART:20251102T060000
END:STANDARD
BEGIN:DAYLIGHT
TZOFFSETFROM:-0500
TZOFFSETTO:-0400
TZNAME:EDT
DTSTART:20260308T070000
END:DAYLIGHT
BEGIN:STANDARD
TZOFFSETFROM:-0400
TZOFFSETTO:-0500
TZNAME:EST
DTSTART:20261101T060000
END:STANDARD
END:VTIMEZONE
BEGIN:VEVENT
DTSTART;TZID=America/New_York:20251101T180000
DTEND;TZID=America/New_York:20251101T210000
DTSTAMP:20260422T103034
CREATED:20250826T180449Z
LAST-MODIFIED:20250826T180449Z
UID:10035697-1762020000-1762030800@bevmain.org
SUMMARY:Anonymous Art Party
DESCRIPTION:Join Montserrat as we open our doors to celebrate the arts of the North Shore with a night of festivity\, creativity\, and a little mystery! \nThis exciting event will center around an anonymous art sale\, with works submitted by local artists in our community as well as Montserrat faculty\, staff\, and students. To add a secret twist\, pieces will be hung without the name of the artist listed\, and names will not be revealed until after the sale! \nBut the party doesn’t stop there! In addition to the art sale\, guests will have the opportunity to go behind the scenes of Montserrat\, exploring our classrooms and studios while enjoying music\, food and drink\, and live artmaking by our Montserrat students! \nAll proceeds will support scholarships for Montserrat College of Art Students.
URL:https://bevmain.org/event/anonymous-art-party/
LOCATION:Montserrat College of Art\, 248 Cabot Street\, Beverly\, 01915\, United States
CATEGORIES:Art/Gallery Event
ATTACH;FMTTYPE=image/jpeg:https://bevmain.org/wp-content/uploads/2025/08/2025-Anonymous-Postcard-5x7_Page_1.jpg
ORGANIZER;CN="Montserrat College of Art":MAILTO:hannah.oneal@montserrat.edu
GEO:42.5493431;-70.878152
X-APPLE-STRUCTURED-LOCATION;VALUE=URI;X-ADDRESS=Montserrat College of Art 248 Cabot Street Beverly 01915 United States;X-APPLE-RADIUS=500;X-TITLE=248 Cabot Street:geo:-70.878152,42.5493431
END:VEVENT
BEGIN:VEVENT
DTSTART;TZID=America/New_York:20251103T090000
DTEND;TZID=America/New_York:20251103T170000
DTSTAMP:20260422T103034
CREATED:20250812T170659Z
LAST-MODIFIED:20250902T142359Z
UID:10035399-1762160400-1762189200@bevmain.org
SUMMARY:Hannah Yata
DESCRIPTION:Hannah Yata’s surreal oil paintings\, rich with symbolism\, explore themes of femininity\, nature\, and transformation. By combining classical techniques with psychedelic imagery\, her work invites viewers to reconsider the sacred connection between humanity and the earth. Yata has exhibited internationally and has been featured in publications such as Hi-Fructose and Juxtapoz. Her vibrant and emotionally charged pieces serve not only as a visual delight but also as a call to greater awareness.
URL:https://bevmain.org/event/hannah-yata/2025-11-03/
LOCATION:Heftler Gallery\, 406 Hale St\, Beverly\, 01915\, United States
CATEGORIES:Art/Gallery Event,Community Events,Free
ATTACH;FMTTYPE=image/jpeg:https://bevmain.org/wp-content/uploads/2025/08/Hannah-Yata-_-The-Adoration-Of-Spring-2-scaled.jpg
GEO:42.5526096;-70.8395131
X-APPLE-STRUCTURED-LOCATION;VALUE=URI;X-ADDRESS=Heftler Gallery 406 Hale St Beverly 01915 United States;X-APPLE-RADIUS=500;X-TITLE=406 Hale St:geo:-70.8395131,42.5526096
END:VEVENT
BEGIN:VEVENT
DTSTART;TZID=America/New_York:20251113T180000
DTEND;TZID=America/New_York:20251113T193000
DTSTAMP:20260422T103034
CREATED:20251107T131324Z
LAST-MODIFIED:20251107T134454Z
UID:10036608-1763056800-1763062200@bevmain.org
SUMMARY:Art Share Night at BevCam
DESCRIPTION:Join us for an evening of creativity\, conversation\, and community at BevCam’s Art Share Night. This event invites adults of all experience levels to bring and share their personal art projects: whether it’s painting\, photography\, sculpture\, film\, writing\, or any creative pursuit. \nThis is a judgment-free\, supportive environment where artists can connect\, exchange feedback\, and find encouragement from others who share a love for creating. Whether you’re looking to present a finished piece or just talk about something you’re working on\, you’ll be surrounded by people who understand the joy (and challenges) of making art. \nCome to be inspired… or to inspire someone else.
URL:https://bevmain.org/event/art-share-night-at-bevcam/
LOCATION:BevCam\, Cabot Street\, Beverly\, Massachusetts\, 01915\, United States
CATEGORIES:Art/Gallery Event,Community Events,Free,Networking Events
ATTACH;FMTTYPE=image/jpeg:https://bevmain.org/wp-content/uploads/2025/11/Art-Share-Banner.jpg
ORGANIZER;CN="BevCam":MAILTO:amanda@bevcam.org
GEO:42.550186;-70.8777001
X-APPLE-STRUCTURED-LOCATION;VALUE=URI;X-ADDRESS=BevCam Cabot Street Beverly Massachusetts 01915 United States;X-APPLE-RADIUS=500;X-TITLE=Cabot Street:geo:-70.8777001,42.550186
END:VEVENT
BEGIN:VEVENT
DTSTART;TZID=America/New_York:20251115T110000
DTEND;TZID=America/New_York:20251115T170000
DTSTAMP:20260422T103034
CREATED:20251114T141145Z
LAST-MODIFIED:20251114T141145Z
UID:10036614-1763204400-1763226000@bevmain.org
SUMMARY:Small Works Art Market at Bridge Nine Records
DESCRIPTION:Join us at Bridge Nine Records on Saturday\, November 15th from 11 am – 5 pm for an arts market featuring 15 artists & makers\, including tintype photographer Jeff Howlett\, as part of the Beverly Main Streets Art Crawl. Tintype portraits ($80) must be booked in advance with Jeff here: https://tinyurl.com/bridge9tintypes. Otherwise\, this art market is free to attend so come on by and check it out! Featured artists below: \nChris RobotsWillKill\nMike Gallo\nLori Dawn\nJulie Kramer\nAme Wright\nEmily Rose Fuzz\nGiovanni Basilio Meli\nShe Devils Coven Candles\nDead Wax Revival\nPyre\nMary Johnson\nMaggie Shea\nCrazy Jay\nDave Tree\nJeff Howlett Tintype Portraits
URL:https://bevmain.org/event/small-works-art-market-at-bridge-nine-records/
LOCATION:Bridge Nine Records\, 282 Rantoul Street\, Beverly\, MA\, 01915\, United States
CATEGORIES:Art/Gallery Event,Community Events,Free,Shopping
ATTACH;FMTTYPE=image/jpeg:https://bevmain.org/wp-content/uploads/2025/11/B9-art-show_11-15-2025_admat.jpg
ORGANIZER;CN="Bridge Nine Records":MAILTO:katherine@bridge9.com
GEO:42.5507226;-70.8834828
X-APPLE-STRUCTURED-LOCATION;VALUE=URI;X-ADDRESS=Bridge Nine Records 282 Rantoul Street Beverly MA 01915 United States;X-APPLE-RADIUS=500;X-TITLE=282 Rantoul Street:geo:-70.8834828,42.5507226
END:VEVENT
BEGIN:VEVENT
DTSTART;TZID=America/New_York:20251115T150000
DTEND;TZID=America/New_York:20251115T170000
DTSTAMP:20260422T103034
CREATED:20251031T195623Z
LAST-MODIFIED:20251031T195623Z
UID:10036140-1763218800-1763226000@bevmain.org
SUMMARY:Up-Cycled Sweater Tree Workshop
DESCRIPTION:Join our Up-Cycled Sweater Trees Workshop to craft charming\, eco-friendly holiday decorations while enjoying a cozy atmosphere and a delightful hot cocoa bar. Perfect for all skill levels\, this hands-on workshop brings creativity and sustainability together for a fun group experience! \nPerfect for Date Night\, Girl’s Day\, or a little Grown-Up & Kiddo Bonding Time! Suitable for ages 10+.
URL:https://bevmain.org/event/up-cycled-sweater-tree-workshop/
LOCATION:Jade Of All Trades\, 296A Cabot St\, Beverly\, MA\, 01915\, United States
CATEGORIES:Art/Gallery Event,Workshop
ATTACH;FMTTYPE=image/jpeg:https://bevmain.org/wp-content/uploads/2025/10/SweaterTrees-InstaPOST2-scaled.jpg
ORGANIZER;CN="Jade Of All Trades":MAILTO:jade@jadeofalltrades.art
GEO:42.5519714;-70.8789044
X-APPLE-STRUCTURED-LOCATION;VALUE=URI;X-ADDRESS=Jade Of All Trades 296A Cabot St Beverly MA 01915 United States;X-APPLE-RADIUS=500;X-TITLE=296A Cabot St:geo:-70.8789044,42.5519714
END:VEVENT
END:VCALENDAR