BEGIN:VCALENDAR
VERSION:2.0
PRODID:-//Beverly Main Streets - ECPv6.15.20//NONSGML v1.0//EN
CALSCALE:GREGORIAN
METHOD:PUBLISH
X-ORIGINAL-URL:https://bevmain.org
X-WR-CALDESC:Events for Beverly Main Streets
REFRESH-INTERVAL;VALUE=DURATION:PT1H
X-Robots-Tag:noindex
X-PUBLISHED-TTL:PT1H
BEGIN:VTIMEZONE
TZID:America/New_York
BEGIN:DAYLIGHT
TZOFFSETFROM:-0500
TZOFFSETTO:-0400
TZNAME:EDT
DTSTART:20250309T070000
END:DAYLIGHT
BEGIN:STANDARD
TZOFFSETFROM:-0400
TZOFFSETTO:-0500
TZNAME:EST
DTSTART:20251102T060000
END:STANDARD
BEGIN:DAYLIGHT
TZOFFSETFROM:-0500
TZOFFSETTO:-0400
TZNAME:EDT
DTSTART:20260308T070000
END:DAYLIGHT
BEGIN:STANDARD
TZOFFSETFROM:-0400
TZOFFSETTO:-0500
TZNAME:EST
DTSTART:20261101T060000
END:STANDARD
BEGIN:DAYLIGHT
TZOFFSETFROM:-0500
TZOFFSETTO:-0400
TZNAME:EDT
DTSTART:20270314T070000
END:DAYLIGHT
BEGIN:STANDARD
TZOFFSETFROM:-0400
TZOFFSETTO:-0500
TZNAME:EST
DTSTART:20271107T060000
END:STANDARD
END:VTIMEZONE
BEGIN:VEVENT
DTSTART;VALUE=DATE:20260104
DTEND;VALUE=DATE:20260105
DTSTAMP:20260422T071041
CREATED:20251212T201021Z
LAST-MODIFIED:20251212T201021Z
UID:10037088-1767535200-1767542400@bevmain.org
SUMMARY:Art Exhibition- Poised Grit: An Ongoing Becoming
DESCRIPTION:Join North Shore artist Michelle Gatta Wheeler for the opening reception of Poised Grit: An Ongoing Becoming\, a solo mixed-media exhibition at the Beverly Public Library. The free\, open-to-all reception takes place on January 4th from 2–4 PM in the Sohier Room and includes light snacks and beverages. The exhibition features new work exploring resilience\, vulnerability\, and creative renewal after life-altering change and will be on view throughout the month of January.
URL:https://bevmain.org/event/art-exhibition-poised-grit-an-ongoing-becoming/2026-01-04/
LOCATION:Beverly Public Library\, 32 Essex Street\, Beverly\, MA\, 01915\, United States
CATEGORIES:Art/Gallery Event,Community Events,Free
ATTACH;FMTTYPE=image/jpeg:https://bevmain.org/wp-content/uploads/2025/12/C02599E0-4331-4DE8-B0A1-C2122AA302D2.jpeg
ORGANIZER;CN="MGW Studio":MAILTO:Michelle@michellegattawheeler.com
GEO:42.5508812;-70.876672
X-APPLE-STRUCTURED-LOCATION;VALUE=URI;X-ADDRESS=Beverly Public Library 32 Essex Street Beverly MA 01915 United States;X-APPLE-RADIUS=500;X-TITLE=32 Essex Street:geo:-70.876672,42.5508812
END:VEVENT
BEGIN:VEVENT
DTSTART;TZID=America/New_York:20260104T140000
DTEND;TZID=America/New_York:20260104T163000
DTSTAMP:20260422T071041
CREATED:20251215T150714Z
LAST-MODIFIED:20251215T150714Z
UID:10037089-1767535200-1767544200@bevmain.org
SUMMARY:Paint On Stage! Kids Paint Day
DESCRIPTION:Kids take the stage – with paint! Paint on the historic Larcom stage and let your creativity shine! 2-4:30 PM \nKids ages 5-14 will join beloved local artist and instructor for a fun\, encouraging\, and inspiring paint day. This session features a cozy winter scenery painting with little birds. Students will be guided step-by-step to create a beautiful acrylic masterpiece on stretched 11×14 canvas. Young artists can easily customize their scene with fun details— paint two or three birds\, add berries or extra snow.\n​\nNo skills needed — this is a beginner-friendly class designed for confidence\, creativity\, and fun.\n​\nParents are welcome to relax in the theatre seats and watch their young artists bring the stage to life!​​ \n“My daughter loves drawing lessons with Olesea. She is a wonderful teacher who creates such a welcoming\, encouraging experience.” – Daria C.
URL:https://bevmain.org/event/paint-on-stage-kids-paint-day/
LOCATION:Larcom Theatre\, 13 Wallis Street\, 01915\, United States
CATEGORIES:Art/Gallery Event,Kids,Workshop
ATTACH;FMTTYPE=image/jpeg:https://bevmain.org/wp-content/uploads/2025/12/FB-cover-Paint-Day-.jpg
ORGANIZER;CN="Larcom Theatre":MAILTO:info@thelarcom.org
GEO:42.5481592;-70.879767
END:VEVENT
BEGIN:VEVENT
DTSTART;TZID=America/New_York:20260104T180000
DTEND;TZID=America/New_York:20260104T210000
DTSTAMP:20260422T071041
CREATED:20251215T150800Z
LAST-MODIFIED:20251215T150800Z
UID:10037090-1767549600-1767560400@bevmain.org
SUMMARY:Paint On Stage! Paint Night
DESCRIPTION:Raise a glass and unleash your inner artist at the Larcom! \nJoin beloved local artist and instructor\, Olesea for a fun\, relaxed evening on our historic 1912 stage. This session features a cozy winter scenery painting with an owl. Olesea will guide you step-by-step as you create your own masterpiece.  You can customize your scene as you go —add berries\, pinecones\, or extra snowfall — or keep it a simple snowy winter landscape. \nWhether you come solo\, with friends\, with family or for a creative date night\, expect a welcoming\, lighthearted evening. Bring your smile and good mood — and leave with a finished 11×14 painting on stretched canvas you will be proud of. No experience needed! \nBar & concession available during the workshop (cash or credit) \n“Amazing experience! I started with zero knowledge and left feeling confident. 10/10!”  – Alejandro
URL:https://bevmain.org/event/paint-on-stage-paint-night/
LOCATION:Larcom Theatre\, 13 Wallis Street\, Beverly\, MA\, 01915\, United States
CATEGORIES:Art/Gallery Event,Workshop
ATTACH;FMTTYPE=image/jpeg:https://bevmain.org/wp-content/uploads/2025/12/FB-cover-Paint-Night.jpg
ORGANIZER;CN="Larcom Theatre":MAILTO:info@thelarcom.org
GEO:42.5481828;-70.8797175
X-APPLE-STRUCTURED-LOCATION;VALUE=URI;X-ADDRESS=Larcom Theatre 13 Wallis Street Beverly MA 01915 United States;X-APPLE-RADIUS=500;X-TITLE=13 Wallis Street:geo:-70.8797175,42.5481828
END:VEVENT
BEGIN:VEVENT
DTSTART;TZID=America/New_York:20260122T100000
DTEND;TZID=America/New_York:20260417T160000
DTSTAMP:20260422T071041
CREATED:20260120T144817Z
LAST-MODIFIED:20260120T144817Z
UID:10037733-1769076000-1776441600@bevmain.org
SUMMARY:Helen Wells\, Sketchbooks with Soul: Process\, Play and Practice
DESCRIPTION:Sketchbooks with Soul: Process\, Play & Practice\, features the joyful and expressive work of UK-based artist Helen Wells. Helen’s beloved sketchbooks—followed by thousands online—lie at the heart of her creative process\, serving as spaces for exploration\, experimentation\, and pure artistic play.\nThis exhibition brings those sketchbooks to life\, offering an intimate look at the organic process behind her art. Helen’s work reminds us of the beauty of curiosity\, the freedom to make mistakes\, and the magic that happens when we permit ourselves to play.
URL:https://bevmain.org/event/helen-wells-sketchbooks-with-soul-process-play-and-practice/
LOCATION:Walter J Manninen Center for the Arts\, Hale Street 406\, Beverly\, Massachusetts\, 01915\, United States
CATEGORIES:Art/Gallery Event
ATTACH;FMTTYPE=image/jpeg:https://bevmain.org/wp-content/uploads/2026/01/Helen-Wells-pieced-together-36.jpeg
GEO:42.5526096;-70.8395131
X-APPLE-STRUCTURED-LOCATION;VALUE=URI;X-ADDRESS=Walter J Manninen Center for the Arts Hale Street 406 Beverly Massachusetts 01915 United States;X-APPLE-RADIUS=500;X-TITLE=Hale Street 406:geo:-70.8395131,42.5526096
END:VEVENT
BEGIN:VEVENT
DTSTART;TZID=America/New_York:20260126T090000
DTEND;TZID=America/New_York:20260413T160000
DTSTAMP:20260422T071041
CREATED:20260120T144836Z
LAST-MODIFIED:20260120T144836Z
UID:10037734-1769418000-1776096000@bevmain.org
SUMMARY:Through the Eye of a Needle\, Jim Wright Journals
DESCRIPTION:Known for capturing some of the biggest names in music\, film\, and fashion—from Beyoncé to Bruce Willis— Jim Wright’s true passion lies in photographing the quiet beauty of American life.\nThrough his journals and photographs\, the exhibition unfolds as a visual meditation on memory\, emotion\, and reflection. His work captures familiar places and fleeting moments\, transforming them into timeless stories that feel both nostalgic and new.
URL:https://bevmain.org/event/through-the-eye-of-a-needle-jim-wright-journals/
LOCATION:Walter J Manninen Center for the Arts\, Hale Street 406\, Beverly\, Massachusetts\, 01915\, United States
CATEGORIES:Art/Gallery Event,Community Events,Free
ATTACH;FMTTYPE=image/jpeg:https://bevmain.org/wp-content/uploads/2026/01/journals_jw3029-scaled.jpg
GEO:42.5526096;-70.8395131
X-APPLE-STRUCTURED-LOCATION;VALUE=URI;X-ADDRESS=Walter J Manninen Center for the Arts Hale Street 406 Beverly Massachusetts 01915 United States;X-APPLE-RADIUS=500;X-TITLE=Hale Street 406:geo:-70.8395131,42.5526096
END:VEVENT
BEGIN:VEVENT
DTSTART;TZID=America/New_York:20260128T180000
DTEND;TZID=America/New_York:20260128T193000
DTSTAMP:20260422T071041
CREATED:20260107T171948Z
LAST-MODIFIED:20260107T171948Z
UID:10037708-1769623200-1769628600@bevmain.org
SUMMARY:How to Use Any Camera
DESCRIPTION:Have you ever wanted to take better photos or videos\, but felt overwhelmed by camera settings and gear?\nThis beginner-friendly workshop is designed to take the mystery out of cameras and give you the confidence to start shooting. \nLed by Levi Cyr-Redcross\, photographer and videographer at BevCam\, this class will walk you through the essentials of how cameras work\, the key features to pay attention to\, and how to choose the right camera for your needs. You’ll learn the basics of aperture\, shutter speed\, and ISO\, discover simple tips for sharper images\, and explore different types of cameras—from DSLRs and mirrorless to camcorders and even smartphones. \nThis is a hands-on workshop\, so you’ll get the chance to practice with real cameras\, try out settings\, and ask plenty of questions. Whether you’re brand new to photography\, looking to improve your video projects\, or just curious about the gear available at BevCam\, this workshop will give you a solid foundation to build on. \nBring your own camera or take a look a some of Levi’s. \nTakeaways: \nUnderstand the basic parts of a camera and how they work\nLearn what to look for when buying or borrowing a camera\nPractice simple techniques for better photos and videos\nGain confidence to start creating with your own camera
URL:https://bevmain.org/event/how-to-use-any-camera-2/
LOCATION:BevCam\, Cabot Street\, Beverly\, Massachusetts\, 01915\, United States
CATEGORIES:Art/Gallery Event,Film,Workshop
ATTACH;FMTTYPE=image/jpeg:https://bevmain.org/wp-content/uploads/2026/01/levi-camera.jpeg
ORGANIZER;CN="BevCam":MAILTO:amanda@bevcam.org
GEO:42.550186;-70.8777001
X-APPLE-STRUCTURED-LOCATION;VALUE=URI;X-ADDRESS=BevCam Cabot Street Beverly Massachusetts 01915 United States;X-APPLE-RADIUS=500;X-TITLE=Cabot Street:geo:-70.8777001,42.550186
END:VEVENT
END:VCALENDAR