BEGIN:VCALENDAR
VERSION:2.0
PRODID:-//Beverly Main Streets - ECPv6.15.20//NONSGML v1.0//EN
CALSCALE:GREGORIAN
METHOD:PUBLISH
X-WR-CALNAME:Beverly Main Streets
X-ORIGINAL-URL:https://bevmain.org
X-WR-CALDESC:Events for Beverly Main Streets
REFRESH-INTERVAL;VALUE=DURATION:PT1H
X-Robots-Tag:noindex
X-PUBLISHED-TTL:PT1H
BEGIN:VTIMEZONE
TZID:America/New_York
BEGIN:DAYLIGHT
TZOFFSETFROM:-0500
TZOFFSETTO:-0400
TZNAME:EDT
DTSTART:20250309T070000
END:DAYLIGHT
BEGIN:STANDARD
TZOFFSETFROM:-0400
TZOFFSETTO:-0500
TZNAME:EST
DTSTART:20251102T060000
END:STANDARD
BEGIN:DAYLIGHT
TZOFFSETFROM:-0500
TZOFFSETTO:-0400
TZNAME:EDT
DTSTART:20260308T070000
END:DAYLIGHT
BEGIN:STANDARD
TZOFFSETFROM:-0400
TZOFFSETTO:-0500
TZNAME:EST
DTSTART:20261101T060000
END:STANDARD
BEGIN:DAYLIGHT
TZOFFSETFROM:-0500
TZOFFSETTO:-0400
TZNAME:EDT
DTSTART:20270314T070000
END:DAYLIGHT
BEGIN:STANDARD
TZOFFSETFROM:-0400
TZOFFSETTO:-0500
TZNAME:EST
DTSTART:20271107T060000
END:STANDARD
END:VTIMEZONE
BEGIN:VEVENT
DTSTART;TZID=America/New_York:20260213T170000
DTEND;TZID=America/New_York:20260213T190000
DTSTAMP:20260422T195958
CREATED:20260126T194156Z
LAST-MODIFIED:20260126T194156Z
UID:10037746-1771002000-1771009200@bevmain.org
SUMMARY:Love You With All My Art- Sip & Shop
DESCRIPTION:Enjoy beverages & treats while you shop for the perfect Valentine from the wares of 50 Local Artists! We will also be hosting Love & Clay Designs for a Permanent Jewelry Pop-Up (10% Off 2+ Jewelry Pieces).
URL:https://bevmain.org/event/love-you-with-all-my-art-sip-shop/
LOCATION:Jade Of All Trades\, 296A Cabot St\, Beverly\, MA\, 01915\, United States
CATEGORIES:Art/Gallery Event,Shopping
ATTACH;FMTTYPE=image/jpeg:https://bevmain.org/wp-content/uploads/2026/01/Love-You-With-All-My-Art-Sip-Shop-scaled.jpg
ORGANIZER;CN="Jade Of All Trades":MAILTO:jade@jadeofalltrades.art
GEO:42.5519714;-70.8789044
X-APPLE-STRUCTURED-LOCATION;VALUE=URI;X-ADDRESS=Jade Of All Trades 296A Cabot St Beverly MA 01915 United States;X-APPLE-RADIUS=500;X-TITLE=296A Cabot St:geo:-70.8789044,42.5519714
END:VEVENT
BEGIN:VEVENT
DTSTART;TZID=America/New_York:20260214T170000
DTEND;TZID=America/New_York:20260214T190000
DTSTAMP:20260422T195958
CREATED:20260203T163324Z
LAST-MODIFIED:20260203T163324Z
UID:10038020-1771088400-1771095600@bevmain.org
SUMMARY:Ena Kantardžić: to give what is due
DESCRIPTION:Artist reception.\n“to give what is due” by Ena Kantardžić is an experiential exhibition at Montserrat College of Art’s FRAME 301 Gallery.
URL:https://bevmain.org/event/ena-kantardzic-to-give-what-is-due/
LOCATION:301 Cabot Street\, 301 Cabot Street\, Beverly\, MA\, 01915\, United States
CATEGORIES:Art/Gallery Event
ATTACH;FMTTYPE=image/jpeg:https://bevmain.org/wp-content/uploads/2026/02/kantardzic-togivewhatisdue-1.jpg
ORGANIZER;CN="Montserrat College of Art":MAILTO:hannah.oneal@montserrat.edu
END:VEVENT
BEGIN:VEVENT
DTSTART;TZID=America/New_York:20260215T130000
DTEND;TZID=America/New_York:20260215T143000
DTSTAMP:20260422T195958
CREATED:20260126T194126Z
LAST-MODIFIED:20260126T194126Z
UID:10037745-1771160400-1771165800@bevmain.org
SUMMARY:Bedazzle A Book- Workshop
DESCRIPTION:Add some dimension and sparkly pizzazz to the cover of your favorite book! A book will be provided for you\, but feel free to bring one from your own collection. Karlene of SewEnvious will be guiding us through the process to decorate our favorite titles while we enjoy a cozy afternoon of crafting and hot tea.
URL:https://bevmain.org/event/bedazzle-a-book-workshop/
LOCATION:Jade Of All Trades\, 296A Cabot St\, Beverly\, MA\, 01915\, United States
CATEGORIES:Art/Gallery Event,Workshop
ATTACH;FMTTYPE=image/jpeg:https://bevmain.org/wp-content/uploads/2026/01/Bedazzle-A-Book-Feb-15-scaled.jpg
ORGANIZER;CN="Jade Of All Trades":MAILTO:jade@jadeofalltrades.art
GEO:42.5519714;-70.8789044
X-APPLE-STRUCTURED-LOCATION;VALUE=URI;X-ADDRESS=Jade Of All Trades 296A Cabot St Beverly MA 01915 United States;X-APPLE-RADIUS=500;X-TITLE=296A Cabot St:geo:-70.8789044,42.5519714
END:VEVENT
BEGIN:VEVENT
DTSTART;TZID=America/New_York:20260226T160000
DTEND;TZID=America/New_York:20260226T180000
DTSTAMP:20260422T195958
CREATED:20260202T172729Z
LAST-MODIFIED:20260202T172729Z
UID:10038017-1772121600-1772128800@bevmain.org
SUMMARY:Reception & Meet the Artist
DESCRIPTION:Meet artist Jim Wright and explore Through the Eye of a Needle\, an intimate exhibition of journals\, photography\, and mixed media revealing memory\, process\, and reflection at the heart of artistic practice.
URL:https://bevmain.org/event/reception-meet-the-artist/
LOCATION:Carol Grillo Gallery\, 406 Hale St\, Beverly\, 01915\, United States
CATEGORIES:Art/Gallery Event,Community Events,Food,Free
ATTACH;FMTTYPE=image/jpeg:https://bevmain.org/wp-content/uploads/2026/02/journals_jw3029-scaled.jpg
GEO:42.5526096;-70.8395131
X-APPLE-STRUCTURED-LOCATION;VALUE=URI;X-ADDRESS=Carol Grillo Gallery 406 Hale St Beverly 01915 United States;X-APPLE-RADIUS=500;X-TITLE=406 Hale St:geo:-70.8395131,42.5526096
END:VEVENT
BEGIN:VEVENT
DTSTART;TZID=America/New_York:20260301T140000
DTEND;TZID=America/New_York:20260301T160000
DTSTAMP:20260422T195958
CREATED:20260204T144559Z
LAST-MODIFIED:20260204T144559Z
UID:10038022-1772373600-1772380800@bevmain.org
SUMMARY:Good Little Art Hang- Collage Session
DESCRIPTION:Join Good Little Art Studio for a relaxed\, guided collage gathering for adults of all experience levels. We’ll begin with a short warm-up\, then move into a longer collage using simple prompts and constraints. Collage offers a low-pressure way into creative practice. \nNo prior art experience needed\, the goal is to slow down and make things together!
URL:https://bevmain.org/event/good-little-art-hang-collage-session/
LOCATION:Jade Of All Trades\, 296A Cabot St\, Beverly\, MA\, 01915\, United States
CATEGORIES:Art/Gallery Event,Workshop
ATTACH;FMTTYPE=image/png:https://bevmain.org/wp-content/uploads/2026/02/BeckyFlyer.png
ORGANIZER;CN="Jade Of All Trades":MAILTO:jade@jadeofalltrades.art
GEO:42.5519714;-70.8789044
X-APPLE-STRUCTURED-LOCATION;VALUE=URI;X-ADDRESS=Jade Of All Trades 296A Cabot St Beverly MA 01915 United States;X-APPLE-RADIUS=500;X-TITLE=296A Cabot St:geo:-70.8789044,42.5519714
END:VEVENT
BEGIN:VEVENT
DTSTART;TZID=America/New_York:20260310T150000
DTEND;TZID=America/New_York:20260310T190000
DTSTAMP:20260422T195958
CREATED:20260304T192533Z
LAST-MODIFIED:20260304T192533Z
UID:10038050-1773154800-1773169200@bevmain.org
SUMMARY:Canvas Painting At McPherson!
DESCRIPTION:Swing by the McPherson Youth Center on Tuesday\, March 10th for free Canvas Painting! Open to all teens 11-18 year old\, no registration required. 48 Park Street\, Beverly\, MA from 3:00-7:00pm!
URL:https://bevmain.org/event/canvas-painting-at-mcpherson/
LOCATION:48 park street\, Beverly\, MA 01915\, 48 Park Street\, Beverly\, 01915\, United States
CATEGORIES:Art/Gallery Event,Kids,Workshop
ORGANIZER;CN="The Myles McPherson Youth Center":MAILTO:barths@northshoreymca.org
GEO:42.5489583;-70.8849566
X-APPLE-STRUCTURED-LOCATION;VALUE=URI;X-ADDRESS=48 park street Beverly MA 01915 48 Park Street Beverly 01915 United States;X-APPLE-RADIUS=500;X-TITLE=48 Park Street:geo:-70.8849566,42.5489583
END:VEVENT
BEGIN:VEVENT
DTSTART;TZID=America/New_York:20260313T170000
DTEND;TZID=America/New_York:20260313T200000
DTSTAMP:20260422T195958
CREATED:20260309T201021Z
LAST-MODIFIED:20260309T201021Z
UID:10038317-1773421200-1773432000@bevmain.org
SUMMARY:Open Studios at The Bower
DESCRIPTION:Visit the second floor of The Bower for our monthly Open Studios\, held every second Friday. It is a wonderful chance to meet the artists and see their practices up close. Friday\, March 13\, 5:00 PM – 8:00 PM
URL:https://bevmain.org/event/open-studios-at-the-bower/
LOCATION:248 Cabot St.\, Cabot Street 248\, Beverly\, Massachusetts\, 01915\, United States
CATEGORIES:Art/Gallery Event
ATTACH;FMTTYPE=image/jpeg:https://bevmain.org/wp-content/uploads/2026/03/open-studios-3.13.jpg
ORGANIZER;CN="The Bower":MAILTO:thebower@montserrat.edu
GEO:42.5493431;-70.878152
X-APPLE-STRUCTURED-LOCATION;VALUE=URI;X-ADDRESS=248 Cabot St. Cabot Street 248 Beverly Massachusetts 01915 United States;X-APPLE-RADIUS=500;X-TITLE=Cabot Street 248:geo:-70.878152,42.5493431
END:VEVENT
BEGIN:VEVENT
DTSTART;TZID=America/New_York:20260331T110000
DTEND;TZID=America/New_York:20260331T130000
DTSTAMP:20260422T195958
CREATED:20260306T175023Z
LAST-MODIFIED:20260306T175023Z
UID:10038053-1774954800-1774962000@bevmain.org
SUMMARY:Drop In and Draw: Process\, Play\, and Practice with artist Helen Wells
DESCRIPTION:Come explore how sketchbooks can be used to experiment\, engage in visual thinking\, and foster personal discovery over time.\nThis session offers a relaxed\, thoughtful way to explore how sketchbooks can be used to experiment\, engage in visual thinking and foster personal discovery over time.
URL:https://bevmain.org/event/drop-in-and-draw-process-play-and-practice-with-artist-helen-wells/
LOCATION:Walter J Manninen Center for the Arts\, Hale Street 406\, Beverly\, Massachusetts\, 01915\, United States
CATEGORIES:Art/Gallery Event,Workshop
ATTACH;FMTTYPE=image/jpeg:https://bevmain.org/wp-content/uploads/2026/03/Helen-Wells-pieced-together-19.jpeg
GEO:42.5526096;-70.8395131
X-APPLE-STRUCTURED-LOCATION;VALUE=URI;X-ADDRESS=Walter J Manninen Center for the Arts Hale Street 406 Beverly Massachusetts 01915 United States;X-APPLE-RADIUS=500;X-TITLE=Hale Street 406:geo:-70.8395131,42.5526096
END:VEVENT
BEGIN:VEVENT
DTSTART;TZID=America/New_York:20260331T180000
DTEND;TZID=America/New_York:20260331T200000
DTSTAMP:20260422T195958
CREATED:20260309T201139Z
LAST-MODIFIED:20260309T201139Z
UID:10038321-1774980000-1774987200@bevmain.org
SUMMARY:Senior Thesis Exhibition: Animation / Games\,Toys & Play / Graphic Design
DESCRIPTION:Exhibition March 25 – April 3\nMontserrat Gallery 23 Essex St\, Beverly\, MA\, United States\nReception: March 25\, 6–8pm
URL:https://bevmain.org/event/senior-thesis-exhibition-animation-gamestoys-play-graphic-design/
LOCATION:Montserrat Gallery\, 23 Essex St\, Beverly\, 01915\, United States
CATEGORIES:Art/Gallery Event
ATTACH;FMTTYPE=image/jpeg:https://bevmain.org/wp-content/uploads/2026/03/Senior-Thesis-1-Postcard_Page_1.jpg
ORGANIZER;CN="Montserrat College of Art":MAILTO:hannah.oneal@montserrat.edu
GEO:42.5501333;-70.8760047
X-APPLE-STRUCTURED-LOCATION;VALUE=URI;X-ADDRESS=Montserrat Gallery 23 Essex St Beverly 01915 United States;X-APPLE-RADIUS=500;X-TITLE=23 Essex St:geo:-70.8760047,42.5501333
END:VEVENT
BEGIN:VEVENT
DTSTART;TZID=America/New_York:20260410T140000
DTEND;TZID=America/New_York:20260410T170000
DTSTAMP:20260422T195958
CREATED:20260120T145029Z
LAST-MODIFIED:20260120T145029Z
UID:10037738-1775829600-1775840400@bevmain.org
SUMMARY:Art Sale & Open Studios
DESCRIPTION:Join us at the Center for the Arts to celebrate the creativity and dedication of our student artists. Throughout the building\, you’ll find a vibrant showcase of work created over the past year. This event offers an inspiring opportunity to experience our students’ artistic visions\, engage with them directly\, and support the next generation of creators.
URL:https://bevmain.org/event/art-sale-open-studios/
LOCATION:Walter J Manninen Center for the Arts\, Hale Street 406\, Beverly\, Massachusetts\, 01915\, United States
CATEGORIES:Art/Gallery Event,Community Events,Free
ATTACH;FMTTYPE=image/jpeg:https://bevmain.org/wp-content/uploads/2026/01/Art-Sale-and-Marketplace.jpg
GEO:42.5526096;-70.8395131
X-APPLE-STRUCTURED-LOCATION;VALUE=URI;X-ADDRESS=Walter J Manninen Center for the Arts Hale Street 406 Beverly Massachusetts 01915 United States;X-APPLE-RADIUS=500;X-TITLE=Hale Street 406:geo:-70.8395131,42.5526096
END:VEVENT
BEGIN:VEVENT
DTSTART;TZID=America/New_York:20260410T170000
DTEND;TZID=America/New_York:20260410T200000
DTSTAMP:20260422T195958
CREATED:20260331T152450Z
LAST-MODIFIED:20260331T152450Z
UID:10038378-1775840400-1775851200@bevmain.org
SUMMARY:Second Fridays Open House at The Bower
DESCRIPTION:Every 2nd Friday of the month from 5 – 8 PM. Visit the studios on the second floor. See what our artists are working on\, chat and soak up the creative energy of The Bower. You’ll find works in progress\, early concepts\, and finished pieces across a range of media — plus the artists themselves\, happy to talk about their work!
URL:https://bevmain.org/event/second-fridays-open-house-at-the-bower/
LOCATION:248 Cabot St.\, Cabot Street 248\, Beverly\, Massachusetts\, 01915\, United States
CATEGORIES:Art/Gallery Event
ATTACH;FMTTYPE=image/png:https://bevmain.org/wp-content/uploads/2026/03/The-Bower-Logo-BLACK-scaled.png
ORGANIZER;CN="The Bower":MAILTO:thebower@montserrat.edu
GEO:42.5493431;-70.878152
X-APPLE-STRUCTURED-LOCATION;VALUE=URI;X-ADDRESS=248 Cabot St. Cabot Street 248 Beverly Massachusetts 01915 United States;X-APPLE-RADIUS=500;X-TITLE=Cabot Street 248:geo:-70.878152,42.5493431
END:VEVENT
BEGIN:VEVENT
DTSTART;TZID=America/New_York:20260411T180000
DTEND;TZID=America/New_York:20260411T200000
DTSTAMP:20260422T195958
CREATED:20260331T144934Z
LAST-MODIFIED:20260331T144934Z
UID:10038377-1775930400-1775937600@bevmain.org
SUMMARY:The Frame at 198: Green - Local Art Expo
DESCRIPTION:Mark your calendars! On April 11th from 6-8pm\, The Frame at 198 is proud to present our next art showcase under the theme “Green” – highlighting sustainability\, change\, and the revival within our community and our environment. Come join us as we celebrate the amazingly talented artists and their works in a unique gallery space.
URL:https://bevmain.org/event/the-frame-at-198-green-local-art-expo/
LOCATION:Beverly Bootstraps Thrift Shop\, Rantoul Street\, Beverly\, Massachusetts\, 01915\, United States
CATEGORIES:Art/Gallery Event,Community Events,Free
ATTACH;FMTTYPE=image/jpeg:https://bevmain.org/wp-content/uploads/2026/03/tfgsqr.jpg
ORGANIZER;CN="Beverly Bootstraps":MAILTO:iohara@beverlybootstraps.org
GEO:42.5480112;-70.8842898
X-APPLE-STRUCTURED-LOCATION;VALUE=URI;X-ADDRESS=Beverly Bootstraps Thrift Shop Rantoul Street Beverly Massachusetts 01915 United States;X-APPLE-RADIUS=500;X-TITLE=Rantoul Street:geo:-70.8842898,42.5480112
END:VEVENT
BEGIN:VEVENT
DTSTART;TZID=America/New_York:20260425T120000
DTEND;TZID=America/New_York:20260425T180000
DTSTAMP:20260422T195958
CREATED:20260406T193910Z
LAST-MODIFIED:20260406T193910Z
UID:10038397-1777118400-1777140000@bevmain.org
SUMMARY:Spring Open Studios
DESCRIPTION:Porter Mill Spring Open Studios\nSaturday\, April 25\, 12-6pm \nExplore four floors of artist spaces\, offering a variety of artwork including painting\, drawing\, ceramics\, photography\, jewelry\, glass work\, poetry\, fashion and more.\nSecure your gifts for Mother’s Day\, Dad’s and Grads and all of those spring holidays! \nCoastal Mass Brewing will be going all out for the Beverly Beer Mile’s Spring Fling and you can enjoy your beverages throughout the studio spaces.\nFood will be available courtesy of The Lobster Roller. \nPark all day for $2 at the MBTA parking garage\, across Rantoul Street from Porter Mill.
URL:https://bevmain.org/event/spring-open-studios-4/
LOCATION:Studios at Porter Mill\, 95 Rantoul St \, MA 01915 United States\, Beverly\, MA\, 01915\, United States
CATEGORIES:Art/Gallery Event,Beer/Wine,Food
ATTACH;FMTTYPE=image/jpeg:https://bevmain.org/wp-content/uploads/2026/04/cardSpring26-copy.jpg
GEO:42.544817;-70.8843987
X-APPLE-STRUCTURED-LOCATION;VALUE=URI;X-ADDRESS=Studios at Porter Mill 95 Rantoul St  MA 01915 United States Beverly MA 01915 United States;X-APPLE-RADIUS=500;X-TITLE=95 Rantoul St \, MA 01915 United States:geo:-70.8843987,42.544817
END:VEVENT
END:VCALENDAR