BEGIN:VCALENDAR
VERSION:2.0
PRODID:-//Beverly Main Streets - ECPv6.15.20//NONSGML v1.0//EN
CALSCALE:GREGORIAN
METHOD:PUBLISH
X-WR-CALNAME:Beverly Main Streets
X-ORIGINAL-URL:https://bevmain.org
X-WR-CALDESC:Events for Beverly Main Streets
REFRESH-INTERVAL;VALUE=DURATION:PT1H
X-Robots-Tag:noindex
X-PUBLISHED-TTL:PT1H
BEGIN:VTIMEZONE
TZID:America/New_York
BEGIN:DAYLIGHT
TZOFFSETFROM:-0500
TZOFFSETTO:-0400
TZNAME:EDT
DTSTART:20270314T070000
END:DAYLIGHT
BEGIN:STANDARD
TZOFFSETFROM:-0400
TZOFFSETTO:-0500
TZNAME:EST
DTSTART:20271107T060000
END:STANDARD
BEGIN:DAYLIGHT
TZOFFSETFROM:-0500
TZOFFSETTO:-0400
TZNAME:EDT
DTSTART:20280312T070000
END:DAYLIGHT
BEGIN:STANDARD
TZOFFSETFROM:-0400
TZOFFSETTO:-0500
TZNAME:EST
DTSTART:20281105T060000
END:STANDARD
BEGIN:DAYLIGHT
TZOFFSETFROM:-0500
TZOFFSETTO:-0400
TZNAME:EDT
DTSTART:20290311T070000
END:DAYLIGHT
BEGIN:STANDARD
TZOFFSETFROM:-0400
TZOFFSETTO:-0500
TZNAME:EST
DTSTART:20291104T060000
END:STANDARD
END:VTIMEZONE
BEGIN:VEVENT
DTSTART;TZID=America/New_York:20280815T190000
DTEND;TZID=America/New_York:20280815T210000
DTSTAMP:20260425T121946
CREATED:20250407T131119Z
LAST-MODIFIED:20250407T131119Z
UID:10028045-1849978800-1849986000@bevmain.org
SUMMARY:Music Bingo
DESCRIPTION:We are excited to be pairing up with Ryan Dupont every Tuesday evening for MUSIC BINGO! It’s FREE TO PLAY & FOR ALL AGES! 7-9!!
URL:https://bevmain.org/event/music-bingo/2028-08-15/
LOCATION:The Pickled Onion\, 355 rantoul st\, Beverly\, 01915\, United States
CATEGORIES:Beer/Wine,Food
ATTACH;FMTTYPE=image/jpeg:https://bevmain.org/wp-content/uploads/2025/04/images.jpeg
GEO:42.5522933;-70.8824043
X-APPLE-STRUCTURED-LOCATION;VALUE=URI;X-ADDRESS=The Pickled Onion 355 rantoul st Beverly 01915 United States;X-APPLE-RADIUS=500;X-TITLE=355 rantoul st:geo:-70.8824043,42.5522933
END:VEVENT
BEGIN:VEVENT
DTSTART;TZID=America/New_York:20280816T110000
DTEND;TZID=America/New_York:20280820T210000
DTSTAMP:20260425T121946
CREATED:20250417T172123Z
LAST-MODIFIED:20250417T172123Z
UID:10029959-1850036400-1850418000@bevmain.org
SUMMARY:Burrito & A Beer
DESCRIPTION:Craving a burrito and a beer? We’ve got you covered! \nGet our Burrito & a Beer combo\, all for only $20\, Monday through Friday!
URL:https://bevmain.org/event/burrito-a-beer/2028-08-16/
LOCATION:La Qchara\, 275 Cabot Street\, Beverly\, 01915\, United States
CATEGORIES:Beer/Wine,Food
ATTACH;FMTTYPE=image/jpeg:https://bevmain.org/wp-content/uploads/2025/04/Burrito-and-a-Beer-Beverly-Main-Streets-Ad.jpg
ORGANIZER;CN="La Qchara":MAILTO:marketing@laqchara.com
GEO:42.5509677;-70.8781069
X-APPLE-STRUCTURED-LOCATION;VALUE=URI;X-ADDRESS=La Qchara 275 Cabot Street Beverly 01915 United States;X-APPLE-RADIUS=500;X-TITLE=275 Cabot Street:geo:-70.8781069,42.5509677
END:VEVENT
BEGIN:VEVENT
DTSTART;TZID=America/New_York:20280817T110000
DTEND;TZID=America/New_York:20280821T210000
DTSTAMP:20260425T121946
CREATED:20250417T172123Z
LAST-MODIFIED:20250417T172123Z
UID:10029960-1850122800-1850504400@bevmain.org
SUMMARY:Burrito & A Beer
DESCRIPTION:Craving a burrito and a beer? We’ve got you covered! \nGet our Burrito & a Beer combo\, all for only $20\, Monday through Friday!
URL:https://bevmain.org/event/burrito-a-beer/2028-08-17/
LOCATION:La Qchara\, 275 Cabot Street\, Beverly\, 01915\, United States
CATEGORIES:Beer/Wine,Food
ATTACH;FMTTYPE=image/jpeg:https://bevmain.org/wp-content/uploads/2025/04/Burrito-and-a-Beer-Beverly-Main-Streets-Ad.jpg
ORGANIZER;CN="La Qchara":MAILTO:marketing@laqchara.com
GEO:42.5509677;-70.8781069
X-APPLE-STRUCTURED-LOCATION;VALUE=URI;X-ADDRESS=La Qchara 275 Cabot Street Beverly 01915 United States;X-APPLE-RADIUS=500;X-TITLE=275 Cabot Street:geo:-70.8781069,42.5509677
END:VEVENT
BEGIN:VEVENT
DTSTART;TZID=America/New_York:20280817T180000
DTEND;TZID=America/New_York:20280817T200000
DTSTAMP:20260425T121946
CREATED:20230307T165824Z
LAST-MODIFIED:20250207T134021Z
UID:10026385-1850148000-1850155200@bevmain.org
SUMMARY:RunABV - Run Club
DESCRIPTION:Attention Beverly Vehicles: 3.1 weekly run/walk every Thursday!\nRunners of all levels are invited down to the Gentile taproom for a 5k loop starting and ending at the brewery. Not a runner? Not a problem! Walking is encouraged\, just as long as you’re back for last call! We will depart the taproom at 6:00 so please come in a little early to drop off your stuff and sign in!\nWhen you’re done feel free to hang out\, meet new friends and enjoy some of Beverly’s finest brews! Kid and dog friendly and make sure to bring dinner or snacks to refuel when you get back!\nSo lace up and meet us at the taproom at 59 Park Street!
URL:https://bevmain.org/event/runabv-run-club/2028-08-17/
LOCATION:Gentile Brewing\, 59 Park Street\, Beverly\, MA\, 01915\, United States
CATEGORIES:Beer/Wine,Free,Outdoor
ATTACH;FMTTYPE=image/jpeg:https://bevmain.org/wp-content/uploads/2023/03/RunABV.jpg
GEO:42.5493727;-70.8842259
X-APPLE-STRUCTURED-LOCATION;VALUE=URI;X-ADDRESS=Gentile Brewing 59 Park Street Beverly MA 01915 United States;X-APPLE-RADIUS=500;X-TITLE=59 Park Street:geo:-70.8842259,42.5493727
END:VEVENT
BEGIN:VEVENT
DTSTART;TZID=America/New_York:20280818T110000
DTEND;TZID=America/New_York:20280822T210000
DTSTAMP:20260425T121946
CREATED:20250417T172123Z
LAST-MODIFIED:20250417T172123Z
UID:10029961-1850209200-1850590800@bevmain.org
SUMMARY:Burrito & A Beer
DESCRIPTION:Craving a burrito and a beer? We’ve got you covered! \nGet our Burrito & a Beer combo\, all for only $20\, Monday through Friday!
URL:https://bevmain.org/event/burrito-a-beer/2028-08-18/
LOCATION:La Qchara\, 275 Cabot Street\, Beverly\, 01915\, United States
CATEGORIES:Beer/Wine,Food
ATTACH;FMTTYPE=image/jpeg:https://bevmain.org/wp-content/uploads/2025/04/Burrito-and-a-Beer-Beverly-Main-Streets-Ad.jpg
ORGANIZER;CN="La Qchara":MAILTO:marketing@laqchara.com
GEO:42.5509677;-70.8781069
X-APPLE-STRUCTURED-LOCATION;VALUE=URI;X-ADDRESS=La Qchara 275 Cabot Street Beverly 01915 United States;X-APPLE-RADIUS=500;X-TITLE=275 Cabot Street:geo:-70.8781069,42.5509677
END:VEVENT
BEGIN:VEVENT
DTSTART;TZID=America/New_York:20280819T210000
DTEND;TZID=America/New_York:20280820T010000
DTSTAMP:20260425T121946
CREATED:20240405T133525Z
LAST-MODIFIED:20240405T133525Z
UID:10022192-1850331600-1850346000@bevmain.org
SUMMARY:Saturday night Karaoke
DESCRIPTION:Come dance & sing the night away! Great for groups or individuals\,
URL:https://bevmain.org/event/saturday-night-karaoke/2028-08-19/
LOCATION:The Pickled Onion\, 355 rantoul st\, Beverly\, 01915\, United States
CATEGORIES:Beer/Wine,Festival,Music/Concert,Nightlife
ATTACH;FMTTYPE=image/png:https://bevmain.org/wp-content/uploads/2024/04/29B68054-2E1A-4D24-A2CA-1FB4798D3CDB.png
GEO:42.5522933;-70.8824043
X-APPLE-STRUCTURED-LOCATION;VALUE=URI;X-ADDRESS=The Pickled Onion 355 rantoul st Beverly 01915 United States;X-APPLE-RADIUS=500;X-TITLE=355 rantoul st:geo:-70.8824043,42.5522933
END:VEVENT
BEGIN:VEVENT
DTSTART;TZID=America/New_York:20280821T110000
DTEND;TZID=America/New_York:20280825T210000
DTSTAMP:20260425T121946
CREATED:20250417T172123Z
LAST-MODIFIED:20250417T172123Z
UID:10029962-1850468400-1850850000@bevmain.org
SUMMARY:Burrito & A Beer
DESCRIPTION:Craving a burrito and a beer? We’ve got you covered! \nGet our Burrito & a Beer combo\, all for only $20\, Monday through Friday!
URL:https://bevmain.org/event/burrito-a-beer/2028-08-21/
LOCATION:La Qchara\, 275 Cabot Street\, Beverly\, 01915\, United States
CATEGORIES:Beer/Wine,Food
ATTACH;FMTTYPE=image/jpeg:https://bevmain.org/wp-content/uploads/2025/04/Burrito-and-a-Beer-Beverly-Main-Streets-Ad.jpg
ORGANIZER;CN="La Qchara":MAILTO:marketing@laqchara.com
GEO:42.5509677;-70.8781069
X-APPLE-STRUCTURED-LOCATION;VALUE=URI;X-ADDRESS=La Qchara 275 Cabot Street Beverly 01915 United States;X-APPLE-RADIUS=500;X-TITLE=275 Cabot Street:geo:-70.8781069,42.5509677
END:VEVENT
BEGIN:VEVENT
DTSTART;TZID=America/New_York:20280821T200000
DTEND;TZID=America/New_York:20280821T230000
DTSTAMP:20260425T121946
CREATED:20230628T150156Z
LAST-MODIFIED:20231108T191914Z
UID:10020105-1850500800-1850511600@bevmain.org
SUMMARY:Open Mic at Indo
DESCRIPTION:Hosted by Bob Kramer & Nick Consone!
URL:https://bevmain.org/event/open-mic-at-indo/2028-08-21/
LOCATION:The Indo\, 298 Cabot Street\, Beverly\, MA\, 01915\, United States
CATEGORIES:Beer/Wine,Comedy,Food,Nightlife
ATTACH;FMTTYPE=image/jpeg:https://bevmain.org/wp-content/uploads/2023/06/IndoOpenMic.jpg
GEO:42.5521772;-70.8790122
X-APPLE-STRUCTURED-LOCATION;VALUE=URI;X-ADDRESS=The Indo 298 Cabot Street Beverly MA 01915 United States;X-APPLE-RADIUS=500;X-TITLE=298 Cabot Street:geo:-70.8790122,42.5521772
END:VEVENT
BEGIN:VEVENT
DTSTART;TZID=America/New_York:20280822T110000
DTEND;TZID=America/New_York:20280826T210000
DTSTAMP:20260425T121946
CREATED:20250417T172123Z
LAST-MODIFIED:20250417T172123Z
UID:10029963-1850554800-1850936400@bevmain.org
SUMMARY:Burrito & A Beer
DESCRIPTION:Craving a burrito and a beer? We’ve got you covered! \nGet our Burrito & a Beer combo\, all for only $20\, Monday through Friday!
URL:https://bevmain.org/event/burrito-a-beer/2028-08-22/
LOCATION:La Qchara\, 275 Cabot Street\, Beverly\, 01915\, United States
CATEGORIES:Beer/Wine,Food
ATTACH;FMTTYPE=image/jpeg:https://bevmain.org/wp-content/uploads/2025/04/Burrito-and-a-Beer-Beverly-Main-Streets-Ad.jpg
ORGANIZER;CN="La Qchara":MAILTO:marketing@laqchara.com
GEO:42.5509677;-70.8781069
X-APPLE-STRUCTURED-LOCATION;VALUE=URI;X-ADDRESS=La Qchara 275 Cabot Street Beverly 01915 United States;X-APPLE-RADIUS=500;X-TITLE=275 Cabot Street:geo:-70.8781069,42.5509677
END:VEVENT
BEGIN:VEVENT
DTSTART;TZID=America/New_York:20280822T140000
DTEND;TZID=America/New_York:20280822T210000
DTSTAMP:20260425T121946
CREATED:20260422T133237Z
LAST-MODIFIED:20260422T133237Z
UID:10038793-1850565600-1850590800@bevmain.org
SUMMARY:Wing Night
DESCRIPTION:It’s WING NIGHT at The Pickled Onion\n.75¢ wings flying out of the kitchen\nGrab a drink\, grab a seat\, and dig in!\nDine-in only • Beverage purchase required
URL:https://bevmain.org/event/wing-night-2/2028-08-22/
LOCATION:The Pickled Onion\, 355 rantoul st\, Beverly\, 01915\, United States
CATEGORIES:Beer/Wine,Food
ATTACH;FMTTYPE=image/jpeg:https://bevmain.org/wp-content/uploads/2026/04/ChatGPT-Image-Feb-10-2026-at-12_24_55-PM.jpg
GEO:42.5522933;-70.8824043
X-APPLE-STRUCTURED-LOCATION;VALUE=URI;X-ADDRESS=The Pickled Onion 355 rantoul st Beverly 01915 United States;X-APPLE-RADIUS=500;X-TITLE=355 rantoul st:geo:-70.8824043,42.5522933
END:VEVENT
BEGIN:VEVENT
DTSTART;TZID=America/New_York:20280822T190000
DTEND;TZID=America/New_York:20280822T210000
DTSTAMP:20260425T121946
CREATED:20250407T131119Z
LAST-MODIFIED:20250407T131119Z
UID:10028046-1850583600-1850590800@bevmain.org
SUMMARY:Music Bingo
DESCRIPTION:We are excited to be pairing up with Ryan Dupont every Tuesday evening for MUSIC BINGO! It’s FREE TO PLAY & FOR ALL AGES! 7-9!!
URL:https://bevmain.org/event/music-bingo/2028-08-22/
LOCATION:The Pickled Onion\, 355 rantoul st\, Beverly\, 01915\, United States
CATEGORIES:Beer/Wine,Food
ATTACH;FMTTYPE=image/jpeg:https://bevmain.org/wp-content/uploads/2025/04/images.jpeg
GEO:42.5522933;-70.8824043
X-APPLE-STRUCTURED-LOCATION;VALUE=URI;X-ADDRESS=The Pickled Onion 355 rantoul st Beverly 01915 United States;X-APPLE-RADIUS=500;X-TITLE=355 rantoul st:geo:-70.8824043,42.5522933
END:VEVENT
BEGIN:VEVENT
DTSTART;TZID=America/New_York:20280823T110000
DTEND;TZID=America/New_York:20280827T210000
DTSTAMP:20260425T121946
CREATED:20250417T172123Z
LAST-MODIFIED:20250417T172123Z
UID:10029964-1850641200-1851022800@bevmain.org
SUMMARY:Burrito & A Beer
DESCRIPTION:Craving a burrito and a beer? We’ve got you covered! \nGet our Burrito & a Beer combo\, all for only $20\, Monday through Friday!
URL:https://bevmain.org/event/burrito-a-beer/2028-08-23/
LOCATION:La Qchara\, 275 Cabot Street\, Beverly\, 01915\, United States
CATEGORIES:Beer/Wine,Food
ATTACH;FMTTYPE=image/jpeg:https://bevmain.org/wp-content/uploads/2025/04/Burrito-and-a-Beer-Beverly-Main-Streets-Ad.jpg
ORGANIZER;CN="La Qchara":MAILTO:marketing@laqchara.com
GEO:42.5509677;-70.8781069
X-APPLE-STRUCTURED-LOCATION;VALUE=URI;X-ADDRESS=La Qchara 275 Cabot Street Beverly 01915 United States;X-APPLE-RADIUS=500;X-TITLE=275 Cabot Street:geo:-70.8781069,42.5509677
END:VEVENT
BEGIN:VEVENT
DTSTART;TZID=America/New_York:20280824T110000
DTEND;TZID=America/New_York:20280828T210000
DTSTAMP:20260425T121946
CREATED:20250417T172123Z
LAST-MODIFIED:20250417T172123Z
UID:10029965-1850727600-1851109200@bevmain.org
SUMMARY:Burrito & A Beer
DESCRIPTION:Craving a burrito and a beer? We’ve got you covered! \nGet our Burrito & a Beer combo\, all for only $20\, Monday through Friday!
URL:https://bevmain.org/event/burrito-a-beer/2028-08-24/
LOCATION:La Qchara\, 275 Cabot Street\, Beverly\, 01915\, United States
CATEGORIES:Beer/Wine,Food
ATTACH;FMTTYPE=image/jpeg:https://bevmain.org/wp-content/uploads/2025/04/Burrito-and-a-Beer-Beverly-Main-Streets-Ad.jpg
ORGANIZER;CN="La Qchara":MAILTO:marketing@laqchara.com
GEO:42.5509677;-70.8781069
X-APPLE-STRUCTURED-LOCATION;VALUE=URI;X-ADDRESS=La Qchara 275 Cabot Street Beverly 01915 United States;X-APPLE-RADIUS=500;X-TITLE=275 Cabot Street:geo:-70.8781069,42.5509677
END:VEVENT
BEGIN:VEVENT
DTSTART;TZID=America/New_York:20280824T180000
DTEND;TZID=America/New_York:20280824T200000
DTSTAMP:20260425T121946
CREATED:20230307T165824Z
LAST-MODIFIED:20250207T134021Z
UID:10026386-1850752800-1850760000@bevmain.org
SUMMARY:RunABV - Run Club
DESCRIPTION:Attention Beverly Vehicles: 3.1 weekly run/walk every Thursday!\nRunners of all levels are invited down to the Gentile taproom for a 5k loop starting and ending at the brewery. Not a runner? Not a problem! Walking is encouraged\, just as long as you’re back for last call! We will depart the taproom at 6:00 so please come in a little early to drop off your stuff and sign in!\nWhen you’re done feel free to hang out\, meet new friends and enjoy some of Beverly’s finest brews! Kid and dog friendly and make sure to bring dinner or snacks to refuel when you get back!\nSo lace up and meet us at the taproom at 59 Park Street!
URL:https://bevmain.org/event/runabv-run-club/2028-08-24/
LOCATION:Gentile Brewing\, 59 Park Street\, Beverly\, MA\, 01915\, United States
CATEGORIES:Beer/Wine,Free,Outdoor
ATTACH;FMTTYPE=image/jpeg:https://bevmain.org/wp-content/uploads/2023/03/RunABV.jpg
GEO:42.5493727;-70.8842259
X-APPLE-STRUCTURED-LOCATION;VALUE=URI;X-ADDRESS=Gentile Brewing 59 Park Street Beverly MA 01915 United States;X-APPLE-RADIUS=500;X-TITLE=59 Park Street:geo:-70.8842259,42.5493727
END:VEVENT
BEGIN:VEVENT
DTSTART;TZID=America/New_York:20280825T110000
DTEND;TZID=America/New_York:20280829T210000
DTSTAMP:20260425T121946
CREATED:20250417T172123Z
LAST-MODIFIED:20250417T172123Z
UID:10029966-1850814000-1851195600@bevmain.org
SUMMARY:Burrito & A Beer
DESCRIPTION:Craving a burrito and a beer? We’ve got you covered! \nGet our Burrito & a Beer combo\, all for only $20\, Monday through Friday!
URL:https://bevmain.org/event/burrito-a-beer/2028-08-25/
LOCATION:La Qchara\, 275 Cabot Street\, Beverly\, 01915\, United States
CATEGORIES:Beer/Wine,Food
ATTACH;FMTTYPE=image/jpeg:https://bevmain.org/wp-content/uploads/2025/04/Burrito-and-a-Beer-Beverly-Main-Streets-Ad.jpg
ORGANIZER;CN="La Qchara":MAILTO:marketing@laqchara.com
GEO:42.5509677;-70.8781069
X-APPLE-STRUCTURED-LOCATION;VALUE=URI;X-ADDRESS=La Qchara 275 Cabot Street Beverly 01915 United States;X-APPLE-RADIUS=500;X-TITLE=275 Cabot Street:geo:-70.8781069,42.5509677
END:VEVENT
BEGIN:VEVENT
DTSTART;TZID=America/New_York:20280826T210000
DTEND;TZID=America/New_York:20280827T010000
DTSTAMP:20260425T121946
CREATED:20240405T133525Z
LAST-MODIFIED:20240405T133525Z
UID:10022193-1850936400-1850950800@bevmain.org
SUMMARY:Saturday night Karaoke
DESCRIPTION:Come dance & sing the night away! Great for groups or individuals\,
URL:https://bevmain.org/event/saturday-night-karaoke/2028-08-26/
LOCATION:The Pickled Onion\, 355 rantoul st\, Beverly\, 01915\, United States
CATEGORIES:Beer/Wine,Festival,Music/Concert,Nightlife
ATTACH;FMTTYPE=image/png:https://bevmain.org/wp-content/uploads/2024/04/29B68054-2E1A-4D24-A2CA-1FB4798D3CDB.png
GEO:42.5522933;-70.8824043
X-APPLE-STRUCTURED-LOCATION;VALUE=URI;X-ADDRESS=The Pickled Onion 355 rantoul st Beverly 01915 United States;X-APPLE-RADIUS=500;X-TITLE=355 rantoul st:geo:-70.8824043,42.5522933
END:VEVENT
BEGIN:VEVENT
DTSTART;TZID=America/New_York:20280828T110000
DTEND;TZID=America/New_York:20280901T210000
DTSTAMP:20260425T121946
CREATED:20250417T172123Z
LAST-MODIFIED:20250417T172123Z
UID:10029967-1851073200-1851454800@bevmain.org
SUMMARY:Burrito & A Beer
DESCRIPTION:Craving a burrito and a beer? We’ve got you covered! \nGet our Burrito & a Beer combo\, all for only $20\, Monday through Friday!
URL:https://bevmain.org/event/burrito-a-beer/2028-08-28/
LOCATION:La Qchara\, 275 Cabot Street\, Beverly\, 01915\, United States
CATEGORIES:Beer/Wine,Food
ATTACH;FMTTYPE=image/jpeg:https://bevmain.org/wp-content/uploads/2025/04/Burrito-and-a-Beer-Beverly-Main-Streets-Ad.jpg
ORGANIZER;CN="La Qchara":MAILTO:marketing@laqchara.com
GEO:42.5509677;-70.8781069
X-APPLE-STRUCTURED-LOCATION;VALUE=URI;X-ADDRESS=La Qchara 275 Cabot Street Beverly 01915 United States;X-APPLE-RADIUS=500;X-TITLE=275 Cabot Street:geo:-70.8781069,42.5509677
END:VEVENT
BEGIN:VEVENT
DTSTART;TZID=America/New_York:20280828T200000
DTEND;TZID=America/New_York:20280828T230000
DTSTAMP:20260425T121946
CREATED:20230628T150156Z
LAST-MODIFIED:20231108T191914Z
UID:10020106-1851105600-1851116400@bevmain.org
SUMMARY:Open Mic at Indo
DESCRIPTION:Hosted by Bob Kramer & Nick Consone!
URL:https://bevmain.org/event/open-mic-at-indo/2028-08-28/
LOCATION:The Indo\, 298 Cabot Street\, Beverly\, MA\, 01915\, United States
CATEGORIES:Beer/Wine,Comedy,Food,Nightlife
ATTACH;FMTTYPE=image/jpeg:https://bevmain.org/wp-content/uploads/2023/06/IndoOpenMic.jpg
GEO:42.5521772;-70.8790122
X-APPLE-STRUCTURED-LOCATION;VALUE=URI;X-ADDRESS=The Indo 298 Cabot Street Beverly MA 01915 United States;X-APPLE-RADIUS=500;X-TITLE=298 Cabot Street:geo:-70.8790122,42.5521772
END:VEVENT
BEGIN:VEVENT
DTSTART;TZID=America/New_York:20280829T110000
DTEND;TZID=America/New_York:20280902T210000
DTSTAMP:20260425T121946
CREATED:20250417T172123Z
LAST-MODIFIED:20250417T172123Z
UID:10029968-1851159600-1851541200@bevmain.org
SUMMARY:Burrito & A Beer
DESCRIPTION:Craving a burrito and a beer? We’ve got you covered! \nGet our Burrito & a Beer combo\, all for only $20\, Monday through Friday!
URL:https://bevmain.org/event/burrito-a-beer/2028-08-29/
LOCATION:La Qchara\, 275 Cabot Street\, Beverly\, 01915\, United States
CATEGORIES:Beer/Wine,Food
ATTACH;FMTTYPE=image/jpeg:https://bevmain.org/wp-content/uploads/2025/04/Burrito-and-a-Beer-Beverly-Main-Streets-Ad.jpg
ORGANIZER;CN="La Qchara":MAILTO:marketing@laqchara.com
GEO:42.5509677;-70.8781069
X-APPLE-STRUCTURED-LOCATION;VALUE=URI;X-ADDRESS=La Qchara 275 Cabot Street Beverly 01915 United States;X-APPLE-RADIUS=500;X-TITLE=275 Cabot Street:geo:-70.8781069,42.5509677
END:VEVENT
BEGIN:VEVENT
DTSTART;TZID=America/New_York:20280829T140000
DTEND;TZID=America/New_York:20280829T210000
DTSTAMP:20260425T121946
CREATED:20260422T133237Z
LAST-MODIFIED:20260422T133237Z
UID:10038794-1851170400-1851195600@bevmain.org
SUMMARY:Wing Night
DESCRIPTION:It’s WING NIGHT at The Pickled Onion\n.75¢ wings flying out of the kitchen\nGrab a drink\, grab a seat\, and dig in!\nDine-in only • Beverage purchase required
URL:https://bevmain.org/event/wing-night-2/2028-08-29/
LOCATION:The Pickled Onion\, 355 rantoul st\, Beverly\, 01915\, United States
CATEGORIES:Beer/Wine,Food
ATTACH;FMTTYPE=image/jpeg:https://bevmain.org/wp-content/uploads/2026/04/ChatGPT-Image-Feb-10-2026-at-12_24_55-PM.jpg
GEO:42.5522933;-70.8824043
X-APPLE-STRUCTURED-LOCATION;VALUE=URI;X-ADDRESS=The Pickled Onion 355 rantoul st Beverly 01915 United States;X-APPLE-RADIUS=500;X-TITLE=355 rantoul st:geo:-70.8824043,42.5522933
END:VEVENT
BEGIN:VEVENT
DTSTART;TZID=America/New_York:20280829T190000
DTEND;TZID=America/New_York:20280829T210000
DTSTAMP:20260425T121946
CREATED:20250407T131119Z
LAST-MODIFIED:20250407T131119Z
UID:10028047-1851188400-1851195600@bevmain.org
SUMMARY:Music Bingo
DESCRIPTION:We are excited to be pairing up with Ryan Dupont every Tuesday evening for MUSIC BINGO! It’s FREE TO PLAY & FOR ALL AGES! 7-9!!
URL:https://bevmain.org/event/music-bingo/2028-08-29/
LOCATION:The Pickled Onion\, 355 rantoul st\, Beverly\, 01915\, United States
CATEGORIES:Beer/Wine,Food
ATTACH;FMTTYPE=image/jpeg:https://bevmain.org/wp-content/uploads/2025/04/images.jpeg
GEO:42.5522933;-70.8824043
X-APPLE-STRUCTURED-LOCATION;VALUE=URI;X-ADDRESS=The Pickled Onion 355 rantoul st Beverly 01915 United States;X-APPLE-RADIUS=500;X-TITLE=355 rantoul st:geo:-70.8824043,42.5522933
END:VEVENT
BEGIN:VEVENT
DTSTART;TZID=America/New_York:20280830T110000
DTEND;TZID=America/New_York:20280903T210000
DTSTAMP:20260425T121946
CREATED:20250417T172123Z
LAST-MODIFIED:20250417T172123Z
UID:10029969-1851246000-1851627600@bevmain.org
SUMMARY:Burrito & A Beer
DESCRIPTION:Craving a burrito and a beer? We’ve got you covered! \nGet our Burrito & a Beer combo\, all for only $20\, Monday through Friday!
URL:https://bevmain.org/event/burrito-a-beer/2028-08-30/
LOCATION:La Qchara\, 275 Cabot Street\, Beverly\, 01915\, United States
CATEGORIES:Beer/Wine,Food
ATTACH;FMTTYPE=image/jpeg:https://bevmain.org/wp-content/uploads/2025/04/Burrito-and-a-Beer-Beverly-Main-Streets-Ad.jpg
ORGANIZER;CN="La Qchara":MAILTO:marketing@laqchara.com
GEO:42.5509677;-70.8781069
X-APPLE-STRUCTURED-LOCATION;VALUE=URI;X-ADDRESS=La Qchara 275 Cabot Street Beverly 01915 United States;X-APPLE-RADIUS=500;X-TITLE=275 Cabot Street:geo:-70.8781069,42.5509677
END:VEVENT
BEGIN:VEVENT
DTSTART;TZID=America/New_York:20280831T110000
DTEND;TZID=America/New_York:20280904T210000
DTSTAMP:20260425T121946
CREATED:20250417T172123Z
LAST-MODIFIED:20250417T172123Z
UID:10029970-1851332400-1851714000@bevmain.org
SUMMARY:Burrito & A Beer
DESCRIPTION:Craving a burrito and a beer? We’ve got you covered! \nGet our Burrito & a Beer combo\, all for only $20\, Monday through Friday!
URL:https://bevmain.org/event/burrito-a-beer/2028-08-31/
LOCATION:La Qchara\, 275 Cabot Street\, Beverly\, 01915\, United States
CATEGORIES:Beer/Wine,Food
ATTACH;FMTTYPE=image/jpeg:https://bevmain.org/wp-content/uploads/2025/04/Burrito-and-a-Beer-Beverly-Main-Streets-Ad.jpg
ORGANIZER;CN="La Qchara":MAILTO:marketing@laqchara.com
GEO:42.5509677;-70.8781069
X-APPLE-STRUCTURED-LOCATION;VALUE=URI;X-ADDRESS=La Qchara 275 Cabot Street Beverly 01915 United States;X-APPLE-RADIUS=500;X-TITLE=275 Cabot Street:geo:-70.8781069,42.5509677
END:VEVENT
BEGIN:VEVENT
DTSTART;TZID=America/New_York:20280831T180000
DTEND;TZID=America/New_York:20280831T200000
DTSTAMP:20260425T121946
CREATED:20230307T165824Z
LAST-MODIFIED:20250207T134021Z
UID:10026387-1851357600-1851364800@bevmain.org
SUMMARY:RunABV - Run Club
DESCRIPTION:Attention Beverly Vehicles: 3.1 weekly run/walk every Thursday!\nRunners of all levels are invited down to the Gentile taproom for a 5k loop starting and ending at the brewery. Not a runner? Not a problem! Walking is encouraged\, just as long as you’re back for last call! We will depart the taproom at 6:00 so please come in a little early to drop off your stuff and sign in!\nWhen you’re done feel free to hang out\, meet new friends and enjoy some of Beverly’s finest brews! Kid and dog friendly and make sure to bring dinner or snacks to refuel when you get back!\nSo lace up and meet us at the taproom at 59 Park Street!
URL:https://bevmain.org/event/runabv-run-club/2028-08-31/
LOCATION:Gentile Brewing\, 59 Park Street\, Beverly\, MA\, 01915\, United States
CATEGORIES:Beer/Wine,Free,Outdoor
ATTACH;FMTTYPE=image/jpeg:https://bevmain.org/wp-content/uploads/2023/03/RunABV.jpg
GEO:42.5493727;-70.8842259
X-APPLE-STRUCTURED-LOCATION;VALUE=URI;X-ADDRESS=Gentile Brewing 59 Park Street Beverly MA 01915 United States;X-APPLE-RADIUS=500;X-TITLE=59 Park Street:geo:-70.8842259,42.5493727
END:VEVENT
BEGIN:VEVENT
DTSTART;TZID=America/New_York:20280901T110000
DTEND;TZID=America/New_York:20280905T210000
DTSTAMP:20260425T121946
CREATED:20250417T172123Z
LAST-MODIFIED:20250417T172123Z
UID:10029971-1851418800-1851800400@bevmain.org
SUMMARY:Burrito & A Beer
DESCRIPTION:Craving a burrito and a beer? We’ve got you covered! \nGet our Burrito & a Beer combo\, all for only $20\, Monday through Friday!
URL:https://bevmain.org/event/burrito-a-beer/2028-09-01/
LOCATION:La Qchara\, 275 Cabot Street\, Beverly\, 01915\, United States
CATEGORIES:Beer/Wine,Food
ATTACH;FMTTYPE=image/jpeg:https://bevmain.org/wp-content/uploads/2025/04/Burrito-and-a-Beer-Beverly-Main-Streets-Ad.jpg
ORGANIZER;CN="La Qchara":MAILTO:marketing@laqchara.com
GEO:42.5509677;-70.8781069
X-APPLE-STRUCTURED-LOCATION;VALUE=URI;X-ADDRESS=La Qchara 275 Cabot Street Beverly 01915 United States;X-APPLE-RADIUS=500;X-TITLE=275 Cabot Street:geo:-70.8781069,42.5509677
END:VEVENT
BEGIN:VEVENT
DTSTART;TZID=America/New_York:20280902T210000
DTEND;TZID=America/New_York:20280903T010000
DTSTAMP:20260425T121946
CREATED:20240405T133525Z
LAST-MODIFIED:20240405T133525Z
UID:10022194-1851541200-1851555600@bevmain.org
SUMMARY:Saturday night Karaoke
DESCRIPTION:Come dance & sing the night away! Great for groups or individuals\,
URL:https://bevmain.org/event/saturday-night-karaoke/2028-09-02/
LOCATION:The Pickled Onion\, 355 rantoul st\, Beverly\, 01915\, United States
CATEGORIES:Beer/Wine,Festival,Music/Concert,Nightlife
ATTACH;FMTTYPE=image/png:https://bevmain.org/wp-content/uploads/2024/04/29B68054-2E1A-4D24-A2CA-1FB4798D3CDB.png
GEO:42.5522933;-70.8824043
X-APPLE-STRUCTURED-LOCATION;VALUE=URI;X-ADDRESS=The Pickled Onion 355 rantoul st Beverly 01915 United States;X-APPLE-RADIUS=500;X-TITLE=355 rantoul st:geo:-70.8824043,42.5522933
END:VEVENT
BEGIN:VEVENT
DTSTART;TZID=America/New_York:20280904T110000
DTEND;TZID=America/New_York:20280908T210000
DTSTAMP:20260425T121946
CREATED:20250417T172123Z
LAST-MODIFIED:20250417T172123Z
UID:10029972-1851678000-1852059600@bevmain.org
SUMMARY:Burrito & A Beer
DESCRIPTION:Craving a burrito and a beer? We’ve got you covered! \nGet our Burrito & a Beer combo\, all for only $20\, Monday through Friday!
URL:https://bevmain.org/event/burrito-a-beer/2028-09-04/
LOCATION:La Qchara\, 275 Cabot Street\, Beverly\, 01915\, United States
CATEGORIES:Beer/Wine,Food
ATTACH;FMTTYPE=image/jpeg:https://bevmain.org/wp-content/uploads/2025/04/Burrito-and-a-Beer-Beverly-Main-Streets-Ad.jpg
ORGANIZER;CN="La Qchara":MAILTO:marketing@laqchara.com
GEO:42.5509677;-70.8781069
X-APPLE-STRUCTURED-LOCATION;VALUE=URI;X-ADDRESS=La Qchara 275 Cabot Street Beverly 01915 United States;X-APPLE-RADIUS=500;X-TITLE=275 Cabot Street:geo:-70.8781069,42.5509677
END:VEVENT
BEGIN:VEVENT
DTSTART;TZID=America/New_York:20280904T200000
DTEND;TZID=America/New_York:20280904T230000
DTSTAMP:20260425T121946
CREATED:20230628T150156Z
LAST-MODIFIED:20231108T191914Z
UID:10020107-1851710400-1851721200@bevmain.org
SUMMARY:Open Mic at Indo
DESCRIPTION:Hosted by Bob Kramer & Nick Consone!
URL:https://bevmain.org/event/open-mic-at-indo/2028-09-04/
LOCATION:The Indo\, 298 Cabot Street\, Beverly\, MA\, 01915\, United States
CATEGORIES:Beer/Wine,Comedy,Food,Nightlife
ATTACH;FMTTYPE=image/jpeg:https://bevmain.org/wp-content/uploads/2023/06/IndoOpenMic.jpg
GEO:42.5521772;-70.8790122
X-APPLE-STRUCTURED-LOCATION;VALUE=URI;X-ADDRESS=The Indo 298 Cabot Street Beverly MA 01915 United States;X-APPLE-RADIUS=500;X-TITLE=298 Cabot Street:geo:-70.8790122,42.5521772
END:VEVENT
BEGIN:VEVENT
DTSTART;TZID=America/New_York:20280905T110000
DTEND;TZID=America/New_York:20280909T210000
DTSTAMP:20260425T121946
CREATED:20250417T172123Z
LAST-MODIFIED:20250417T172123Z
UID:10029973-1851764400-1852146000@bevmain.org
SUMMARY:Burrito & A Beer
DESCRIPTION:Craving a burrito and a beer? We’ve got you covered! \nGet our Burrito & a Beer combo\, all for only $20\, Monday through Friday!
URL:https://bevmain.org/event/burrito-a-beer/2028-09-05/
LOCATION:La Qchara\, 275 Cabot Street\, Beverly\, 01915\, United States
CATEGORIES:Beer/Wine,Food
ATTACH;FMTTYPE=image/jpeg:https://bevmain.org/wp-content/uploads/2025/04/Burrito-and-a-Beer-Beverly-Main-Streets-Ad.jpg
ORGANIZER;CN="La Qchara":MAILTO:marketing@laqchara.com
GEO:42.5509677;-70.8781069
X-APPLE-STRUCTURED-LOCATION;VALUE=URI;X-ADDRESS=La Qchara 275 Cabot Street Beverly 01915 United States;X-APPLE-RADIUS=500;X-TITLE=275 Cabot Street:geo:-70.8781069,42.5509677
END:VEVENT
BEGIN:VEVENT
DTSTART;TZID=America/New_York:20280905T140000
DTEND;TZID=America/New_York:20280905T210000
DTSTAMP:20260425T121946
CREATED:20260422T133237Z
LAST-MODIFIED:20260422T133237Z
UID:10038795-1851775200-1851800400@bevmain.org
SUMMARY:Wing Night
DESCRIPTION:It’s WING NIGHT at The Pickled Onion\n.75¢ wings flying out of the kitchen\nGrab a drink\, grab a seat\, and dig in!\nDine-in only • Beverage purchase required
URL:https://bevmain.org/event/wing-night-2/2028-09-05/
LOCATION:The Pickled Onion\, 355 rantoul st\, Beverly\, 01915\, United States
CATEGORIES:Beer/Wine,Food
ATTACH;FMTTYPE=image/jpeg:https://bevmain.org/wp-content/uploads/2026/04/ChatGPT-Image-Feb-10-2026-at-12_24_55-PM.jpg
GEO:42.5522933;-70.8824043
X-APPLE-STRUCTURED-LOCATION;VALUE=URI;X-ADDRESS=The Pickled Onion 355 rantoul st Beverly 01915 United States;X-APPLE-RADIUS=500;X-TITLE=355 rantoul st:geo:-70.8824043,42.5522933
END:VEVENT
END:VCALENDAR