BEGIN:VCALENDAR
VERSION:2.0
PRODID:-//Beverly Main Streets - ECPv6.15.20//NONSGML v1.0//EN
CALSCALE:GREGORIAN
METHOD:PUBLISH
X-ORIGINAL-URL:https://bevmain.org
X-WR-CALDESC:Events for Beverly Main Streets
REFRESH-INTERVAL;VALUE=DURATION:PT1H
X-Robots-Tag:noindex
X-PUBLISHED-TTL:PT1H
BEGIN:VTIMEZONE
TZID:America/New_York
BEGIN:DAYLIGHT
TZOFFSETFROM:-0500
TZOFFSETTO:-0400
TZNAME:EDT
DTSTART:20270314T070000
END:DAYLIGHT
BEGIN:STANDARD
TZOFFSETFROM:-0400
TZOFFSETTO:-0500
TZNAME:EST
DTSTART:20271107T060000
END:STANDARD
BEGIN:DAYLIGHT
TZOFFSETFROM:-0500
TZOFFSETTO:-0400
TZNAME:EDT
DTSTART:20280312T070000
END:DAYLIGHT
BEGIN:STANDARD
TZOFFSETFROM:-0400
TZOFFSETTO:-0500
TZNAME:EST
DTSTART:20281105T060000
END:STANDARD
BEGIN:DAYLIGHT
TZOFFSETFROM:-0500
TZOFFSETTO:-0400
TZNAME:EDT
DTSTART:20290311T070000
END:DAYLIGHT
BEGIN:STANDARD
TZOFFSETFROM:-0400
TZOFFSETTO:-0500
TZNAME:EST
DTSTART:20291104T060000
END:STANDARD
END:VTIMEZONE
BEGIN:VEVENT
DTSTART;TZID=America/New_York:20280323T200000
DTEND;TZID=America/New_York:20280323T223000
DTSTAMP:20260425T080022
CREATED:20230424T165615Z
LAST-MODIFIED:20230424T165615Z
UID:10018165-1837454400-1837463400@bevmain.org
SUMMARY:Open Mic at Off Cabot
DESCRIPTION:Off Cabot Open Mic Night on the last Thursday of every month! \nThis show-and-go open mic will serve as one of the best places in New England to hone your comedic craft and showcase your talent in front of The Cabot Theater and John Tobin Presents teams! The list and the house will fill up quickly so get there early! \n8-10:30pm\nFree Admission!\n4-minute spots\nList available at 7:30pm \nSHOW UP — SIGN UP — GO UP!
URL:https://bevmain.org/event/open-mic-at-off-cabot/2028-03-23/
CATEGORIES:Beer/Wine,Comedy,Free,Nightlife
ATTACH;FMTTYPE=image/jpeg:https://bevmain.org/wp-content/uploads/2023/04/open-mic.jpg
END:VEVENT
BEGIN:VEVENT
DTSTART;TZID=America/New_York:20280324T110000
DTEND;TZID=America/New_York:20280328T210000
DTSTAMP:20260425T080022
CREATED:20250417T172123Z
LAST-MODIFIED:20250417T172123Z
UID:10029856-1837508400-1837890000@bevmain.org
SUMMARY:Burrito & A Beer
DESCRIPTION:Craving a burrito and a beer? We’ve got you covered! \nGet our Burrito & a Beer combo\, all for only $20\, Monday through Friday!
URL:https://bevmain.org/event/burrito-a-beer/2028-03-24/
LOCATION:La Qchara\, 275 Cabot Street\, Beverly\, 01915\, United States
CATEGORIES:Beer/Wine,Food
ATTACH;FMTTYPE=image/jpeg:https://bevmain.org/wp-content/uploads/2025/04/Burrito-and-a-Beer-Beverly-Main-Streets-Ad.jpg
ORGANIZER;CN="La Qchara":MAILTO:marketing@laqchara.com
GEO:42.5509677;-70.8781069
X-APPLE-STRUCTURED-LOCATION;VALUE=URI;X-ADDRESS=La Qchara 275 Cabot Street Beverly 01915 United States;X-APPLE-RADIUS=500;X-TITLE=275 Cabot Street:geo:-70.8781069,42.5509677
END:VEVENT
BEGIN:VEVENT
DTSTART;TZID=America/New_York:20280325T210000
DTEND;TZID=America/New_York:20280326T010000
DTSTAMP:20260425T080022
CREATED:20240405T133525Z
LAST-MODIFIED:20240405T133525Z
UID:10022171-1837630800-1837645200@bevmain.org
SUMMARY:Saturday night Karaoke
DESCRIPTION:Come dance & sing the night away! Great for groups or individuals\,
URL:https://bevmain.org/event/saturday-night-karaoke/2028-03-25/
LOCATION:The Pickled Onion\, 355 rantoul st\, Beverly\, 01915\, United States
CATEGORIES:Beer/Wine,Festival,Music/Concert,Nightlife
ATTACH;FMTTYPE=image/png:https://bevmain.org/wp-content/uploads/2024/04/29B68054-2E1A-4D24-A2CA-1FB4798D3CDB.png
GEO:42.5522933;-70.8824043
X-APPLE-STRUCTURED-LOCATION;VALUE=URI;X-ADDRESS=The Pickled Onion 355 rantoul st Beverly 01915 United States;X-APPLE-RADIUS=500;X-TITLE=355 rantoul st:geo:-70.8824043,42.5522933
END:VEVENT
BEGIN:VEVENT
DTSTART;TZID=America/New_York:20280327T110000
DTEND;TZID=America/New_York:20280331T210000
DTSTAMP:20260425T080022
CREATED:20250417T172123Z
LAST-MODIFIED:20250417T172123Z
UID:10029857-1837767600-1838149200@bevmain.org
SUMMARY:Burrito & A Beer
DESCRIPTION:Craving a burrito and a beer? We’ve got you covered! \nGet our Burrito & a Beer combo\, all for only $20\, Monday through Friday!
URL:https://bevmain.org/event/burrito-a-beer/2028-03-27/
LOCATION:La Qchara\, 275 Cabot Street\, Beverly\, 01915\, United States
CATEGORIES:Beer/Wine,Food
ATTACH;FMTTYPE=image/jpeg:https://bevmain.org/wp-content/uploads/2025/04/Burrito-and-a-Beer-Beverly-Main-Streets-Ad.jpg
ORGANIZER;CN="La Qchara":MAILTO:marketing@laqchara.com
GEO:42.5509677;-70.8781069
X-APPLE-STRUCTURED-LOCATION;VALUE=URI;X-ADDRESS=La Qchara 275 Cabot Street Beverly 01915 United States;X-APPLE-RADIUS=500;X-TITLE=275 Cabot Street:geo:-70.8781069,42.5509677
END:VEVENT
BEGIN:VEVENT
DTSTART;TZID=America/New_York:20280327T200000
DTEND;TZID=America/New_York:20280327T230000
DTSTAMP:20260425T080022
CREATED:20230628T150156Z
LAST-MODIFIED:20231108T191914Z
UID:10019445-1837800000-1837810800@bevmain.org
SUMMARY:Open Mic at Indo
DESCRIPTION:Hosted by Bob Kramer & Nick Consone!
URL:https://bevmain.org/event/open-mic-at-indo/2028-03-27/
LOCATION:The Indo\, 298 Cabot Street\, Beverly\, MA\, 01915\, United States
CATEGORIES:Beer/Wine,Comedy,Food,Nightlife
ATTACH;FMTTYPE=image/jpeg:https://bevmain.org/wp-content/uploads/2023/06/IndoOpenMic.jpg
GEO:42.5521772;-70.8790122
X-APPLE-STRUCTURED-LOCATION;VALUE=URI;X-ADDRESS=The Indo 298 Cabot Street Beverly MA 01915 United States;X-APPLE-RADIUS=500;X-TITLE=298 Cabot Street:geo:-70.8790122,42.5521772
END:VEVENT
BEGIN:VEVENT
DTSTART;TZID=America/New_York:20280328T110000
DTEND;TZID=America/New_York:20280401T210000
DTSTAMP:20260425T080022
CREATED:20250417T172123Z
LAST-MODIFIED:20250417T172123Z
UID:10029858-1837854000-1838235600@bevmain.org
SUMMARY:Burrito & A Beer
DESCRIPTION:Craving a burrito and a beer? We’ve got you covered! \nGet our Burrito & a Beer combo\, all for only $20\, Monday through Friday!
URL:https://bevmain.org/event/burrito-a-beer/2028-03-28/
LOCATION:La Qchara\, 275 Cabot Street\, Beverly\, 01915\, United States
CATEGORIES:Beer/Wine,Food
ATTACH;FMTTYPE=image/jpeg:https://bevmain.org/wp-content/uploads/2025/04/Burrito-and-a-Beer-Beverly-Main-Streets-Ad.jpg
ORGANIZER;CN="La Qchara":MAILTO:marketing@laqchara.com
GEO:42.5509677;-70.8781069
X-APPLE-STRUCTURED-LOCATION;VALUE=URI;X-ADDRESS=La Qchara 275 Cabot Street Beverly 01915 United States;X-APPLE-RADIUS=500;X-TITLE=275 Cabot Street:geo:-70.8781069,42.5509677
END:VEVENT
BEGIN:VEVENT
DTSTART;TZID=America/New_York:20280328T140000
DTEND;TZID=America/New_York:20280328T210000
DTSTAMP:20260425T080022
CREATED:20260422T133237Z
LAST-MODIFIED:20260422T133237Z
UID:10038772-1837864800-1837890000@bevmain.org
SUMMARY:Wing Night
DESCRIPTION:It’s WING NIGHT at The Pickled Onion\n.75¢ wings flying out of the kitchen\nGrab a drink\, grab a seat\, and dig in!\nDine-in only • Beverage purchase required
URL:https://bevmain.org/event/wing-night-2/2028-03-28/
LOCATION:The Pickled Onion\, 355 rantoul st\, Beverly\, 01915\, United States
CATEGORIES:Beer/Wine,Food
ATTACH;FMTTYPE=image/jpeg:https://bevmain.org/wp-content/uploads/2026/04/ChatGPT-Image-Feb-10-2026-at-12_24_55-PM.jpg
GEO:42.5522933;-70.8824043
X-APPLE-STRUCTURED-LOCATION;VALUE=URI;X-ADDRESS=The Pickled Onion 355 rantoul st Beverly 01915 United States;X-APPLE-RADIUS=500;X-TITLE=355 rantoul st:geo:-70.8824043,42.5522933
END:VEVENT
BEGIN:VEVENT
DTSTART;TZID=America/New_York:20280328T190000
DTEND;TZID=America/New_York:20280328T210000
DTSTAMP:20260425T080022
CREATED:20250407T131119Z
LAST-MODIFIED:20250407T131119Z
UID:10028025-1837882800-1837890000@bevmain.org
SUMMARY:Music Bingo
DESCRIPTION:We are excited to be pairing up with Ryan Dupont every Tuesday evening for MUSIC BINGO! It’s FREE TO PLAY & FOR ALL AGES! 7-9!!
URL:https://bevmain.org/event/music-bingo/2028-03-28/
LOCATION:The Pickled Onion\, 355 rantoul st\, Beverly\, 01915\, United States
CATEGORIES:Beer/Wine,Food
ATTACH;FMTTYPE=image/jpeg:https://bevmain.org/wp-content/uploads/2025/04/images.jpeg
GEO:42.5522933;-70.8824043
X-APPLE-STRUCTURED-LOCATION;VALUE=URI;X-ADDRESS=The Pickled Onion 355 rantoul st Beverly 01915 United States;X-APPLE-RADIUS=500;X-TITLE=355 rantoul st:geo:-70.8824043,42.5522933
END:VEVENT
BEGIN:VEVENT
DTSTART;TZID=America/New_York:20280328T200000
DTEND;TZID=America/New_York:20280328T220000
DTSTAMP:20260425T080022
CREATED:20230628T145939Z
LAST-MODIFIED:20230628T145939Z
UID:10019184-1837886400-1837893600@bevmain.org
SUMMARY:Geeks Who Drink Trivia at Indo
DESCRIPTION:Quizzes cover everything from Hungary to The Hunger Games\, from science to sports\, from the Billboard Hot 100 to Better Call Saul. \nEach quiz consists of seven rounds of eight questions each\, in a variety of formats\, including audio and visual rounds. \nTeams can be up to six players\, and winning teams get Indo gift certificates!
URL:https://bevmain.org/event/geeks-who-drink-trivia-at-indo/2028-03-28/
LOCATION:The Indo\, 298 Cabot Street\, Beverly\, MA\, 01915\, United States
CATEGORIES:Beer/Wine,Food,Nightlife
ATTACH;FMTTYPE=image/jpeg:https://bevmain.org/wp-content/uploads/2023/06/geekswhodrinkIndo.jpg
GEO:42.5521772;-70.8790122
X-APPLE-STRUCTURED-LOCATION;VALUE=URI;X-ADDRESS=The Indo 298 Cabot Street Beverly MA 01915 United States;X-APPLE-RADIUS=500;X-TITLE=298 Cabot Street:geo:-70.8790122,42.5521772
END:VEVENT
BEGIN:VEVENT
DTSTART;TZID=America/New_York:20280329T110000
DTEND;TZID=America/New_York:20280402T210000
DTSTAMP:20260425T080022
CREATED:20250417T172123Z
LAST-MODIFIED:20250417T172123Z
UID:10029859-1837940400-1838322000@bevmain.org
SUMMARY:Burrito & A Beer
DESCRIPTION:Craving a burrito and a beer? We’ve got you covered! \nGet our Burrito & a Beer combo\, all for only $20\, Monday through Friday!
URL:https://bevmain.org/event/burrito-a-beer/2028-03-29/
LOCATION:La Qchara\, 275 Cabot Street\, Beverly\, 01915\, United States
CATEGORIES:Beer/Wine,Food
ATTACH;FMTTYPE=image/jpeg:https://bevmain.org/wp-content/uploads/2025/04/Burrito-and-a-Beer-Beverly-Main-Streets-Ad.jpg
ORGANIZER;CN="La Qchara":MAILTO:marketing@laqchara.com
GEO:42.5509677;-70.8781069
X-APPLE-STRUCTURED-LOCATION;VALUE=URI;X-ADDRESS=La Qchara 275 Cabot Street Beverly 01915 United States;X-APPLE-RADIUS=500;X-TITLE=275 Cabot Street:geo:-70.8781069,42.5509677
END:VEVENT
BEGIN:VEVENT
DTSTART;TZID=America/New_York:20280329T190000
DTEND;TZID=America/New_York:20280329T210000
DTSTAMP:20260425T080022
CREATED:20230417T144418Z
LAST-MODIFIED:20230417T144436Z
UID:10018102-1837969200-1837976400@bevmain.org
SUMMARY:Trivia Night at Backbeat Brewing
DESCRIPTION:Wednesday at 6:45pm is Trivia Night at Backbeat Brewing Company!
URL:https://bevmain.org/event/trivia-night-at-backbeat-brewing/2028-03-29/
CATEGORIES:Beer/Wine,Food,Nightlife
ATTACH;FMTTYPE=image/jpeg:https://bevmain.org/wp-content/uploads/2023/04/backbeatlogo.jpg
END:VEVENT
BEGIN:VEVENT
DTSTART;TZID=America/New_York:20280330T110000
DTEND;TZID=America/New_York:20280403T210000
DTSTAMP:20260425T080022
CREATED:20250417T172123Z
LAST-MODIFIED:20250417T172123Z
UID:10029860-1838026800-1838408400@bevmain.org
SUMMARY:Burrito & A Beer
DESCRIPTION:Craving a burrito and a beer? We’ve got you covered! \nGet our Burrito & a Beer combo\, all for only $20\, Monday through Friday!
URL:https://bevmain.org/event/burrito-a-beer/2028-03-30/
LOCATION:La Qchara\, 275 Cabot Street\, Beverly\, 01915\, United States
CATEGORIES:Beer/Wine,Food
ATTACH;FMTTYPE=image/jpeg:https://bevmain.org/wp-content/uploads/2025/04/Burrito-and-a-Beer-Beverly-Main-Streets-Ad.jpg
ORGANIZER;CN="La Qchara":MAILTO:marketing@laqchara.com
GEO:42.5509677;-70.8781069
X-APPLE-STRUCTURED-LOCATION;VALUE=URI;X-ADDRESS=La Qchara 275 Cabot Street Beverly 01915 United States;X-APPLE-RADIUS=500;X-TITLE=275 Cabot Street:geo:-70.8781069,42.5509677
END:VEVENT
BEGIN:VEVENT
DTSTART;TZID=America/New_York:20280330T180000
DTEND;TZID=America/New_York:20280330T200000
DTSTAMP:20260425T080022
CREATED:20230307T165824Z
LAST-MODIFIED:20250207T134021Z
UID:10026365-1838052000-1838059200@bevmain.org
SUMMARY:RunABV - Run Club
DESCRIPTION:Attention Beverly Vehicles: 3.1 weekly run/walk every Thursday!\nRunners of all levels are invited down to the Gentile taproom for a 5k loop starting and ending at the brewery. Not a runner? Not a problem! Walking is encouraged\, just as long as you’re back for last call! We will depart the taproom at 6:00 so please come in a little early to drop off your stuff and sign in!\nWhen you’re done feel free to hang out\, meet new friends and enjoy some of Beverly’s finest brews! Kid and dog friendly and make sure to bring dinner or snacks to refuel when you get back!\nSo lace up and meet us at the taproom at 59 Park Street!
URL:https://bevmain.org/event/runabv-run-club/2028-03-30/
LOCATION:Gentile Brewing\, 59 Park Street\, Beverly\, MA\, 01915\, United States
CATEGORIES:Beer/Wine,Free,Outdoor
ATTACH;FMTTYPE=image/jpeg:https://bevmain.org/wp-content/uploads/2023/03/RunABV.jpg
GEO:42.5493727;-70.8842259
X-APPLE-STRUCTURED-LOCATION;VALUE=URI;X-ADDRESS=Gentile Brewing 59 Park Street Beverly MA 01915 United States;X-APPLE-RADIUS=500;X-TITLE=59 Park Street:geo:-70.8842259,42.5493727
END:VEVENT
BEGIN:VEVENT
DTSTART;TZID=America/New_York:20280331T110000
DTEND;TZID=America/New_York:20280404T210000
DTSTAMP:20260425T080022
CREATED:20250417T172123Z
LAST-MODIFIED:20250417T172123Z
UID:10029861-1838113200-1838494800@bevmain.org
SUMMARY:Burrito & A Beer
DESCRIPTION:Craving a burrito and a beer? We’ve got you covered! \nGet our Burrito & a Beer combo\, all for only $20\, Monday through Friday!
URL:https://bevmain.org/event/burrito-a-beer/2028-03-31/
LOCATION:La Qchara\, 275 Cabot Street\, Beverly\, 01915\, United States
CATEGORIES:Beer/Wine,Food
ATTACH;FMTTYPE=image/jpeg:https://bevmain.org/wp-content/uploads/2025/04/Burrito-and-a-Beer-Beverly-Main-Streets-Ad.jpg
ORGANIZER;CN="La Qchara":MAILTO:marketing@laqchara.com
GEO:42.5509677;-70.8781069
X-APPLE-STRUCTURED-LOCATION;VALUE=URI;X-ADDRESS=La Qchara 275 Cabot Street Beverly 01915 United States;X-APPLE-RADIUS=500;X-TITLE=275 Cabot Street:geo:-70.8781069,42.5509677
END:VEVENT
BEGIN:VEVENT
DTSTART;TZID=America/New_York:20280401T210000
DTEND;TZID=America/New_York:20280402T010000
DTSTAMP:20260425T080022
CREATED:20240405T133525Z
LAST-MODIFIED:20240405T133525Z
UID:10022172-1838235600-1838250000@bevmain.org
SUMMARY:Saturday night Karaoke
DESCRIPTION:Come dance & sing the night away! Great for groups or individuals\,
URL:https://bevmain.org/event/saturday-night-karaoke/2028-04-01/
LOCATION:The Pickled Onion\, 355 rantoul st\, Beverly\, 01915\, United States
CATEGORIES:Beer/Wine,Festival,Music/Concert,Nightlife
ATTACH;FMTTYPE=image/png:https://bevmain.org/wp-content/uploads/2024/04/29B68054-2E1A-4D24-A2CA-1FB4798D3CDB.png
GEO:42.5522933;-70.8824043
X-APPLE-STRUCTURED-LOCATION;VALUE=URI;X-ADDRESS=The Pickled Onion 355 rantoul st Beverly 01915 United States;X-APPLE-RADIUS=500;X-TITLE=355 rantoul st:geo:-70.8824043,42.5522933
END:VEVENT
BEGIN:VEVENT
DTSTART;TZID=America/New_York:20280403T110000
DTEND;TZID=America/New_York:20280407T210000
DTSTAMP:20260425T080022
CREATED:20250417T172123Z
LAST-MODIFIED:20250417T172123Z
UID:10029862-1838372400-1838754000@bevmain.org
SUMMARY:Burrito & A Beer
DESCRIPTION:Craving a burrito and a beer? We’ve got you covered! \nGet our Burrito & a Beer combo\, all for only $20\, Monday through Friday!
URL:https://bevmain.org/event/burrito-a-beer/2028-04-03/
LOCATION:La Qchara\, 275 Cabot Street\, Beverly\, 01915\, United States
CATEGORIES:Beer/Wine,Food
ATTACH;FMTTYPE=image/jpeg:https://bevmain.org/wp-content/uploads/2025/04/Burrito-and-a-Beer-Beverly-Main-Streets-Ad.jpg
ORGANIZER;CN="La Qchara":MAILTO:marketing@laqchara.com
GEO:42.5509677;-70.8781069
X-APPLE-STRUCTURED-LOCATION;VALUE=URI;X-ADDRESS=La Qchara 275 Cabot Street Beverly 01915 United States;X-APPLE-RADIUS=500;X-TITLE=275 Cabot Street:geo:-70.8781069,42.5509677
END:VEVENT
BEGIN:VEVENT
DTSTART;TZID=America/New_York:20280403T200000
DTEND;TZID=America/New_York:20280403T230000
DTSTAMP:20260425T080022
CREATED:20230628T150156Z
LAST-MODIFIED:20231108T191914Z
UID:10019446-1838404800-1838415600@bevmain.org
SUMMARY:Open Mic at Indo
DESCRIPTION:Hosted by Bob Kramer & Nick Consone!
URL:https://bevmain.org/event/open-mic-at-indo/2028-04-03/
LOCATION:The Indo\, 298 Cabot Street\, Beverly\, MA\, 01915\, United States
CATEGORIES:Beer/Wine,Comedy,Food,Nightlife
ATTACH;FMTTYPE=image/jpeg:https://bevmain.org/wp-content/uploads/2023/06/IndoOpenMic.jpg
GEO:42.5521772;-70.8790122
X-APPLE-STRUCTURED-LOCATION;VALUE=URI;X-ADDRESS=The Indo 298 Cabot Street Beverly MA 01915 United States;X-APPLE-RADIUS=500;X-TITLE=298 Cabot Street:geo:-70.8790122,42.5521772
END:VEVENT
BEGIN:VEVENT
DTSTART;TZID=America/New_York:20280404T110000
DTEND;TZID=America/New_York:20280408T210000
DTSTAMP:20260425T080022
CREATED:20250417T172123Z
LAST-MODIFIED:20250417T172123Z
UID:10029863-1838458800-1838840400@bevmain.org
SUMMARY:Burrito & A Beer
DESCRIPTION:Craving a burrito and a beer? We’ve got you covered! \nGet our Burrito & a Beer combo\, all for only $20\, Monday through Friday!
URL:https://bevmain.org/event/burrito-a-beer/2028-04-04/
LOCATION:La Qchara\, 275 Cabot Street\, Beverly\, 01915\, United States
CATEGORIES:Beer/Wine,Food
ATTACH;FMTTYPE=image/jpeg:https://bevmain.org/wp-content/uploads/2025/04/Burrito-and-a-Beer-Beverly-Main-Streets-Ad.jpg
ORGANIZER;CN="La Qchara":MAILTO:marketing@laqchara.com
GEO:42.5509677;-70.8781069
X-APPLE-STRUCTURED-LOCATION;VALUE=URI;X-ADDRESS=La Qchara 275 Cabot Street Beverly 01915 United States;X-APPLE-RADIUS=500;X-TITLE=275 Cabot Street:geo:-70.8781069,42.5509677
END:VEVENT
BEGIN:VEVENT
DTSTART;TZID=America/New_York:20280404T140000
DTEND;TZID=America/New_York:20280404T210000
DTSTAMP:20260425T080022
CREATED:20260422T133237Z
LAST-MODIFIED:20260422T133237Z
UID:10038773-1838469600-1838494800@bevmain.org
SUMMARY:Wing Night
DESCRIPTION:It’s WING NIGHT at The Pickled Onion\n.75¢ wings flying out of the kitchen\nGrab a drink\, grab a seat\, and dig in!\nDine-in only • Beverage purchase required
URL:https://bevmain.org/event/wing-night-2/2028-04-04/
LOCATION:The Pickled Onion\, 355 rantoul st\, Beverly\, 01915\, United States
CATEGORIES:Beer/Wine,Food
ATTACH;FMTTYPE=image/jpeg:https://bevmain.org/wp-content/uploads/2026/04/ChatGPT-Image-Feb-10-2026-at-12_24_55-PM.jpg
GEO:42.5522933;-70.8824043
X-APPLE-STRUCTURED-LOCATION;VALUE=URI;X-ADDRESS=The Pickled Onion 355 rantoul st Beverly 01915 United States;X-APPLE-RADIUS=500;X-TITLE=355 rantoul st:geo:-70.8824043,42.5522933
END:VEVENT
BEGIN:VEVENT
DTSTART;TZID=America/New_York:20280404T190000
DTEND;TZID=America/New_York:20280404T210000
DTSTAMP:20260425T080022
CREATED:20250407T131119Z
LAST-MODIFIED:20250407T131119Z
UID:10028026-1838487600-1838494800@bevmain.org
SUMMARY:Music Bingo
DESCRIPTION:We are excited to be pairing up with Ryan Dupont every Tuesday evening for MUSIC BINGO! It’s FREE TO PLAY & FOR ALL AGES! 7-9!!
URL:https://bevmain.org/event/music-bingo/2028-04-04/
LOCATION:The Pickled Onion\, 355 rantoul st\, Beverly\, 01915\, United States
CATEGORIES:Beer/Wine,Food
ATTACH;FMTTYPE=image/jpeg:https://bevmain.org/wp-content/uploads/2025/04/images.jpeg
GEO:42.5522933;-70.8824043
X-APPLE-STRUCTURED-LOCATION;VALUE=URI;X-ADDRESS=The Pickled Onion 355 rantoul st Beverly 01915 United States;X-APPLE-RADIUS=500;X-TITLE=355 rantoul st:geo:-70.8824043,42.5522933
END:VEVENT
BEGIN:VEVENT
DTSTART;TZID=America/New_York:20280404T200000
DTEND;TZID=America/New_York:20280404T220000
DTSTAMP:20260425T080022
CREATED:20230628T145939Z
LAST-MODIFIED:20230628T145939Z
UID:10019185-1838491200-1838498400@bevmain.org
SUMMARY:Geeks Who Drink Trivia at Indo
DESCRIPTION:Quizzes cover everything from Hungary to The Hunger Games\, from science to sports\, from the Billboard Hot 100 to Better Call Saul. \nEach quiz consists of seven rounds of eight questions each\, in a variety of formats\, including audio and visual rounds. \nTeams can be up to six players\, and winning teams get Indo gift certificates!
URL:https://bevmain.org/event/geeks-who-drink-trivia-at-indo/2028-04-04/
LOCATION:The Indo\, 298 Cabot Street\, Beverly\, MA\, 01915\, United States
CATEGORIES:Beer/Wine,Food,Nightlife
ATTACH;FMTTYPE=image/jpeg:https://bevmain.org/wp-content/uploads/2023/06/geekswhodrinkIndo.jpg
GEO:42.5521772;-70.8790122
X-APPLE-STRUCTURED-LOCATION;VALUE=URI;X-ADDRESS=The Indo 298 Cabot Street Beverly MA 01915 United States;X-APPLE-RADIUS=500;X-TITLE=298 Cabot Street:geo:-70.8790122,42.5521772
END:VEVENT
BEGIN:VEVENT
DTSTART;TZID=America/New_York:20280405T110000
DTEND;TZID=America/New_York:20280409T210000
DTSTAMP:20260425T080022
CREATED:20250417T172123Z
LAST-MODIFIED:20250417T172123Z
UID:10029864-1838545200-1838926800@bevmain.org
SUMMARY:Burrito & A Beer
DESCRIPTION:Craving a burrito and a beer? We’ve got you covered! \nGet our Burrito & a Beer combo\, all for only $20\, Monday through Friday!
URL:https://bevmain.org/event/burrito-a-beer/2028-04-05/
LOCATION:La Qchara\, 275 Cabot Street\, Beverly\, 01915\, United States
CATEGORIES:Beer/Wine,Food
ATTACH;FMTTYPE=image/jpeg:https://bevmain.org/wp-content/uploads/2025/04/Burrito-and-a-Beer-Beverly-Main-Streets-Ad.jpg
ORGANIZER;CN="La Qchara":MAILTO:marketing@laqchara.com
GEO:42.5509677;-70.8781069
X-APPLE-STRUCTURED-LOCATION;VALUE=URI;X-ADDRESS=La Qchara 275 Cabot Street Beverly 01915 United States;X-APPLE-RADIUS=500;X-TITLE=275 Cabot Street:geo:-70.8781069,42.5509677
END:VEVENT
BEGIN:VEVENT
DTSTART;TZID=America/New_York:20280405T190000
DTEND;TZID=America/New_York:20280405T210000
DTSTAMP:20260425T080022
CREATED:20230417T144418Z
LAST-MODIFIED:20230417T144436Z
UID:10018103-1838574000-1838581200@bevmain.org
SUMMARY:Trivia Night at Backbeat Brewing
DESCRIPTION:Wednesday at 6:45pm is Trivia Night at Backbeat Brewing Company!
URL:https://bevmain.org/event/trivia-night-at-backbeat-brewing/2028-04-05/
CATEGORIES:Beer/Wine,Food,Nightlife
ATTACH;FMTTYPE=image/jpeg:https://bevmain.org/wp-content/uploads/2023/04/backbeatlogo.jpg
END:VEVENT
BEGIN:VEVENT
DTSTART;TZID=America/New_York:20280406T110000
DTEND;TZID=America/New_York:20280410T210000
DTSTAMP:20260425T080022
CREATED:20250417T172123Z
LAST-MODIFIED:20250417T172123Z
UID:10029865-1838631600-1839013200@bevmain.org
SUMMARY:Burrito & A Beer
DESCRIPTION:Craving a burrito and a beer? We’ve got you covered! \nGet our Burrito & a Beer combo\, all for only $20\, Monday through Friday!
URL:https://bevmain.org/event/burrito-a-beer/2028-04-06/
LOCATION:La Qchara\, 275 Cabot Street\, Beverly\, 01915\, United States
CATEGORIES:Beer/Wine,Food
ATTACH;FMTTYPE=image/jpeg:https://bevmain.org/wp-content/uploads/2025/04/Burrito-and-a-Beer-Beverly-Main-Streets-Ad.jpg
ORGANIZER;CN="La Qchara":MAILTO:marketing@laqchara.com
GEO:42.5509677;-70.8781069
X-APPLE-STRUCTURED-LOCATION;VALUE=URI;X-ADDRESS=La Qchara 275 Cabot Street Beverly 01915 United States;X-APPLE-RADIUS=500;X-TITLE=275 Cabot Street:geo:-70.8781069,42.5509677
END:VEVENT
BEGIN:VEVENT
DTSTART;TZID=America/New_York:20280406T180000
DTEND;TZID=America/New_York:20280406T200000
DTSTAMP:20260425T080022
CREATED:20230307T165824Z
LAST-MODIFIED:20250207T134021Z
UID:10026366-1838656800-1838664000@bevmain.org
SUMMARY:RunABV - Run Club
DESCRIPTION:Attention Beverly Vehicles: 3.1 weekly run/walk every Thursday!\nRunners of all levels are invited down to the Gentile taproom for a 5k loop starting and ending at the brewery. Not a runner? Not a problem! Walking is encouraged\, just as long as you’re back for last call! We will depart the taproom at 6:00 so please come in a little early to drop off your stuff and sign in!\nWhen you’re done feel free to hang out\, meet new friends and enjoy some of Beverly’s finest brews! Kid and dog friendly and make sure to bring dinner or snacks to refuel when you get back!\nSo lace up and meet us at the taproom at 59 Park Street!
URL:https://bevmain.org/event/runabv-run-club/2028-04-06/
LOCATION:Gentile Brewing\, 59 Park Street\, Beverly\, MA\, 01915\, United States
CATEGORIES:Beer/Wine,Free,Outdoor
ATTACH;FMTTYPE=image/jpeg:https://bevmain.org/wp-content/uploads/2023/03/RunABV.jpg
GEO:42.5493727;-70.8842259
X-APPLE-STRUCTURED-LOCATION;VALUE=URI;X-ADDRESS=Gentile Brewing 59 Park Street Beverly MA 01915 United States;X-APPLE-RADIUS=500;X-TITLE=59 Park Street:geo:-70.8842259,42.5493727
END:VEVENT
BEGIN:VEVENT
DTSTART;TZID=America/New_York:20280407T110000
DTEND;TZID=America/New_York:20280411T210000
DTSTAMP:20260425T080022
CREATED:20250417T172123Z
LAST-MODIFIED:20250417T172123Z
UID:10029866-1838718000-1839099600@bevmain.org
SUMMARY:Burrito & A Beer
DESCRIPTION:Craving a burrito and a beer? We’ve got you covered! \nGet our Burrito & a Beer combo\, all for only $20\, Monday through Friday!
URL:https://bevmain.org/event/burrito-a-beer/2028-04-07/
LOCATION:La Qchara\, 275 Cabot Street\, Beverly\, 01915\, United States
CATEGORIES:Beer/Wine,Food
ATTACH;FMTTYPE=image/jpeg:https://bevmain.org/wp-content/uploads/2025/04/Burrito-and-a-Beer-Beverly-Main-Streets-Ad.jpg
ORGANIZER;CN="La Qchara":MAILTO:marketing@laqchara.com
GEO:42.5509677;-70.8781069
X-APPLE-STRUCTURED-LOCATION;VALUE=URI;X-ADDRESS=La Qchara 275 Cabot Street Beverly 01915 United States;X-APPLE-RADIUS=500;X-TITLE=275 Cabot Street:geo:-70.8781069,42.5509677
END:VEVENT
BEGIN:VEVENT
DTSTART;TZID=America/New_York:20280408T210000
DTEND;TZID=America/New_York:20280409T010000
DTSTAMP:20260425T080022
CREATED:20240405T133525Z
LAST-MODIFIED:20240405T133525Z
UID:10022173-1838840400-1838854800@bevmain.org
SUMMARY:Saturday night Karaoke
DESCRIPTION:Come dance & sing the night away! Great for groups or individuals\,
URL:https://bevmain.org/event/saturday-night-karaoke/2028-04-08/
LOCATION:The Pickled Onion\, 355 rantoul st\, Beverly\, 01915\, United States
CATEGORIES:Beer/Wine,Festival,Music/Concert,Nightlife
ATTACH;FMTTYPE=image/png:https://bevmain.org/wp-content/uploads/2024/04/29B68054-2E1A-4D24-A2CA-1FB4798D3CDB.png
GEO:42.5522933;-70.8824043
X-APPLE-STRUCTURED-LOCATION;VALUE=URI;X-ADDRESS=The Pickled Onion 355 rantoul st Beverly 01915 United States;X-APPLE-RADIUS=500;X-TITLE=355 rantoul st:geo:-70.8824043,42.5522933
END:VEVENT
BEGIN:VEVENT
DTSTART;TZID=America/New_York:20280410T110000
DTEND;TZID=America/New_York:20280414T210000
DTSTAMP:20260425T080022
CREATED:20250417T172123Z
LAST-MODIFIED:20250417T172123Z
UID:10029867-1838977200-1839358800@bevmain.org
SUMMARY:Burrito & A Beer
DESCRIPTION:Craving a burrito and a beer? We’ve got you covered! \nGet our Burrito & a Beer combo\, all for only $20\, Monday through Friday!
URL:https://bevmain.org/event/burrito-a-beer/2028-04-10/
LOCATION:La Qchara\, 275 Cabot Street\, Beverly\, 01915\, United States
CATEGORIES:Beer/Wine,Food
ATTACH;FMTTYPE=image/jpeg:https://bevmain.org/wp-content/uploads/2025/04/Burrito-and-a-Beer-Beverly-Main-Streets-Ad.jpg
ORGANIZER;CN="La Qchara":MAILTO:marketing@laqchara.com
GEO:42.5509677;-70.8781069
X-APPLE-STRUCTURED-LOCATION;VALUE=URI;X-ADDRESS=La Qchara 275 Cabot Street Beverly 01915 United States;X-APPLE-RADIUS=500;X-TITLE=275 Cabot Street:geo:-70.8781069,42.5509677
END:VEVENT
BEGIN:VEVENT
DTSTART;TZID=America/New_York:20280410T200000
DTEND;TZID=America/New_York:20280410T230000
DTSTAMP:20260425T080022
CREATED:20230628T150156Z
LAST-MODIFIED:20231108T191914Z
UID:10019447-1839009600-1839020400@bevmain.org
SUMMARY:Open Mic at Indo
DESCRIPTION:Hosted by Bob Kramer & Nick Consone!
URL:https://bevmain.org/event/open-mic-at-indo/2028-04-10/
LOCATION:The Indo\, 298 Cabot Street\, Beverly\, MA\, 01915\, United States
CATEGORIES:Beer/Wine,Comedy,Food,Nightlife
ATTACH;FMTTYPE=image/jpeg:https://bevmain.org/wp-content/uploads/2023/06/IndoOpenMic.jpg
GEO:42.5521772;-70.8790122
X-APPLE-STRUCTURED-LOCATION;VALUE=URI;X-ADDRESS=The Indo 298 Cabot Street Beverly MA 01915 United States;X-APPLE-RADIUS=500;X-TITLE=298 Cabot Street:geo:-70.8790122,42.5521772
END:VEVENT
BEGIN:VEVENT
DTSTART;TZID=America/New_York:20280411T110000
DTEND;TZID=America/New_York:20280415T210000
DTSTAMP:20260425T080022
CREATED:20250417T172123Z
LAST-MODIFIED:20250417T172123Z
UID:10029868-1839063600-1839445200@bevmain.org
SUMMARY:Burrito & A Beer
DESCRIPTION:Craving a burrito and a beer? We’ve got you covered! \nGet our Burrito & a Beer combo\, all for only $20\, Monday through Friday!
URL:https://bevmain.org/event/burrito-a-beer/2028-04-11/
LOCATION:La Qchara\, 275 Cabot Street\, Beverly\, 01915\, United States
CATEGORIES:Beer/Wine,Food
ATTACH;FMTTYPE=image/jpeg:https://bevmain.org/wp-content/uploads/2025/04/Burrito-and-a-Beer-Beverly-Main-Streets-Ad.jpg
ORGANIZER;CN="La Qchara":MAILTO:marketing@laqchara.com
GEO:42.5509677;-70.8781069
X-APPLE-STRUCTURED-LOCATION;VALUE=URI;X-ADDRESS=La Qchara 275 Cabot Street Beverly 01915 United States;X-APPLE-RADIUS=500;X-TITLE=275 Cabot Street:geo:-70.8781069,42.5509677
END:VEVENT
END:VCALENDAR