BEGIN:VCALENDAR
VERSION:2.0
PRODID:-//Beverly Main Streets - ECPv6.15.20//NONSGML v1.0//EN
CALSCALE:GREGORIAN
METHOD:PUBLISH
X-ORIGINAL-URL:https://bevmain.org
X-WR-CALDESC:Events for Beverly Main Streets
REFRESH-INTERVAL;VALUE=DURATION:PT1H
X-Robots-Tag:noindex
X-PUBLISHED-TTL:PT1H
BEGIN:VTIMEZONE
TZID:America/New_York
BEGIN:DAYLIGHT
TZOFFSETFROM:-0500
TZOFFSETTO:-0400
TZNAME:EDT
DTSTART:20240310T070000
END:DAYLIGHT
BEGIN:STANDARD
TZOFFSETFROM:-0400
TZOFFSETTO:-0500
TZNAME:EST
DTSTART:20241103T060000
END:STANDARD
BEGIN:DAYLIGHT
TZOFFSETFROM:-0500
TZOFFSETTO:-0400
TZNAME:EDT
DTSTART:20250309T070000
END:DAYLIGHT
BEGIN:STANDARD
TZOFFSETFROM:-0400
TZOFFSETTO:-0500
TZNAME:EST
DTSTART:20251102T060000
END:STANDARD
BEGIN:DAYLIGHT
TZOFFSETFROM:-0500
TZOFFSETTO:-0400
TZNAME:EDT
DTSTART:20260308T070000
END:DAYLIGHT
BEGIN:STANDARD
TZOFFSETFROM:-0400
TZOFFSETTO:-0500
TZNAME:EST
DTSTART:20261101T060000
END:STANDARD
END:VTIMEZONE
BEGIN:VEVENT
DTSTART;TZID=America/New_York:20251101T200000
DTEND;TZID=America/New_York:20251101T220000
DTSTAMP:20260421T203114
CREATED:20251024T131946Z
LAST-MODIFIED:20251024T131946Z
UID:10036095-1762027200-1762034400@bevmain.org
SUMMARY:Off Cabot Showcase
DESCRIPTION:The Off Cabot Showcase returns with a stacked line up of comedians which includes Kate Molloy\, Logan O’Brien\, Kristy Kielbasinski\, James Dorsey and Dustin Pueschel. You will be thoroughly entertained and there is something for everyone!
URL:https://bevmain.org/event/off-cabot-showcase-2/
LOCATION:Off Cabot Comedy & Events\, 9 Wallis Street\, Beverly\, 01915\, United States
CATEGORIES:Comedy
ATTACH;FMTTYPE=image/png:https://bevmain.org/wp-content/uploads/2025/10/OC-Showcase-1101.png
ORGANIZER;CN="Off Cabot Comedy &amp%3B Events":MAILTO:info@thecabot.org
GEO:42.5481285;-70.8794388
X-APPLE-STRUCTURED-LOCATION;VALUE=URI;X-ADDRESS=Off Cabot Comedy & Events 9 Wallis Street Beverly 01915 United States;X-APPLE-RADIUS=500;X-TITLE=9 Wallis Street:geo:-70.8794388,42.5481285
END:VEVENT
BEGIN:VEVENT
DTSTART;TZID=America/New_York:20251103T200000
DTEND;TZID=America/New_York:20251103T230000
DTSTAMP:20260421T203114
CREATED:20230628T150156Z
LAST-MODIFIED:20231108T191914Z
UID:10019320-1762200000-1762210800@bevmain.org
SUMMARY:Open Mic at Indo
DESCRIPTION:Hosted by Bob Kramer & Nick Consone!
URL:https://bevmain.org/event/open-mic-at-indo/2025-11-03/
LOCATION:The Indo\, 298 Cabot Street\, Beverly\, MA\, 01915\, United States
CATEGORIES:Beer/Wine,Comedy,Food,Nightlife
ATTACH;FMTTYPE=image/jpeg:https://bevmain.org/wp-content/uploads/2023/06/IndoOpenMic.jpg
GEO:42.5521772;-70.8790122
X-APPLE-STRUCTURED-LOCATION;VALUE=URI;X-ADDRESS=The Indo 298 Cabot Street Beverly MA 01915 United States;X-APPLE-RADIUS=500;X-TITLE=298 Cabot Street:geo:-70.8790122,42.5521772
END:VEVENT
BEGIN:VEVENT
DTSTART;TZID=America/New_York:20251106T193000
DTEND;TZID=America/New_York:20251106T220000
DTSTAMP:20260421T203114
CREATED:20251024T132053Z
LAST-MODIFIED:20251024T132053Z
UID:10036096-1762457400-1762466400@bevmain.org
SUMMARY:A Night Out with NAGLY
DESCRIPTION:Join us at A Night Out with NAGLY\, a raucous night of drag and comedy at Off-Cabot in Beverly! Featuring drag queen Landa Plenty as host\, headlining comedienne Emily Ruskowksi\, and featured comedian Will Smalley\, this evening promises to deliver laughs and fun. All proceeds go to supporting NAGLY and the LGBTQIA+ Youth we serve. \nIncluded with your ticket purchase is access to a cash bar and complimentary appetizer buffet. \nThis event is 18+ \nProudly Sponsored by North Shore Bank
URL:https://bevmain.org/event/a-night-out-with-nagly-2/
LOCATION:Off Cabot Comedy & Events\, 9 Wallis Street\, Beverly\, 01915\, United States
CATEGORIES:Comedy,Community Events
ATTACH;FMTTYPE=image/png:https://bevmain.org/wp-content/uploads/2025/10/1106-NAGLY.png
ORGANIZER;CN="Off Cabot Comedy &amp%3B Events":MAILTO:info@thecabot.org
GEO:42.5481285;-70.8794388
X-APPLE-STRUCTURED-LOCATION;VALUE=URI;X-ADDRESS=Off Cabot Comedy & Events 9 Wallis Street Beverly 01915 United States;X-APPLE-RADIUS=500;X-TITLE=9 Wallis Street:geo:-70.8794388,42.5481285
END:VEVENT
BEGIN:VEVENT
DTSTART;TZID=America/New_York:20251110T200000
DTEND;TZID=America/New_York:20251110T230000
DTSTAMP:20260421T203114
CREATED:20230628T150156Z
LAST-MODIFIED:20231108T191914Z
UID:10019321-1762804800-1762815600@bevmain.org
SUMMARY:Open Mic at Indo
DESCRIPTION:Hosted by Bob Kramer & Nick Consone!
URL:https://bevmain.org/event/open-mic-at-indo/2025-11-10/
LOCATION:The Indo\, 298 Cabot Street\, Beverly\, MA\, 01915\, United States
CATEGORIES:Beer/Wine,Comedy,Food,Nightlife
ATTACH;FMTTYPE=image/jpeg:https://bevmain.org/wp-content/uploads/2023/06/IndoOpenMic.jpg
GEO:42.5521772;-70.8790122
X-APPLE-STRUCTURED-LOCATION;VALUE=URI;X-ADDRESS=The Indo 298 Cabot Street Beverly MA 01915 United States;X-APPLE-RADIUS=500;X-TITLE=298 Cabot Street:geo:-70.8790122,42.5521772
END:VEVENT
BEGIN:VEVENT
DTSTART;TZID=America/New_York:20251114T200000
DTEND;TZID=America/New_York:20251114T220000
DTSTAMP:20260421T203114
CREATED:20251024T132147Z
LAST-MODIFIED:20251024T132147Z
UID:10036099-1763150400-1763157600@bevmain.org
SUMMARY:Off Cabot Showcase
DESCRIPTION:Get ready for a night of laughs at the Off Cabot Comedy Showcase\, hosted by crazy talented Matt Fanikos. This stacked lineup brings together some of the funniest voices in Boston\, including Nic Sugiarto\, Dean Abbott\, Ryan Ellington\, Katy Coughlin\, and Guerby Laguerre. \nFrom the chaos of dating to the joys (and struggles) of parenthood—and every awkward\, hilarious moment in between—this showcase highlights a range of perspectives and comedic styles guaranteed to keep you entertained from start to finish. \nJoin us for a night of smart\, sharp\, and unforgettable comedy at Off Cabot!
URL:https://bevmain.org/event/off-cabot-showcase-3/
LOCATION:Off Cabot Comedy & Events\, 9 Wallis Street\, Beverly\, 01915\, United States
CATEGORIES:Comedy
ATTACH;FMTTYPE=image/jpeg:https://bevmain.org/wp-content/uploads/2025/10/1114-OC-Showcase.jpg
ORGANIZER;CN="Off Cabot Comedy &amp%3B Events":MAILTO:info@thecabot.org
GEO:42.5481285;-70.8794388
X-APPLE-STRUCTURED-LOCATION;VALUE=URI;X-ADDRESS=Off Cabot Comedy & Events 9 Wallis Street Beverly 01915 United States;X-APPLE-RADIUS=500;X-TITLE=9 Wallis Street:geo:-70.8794388,42.5481285
END:VEVENT
BEGIN:VEVENT
DTSTART;TZID=America/New_York:20251117T200000
DTEND;TZID=America/New_York:20251117T230000
DTSTAMP:20260421T203114
CREATED:20230628T150156Z
LAST-MODIFIED:20231108T191914Z
UID:10019322-1763409600-1763420400@bevmain.org
SUMMARY:Open Mic at Indo
DESCRIPTION:Hosted by Bob Kramer & Nick Consone!
URL:https://bevmain.org/event/open-mic-at-indo/2025-11-17/
LOCATION:The Indo\, 298 Cabot Street\, Beverly\, MA\, 01915\, United States
CATEGORIES:Beer/Wine,Comedy,Food,Nightlife
ATTACH;FMTTYPE=image/jpeg:https://bevmain.org/wp-content/uploads/2023/06/IndoOpenMic.jpg
GEO:42.5521772;-70.8790122
X-APPLE-STRUCTURED-LOCATION;VALUE=URI;X-ADDRESS=The Indo 298 Cabot Street Beverly MA 01915 United States;X-APPLE-RADIUS=500;X-TITLE=298 Cabot Street:geo:-70.8790122,42.5521772
END:VEVENT
BEGIN:VEVENT
DTSTART;TZID=America/New_York:20251118T190000
DTEND;TZID=America/New_York:20251118T210000
DTSTAMP:20260421T203114
CREATED:20251024T132140Z
LAST-MODIFIED:20251024T132140Z
UID:10036102-1763492400-1763499600@bevmain.org
SUMMARY:Improv 201 Class Show
DESCRIPTION:Come watch the level 201 class do the thing!!!
URL:https://bevmain.org/event/improv-201-class-show/
LOCATION:Off Cabot Comedy & Events\, 9 Wallis Street\, Beverly\, 01915\, United States
CATEGORIES:Comedy
ATTACH;FMTTYPE=image/png:https://bevmain.org/wp-content/uploads/2025/10/Essex-Improv-Web-Banner.png
ORGANIZER;CN="Off Cabot Comedy &amp%3B Events":MAILTO:info@thecabot.org
GEO:42.5481285;-70.8794388
X-APPLE-STRUCTURED-LOCATION;VALUE=URI;X-ADDRESS=Off Cabot Comedy & Events 9 Wallis Street Beverly 01915 United States;X-APPLE-RADIUS=500;X-TITLE=9 Wallis Street:geo:-70.8794388,42.5481285
END:VEVENT
BEGIN:VEVENT
DTSTART;TZID=America/New_York:20251123T190000
DTEND;TZID=America/New_York:20251123T210000
DTSTAMP:20260421T203114
CREATED:20251024T132134Z
LAST-MODIFIED:20251024T132134Z
UID:10036107-1763924400-1763931600@bevmain.org
SUMMARY:Buster Pants: Who's Your Daddy?
DESCRIPTION:Who’s Your Daddy? Jerry Springer/Maury inspired drag show where we figure out exactly who Buster Pants is the father of! \nFeaturing:\nDick Kayin\nGeya Jenda\nInigo Switch\nMaxine Harrison\nPeewee Vermin\nMiss Diamond Wigfall\nMiss Michael\nMoanczar
URL:https://bevmain.org/event/buster-pants-whos-your-daddy/
LOCATION:Off Cabot Comedy & Events\, 9 Wallis Street\, Beverly\, 01915\, United States
CATEGORIES:Comedy
ATTACH;FMTTYPE=image/png:https://bevmain.org/wp-content/uploads/2025/10/Buster-Pants.png
ORGANIZER;CN="Off Cabot Comedy &amp%3B Events":MAILTO:info@thecabot.org
GEO:42.5481285;-70.8794388
X-APPLE-STRUCTURED-LOCATION;VALUE=URI;X-ADDRESS=Off Cabot Comedy & Events 9 Wallis Street Beverly 01915 United States;X-APPLE-RADIUS=500;X-TITLE=9 Wallis Street:geo:-70.8794388,42.5481285
END:VEVENT
BEGIN:VEVENT
DTSTART;TZID=America/New_York:20251124T190000
DTEND;TZID=America/New_York:20251124T210000
DTSTAMP:20260421T203114
CREATED:20251024T132132Z
LAST-MODIFIED:20251024T132132Z
UID:10036108-1764010800-1764018000@bevmain.org
SUMMARY:Improv Jam & Jelly
DESCRIPTION:An Improv Comedy hang for all levels.
URL:https://bevmain.org/event/improv-jam-jelly-5/
LOCATION:Off Cabot Comedy & Events\, 9 Wallis Street\, Beverly\, 01915\, United States
CATEGORIES:Comedy
ATTACH;FMTTYPE=image/png:https://bevmain.org/wp-content/uploads/2025/10/Essex-Improv-Web-Banner-1.png
ORGANIZER;CN="Off Cabot Comedy &amp%3B Events":MAILTO:info@thecabot.org
GEO:42.5481285;-70.8794388
X-APPLE-STRUCTURED-LOCATION;VALUE=URI;X-ADDRESS=Off Cabot Comedy & Events 9 Wallis Street Beverly 01915 United States;X-APPLE-RADIUS=500;X-TITLE=9 Wallis Street:geo:-70.8794388,42.5481285
END:VEVENT
BEGIN:VEVENT
DTSTART;TZID=America/New_York:20251124T200000
DTEND;TZID=America/New_York:20251124T230000
DTSTAMP:20260421T203114
CREATED:20230628T150156Z
LAST-MODIFIED:20231108T191914Z
UID:10019323-1764014400-1764025200@bevmain.org
SUMMARY:Open Mic at Indo
DESCRIPTION:Hosted by Bob Kramer & Nick Consone!
URL:https://bevmain.org/event/open-mic-at-indo/2025-11-24/
LOCATION:The Indo\, 298 Cabot Street\, Beverly\, MA\, 01915\, United States
CATEGORIES:Beer/Wine,Comedy,Food,Nightlife
ATTACH;FMTTYPE=image/jpeg:https://bevmain.org/wp-content/uploads/2023/06/IndoOpenMic.jpg
GEO:42.5521772;-70.8790122
X-APPLE-STRUCTURED-LOCATION;VALUE=URI;X-ADDRESS=The Indo 298 Cabot Street Beverly MA 01915 United States;X-APPLE-RADIUS=500;X-TITLE=298 Cabot Street:geo:-70.8790122,42.5521772
END:VEVENT
BEGIN:VEVENT
DTSTART;TZID=America/New_York:20251126T200000
DTEND;TZID=America/New_York:20251126T220000
DTSTAMP:20260421T203114
CREATED:20251024T132129Z
LAST-MODIFIED:20251024T132129Z
UID:10036109-1764187200-1764194400@bevmain.org
SUMMARY:Comedy Open Mic
DESCRIPTION:FREE THANKSGIVING EVE EVENT! \nThis show-and-go open mic will serve as one of the best places in New England to hone your comedic craft and showcase your talent in front of The Cabot Theater and John Tobin Presents teams! The list and the house will fill up quickly so get there early! \nList available at 7pm
URL:https://bevmain.org/event/comedy-open-mic-3/
LOCATION:Off Cabot Comedy & Events\, 9 Wallis Street\, Beverly\, 01915\, United States
CATEGORIES:Comedy,Free
ATTACH;FMTTYPE=image/jpeg:https://bevmain.org/wp-content/uploads/2025/10/open-mic-new-web.jpg
ORGANIZER;CN="Off Cabot Comedy &amp%3B Events":MAILTO:info@thecabot.org
GEO:42.5481285;-70.8794388
X-APPLE-STRUCTURED-LOCATION;VALUE=URI;X-ADDRESS=Off Cabot Comedy & Events 9 Wallis Street Beverly 01915 United States;X-APPLE-RADIUS=500;X-TITLE=9 Wallis Street:geo:-70.8794388,42.5481285
END:VEVENT
BEGIN:VEVENT
DTSTART;TZID=America/New_York:20251127T200000
DTEND;TZID=America/New_York:20251127T223000
DTSTAMP:20260421T203114
CREATED:20230424T165615Z
LAST-MODIFIED:20230424T165615Z
UID:10018137-1764273600-1764282600@bevmain.org
SUMMARY:Open Mic at Off Cabot
DESCRIPTION:Off Cabot Open Mic Night on the last Thursday of every month! \nThis show-and-go open mic will serve as one of the best places in New England to hone your comedic craft and showcase your talent in front of The Cabot Theater and John Tobin Presents teams! The list and the house will fill up quickly so get there early! \n8-10:30pm\nFree Admission!\n4-minute spots\nList available at 7:30pm \nSHOW UP — SIGN UP — GO UP!
URL:https://bevmain.org/event/open-mic-at-off-cabot/2025-11-27/
CATEGORIES:Beer/Wine,Comedy,Free,Nightlife
ATTACH;FMTTYPE=image/jpeg:https://bevmain.org/wp-content/uploads/2023/04/open-mic.jpg
END:VEVENT
BEGIN:VEVENT
DTSTART;TZID=America/New_York:20251128T200000
DTEND;TZID=America/New_York:20251128T220000
DTSTAMP:20260421T203114
CREATED:20251024T132127Z
LAST-MODIFIED:20251024T132127Z
UID:10036110-1764360000-1764367200@bevmain.org
SUMMARY:Jimmy Dunn
DESCRIPTION:Jimmy Dunn is a stand-up comedian and actor from Boston\, who currently plays “Moose” on the Paramount+ reboot of the iconic sitcom FRASIER. \nHe got his start in “”show business”” telling jokes in a bar in Gloucester\, Massachusetts\, where he was paid in beer and fried clams. Since then\, he’s gone on to perform at some of the world’s most prestigious comedy events\, including the Late Show with David Letterman\, CONAN\, Montreal’s International Just For Laughs Comedy Festival\, and Denis Leary’s Comic’s Come Home in Boston. \nJimmy’s first major television role was as Sean McCarthy on the CBS sitcom\, THE MCCARTHYS. He’s also written on several television projects\, including two episodes of LOUDERMILK that he co-wrote with Academy Award winner Peter Farrelly.
URL:https://bevmain.org/event/jimmy-dunn-2/2025-11-28/
LOCATION:Off Cabot Comedy & Events\, 9 Wallis Street\, Beverly\, 01915\, United States
CATEGORIES:Comedy
ATTACH;FMTTYPE=image/jpeg:https://bevmain.org/wp-content/uploads/2025/10/Jimmy-Dunn.jpg
ORGANIZER;CN="Off Cabot Comedy &amp%3B Events":MAILTO:info@thecabot.org
GEO:42.5481285;-70.8794388
X-APPLE-STRUCTURED-LOCATION;VALUE=URI;X-ADDRESS=Off Cabot Comedy & Events 9 Wallis Street Beverly 01915 United States;X-APPLE-RADIUS=500;X-TITLE=9 Wallis Street:geo:-70.8794388,42.5481285
END:VEVENT
BEGIN:VEVENT
DTSTART;TZID=America/New_York:20251129T180000
DTEND;TZID=America/New_York:20251129T200000
DTSTAMP:20260421T203114
CREATED:20251024T132127Z
LAST-MODIFIED:20251024T132127Z
UID:10036111-1764439200-1764446400@bevmain.org
SUMMARY:Jimmy Dunn
DESCRIPTION:Jimmy Dunn is a stand-up comedian and actor from Boston\, who currently plays “Moose” on the Paramount+ reboot of the iconic sitcom FRASIER. \nHe got his start in “”show business”” telling jokes in a bar in Gloucester\, Massachusetts\, where he was paid in beer and fried clams. Since then\, he’s gone on to perform at some of the world’s most prestigious comedy events\, including the Late Show with David Letterman\, CONAN\, Montreal’s International Just For Laughs Comedy Festival\, and Denis Leary’s Comic’s Come Home in Boston. \nJimmy’s first major television role was as Sean McCarthy on the CBS sitcom\, THE MCCARTHYS. He’s also written on several television projects\, including two episodes of LOUDERMILK that he co-wrote with Academy Award winner Peter Farrelly.
URL:https://bevmain.org/event/jimmy-dunn-2/2025-11-29/1/
LOCATION:Off Cabot Comedy & Events\, 9 Wallis Street\, Beverly\, 01915\, United States
CATEGORIES:Comedy
ATTACH;FMTTYPE=image/jpeg:https://bevmain.org/wp-content/uploads/2025/10/Jimmy-Dunn.jpg
ORGANIZER;CN="Off Cabot Comedy &amp%3B Events":MAILTO:info@thecabot.org
GEO:42.5481285;-70.8794388
X-APPLE-STRUCTURED-LOCATION;VALUE=URI;X-ADDRESS=Off Cabot Comedy & Events 9 Wallis Street Beverly 01915 United States;X-APPLE-RADIUS=500;X-TITLE=9 Wallis Street:geo:-70.8794388,42.5481285
END:VEVENT
BEGIN:VEVENT
DTSTART;TZID=America/New_York:20251129T203000
DTEND;TZID=America/New_York:20251129T223000
DTSTAMP:20260421T203114
CREATED:20251024T132127Z
LAST-MODIFIED:20251024T132127Z
UID:10036112-1764448200-1764455400@bevmain.org
SUMMARY:Jimmy Dunn
DESCRIPTION:Jimmy Dunn is a stand-up comedian and actor from Boston\, who currently plays “Moose” on the Paramount+ reboot of the iconic sitcom FRASIER. \nHe got his start in “”show business”” telling jokes in a bar in Gloucester\, Massachusetts\, where he was paid in beer and fried clams. Since then\, he’s gone on to perform at some of the world’s most prestigious comedy events\, including the Late Show with David Letterman\, CONAN\, Montreal’s International Just For Laughs Comedy Festival\, and Denis Leary’s Comic’s Come Home in Boston. \nJimmy’s first major television role was as Sean McCarthy on the CBS sitcom\, THE MCCARTHYS. He’s also written on several television projects\, including two episodes of LOUDERMILK that he co-wrote with Academy Award winner Peter Farrelly.
URL:https://bevmain.org/event/jimmy-dunn-2/2025-11-29/2/
LOCATION:Off Cabot Comedy & Events\, 9 Wallis Street\, Beverly\, 01915\, United States
CATEGORIES:Comedy
ATTACH;FMTTYPE=image/jpeg:https://bevmain.org/wp-content/uploads/2025/10/Jimmy-Dunn.jpg
ORGANIZER;CN="Off Cabot Comedy &amp%3B Events":MAILTO:info@thecabot.org
GEO:42.5481285;-70.8794388
X-APPLE-STRUCTURED-LOCATION;VALUE=URI;X-ADDRESS=Off Cabot Comedy & Events 9 Wallis Street Beverly 01915 United States;X-APPLE-RADIUS=500;X-TITLE=9 Wallis Street:geo:-70.8794388,42.5481285
END:VEVENT
END:VCALENDAR