BEGIN:VCALENDAR
VERSION:2.0
PRODID:-//Beverly Main Streets - ECPv6.15.20//NONSGML v1.0//EN
CALSCALE:GREGORIAN
METHOD:PUBLISH
X-ORIGINAL-URL:https://bevmain.org
X-WR-CALDESC:Events for Beverly Main Streets
REFRESH-INTERVAL;VALUE=DURATION:PT1H
X-Robots-Tag:noindex
X-PUBLISHED-TTL:PT1H
BEGIN:VTIMEZONE
TZID:America/New_York
BEGIN:DAYLIGHT
TZOFFSETFROM:-0500
TZOFFSETTO:-0400
TZNAME:EDT
DTSTART:20250309T070000
END:DAYLIGHT
BEGIN:STANDARD
TZOFFSETFROM:-0400
TZOFFSETTO:-0500
TZNAME:EST
DTSTART:20251102T060000
END:STANDARD
BEGIN:DAYLIGHT
TZOFFSETFROM:-0500
TZOFFSETTO:-0400
TZNAME:EDT
DTSTART:20260308T070000
END:DAYLIGHT
BEGIN:STANDARD
TZOFFSETFROM:-0400
TZOFFSETTO:-0500
TZNAME:EST
DTSTART:20261101T060000
END:STANDARD
BEGIN:DAYLIGHT
TZOFFSETFROM:-0500
TZOFFSETTO:-0400
TZNAME:EDT
DTSTART:20270314T070000
END:DAYLIGHT
BEGIN:STANDARD
TZOFFSETFROM:-0400
TZOFFSETTO:-0500
TZNAME:EST
DTSTART:20271107T060000
END:STANDARD
END:VTIMEZONE
BEGIN:VEVENT
DTSTART;TZID=America/New_York:20260105T200000
DTEND;TZID=America/New_York:20260105T230000
DTSTAMP:20260421T173844
CREATED:20230628T150156Z
LAST-MODIFIED:20231108T191914Z
UID:10019329-1767643200-1767654000@bevmain.org
SUMMARY:Open Mic at Indo
DESCRIPTION:Hosted by Bob Kramer & Nick Consone!
URL:https://bevmain.org/event/open-mic-at-indo/2026-01-05/
LOCATION:The Indo\, 298 Cabot Street\, Beverly\, MA\, 01915\, United States
CATEGORIES:Beer/Wine,Comedy,Food,Nightlife
ATTACH;FMTTYPE=image/jpeg:https://bevmain.org/wp-content/uploads/2023/06/IndoOpenMic.jpg
GEO:42.5521772;-70.8790122
X-APPLE-STRUCTURED-LOCATION;VALUE=URI;X-ADDRESS=The Indo 298 Cabot Street Beverly MA 01915 United States;X-APPLE-RADIUS=500;X-TITLE=298 Cabot Street:geo:-70.8790122,42.5521772
END:VEVENT
BEGIN:VEVENT
DTSTART;TZID=America/New_York:20260112T200000
DTEND;TZID=America/New_York:20260112T230000
DTSTAMP:20260421T173844
CREATED:20230628T150156Z
LAST-MODIFIED:20231108T191914Z
UID:10019330-1768248000-1768258800@bevmain.org
SUMMARY:Open Mic at Indo
DESCRIPTION:Hosted by Bob Kramer & Nick Consone!
URL:https://bevmain.org/event/open-mic-at-indo/2026-01-12/
LOCATION:The Indo\, 298 Cabot Street\, Beverly\, MA\, 01915\, United States
CATEGORIES:Beer/Wine,Comedy,Food,Nightlife
ATTACH;FMTTYPE=image/jpeg:https://bevmain.org/wp-content/uploads/2023/06/IndoOpenMic.jpg
GEO:42.5521772;-70.8790122
X-APPLE-STRUCTURED-LOCATION;VALUE=URI;X-ADDRESS=The Indo 298 Cabot Street Beverly MA 01915 United States;X-APPLE-RADIUS=500;X-TITLE=298 Cabot Street:geo:-70.8790122,42.5521772
END:VEVENT
BEGIN:VEVENT
DTSTART;TZID=America/New_York:20260119T200000
DTEND;TZID=America/New_York:20260119T230000
DTSTAMP:20260421T173844
CREATED:20230628T150156Z
LAST-MODIFIED:20231108T191914Z
UID:10019331-1768852800-1768863600@bevmain.org
SUMMARY:Open Mic at Indo
DESCRIPTION:Hosted by Bob Kramer & Nick Consone!
URL:https://bevmain.org/event/open-mic-at-indo/2026-01-19/
LOCATION:The Indo\, 298 Cabot Street\, Beverly\, MA\, 01915\, United States
CATEGORIES:Beer/Wine,Comedy,Food,Nightlife
ATTACH;FMTTYPE=image/jpeg:https://bevmain.org/wp-content/uploads/2023/06/IndoOpenMic.jpg
GEO:42.5521772;-70.8790122
X-APPLE-STRUCTURED-LOCATION;VALUE=URI;X-ADDRESS=The Indo 298 Cabot Street Beverly MA 01915 United States;X-APPLE-RADIUS=500;X-TITLE=298 Cabot Street:geo:-70.8790122,42.5521772
END:VEVENT
BEGIN:VEVENT
DTSTART;TZID=America/New_York:20260122T200000
DTEND;TZID=America/New_York:20260122T223000
DTSTAMP:20260421T173844
CREATED:20230424T165615Z
LAST-MODIFIED:20230424T165615Z
UID:10018139-1769112000-1769121000@bevmain.org
SUMMARY:Open Mic at Off Cabot
DESCRIPTION:Off Cabot Open Mic Night on the last Thursday of every month! \nThis show-and-go open mic will serve as one of the best places in New England to hone your comedic craft and showcase your talent in front of The Cabot Theater and John Tobin Presents teams! The list and the house will fill up quickly so get there early! \n8-10:30pm\nFree Admission!\n4-minute spots\nList available at 7:30pm \nSHOW UP — SIGN UP — GO UP!
URL:https://bevmain.org/event/open-mic-at-off-cabot/2026-01-22/
CATEGORIES:Beer/Wine,Comedy,Free,Nightlife
ATTACH;FMTTYPE=image/jpeg:https://bevmain.org/wp-content/uploads/2023/04/open-mic.jpg
END:VEVENT
BEGIN:VEVENT
DTSTART;TZID=America/New_York:20260123T183000
DTEND;TZID=America/New_York:20260123T203000
DTSTAMP:20260421T173844
CREATED:20250821T191739Z
LAST-MODIFIED:20251117T213755Z
UID:10035923-1769193000-1769200200@bevmain.org
SUMMARY:Brian Posehn
DESCRIPTION:Brian Posehn has been busy for a while. As a writer/actor/stand-up comic\, he doesn’t have a ton of down time. He just recorded his fourth hour-long stand-up special. He’s currently co-creating and starring in an upcoming cartoon for Nickelodeon with Fall Out Boy’s Joe Trohman. Brian was an NSA intern on TruTV’s Top Secret Videos. You can also catch Brian on the popular Disney Plus show The Mandalorian\, the acclaimed Netflix show Lady Dynamite\, FX’s You’re The Worst and in his recurring roles on The Big Bang Theory and New Girl. He was one of the stars of Comedy Central’s popular show\, The Sarah Silverman Program. He has also appeared on such seminal sitcoms as Seinfeld\, NewsRadio\, Everybody Loves Raymond\, Friends\, The Neighborhood and a recurring role on Just Shoot Me. \nIn the sketch comedy world he’s known as one of the writers and performers on HBO’s acclaimed Mr. Show\, in 2015 he co-produced Odenkirk and Cross’s return to sketch with the Netflix hit\, With Bob and David. He was featured in the films\, Devil’s Rejects and The Five Year Engagement. In 2015\, he starred in the dark\, indie comedy\, Uncle Nick. \nIn stand-up comedy he’s known as one of the original members of the Comedians of Comedy. He’s released two half hour specials for Comedy Central\, four comedy albums and three hour long specials- -The Fartist\, Criminally Posehn and 25 X 2. In Voice-Acting he’s done everything from Scooby Doo to a recent role on The Simpsons. He starred on the animated shows\, Mission Hill and 3 South and has turned up in Adventure Time\, American Dad\, Bob’s Burgers and Steven Universe\, to name a few. His voice was featured in the 2017 Dreamworks Animated comedy\, Captain Underpants. \nIn the last several years he’s also been able to produce and host a popular D&D comedy podcast\, Nerd Poker and co-write 45 issues of the best-selling Marvel comic book series Deadpool. In 2018 he released his first book\, Forever Nerdy. In 2019\, he completed a comedy metal album Grandpa Metal\, featuring metal legends from Anthrax\, Dethklok\, Slayer and Soundgarden. \nGrandpa Metal was released to rave reviews in the metal world in February of 2020. In May\, he was featured on Celebrity Worst Cooks on Food Network. He currently has a weekly two hour show spinning his favorite meta songs on GimmeMetal.com. In 2021\, he plans to compete on American Ninja Warrior\, Top Chef and So You Think You Can Dance. After he breaks TMZ and the Internet\, when footage of him beating up a narwhal surfaces\, he plans to quit showbiz.
URL:https://bevmain.org/event/brian-posehn/2026-01-23/1/
LOCATION:Off Cabot Comedy & Events\, 9 Wallis Street\, Beverly\, 01915\, United States
CATEGORIES:Comedy
ATTACH;FMTTYPE=image/png:https://bevmain.org/wp-content/uploads/2025/08/Brian-Posehn.png
ORGANIZER;CN="Off Cabot Comedy &amp%3B Events":MAILTO:info@thecabot.org
GEO:42.5481285;-70.8794388
X-APPLE-STRUCTURED-LOCATION;VALUE=URI;X-ADDRESS=Off Cabot Comedy & Events 9 Wallis Street Beverly 01915 United States;X-APPLE-RADIUS=500;X-TITLE=9 Wallis Street:geo:-70.8794388,42.5481285
END:VEVENT
BEGIN:VEVENT
DTSTART;TZID=America/New_York:20260123T210000
DTEND;TZID=America/New_York:20260123T230000
DTSTAMP:20260421T173844
CREATED:20250821T191739Z
LAST-MODIFIED:20251117T213755Z
UID:10035924-1769202000-1769209200@bevmain.org
SUMMARY:Brian Posehn
DESCRIPTION:Brian Posehn has been busy for a while. As a writer/actor/stand-up comic\, he doesn’t have a ton of down time. He just recorded his fourth hour-long stand-up special. He’s currently co-creating and starring in an upcoming cartoon for Nickelodeon with Fall Out Boy’s Joe Trohman. Brian was an NSA intern on TruTV’s Top Secret Videos. You can also catch Brian on the popular Disney Plus show The Mandalorian\, the acclaimed Netflix show Lady Dynamite\, FX’s You’re The Worst and in his recurring roles on The Big Bang Theory and New Girl. He was one of the stars of Comedy Central’s popular show\, The Sarah Silverman Program. He has also appeared on such seminal sitcoms as Seinfeld\, NewsRadio\, Everybody Loves Raymond\, Friends\, The Neighborhood and a recurring role on Just Shoot Me. \nIn the sketch comedy world he’s known as one of the writers and performers on HBO’s acclaimed Mr. Show\, in 2015 he co-produced Odenkirk and Cross’s return to sketch with the Netflix hit\, With Bob and David. He was featured in the films\, Devil’s Rejects and The Five Year Engagement. In 2015\, he starred in the dark\, indie comedy\, Uncle Nick. \nIn stand-up comedy he’s known as one of the original members of the Comedians of Comedy. He’s released two half hour specials for Comedy Central\, four comedy albums and three hour long specials- -The Fartist\, Criminally Posehn and 25 X 2. In Voice-Acting he’s done everything from Scooby Doo to a recent role on The Simpsons. He starred on the animated shows\, Mission Hill and 3 South and has turned up in Adventure Time\, American Dad\, Bob’s Burgers and Steven Universe\, to name a few. His voice was featured in the 2017 Dreamworks Animated comedy\, Captain Underpants. \nIn the last several years he’s also been able to produce and host a popular D&D comedy podcast\, Nerd Poker and co-write 45 issues of the best-selling Marvel comic book series Deadpool. In 2018 he released his first book\, Forever Nerdy. In 2019\, he completed a comedy metal album Grandpa Metal\, featuring metal legends from Anthrax\, Dethklok\, Slayer and Soundgarden. \nGrandpa Metal was released to rave reviews in the metal world in February of 2020. In May\, he was featured on Celebrity Worst Cooks on Food Network. He currently has a weekly two hour show spinning his favorite meta songs on GimmeMetal.com. In 2021\, he plans to compete on American Ninja Warrior\, Top Chef and So You Think You Can Dance. After he breaks TMZ and the Internet\, when footage of him beating up a narwhal surfaces\, he plans to quit showbiz.
URL:https://bevmain.org/event/brian-posehn/2026-01-23/2/
LOCATION:Off Cabot Comedy & Events\, 9 Wallis Street\, Beverly\, 01915\, United States
CATEGORIES:Comedy
ATTACH;FMTTYPE=image/png:https://bevmain.org/wp-content/uploads/2025/08/Brian-Posehn.png
ORGANIZER;CN="Off Cabot Comedy &amp%3B Events":MAILTO:info@thecabot.org
GEO:42.5481285;-70.8794388
X-APPLE-STRUCTURED-LOCATION;VALUE=URI;X-ADDRESS=Off Cabot Comedy & Events 9 Wallis Street Beverly 01915 United States;X-APPLE-RADIUS=500;X-TITLE=9 Wallis Street:geo:-70.8794388,42.5481285
END:VEVENT
BEGIN:VEVENT
DTSTART;TZID=America/New_York:20260124T183000
DTEND;TZID=America/New_York:20260124T203000
DTSTAMP:20260421T173844
CREATED:20250821T191739Z
LAST-MODIFIED:20251117T213755Z
UID:10035925-1769279400-1769286600@bevmain.org
SUMMARY:Brian Posehn
DESCRIPTION:Brian Posehn has been busy for a while. As a writer/actor/stand-up comic\, he doesn’t have a ton of down time. He just recorded his fourth hour-long stand-up special. He’s currently co-creating and starring in an upcoming cartoon for Nickelodeon with Fall Out Boy’s Joe Trohman. Brian was an NSA intern on TruTV’s Top Secret Videos. You can also catch Brian on the popular Disney Plus show The Mandalorian\, the acclaimed Netflix show Lady Dynamite\, FX’s You’re The Worst and in his recurring roles on The Big Bang Theory and New Girl. He was one of the stars of Comedy Central’s popular show\, The Sarah Silverman Program. He has also appeared on such seminal sitcoms as Seinfeld\, NewsRadio\, Everybody Loves Raymond\, Friends\, The Neighborhood and a recurring role on Just Shoot Me. \nIn the sketch comedy world he’s known as one of the writers and performers on HBO’s acclaimed Mr. Show\, in 2015 he co-produced Odenkirk and Cross’s return to sketch with the Netflix hit\, With Bob and David. He was featured in the films\, Devil’s Rejects and The Five Year Engagement. In 2015\, he starred in the dark\, indie comedy\, Uncle Nick. \nIn stand-up comedy he’s known as one of the original members of the Comedians of Comedy. He’s released two half hour specials for Comedy Central\, four comedy albums and three hour long specials- -The Fartist\, Criminally Posehn and 25 X 2. In Voice-Acting he’s done everything from Scooby Doo to a recent role on The Simpsons. He starred on the animated shows\, Mission Hill and 3 South and has turned up in Adventure Time\, American Dad\, Bob’s Burgers and Steven Universe\, to name a few. His voice was featured in the 2017 Dreamworks Animated comedy\, Captain Underpants. \nIn the last several years he’s also been able to produce and host a popular D&D comedy podcast\, Nerd Poker and co-write 45 issues of the best-selling Marvel comic book series Deadpool. In 2018 he released his first book\, Forever Nerdy. In 2019\, he completed a comedy metal album Grandpa Metal\, featuring metal legends from Anthrax\, Dethklok\, Slayer and Soundgarden. \nGrandpa Metal was released to rave reviews in the metal world in February of 2020. In May\, he was featured on Celebrity Worst Cooks on Food Network. He currently has a weekly two hour show spinning his favorite meta songs on GimmeMetal.com. In 2021\, he plans to compete on American Ninja Warrior\, Top Chef and So You Think You Can Dance. After he breaks TMZ and the Internet\, when footage of him beating up a narwhal surfaces\, he plans to quit showbiz.
URL:https://bevmain.org/event/brian-posehn/2026-01-24/1/
LOCATION:Off Cabot Comedy & Events\, 9 Wallis Street\, Beverly\, 01915\, United States
CATEGORIES:Comedy
ATTACH;FMTTYPE=image/png:https://bevmain.org/wp-content/uploads/2025/08/Brian-Posehn.png
ORGANIZER;CN="Off Cabot Comedy &amp%3B Events":MAILTO:info@thecabot.org
GEO:42.5481285;-70.8794388
X-APPLE-STRUCTURED-LOCATION;VALUE=URI;X-ADDRESS=Off Cabot Comedy & Events 9 Wallis Street Beverly 01915 United States;X-APPLE-RADIUS=500;X-TITLE=9 Wallis Street:geo:-70.8794388,42.5481285
END:VEVENT
BEGIN:VEVENT
DTSTART;TZID=America/New_York:20260124T210000
DTEND;TZID=America/New_York:20260124T230000
DTSTAMP:20260421T173844
CREATED:20250821T191739Z
LAST-MODIFIED:20251117T213755Z
UID:10035926-1769288400-1769295600@bevmain.org
SUMMARY:Brian Posehn
DESCRIPTION:Brian Posehn has been busy for a while. As a writer/actor/stand-up comic\, he doesn’t have a ton of down time. He just recorded his fourth hour-long stand-up special. He’s currently co-creating and starring in an upcoming cartoon for Nickelodeon with Fall Out Boy’s Joe Trohman. Brian was an NSA intern on TruTV’s Top Secret Videos. You can also catch Brian on the popular Disney Plus show The Mandalorian\, the acclaimed Netflix show Lady Dynamite\, FX’s You’re The Worst and in his recurring roles on The Big Bang Theory and New Girl. He was one of the stars of Comedy Central’s popular show\, The Sarah Silverman Program. He has also appeared on such seminal sitcoms as Seinfeld\, NewsRadio\, Everybody Loves Raymond\, Friends\, The Neighborhood and a recurring role on Just Shoot Me. \nIn the sketch comedy world he’s known as one of the writers and performers on HBO’s acclaimed Mr. Show\, in 2015 he co-produced Odenkirk and Cross’s return to sketch with the Netflix hit\, With Bob and David. He was featured in the films\, Devil’s Rejects and The Five Year Engagement. In 2015\, he starred in the dark\, indie comedy\, Uncle Nick. \nIn stand-up comedy he’s known as one of the original members of the Comedians of Comedy. He’s released two half hour specials for Comedy Central\, four comedy albums and three hour long specials- -The Fartist\, Criminally Posehn and 25 X 2. In Voice-Acting he’s done everything from Scooby Doo to a recent role on The Simpsons. He starred on the animated shows\, Mission Hill and 3 South and has turned up in Adventure Time\, American Dad\, Bob’s Burgers and Steven Universe\, to name a few. His voice was featured in the 2017 Dreamworks Animated comedy\, Captain Underpants. \nIn the last several years he’s also been able to produce and host a popular D&D comedy podcast\, Nerd Poker and co-write 45 issues of the best-selling Marvel comic book series Deadpool. In 2018 he released his first book\, Forever Nerdy. In 2019\, he completed a comedy metal album Grandpa Metal\, featuring metal legends from Anthrax\, Dethklok\, Slayer and Soundgarden. \nGrandpa Metal was released to rave reviews in the metal world in February of 2020. In May\, he was featured on Celebrity Worst Cooks on Food Network. He currently has a weekly two hour show spinning his favorite meta songs on GimmeMetal.com. In 2021\, he plans to compete on American Ninja Warrior\, Top Chef and So You Think You Can Dance. After he breaks TMZ and the Internet\, when footage of him beating up a narwhal surfaces\, he plans to quit showbiz.
URL:https://bevmain.org/event/brian-posehn/2026-01-24/2/
LOCATION:Off Cabot Comedy & Events\, 9 Wallis Street\, Beverly\, 01915\, United States
CATEGORIES:Comedy
ATTACH;FMTTYPE=image/png:https://bevmain.org/wp-content/uploads/2025/08/Brian-Posehn.png
ORGANIZER;CN="Off Cabot Comedy &amp%3B Events":MAILTO:info@thecabot.org
GEO:42.5481285;-70.8794388
X-APPLE-STRUCTURED-LOCATION;VALUE=URI;X-ADDRESS=Off Cabot Comedy & Events 9 Wallis Street Beverly 01915 United States;X-APPLE-RADIUS=500;X-TITLE=9 Wallis Street:geo:-70.8794388,42.5481285
END:VEVENT
BEGIN:VEVENT
DTSTART;TZID=America/New_York:20260126T200000
DTEND;TZID=America/New_York:20260126T230000
DTSTAMP:20260421T173844
CREATED:20230628T150156Z
LAST-MODIFIED:20231108T191914Z
UID:10019332-1769457600-1769468400@bevmain.org
SUMMARY:Open Mic at Indo
DESCRIPTION:Hosted by Bob Kramer & Nick Consone!
URL:https://bevmain.org/event/open-mic-at-indo/2026-01-26/
LOCATION:The Indo\, 298 Cabot Street\, Beverly\, MA\, 01915\, United States
CATEGORIES:Beer/Wine,Comedy,Food,Nightlife
ATTACH;FMTTYPE=image/jpeg:https://bevmain.org/wp-content/uploads/2023/06/IndoOpenMic.jpg
GEO:42.5521772;-70.8790122
X-APPLE-STRUCTURED-LOCATION;VALUE=URI;X-ADDRESS=The Indo 298 Cabot Street Beverly MA 01915 United States;X-APPLE-RADIUS=500;X-TITLE=298 Cabot Street:geo:-70.8790122,42.5521772
END:VEVENT
END:VCALENDAR