BEGIN:VCALENDAR
VERSION:2.0
PRODID:-//Beverly Main Streets - ECPv6.15.20//NONSGML v1.0//EN
CALSCALE:GREGORIAN
METHOD:PUBLISH
X-ORIGINAL-URL:https://bevmain.org
X-WR-CALDESC:Events for Beverly Main Streets
REFRESH-INTERVAL;VALUE=DURATION:PT1H
X-Robots-Tag:noindex
X-PUBLISHED-TTL:PT1H
BEGIN:VTIMEZONE
TZID:America/New_York
BEGIN:DAYLIGHT
TZOFFSETFROM:-0500
TZOFFSETTO:-0400
TZNAME:EDT
DTSTART:20250309T070000
END:DAYLIGHT
BEGIN:STANDARD
TZOFFSETFROM:-0400
TZOFFSETTO:-0500
TZNAME:EST
DTSTART:20251102T060000
END:STANDARD
BEGIN:DAYLIGHT
TZOFFSETFROM:-0500
TZOFFSETTO:-0400
TZNAME:EDT
DTSTART:20260308T070000
END:DAYLIGHT
BEGIN:STANDARD
TZOFFSETFROM:-0400
TZOFFSETTO:-0500
TZNAME:EST
DTSTART:20261101T060000
END:STANDARD
BEGIN:DAYLIGHT
TZOFFSETFROM:-0500
TZOFFSETTO:-0400
TZNAME:EDT
DTSTART:20270314T070000
END:DAYLIGHT
BEGIN:STANDARD
TZOFFSETFROM:-0400
TZOFFSETTO:-0500
TZNAME:EST
DTSTART:20271107T060000
END:STANDARD
END:VTIMEZONE
BEGIN:VEVENT
DTSTART;TZID=America/New_York:20260625T200000
DTEND;TZID=America/New_York:20260625T223000
DTSTAMP:20260421T130709
CREATED:20230424T165615Z
LAST-MODIFIED:20230424T165615Z
UID:10018144-1782417600-1782426600@bevmain.org
SUMMARY:Open Mic at Off Cabot
DESCRIPTION:Off Cabot Open Mic Night on the last Thursday of every month! \nThis show-and-go open mic will serve as one of the best places in New England to hone your comedic craft and showcase your talent in front of The Cabot Theater and John Tobin Presents teams! The list and the house will fill up quickly so get there early! \n8-10:30pm\nFree Admission!\n4-minute spots\nList available at 7:30pm \nSHOW UP — SIGN UP — GO UP!
URL:https://bevmain.org/event/open-mic-at-off-cabot/2026-06-25/
CATEGORIES:Beer/Wine,Comedy,Free,Nightlife
ATTACH;FMTTYPE=image/jpeg:https://bevmain.org/wp-content/uploads/2023/04/open-mic.jpg
END:VEVENT
BEGIN:VEVENT
DTSTART;TZID=America/New_York:20260629T200000
DTEND;TZID=America/New_York:20260629T230000
DTSTAMP:20260421T130709
CREATED:20230628T150156Z
LAST-MODIFIED:20231108T191914Z
UID:10019354-1782763200-1782774000@bevmain.org
SUMMARY:Open Mic at Indo
DESCRIPTION:Hosted by Bob Kramer & Nick Consone!
URL:https://bevmain.org/event/open-mic-at-indo/2026-06-29/
LOCATION:The Indo\, 298 Cabot Street\, Beverly\, MA\, 01915\, United States
CATEGORIES:Beer/Wine,Comedy,Food,Nightlife
ATTACH;FMTTYPE=image/jpeg:https://bevmain.org/wp-content/uploads/2023/06/IndoOpenMic.jpg
GEO:42.5521772;-70.8790122
X-APPLE-STRUCTURED-LOCATION;VALUE=URI;X-ADDRESS=The Indo 298 Cabot Street Beverly MA 01915 United States;X-APPLE-RADIUS=500;X-TITLE=298 Cabot Street:geo:-70.8790122,42.5521772
END:VEVENT
BEGIN:VEVENT
DTSTART;TZID=America/New_York:20260706T200000
DTEND;TZID=America/New_York:20260706T230000
DTSTAMP:20260421T130709
CREATED:20230628T150156Z
LAST-MODIFIED:20231108T191914Z
UID:10019355-1783368000-1783378800@bevmain.org
SUMMARY:Open Mic at Indo
DESCRIPTION:Hosted by Bob Kramer & Nick Consone!
URL:https://bevmain.org/event/open-mic-at-indo/2026-07-06/
LOCATION:The Indo\, 298 Cabot Street\, Beverly\, MA\, 01915\, United States
CATEGORIES:Beer/Wine,Comedy,Food,Nightlife
ATTACH;FMTTYPE=image/jpeg:https://bevmain.org/wp-content/uploads/2023/06/IndoOpenMic.jpg
GEO:42.5521772;-70.8790122
X-APPLE-STRUCTURED-LOCATION;VALUE=URI;X-ADDRESS=The Indo 298 Cabot Street Beverly MA 01915 United States;X-APPLE-RADIUS=500;X-TITLE=298 Cabot Street:geo:-70.8790122,42.5521772
END:VEVENT
BEGIN:VEVENT
DTSTART;TZID=America/New_York:20260713T200000
DTEND;TZID=America/New_York:20260713T230000
DTSTAMP:20260421T130709
CREATED:20230628T150156Z
LAST-MODIFIED:20231108T191914Z
UID:10019356-1783972800-1783983600@bevmain.org
SUMMARY:Open Mic at Indo
DESCRIPTION:Hosted by Bob Kramer & Nick Consone!
URL:https://bevmain.org/event/open-mic-at-indo/2026-07-13/
LOCATION:The Indo\, 298 Cabot Street\, Beverly\, MA\, 01915\, United States
CATEGORIES:Beer/Wine,Comedy,Food,Nightlife
ATTACH;FMTTYPE=image/jpeg:https://bevmain.org/wp-content/uploads/2023/06/IndoOpenMic.jpg
GEO:42.5521772;-70.8790122
X-APPLE-STRUCTURED-LOCATION;VALUE=URI;X-ADDRESS=The Indo 298 Cabot Street Beverly MA 01915 United States;X-APPLE-RADIUS=500;X-TITLE=298 Cabot Street:geo:-70.8790122,42.5521772
END:VEVENT
BEGIN:VEVENT
DTSTART;TZID=America/New_York:20260720T200000
DTEND;TZID=America/New_York:20260720T230000
DTSTAMP:20260421T130709
CREATED:20230628T150156Z
LAST-MODIFIED:20231108T191914Z
UID:10019357-1784577600-1784588400@bevmain.org
SUMMARY:Open Mic at Indo
DESCRIPTION:Hosted by Bob Kramer & Nick Consone!
URL:https://bevmain.org/event/open-mic-at-indo/2026-07-20/
LOCATION:The Indo\, 298 Cabot Street\, Beverly\, MA\, 01915\, United States
CATEGORIES:Beer/Wine,Comedy,Food,Nightlife
ATTACH;FMTTYPE=image/jpeg:https://bevmain.org/wp-content/uploads/2023/06/IndoOpenMic.jpg
GEO:42.5521772;-70.8790122
X-APPLE-STRUCTURED-LOCATION;VALUE=URI;X-ADDRESS=The Indo 298 Cabot Street Beverly MA 01915 United States;X-APPLE-RADIUS=500;X-TITLE=298 Cabot Street:geo:-70.8790122,42.5521772
END:VEVENT
BEGIN:VEVENT
DTSTART;TZID=America/New_York:20260723T200000
DTEND;TZID=America/New_York:20260723T223000
DTSTAMP:20260421T130709
CREATED:20230424T165615Z
LAST-MODIFIED:20230424T165615Z
UID:10018145-1784836800-1784845800@bevmain.org
SUMMARY:Open Mic at Off Cabot
DESCRIPTION:Off Cabot Open Mic Night on the last Thursday of every month! \nThis show-and-go open mic will serve as one of the best places in New England to hone your comedic craft and showcase your talent in front of The Cabot Theater and John Tobin Presents teams! The list and the house will fill up quickly so get there early! \n8-10:30pm\nFree Admission!\n4-minute spots\nList available at 7:30pm \nSHOW UP — SIGN UP — GO UP!
URL:https://bevmain.org/event/open-mic-at-off-cabot/2026-07-23/
CATEGORIES:Beer/Wine,Comedy,Free,Nightlife
ATTACH;FMTTYPE=image/jpeg:https://bevmain.org/wp-content/uploads/2023/04/open-mic.jpg
END:VEVENT
BEGIN:VEVENT
DTSTART;TZID=America/New_York:20260727T200000
DTEND;TZID=America/New_York:20260727T230000
DTSTAMP:20260421T130709
CREATED:20230628T150156Z
LAST-MODIFIED:20231108T191914Z
UID:10019358-1785182400-1785193200@bevmain.org
SUMMARY:Open Mic at Indo
DESCRIPTION:Hosted by Bob Kramer & Nick Consone!
URL:https://bevmain.org/event/open-mic-at-indo/2026-07-27/
LOCATION:The Indo\, 298 Cabot Street\, Beverly\, MA\, 01915\, United States
CATEGORIES:Beer/Wine,Comedy,Food,Nightlife
ATTACH;FMTTYPE=image/jpeg:https://bevmain.org/wp-content/uploads/2023/06/IndoOpenMic.jpg
GEO:42.5521772;-70.8790122
X-APPLE-STRUCTURED-LOCATION;VALUE=URI;X-ADDRESS=The Indo 298 Cabot Street Beverly MA 01915 United States;X-APPLE-RADIUS=500;X-TITLE=298 Cabot Street:geo:-70.8790122,42.5521772
END:VEVENT
BEGIN:VEVENT
DTSTART;TZID=America/New_York:20260803T200000
DTEND;TZID=America/New_York:20260803T230000
DTSTAMP:20260421T130709
CREATED:20230628T150156Z
LAST-MODIFIED:20231108T191914Z
UID:10019359-1785787200-1785798000@bevmain.org
SUMMARY:Open Mic at Indo
DESCRIPTION:Hosted by Bob Kramer & Nick Consone!
URL:https://bevmain.org/event/open-mic-at-indo/2026-08-03/
LOCATION:The Indo\, 298 Cabot Street\, Beverly\, MA\, 01915\, United States
CATEGORIES:Beer/Wine,Comedy,Food,Nightlife
ATTACH;FMTTYPE=image/jpeg:https://bevmain.org/wp-content/uploads/2023/06/IndoOpenMic.jpg
GEO:42.5521772;-70.8790122
X-APPLE-STRUCTURED-LOCATION;VALUE=URI;X-ADDRESS=The Indo 298 Cabot Street Beverly MA 01915 United States;X-APPLE-RADIUS=500;X-TITLE=298 Cabot Street:geo:-70.8790122,42.5521772
END:VEVENT
BEGIN:VEVENT
DTSTART;TZID=America/New_York:20260810T200000
DTEND;TZID=America/New_York:20260810T230000
DTSTAMP:20260421T130709
CREATED:20230628T150156Z
LAST-MODIFIED:20231108T191914Z
UID:10019360-1786392000-1786402800@bevmain.org
SUMMARY:Open Mic at Indo
DESCRIPTION:Hosted by Bob Kramer & Nick Consone!
URL:https://bevmain.org/event/open-mic-at-indo/2026-08-10/
LOCATION:The Indo\, 298 Cabot Street\, Beverly\, MA\, 01915\, United States
CATEGORIES:Beer/Wine,Comedy,Food,Nightlife
ATTACH;FMTTYPE=image/jpeg:https://bevmain.org/wp-content/uploads/2023/06/IndoOpenMic.jpg
GEO:42.5521772;-70.8790122
X-APPLE-STRUCTURED-LOCATION;VALUE=URI;X-ADDRESS=The Indo 298 Cabot Street Beverly MA 01915 United States;X-APPLE-RADIUS=500;X-TITLE=298 Cabot Street:geo:-70.8790122,42.5521772
END:VEVENT
BEGIN:VEVENT
DTSTART;TZID=America/New_York:20260817T200000
DTEND;TZID=America/New_York:20260817T230000
DTSTAMP:20260421T130709
CREATED:20230628T150156Z
LAST-MODIFIED:20231108T191914Z
UID:10019361-1786996800-1787007600@bevmain.org
SUMMARY:Open Mic at Indo
DESCRIPTION:Hosted by Bob Kramer & Nick Consone!
URL:https://bevmain.org/event/open-mic-at-indo/2026-08-17/
LOCATION:The Indo\, 298 Cabot Street\, Beverly\, MA\, 01915\, United States
CATEGORIES:Beer/Wine,Comedy,Food,Nightlife
ATTACH;FMTTYPE=image/jpeg:https://bevmain.org/wp-content/uploads/2023/06/IndoOpenMic.jpg
GEO:42.5521772;-70.8790122
X-APPLE-STRUCTURED-LOCATION;VALUE=URI;X-ADDRESS=The Indo 298 Cabot Street Beverly MA 01915 United States;X-APPLE-RADIUS=500;X-TITLE=298 Cabot Street:geo:-70.8790122,42.5521772
END:VEVENT
BEGIN:VEVENT
DTSTART;TZID=America/New_York:20260824T200000
DTEND;TZID=America/New_York:20260824T230000
DTSTAMP:20260421T130709
CREATED:20230628T150156Z
LAST-MODIFIED:20231108T191914Z
UID:10019362-1787601600-1787612400@bevmain.org
SUMMARY:Open Mic at Indo
DESCRIPTION:Hosted by Bob Kramer & Nick Consone!
URL:https://bevmain.org/event/open-mic-at-indo/2026-08-24/
LOCATION:The Indo\, 298 Cabot Street\, Beverly\, MA\, 01915\, United States
CATEGORIES:Beer/Wine,Comedy,Food,Nightlife
ATTACH;FMTTYPE=image/jpeg:https://bevmain.org/wp-content/uploads/2023/06/IndoOpenMic.jpg
GEO:42.5521772;-70.8790122
X-APPLE-STRUCTURED-LOCATION;VALUE=URI;X-ADDRESS=The Indo 298 Cabot Street Beverly MA 01915 United States;X-APPLE-RADIUS=500;X-TITLE=298 Cabot Street:geo:-70.8790122,42.5521772
END:VEVENT
BEGIN:VEVENT
DTSTART;TZID=America/New_York:20260827T200000
DTEND;TZID=America/New_York:20260827T223000
DTSTAMP:20260421T130709
CREATED:20230424T165615Z
LAST-MODIFIED:20230424T165615Z
UID:10018146-1787860800-1787869800@bevmain.org
SUMMARY:Open Mic at Off Cabot
DESCRIPTION:Off Cabot Open Mic Night on the last Thursday of every month! \nThis show-and-go open mic will serve as one of the best places in New England to hone your comedic craft and showcase your talent in front of The Cabot Theater and John Tobin Presents teams! The list and the house will fill up quickly so get there early! \n8-10:30pm\nFree Admission!\n4-minute spots\nList available at 7:30pm \nSHOW UP — SIGN UP — GO UP!
URL:https://bevmain.org/event/open-mic-at-off-cabot/2026-08-27/
CATEGORIES:Beer/Wine,Comedy,Free,Nightlife
ATTACH;FMTTYPE=image/jpeg:https://bevmain.org/wp-content/uploads/2023/04/open-mic.jpg
END:VEVENT
BEGIN:VEVENT
DTSTART;TZID=America/New_York:20260831T200000
DTEND;TZID=America/New_York:20260831T230000
DTSTAMP:20260421T130709
CREATED:20230628T150156Z
LAST-MODIFIED:20231108T191914Z
UID:10019363-1788206400-1788217200@bevmain.org
SUMMARY:Open Mic at Indo
DESCRIPTION:Hosted by Bob Kramer & Nick Consone!
URL:https://bevmain.org/event/open-mic-at-indo/2026-08-31/
LOCATION:The Indo\, 298 Cabot Street\, Beverly\, MA\, 01915\, United States
CATEGORIES:Beer/Wine,Comedy,Food,Nightlife
ATTACH;FMTTYPE=image/jpeg:https://bevmain.org/wp-content/uploads/2023/06/IndoOpenMic.jpg
GEO:42.5521772;-70.8790122
X-APPLE-STRUCTURED-LOCATION;VALUE=URI;X-ADDRESS=The Indo 298 Cabot Street Beverly MA 01915 United States;X-APPLE-RADIUS=500;X-TITLE=298 Cabot Street:geo:-70.8790122,42.5521772
END:VEVENT
BEGIN:VEVENT
DTSTART;TZID=America/New_York:20260907T200000
DTEND;TZID=America/New_York:20260907T230000
DTSTAMP:20260421T130709
CREATED:20230628T150156Z
LAST-MODIFIED:20231108T191914Z
UID:10019364-1788811200-1788822000@bevmain.org
SUMMARY:Open Mic at Indo
DESCRIPTION:Hosted by Bob Kramer & Nick Consone!
URL:https://bevmain.org/event/open-mic-at-indo/2026-09-07/
LOCATION:The Indo\, 298 Cabot Street\, Beverly\, MA\, 01915\, United States
CATEGORIES:Beer/Wine,Comedy,Food,Nightlife
ATTACH;FMTTYPE=image/jpeg:https://bevmain.org/wp-content/uploads/2023/06/IndoOpenMic.jpg
GEO:42.5521772;-70.8790122
X-APPLE-STRUCTURED-LOCATION;VALUE=URI;X-ADDRESS=The Indo 298 Cabot Street Beverly MA 01915 United States;X-APPLE-RADIUS=500;X-TITLE=298 Cabot Street:geo:-70.8790122,42.5521772
END:VEVENT
BEGIN:VEVENT
DTSTART;TZID=America/New_York:20260914T200000
DTEND;TZID=America/New_York:20260914T230000
DTSTAMP:20260421T130709
CREATED:20230628T150156Z
LAST-MODIFIED:20231108T191914Z
UID:10019365-1789416000-1789426800@bevmain.org
SUMMARY:Open Mic at Indo
DESCRIPTION:Hosted by Bob Kramer & Nick Consone!
URL:https://bevmain.org/event/open-mic-at-indo/2026-09-14/
LOCATION:The Indo\, 298 Cabot Street\, Beverly\, MA\, 01915\, United States
CATEGORIES:Beer/Wine,Comedy,Food,Nightlife
ATTACH;FMTTYPE=image/jpeg:https://bevmain.org/wp-content/uploads/2023/06/IndoOpenMic.jpg
GEO:42.5521772;-70.8790122
X-APPLE-STRUCTURED-LOCATION;VALUE=URI;X-ADDRESS=The Indo 298 Cabot Street Beverly MA 01915 United States;X-APPLE-RADIUS=500;X-TITLE=298 Cabot Street:geo:-70.8790122,42.5521772
END:VEVENT
BEGIN:VEVENT
DTSTART;TZID=America/New_York:20260921T200000
DTEND;TZID=America/New_York:20260921T230000
DTSTAMP:20260421T130709
CREATED:20230628T150156Z
LAST-MODIFIED:20231108T191914Z
UID:10019366-1790020800-1790031600@bevmain.org
SUMMARY:Open Mic at Indo
DESCRIPTION:Hosted by Bob Kramer & Nick Consone!
URL:https://bevmain.org/event/open-mic-at-indo/2026-09-21/
LOCATION:The Indo\, 298 Cabot Street\, Beverly\, MA\, 01915\, United States
CATEGORIES:Beer/Wine,Comedy,Food,Nightlife
ATTACH;FMTTYPE=image/jpeg:https://bevmain.org/wp-content/uploads/2023/06/IndoOpenMic.jpg
GEO:42.5521772;-70.8790122
X-APPLE-STRUCTURED-LOCATION;VALUE=URI;X-ADDRESS=The Indo 298 Cabot Street Beverly MA 01915 United States;X-APPLE-RADIUS=500;X-TITLE=298 Cabot Street:geo:-70.8790122,42.5521772
END:VEVENT
BEGIN:VEVENT
DTSTART;TZID=America/New_York:20260924T200000
DTEND;TZID=America/New_York:20260924T223000
DTSTAMP:20260421T130709
CREATED:20230424T165615Z
LAST-MODIFIED:20230424T165615Z
UID:10018147-1790280000-1790289000@bevmain.org
SUMMARY:Open Mic at Off Cabot
DESCRIPTION:Off Cabot Open Mic Night on the last Thursday of every month! \nThis show-and-go open mic will serve as one of the best places in New England to hone your comedic craft and showcase your talent in front of The Cabot Theater and John Tobin Presents teams! The list and the house will fill up quickly so get there early! \n8-10:30pm\nFree Admission!\n4-minute spots\nList available at 7:30pm \nSHOW UP — SIGN UP — GO UP!
URL:https://bevmain.org/event/open-mic-at-off-cabot/2026-09-24/
CATEGORIES:Beer/Wine,Comedy,Free,Nightlife
ATTACH;FMTTYPE=image/jpeg:https://bevmain.org/wp-content/uploads/2023/04/open-mic.jpg
END:VEVENT
BEGIN:VEVENT
DTSTART;TZID=America/New_York:20260928T200000
DTEND;TZID=America/New_York:20260928T230000
DTSTAMP:20260421T130709
CREATED:20230628T150156Z
LAST-MODIFIED:20231108T191914Z
UID:10019367-1790625600-1790636400@bevmain.org
SUMMARY:Open Mic at Indo
DESCRIPTION:Hosted by Bob Kramer & Nick Consone!
URL:https://bevmain.org/event/open-mic-at-indo/2026-09-28/
LOCATION:The Indo\, 298 Cabot Street\, Beverly\, MA\, 01915\, United States
CATEGORIES:Beer/Wine,Comedy,Food,Nightlife
ATTACH;FMTTYPE=image/jpeg:https://bevmain.org/wp-content/uploads/2023/06/IndoOpenMic.jpg
GEO:42.5521772;-70.8790122
X-APPLE-STRUCTURED-LOCATION;VALUE=URI;X-ADDRESS=The Indo 298 Cabot Street Beverly MA 01915 United States;X-APPLE-RADIUS=500;X-TITLE=298 Cabot Street:geo:-70.8790122,42.5521772
END:VEVENT
BEGIN:VEVENT
DTSTART;TZID=America/New_York:20261005T200000
DTEND;TZID=America/New_York:20261005T230000
DTSTAMP:20260421T130709
CREATED:20230628T150156Z
LAST-MODIFIED:20231108T191914Z
UID:10019368-1791230400-1791241200@bevmain.org
SUMMARY:Open Mic at Indo
DESCRIPTION:Hosted by Bob Kramer & Nick Consone!
URL:https://bevmain.org/event/open-mic-at-indo/2026-10-05/
LOCATION:The Indo\, 298 Cabot Street\, Beverly\, MA\, 01915\, United States
CATEGORIES:Beer/Wine,Comedy,Food,Nightlife
ATTACH;FMTTYPE=image/jpeg:https://bevmain.org/wp-content/uploads/2023/06/IndoOpenMic.jpg
GEO:42.5521772;-70.8790122
X-APPLE-STRUCTURED-LOCATION;VALUE=URI;X-ADDRESS=The Indo 298 Cabot Street Beverly MA 01915 United States;X-APPLE-RADIUS=500;X-TITLE=298 Cabot Street:geo:-70.8790122,42.5521772
END:VEVENT
BEGIN:VEVENT
DTSTART;TZID=America/New_York:20261012T200000
DTEND;TZID=America/New_York:20261012T230000
DTSTAMP:20260421T130709
CREATED:20230628T150156Z
LAST-MODIFIED:20231108T191914Z
UID:10019369-1791835200-1791846000@bevmain.org
SUMMARY:Open Mic at Indo
DESCRIPTION:Hosted by Bob Kramer & Nick Consone!
URL:https://bevmain.org/event/open-mic-at-indo/2026-10-12/
LOCATION:The Indo\, 298 Cabot Street\, Beverly\, MA\, 01915\, United States
CATEGORIES:Beer/Wine,Comedy,Food,Nightlife
ATTACH;FMTTYPE=image/jpeg:https://bevmain.org/wp-content/uploads/2023/06/IndoOpenMic.jpg
GEO:42.5521772;-70.8790122
X-APPLE-STRUCTURED-LOCATION;VALUE=URI;X-ADDRESS=The Indo 298 Cabot Street Beverly MA 01915 United States;X-APPLE-RADIUS=500;X-TITLE=298 Cabot Street:geo:-70.8790122,42.5521772
END:VEVENT
BEGIN:VEVENT
DTSTART;TZID=America/New_York:20261019T200000
DTEND;TZID=America/New_York:20261019T230000
DTSTAMP:20260421T130709
CREATED:20230628T150156Z
LAST-MODIFIED:20231108T191914Z
UID:10019370-1792440000-1792450800@bevmain.org
SUMMARY:Open Mic at Indo
DESCRIPTION:Hosted by Bob Kramer & Nick Consone!
URL:https://bevmain.org/event/open-mic-at-indo/2026-10-19/
LOCATION:The Indo\, 298 Cabot Street\, Beverly\, MA\, 01915\, United States
CATEGORIES:Beer/Wine,Comedy,Food,Nightlife
ATTACH;FMTTYPE=image/jpeg:https://bevmain.org/wp-content/uploads/2023/06/IndoOpenMic.jpg
GEO:42.5521772;-70.8790122
X-APPLE-STRUCTURED-LOCATION;VALUE=URI;X-ADDRESS=The Indo 298 Cabot Street Beverly MA 01915 United States;X-APPLE-RADIUS=500;X-TITLE=298 Cabot Street:geo:-70.8790122,42.5521772
END:VEVENT
BEGIN:VEVENT
DTSTART;TZID=America/New_York:20261022T200000
DTEND;TZID=America/New_York:20261022T223000
DTSTAMP:20260421T130709
CREATED:20230424T165615Z
LAST-MODIFIED:20230424T165615Z
UID:10018148-1792699200-1792708200@bevmain.org
SUMMARY:Open Mic at Off Cabot
DESCRIPTION:Off Cabot Open Mic Night on the last Thursday of every month! \nThis show-and-go open mic will serve as one of the best places in New England to hone your comedic craft and showcase your talent in front of The Cabot Theater and John Tobin Presents teams! The list and the house will fill up quickly so get there early! \n8-10:30pm\nFree Admission!\n4-minute spots\nList available at 7:30pm \nSHOW UP — SIGN UP — GO UP!
URL:https://bevmain.org/event/open-mic-at-off-cabot/2026-10-22/
CATEGORIES:Beer/Wine,Comedy,Free,Nightlife
ATTACH;FMTTYPE=image/jpeg:https://bevmain.org/wp-content/uploads/2023/04/open-mic.jpg
END:VEVENT
BEGIN:VEVENT
DTSTART;TZID=America/New_York:20261026T200000
DTEND;TZID=America/New_York:20261026T230000
DTSTAMP:20260421T130709
CREATED:20230628T150156Z
LAST-MODIFIED:20231108T191914Z
UID:10019371-1793044800-1793055600@bevmain.org
SUMMARY:Open Mic at Indo
DESCRIPTION:Hosted by Bob Kramer & Nick Consone!
URL:https://bevmain.org/event/open-mic-at-indo/2026-10-26/
LOCATION:The Indo\, 298 Cabot Street\, Beverly\, MA\, 01915\, United States
CATEGORIES:Beer/Wine,Comedy,Food,Nightlife
ATTACH;FMTTYPE=image/jpeg:https://bevmain.org/wp-content/uploads/2023/06/IndoOpenMic.jpg
GEO:42.5521772;-70.8790122
X-APPLE-STRUCTURED-LOCATION;VALUE=URI;X-ADDRESS=The Indo 298 Cabot Street Beverly MA 01915 United States;X-APPLE-RADIUS=500;X-TITLE=298 Cabot Street:geo:-70.8790122,42.5521772
END:VEVENT
BEGIN:VEVENT
DTSTART;TZID=America/New_York:20261102T200000
DTEND;TZID=America/New_York:20261102T230000
DTSTAMP:20260421T130709
CREATED:20230628T150156Z
LAST-MODIFIED:20231108T191914Z
UID:10019372-1793649600-1793660400@bevmain.org
SUMMARY:Open Mic at Indo
DESCRIPTION:Hosted by Bob Kramer & Nick Consone!
URL:https://bevmain.org/event/open-mic-at-indo/2026-11-02/
LOCATION:The Indo\, 298 Cabot Street\, Beverly\, MA\, 01915\, United States
CATEGORIES:Beer/Wine,Comedy,Food,Nightlife
ATTACH;FMTTYPE=image/jpeg:https://bevmain.org/wp-content/uploads/2023/06/IndoOpenMic.jpg
GEO:42.5521772;-70.8790122
X-APPLE-STRUCTURED-LOCATION;VALUE=URI;X-ADDRESS=The Indo 298 Cabot Street Beverly MA 01915 United States;X-APPLE-RADIUS=500;X-TITLE=298 Cabot Street:geo:-70.8790122,42.5521772
END:VEVENT
BEGIN:VEVENT
DTSTART;TZID=America/New_York:20261109T200000
DTEND;TZID=America/New_York:20261109T230000
DTSTAMP:20260421T130709
CREATED:20230628T150156Z
LAST-MODIFIED:20231108T191914Z
UID:10019373-1794254400-1794265200@bevmain.org
SUMMARY:Open Mic at Indo
DESCRIPTION:Hosted by Bob Kramer & Nick Consone!
URL:https://bevmain.org/event/open-mic-at-indo/2026-11-09/
LOCATION:The Indo\, 298 Cabot Street\, Beverly\, MA\, 01915\, United States
CATEGORIES:Beer/Wine,Comedy,Food,Nightlife
ATTACH;FMTTYPE=image/jpeg:https://bevmain.org/wp-content/uploads/2023/06/IndoOpenMic.jpg
GEO:42.5521772;-70.8790122
X-APPLE-STRUCTURED-LOCATION;VALUE=URI;X-ADDRESS=The Indo 298 Cabot Street Beverly MA 01915 United States;X-APPLE-RADIUS=500;X-TITLE=298 Cabot Street:geo:-70.8790122,42.5521772
END:VEVENT
BEGIN:VEVENT
DTSTART;TZID=America/New_York:20261116T200000
DTEND;TZID=America/New_York:20261116T230000
DTSTAMP:20260421T130709
CREATED:20230628T150156Z
LAST-MODIFIED:20231108T191914Z
UID:10019374-1794859200-1794870000@bevmain.org
SUMMARY:Open Mic at Indo
DESCRIPTION:Hosted by Bob Kramer & Nick Consone!
URL:https://bevmain.org/event/open-mic-at-indo/2026-11-16/
LOCATION:The Indo\, 298 Cabot Street\, Beverly\, MA\, 01915\, United States
CATEGORIES:Beer/Wine,Comedy,Food,Nightlife
ATTACH;FMTTYPE=image/jpeg:https://bevmain.org/wp-content/uploads/2023/06/IndoOpenMic.jpg
GEO:42.5521772;-70.8790122
X-APPLE-STRUCTURED-LOCATION;VALUE=URI;X-ADDRESS=The Indo 298 Cabot Street Beverly MA 01915 United States;X-APPLE-RADIUS=500;X-TITLE=298 Cabot Street:geo:-70.8790122,42.5521772
END:VEVENT
BEGIN:VEVENT
DTSTART;TZID=America/New_York:20261123T200000
DTEND;TZID=America/New_York:20261123T230000
DTSTAMP:20260421T130709
CREATED:20230628T150156Z
LAST-MODIFIED:20231108T191914Z
UID:10019375-1795464000-1795474800@bevmain.org
SUMMARY:Open Mic at Indo
DESCRIPTION:Hosted by Bob Kramer & Nick Consone!
URL:https://bevmain.org/event/open-mic-at-indo/2026-11-23/
LOCATION:The Indo\, 298 Cabot Street\, Beverly\, MA\, 01915\, United States
CATEGORIES:Beer/Wine,Comedy,Food,Nightlife
ATTACH;FMTTYPE=image/jpeg:https://bevmain.org/wp-content/uploads/2023/06/IndoOpenMic.jpg
GEO:42.5521772;-70.8790122
X-APPLE-STRUCTURED-LOCATION;VALUE=URI;X-ADDRESS=The Indo 298 Cabot Street Beverly MA 01915 United States;X-APPLE-RADIUS=500;X-TITLE=298 Cabot Street:geo:-70.8790122,42.5521772
END:VEVENT
BEGIN:VEVENT
DTSTART;TZID=America/New_York:20261126T200000
DTEND;TZID=America/New_York:20261126T223000
DTSTAMP:20260421T130709
CREATED:20230424T165615Z
LAST-MODIFIED:20230424T165615Z
UID:10018149-1795723200-1795732200@bevmain.org
SUMMARY:Open Mic at Off Cabot
DESCRIPTION:Off Cabot Open Mic Night on the last Thursday of every month! \nThis show-and-go open mic will serve as one of the best places in New England to hone your comedic craft and showcase your talent in front of The Cabot Theater and John Tobin Presents teams! The list and the house will fill up quickly so get there early! \n8-10:30pm\nFree Admission!\n4-minute spots\nList available at 7:30pm \nSHOW UP — SIGN UP — GO UP!
URL:https://bevmain.org/event/open-mic-at-off-cabot/2026-11-26/
CATEGORIES:Beer/Wine,Comedy,Free,Nightlife
ATTACH;FMTTYPE=image/jpeg:https://bevmain.org/wp-content/uploads/2023/04/open-mic.jpg
END:VEVENT
BEGIN:VEVENT
DTSTART;TZID=America/New_York:20261130T200000
DTEND;TZID=America/New_York:20261130T230000
DTSTAMP:20260421T130709
CREATED:20230628T150156Z
LAST-MODIFIED:20231108T191914Z
UID:10019376-1796068800-1796079600@bevmain.org
SUMMARY:Open Mic at Indo
DESCRIPTION:Hosted by Bob Kramer & Nick Consone!
URL:https://bevmain.org/event/open-mic-at-indo/2026-11-30/
LOCATION:The Indo\, 298 Cabot Street\, Beverly\, MA\, 01915\, United States
CATEGORIES:Beer/Wine,Comedy,Food,Nightlife
ATTACH;FMTTYPE=image/jpeg:https://bevmain.org/wp-content/uploads/2023/06/IndoOpenMic.jpg
GEO:42.5521772;-70.8790122
X-APPLE-STRUCTURED-LOCATION;VALUE=URI;X-ADDRESS=The Indo 298 Cabot Street Beverly MA 01915 United States;X-APPLE-RADIUS=500;X-TITLE=298 Cabot Street:geo:-70.8790122,42.5521772
END:VEVENT
BEGIN:VEVENT
DTSTART;TZID=America/New_York:20261207T200000
DTEND;TZID=America/New_York:20261207T230000
DTSTAMP:20260421T130709
CREATED:20230628T150156Z
LAST-MODIFIED:20231108T191914Z
UID:10019377-1796673600-1796684400@bevmain.org
SUMMARY:Open Mic at Indo
DESCRIPTION:Hosted by Bob Kramer & Nick Consone!
URL:https://bevmain.org/event/open-mic-at-indo/2026-12-07/
LOCATION:The Indo\, 298 Cabot Street\, Beverly\, MA\, 01915\, United States
CATEGORIES:Beer/Wine,Comedy,Food,Nightlife
ATTACH;FMTTYPE=image/jpeg:https://bevmain.org/wp-content/uploads/2023/06/IndoOpenMic.jpg
GEO:42.5521772;-70.8790122
X-APPLE-STRUCTURED-LOCATION;VALUE=URI;X-ADDRESS=The Indo 298 Cabot Street Beverly MA 01915 United States;X-APPLE-RADIUS=500;X-TITLE=298 Cabot Street:geo:-70.8790122,42.5521772
END:VEVENT
END:VCALENDAR