BEGIN:VCALENDAR
VERSION:2.0
PRODID:-//Beverly Main Streets - ECPv6.15.20//NONSGML v1.0//EN
CALSCALE:GREGORIAN
METHOD:PUBLISH
X-WR-CALNAME:Beverly Main Streets
X-ORIGINAL-URL:https://bevmain.org
X-WR-CALDESC:Events for Beverly Main Streets
REFRESH-INTERVAL;VALUE=DURATION:PT1H
X-Robots-Tag:noindex
X-PUBLISHED-TTL:PT1H
BEGIN:VTIMEZONE
TZID:America/New_York
BEGIN:DAYLIGHT
TZOFFSETFROM:-0500
TZOFFSETTO:-0400
TZNAME:EDT
DTSTART:20240310T070000
END:DAYLIGHT
BEGIN:STANDARD
TZOFFSETFROM:-0400
TZOFFSETTO:-0500
TZNAME:EST
DTSTART:20241103T060000
END:STANDARD
BEGIN:DAYLIGHT
TZOFFSETFROM:-0500
TZOFFSETTO:-0400
TZNAME:EDT
DTSTART:20250309T070000
END:DAYLIGHT
BEGIN:STANDARD
TZOFFSETFROM:-0400
TZOFFSETTO:-0500
TZNAME:EST
DTSTART:20251102T060000
END:STANDARD
BEGIN:DAYLIGHT
TZOFFSETFROM:-0500
TZOFFSETTO:-0400
TZNAME:EDT
DTSTART:20260308T070000
END:DAYLIGHT
BEGIN:STANDARD
TZOFFSETFROM:-0400
TZOFFSETTO:-0500
TZNAME:EST
DTSTART:20261101T060000
END:STANDARD
END:VTIMEZONE
BEGIN:VEVENT
DTSTART;TZID=America/New_York:20250902T160000
DTEND;TZID=America/New_York:20250902T200000
DTSTAMP:20260422T210337
CREATED:20250617T200220Z
LAST-MODIFIED:20250617T203609Z
UID:10034133-1756828800-1756843200@bevmain.org
SUMMARY:Drop-In: Motion Graphics with After Effects
DESCRIPTION:Stop by BevCam anytime between 4–8 PM to explore and practice your motion graphics skills! This open drop-in session is ideal for anyone interested in animation and visual effects. Learn how to bring your creative vision to life using Adobe After Effects. No prior experience needed\, no sign-up required – just come on in!
URL:https://bevmain.org/event/motion-graphics-or-video-editing-drop-in/2025-09-02/
LOCATION:BevCam\, Cabot Street\, Beverly\, Massachusetts\, 01915\, United States
CATEGORIES:Film,Free,Workshop
ATTACH;FMTTYPE=image/jpeg:https://bevmain.org/wp-content/uploads/2025/06/motion-graphics-scaled.jpg
ORGANIZER;CN="BevCam":MAILTO:amanda@bevcam.org
GEO:42.550186;-70.8777001
X-APPLE-STRUCTURED-LOCATION;VALUE=URI;X-ADDRESS=BevCam Cabot Street Beverly Massachusetts 01915 United States;X-APPLE-RADIUS=500;X-TITLE=Cabot Street:geo:-70.8777001,42.550186
END:VEVENT
BEGIN:VEVENT
DTSTART;TZID=America/New_York:20250907T130000
DTEND;TZID=America/New_York:20250907T170000
DTSTAMP:20260422T210337
CREATED:20250709T141953Z
LAST-MODIFIED:20250709T142002Z
UID:10034974-1757250000-1757264400@bevmain.org
SUMMARY:Harbor Fest 2025
DESCRIPTION:The 14th annual Harbor Fest will be held at Lynch Park on Sunday September 7 from 1 – 5. It is a lively family celebration on the water hosted by the Beverly Harbor Management Authority. There are games on the lawn\, marine and energy-related information booths\, numerous local food vendors\, face painting\, a magic show\, music in the shell\, a beer garden at the Carriage House\, and much more. Social media promotion is in process on Facebook (#beverlyharborfest2025) and soon on Instagram. There is also\, for the first time\, going to be a banner across Cabot Street for the 2 weeks leading up to the event. Harbor Fest is free for all and attendees have exceeded 2\,000 for each of the last 3 years.
URL:https://bevmain.org/event/harbor-fest-2025/
LOCATION:Lynch Park\, Beverly\, 01915
CATEGORIES:Beer/Wine,Community Events,Film,Food,Free,Kids,Music/Concert,Outdoor
ATTACH;FMTTYPE=image/jpeg:https://bevmain.org/wp-content/uploads/2025/07/Harbor-Fest-Logo-2018.jpg
ORGANIZER;CN="Harbor Management Authority":MAILTO:info@gloverwharf.com
GEO:42.5720581;-70.8476708
END:VEVENT
BEGIN:VEVENT
DTSTART;TZID=America/New_York:20250909T160000
DTEND;TZID=America/New_York:20250909T200000
DTSTAMP:20260422T210337
CREATED:20250617T200220Z
LAST-MODIFIED:20250617T203609Z
UID:10034134-1757433600-1757448000@bevmain.org
SUMMARY:Drop-In: Motion Graphics with After Effects
DESCRIPTION:Stop by BevCam anytime between 4–8 PM to explore and practice your motion graphics skills! This open drop-in session is ideal for anyone interested in animation and visual effects. Learn how to bring your creative vision to life using Adobe After Effects. No prior experience needed\, no sign-up required – just come on in!
URL:https://bevmain.org/event/motion-graphics-or-video-editing-drop-in/2025-09-09/
LOCATION:BevCam\, Cabot Street\, Beverly\, Massachusetts\, 01915\, United States
CATEGORIES:Film,Free,Workshop
ATTACH;FMTTYPE=image/jpeg:https://bevmain.org/wp-content/uploads/2025/06/motion-graphics-scaled.jpg
ORGANIZER;CN="BevCam":MAILTO:amanda@bevcam.org
GEO:42.550186;-70.8777001
X-APPLE-STRUCTURED-LOCATION;VALUE=URI;X-ADDRESS=BevCam Cabot Street Beverly Massachusetts 01915 United States;X-APPLE-RADIUS=500;X-TITLE=Cabot Street:geo:-70.8777001,42.550186
END:VEVENT
BEGIN:VEVENT
DTSTART;TZID=America/New_York:20250916T160000
DTEND;TZID=America/New_York:20250916T200000
DTSTAMP:20260422T210337
CREATED:20250617T200220Z
LAST-MODIFIED:20250617T203609Z
UID:10034135-1758038400-1758052800@bevmain.org
SUMMARY:Drop-In: Motion Graphics with After Effects
DESCRIPTION:Stop by BevCam anytime between 4–8 PM to explore and practice your motion graphics skills! This open drop-in session is ideal for anyone interested in animation and visual effects. Learn how to bring your creative vision to life using Adobe After Effects. No prior experience needed\, no sign-up required – just come on in!
URL:https://bevmain.org/event/motion-graphics-or-video-editing-drop-in/2025-09-16/
LOCATION:BevCam\, Cabot Street\, Beverly\, Massachusetts\, 01915\, United States
CATEGORIES:Film,Free,Workshop
ATTACH;FMTTYPE=image/jpeg:https://bevmain.org/wp-content/uploads/2025/06/motion-graphics-scaled.jpg
ORGANIZER;CN="BevCam":MAILTO:amanda@bevcam.org
GEO:42.550186;-70.8777001
X-APPLE-STRUCTURED-LOCATION;VALUE=URI;X-ADDRESS=BevCam Cabot Street Beverly Massachusetts 01915 United States;X-APPLE-RADIUS=500;X-TITLE=Cabot Street:geo:-70.8777001,42.550186
END:VEVENT
BEGIN:VEVENT
DTSTART;TZID=America/New_York:20250917T180000
DTEND;TZID=America/New_York:20250917T193000
DTSTAMP:20260422T210337
CREATED:20250911T195250Z
LAST-MODIFIED:20250911T195250Z
UID:10035919-1758132000-1758137400@bevmain.org
SUMMARY:Intro to Podcasting: The Podcast!
DESCRIPTION:Come on by BevCam Downtown\, 261 Cabot St\, for a fun session with BevCam Education Manager Amanda Hurley. Learn how to set up for a podcast—from equipment and recording to producing and hosting. Then\, jump into a live podcast experience with one of our veteran podcasters\, where you’ll get an inside look at their process! You’ll have the chance to ask questions\, try the mic yourself\, and chat about your podcasting ideas.\nWhether you’re a seasoned podcaster or completely new\, this workshop is for anyone exploring the ins and outs of podcasting. Get ready to share your voice with the world!\nP.S. This will be done as a video podcast- and will air on the channel\, YouTube\, and all the podcast platforms!\nTickets are free for BevCam members!\n$15 for non-members.\nSee you there!
URL:https://bevmain.org/event/intro-to-podcasting-the-podcast-2/
LOCATION:BevCam\, Cabot Street\, Beverly\, Massachusetts\, 01915\, United States
CATEGORIES:Community Events,Film,Workshop
ATTACH;FMTTYPE=image/png:https://bevmain.org/wp-content/uploads/2025/09/Intro-to-Podcasting-3000-x-3000-px-scaled.png
ORGANIZER;CN="BevCam":MAILTO:amanda@bevcam.org
GEO:42.550186;-70.8777001
X-APPLE-STRUCTURED-LOCATION;VALUE=URI;X-ADDRESS=BevCam Cabot Street Beverly Massachusetts 01915 United States;X-APPLE-RADIUS=500;X-TITLE=Cabot Street:geo:-70.8777001,42.550186
END:VEVENT
BEGIN:VEVENT
DTSTART;TZID=America/New_York:20250921T190000
DTEND;TZID=America/New_York:20250921T190000
DTSTAMP:20260422T210337
CREATED:20250718T134335Z
LAST-MODIFIED:20250718T134335Z
UID:10035260-1758481200-1758481200@bevmain.org
SUMMARY:Stop Making Sense (Screening + Live Q&A w/ Jerry Harrison)
DESCRIPTION:Live Event Hosted by Jerry Harrison \nA Film by Jonathan Demme and Talking Heads \nNewly restored in 4K to coincide with its 40th anniversary\, the 1984 film was directed by renowned filmmaker Jonathan Demme and is considered by critics as the greatest concert film of all time. Starring band members David Byrne\, Chris Frantz\, Jerry Harrison and Tina Weymouth (along with their incredible touring musicians)\, the live performance was shot at Hollywood’s Pantages Theater and features Talking Heads’ most memorable songs. The live event will feature a public screening of the re – release and hosted by co – star Jerry Harrison who will deliver introductory remarks\, post screening comments and audience Q&A.
URL:https://bevmain.org/event/stop-making-sense-screening-live-qa-w-jerry-harrison/
LOCATION:The Cabot\, 286 Cabot Street\, Beverly\, MA\, 01915\, United States
CATEGORIES:Film,Nightlife
ATTACH;FMTTYPE=image/jpeg:https://bevmain.org/wp-content/uploads/2025/07/image0.jpeg
GEO:42.5514727;-70.878838
X-APPLE-STRUCTURED-LOCATION;VALUE=URI;X-ADDRESS=The Cabot 286 Cabot Street Beverly MA 01915 United States;X-APPLE-RADIUS=500;X-TITLE=286 Cabot Street:geo:-70.878838,42.5514727
END:VEVENT
BEGIN:VEVENT
DTSTART;TZID=America/New_York:20250923T160000
DTEND;TZID=America/New_York:20250923T200000
DTSTAMP:20260422T210337
CREATED:20250617T200220Z
LAST-MODIFIED:20250617T203609Z
UID:10034136-1758643200-1758657600@bevmain.org
SUMMARY:Drop-In: Motion Graphics with After Effects
DESCRIPTION:Stop by BevCam anytime between 4–8 PM to explore and practice your motion graphics skills! This open drop-in session is ideal for anyone interested in animation and visual effects. Learn how to bring your creative vision to life using Adobe After Effects. No prior experience needed\, no sign-up required – just come on in!
URL:https://bevmain.org/event/motion-graphics-or-video-editing-drop-in/2025-09-23/
LOCATION:BevCam\, Cabot Street\, Beverly\, Massachusetts\, 01915\, United States
CATEGORIES:Film,Free,Workshop
ATTACH;FMTTYPE=image/jpeg:https://bevmain.org/wp-content/uploads/2025/06/motion-graphics-scaled.jpg
ORGANIZER;CN="BevCam":MAILTO:amanda@bevcam.org
GEO:42.550186;-70.8777001
X-APPLE-STRUCTURED-LOCATION;VALUE=URI;X-ADDRESS=BevCam Cabot Street Beverly Massachusetts 01915 United States;X-APPLE-RADIUS=500;X-TITLE=Cabot Street:geo:-70.8777001,42.550186
END:VEVENT
BEGIN:VEVENT
DTSTART;TZID=America/New_York:20250925T200000
DTEND;TZID=America/New_York:20250925T200000
DTSTAMP:20260422T210337
CREATED:20250721T182326Z
LAST-MODIFIED:20250721T182326Z
UID:10035262-1758830400-1758830400@bevmain.org
SUMMARY:Evil Dead in Concert
DESCRIPTION:SCREENING w/ LIVE SCORE! VIP tickets available. \nEvil Dead In Concert\, a live-to-film experience that thrills and chills\, resurrects Sam Raimi’s beloved cult classic in a way audiences have never seen before — in this lifetime. \nThe legendary film will be screened in a newly restored format and brought to life on stage while a live ensemble performs the entire revamped original musical score from composer Joe LoDuca. \nLoDuca began his film career by composing this iconic score for director Sam Raimi\, and went on to win multiple Emmys for his scoring work. Most recently\, Joe released a reimagining and re-recording of the original Evil Dead score called “Evil Dead: A Nightmare Reimagined\,” where he re-recorded and expanded on the original musical themes of the movie. \nEvil Dead follows five college students on vacation in an isolated cabin in the woods\, where they unwittingly release absolute evil into the world and have to fight to survive. This indie classic is known as one of the most significant cult horror films of all time\, and has generated a massive following worldwide since its release.
URL:https://bevmain.org/event/evil-dead-in-concert/
LOCATION:The Cabot\, 286 Cabot Street\, Beverly\, MA\, 01915\, United States
CATEGORIES:Film,Music/Concert
ATTACH;FMTTYPE=image/jpeg:https://bevmain.org/wp-content/uploads/2025/07/evil-dead.jpg
GEO:42.5514727;-70.878838
X-APPLE-STRUCTURED-LOCATION;VALUE=URI;X-ADDRESS=The Cabot 286 Cabot Street Beverly MA 01915 United States;X-APPLE-RADIUS=500;X-TITLE=286 Cabot Street:geo:-70.878838,42.5514727
END:VEVENT
BEGIN:VEVENT
DTSTART;TZID=America/New_York:20250930T160000
DTEND;TZID=America/New_York:20250930T200000
DTSTAMP:20260422T210337
CREATED:20250617T200220Z
LAST-MODIFIED:20250617T203609Z
UID:10034137-1759248000-1759262400@bevmain.org
SUMMARY:Drop-In: Motion Graphics with After Effects
DESCRIPTION:Stop by BevCam anytime between 4–8 PM to explore and practice your motion graphics skills! This open drop-in session is ideal for anyone interested in animation and visual effects. Learn how to bring your creative vision to life using Adobe After Effects. No prior experience needed\, no sign-up required – just come on in!
URL:https://bevmain.org/event/motion-graphics-or-video-editing-drop-in/2025-09-30/
LOCATION:BevCam\, Cabot Street\, Beverly\, Massachusetts\, 01915\, United States
CATEGORIES:Film,Free,Workshop
ATTACH;FMTTYPE=image/jpeg:https://bevmain.org/wp-content/uploads/2025/06/motion-graphics-scaled.jpg
ORGANIZER;CN="BevCam":MAILTO:amanda@bevcam.org
GEO:42.550186;-70.8777001
X-APPLE-STRUCTURED-LOCATION;VALUE=URI;X-ADDRESS=BevCam Cabot Street Beverly Massachusetts 01915 United States;X-APPLE-RADIUS=500;X-TITLE=Cabot Street:geo:-70.8777001,42.550186
END:VEVENT
END:VCALENDAR