BEGIN:VCALENDAR
VERSION:2.0
PRODID:-//Beverly Main Streets - ECPv6.15.20//NONSGML v1.0//EN
CALSCALE:GREGORIAN
METHOD:PUBLISH
X-ORIGINAL-URL:https://bevmain.org
X-WR-CALDESC:Events for Beverly Main Streets
REFRESH-INTERVAL;VALUE=DURATION:PT1H
X-Robots-Tag:noindex
X-PUBLISHED-TTL:PT1H
BEGIN:VTIMEZONE
TZID:America/New_York
BEGIN:DAYLIGHT
TZOFFSETFROM:-0500
TZOFFSETTO:-0400
TZNAME:EDT
DTSTART:20240310T070000
END:DAYLIGHT
BEGIN:STANDARD
TZOFFSETFROM:-0400
TZOFFSETTO:-0500
TZNAME:EST
DTSTART:20241103T060000
END:STANDARD
BEGIN:DAYLIGHT
TZOFFSETFROM:-0500
TZOFFSETTO:-0400
TZNAME:EDT
DTSTART:20250309T070000
END:DAYLIGHT
BEGIN:STANDARD
TZOFFSETFROM:-0400
TZOFFSETTO:-0500
TZNAME:EST
DTSTART:20251102T060000
END:STANDARD
BEGIN:DAYLIGHT
TZOFFSETFROM:-0500
TZOFFSETTO:-0400
TZNAME:EDT
DTSTART:20260308T070000
END:DAYLIGHT
BEGIN:STANDARD
TZOFFSETFROM:-0400
TZOFFSETTO:-0500
TZNAME:EST
DTSTART:20261101T060000
END:STANDARD
END:VTIMEZONE
BEGIN:VEVENT
DTSTART;TZID=America/New_York:20251005T170000
DTEND;TZID=America/New_York:20251005T170000
DTSTAMP:20260422T193244
CREATED:20250721T182513Z
LAST-MODIFIED:20250721T182513Z
UID:10035266-1759683600-1759683600@bevmain.org
SUMMARY:Hocus Pocus w/ Live Commentary
DESCRIPTION:“Hocus Pocus” fans will go “amuck” for this unique screening event full of behind the scenes anecdotes! \nVIP package available! \nActors Vinessa Shaw (“Alison”)\, Omri Katz (“Max”)\, Larry Bagby (“Ice”)\, Tobias Jelenik (“Jay”) and Jason Marsden (voice of “Binx”) will be watching along with you and providing live commentary! They will conjure a pre-show Q&A and perhaps a little bit of extra “magic!” Get tickets now “before it’s curtains – they evaporate – cease to exist!”
URL:https://bevmain.org/event/hocus-pocus-w-live-commentary-2/
LOCATION:The Cabot\, 286 Cabot Street\, Beverly\, MA\, 01915\, United States
CATEGORIES:Film
ATTACH;FMTTYPE=image/jpeg:https://bevmain.org/wp-content/uploads/2025/07/Hocus-Pocus_Cabot-Theatre_Square.jpg
GEO:42.5514727;-70.878838
X-APPLE-STRUCTURED-LOCATION;VALUE=URI;X-ADDRESS=The Cabot 286 Cabot Street Beverly MA 01915 United States;X-APPLE-RADIUS=500;X-TITLE=286 Cabot Street:geo:-70.878838,42.5514727
END:VEVENT
BEGIN:VEVENT
DTSTART;TZID=America/New_York:20251007T160000
DTEND;TZID=America/New_York:20251007T200000
DTSTAMP:20260422T193244
CREATED:20250617T200220Z
LAST-MODIFIED:20250617T203609Z
UID:10034138-1759852800-1759867200@bevmain.org
SUMMARY:Drop-In: Motion Graphics with After Effects
DESCRIPTION:Stop by BevCam anytime between 4–8 PM to explore and practice your motion graphics skills! This open drop-in session is ideal for anyone interested in animation and visual effects. Learn how to bring your creative vision to life using Adobe After Effects. No prior experience needed\, no sign-up required – just come on in!
URL:https://bevmain.org/event/motion-graphics-or-video-editing-drop-in/2025-10-07/
LOCATION:BevCam\, Cabot Street\, Beverly\, Massachusetts\, 01915\, United States
CATEGORIES:Film,Free,Workshop
ATTACH;FMTTYPE=image/jpeg:https://bevmain.org/wp-content/uploads/2025/06/motion-graphics-scaled.jpg
ORGANIZER;CN="BevCam":MAILTO:amanda@bevcam.org
GEO:42.550186;-70.8777001
X-APPLE-STRUCTURED-LOCATION;VALUE=URI;X-ADDRESS=BevCam Cabot Street Beverly Massachusetts 01915 United States;X-APPLE-RADIUS=500;X-TITLE=Cabot Street:geo:-70.8777001,42.550186
END:VEVENT
BEGIN:VEVENT
DTSTART;TZID=America/New_York:20251010T170000
DTEND;TZID=America/New_York:20251010T200000
DTSTAMP:20260422T193244
CREATED:20250924T170729Z
LAST-MODIFIED:20250924T170729Z
UID:10036050-1760115600-1760126400@bevmain.org
SUMMARY:Scary Movie Night
DESCRIPTION:Join us if you dare to watch a horror movie at McPherson. Register on our website for the event to vote for the film you want to see. Film ratings range from PG to PG-13. Film will be announced on the McPherson Instagram\, @myphersonyouth\, on Monday October 6th. Follow us to stay tuned!
URL:https://bevmain.org/event/scary-movie-night/
LOCATION:48 park street\, Beverly\, MA 01915\, 48 Park Street\, Beverly\, 01915\, United States
CATEGORIES:Film,Free
ATTACH;FMTTYPE=image/png:https://bevmain.org/wp-content/uploads/2025/09/Screenshot-2025-09-18-130134.png
ORGANIZER;CN="The Myles McPherson Youth Center":MAILTO:barths@northshoreymca.org
GEO:42.5489583;-70.8849566
X-APPLE-STRUCTURED-LOCATION;VALUE=URI;X-ADDRESS=48 park street Beverly MA 01915 48 Park Street Beverly 01915 United States;X-APPLE-RADIUS=500;X-TITLE=48 Park Street:geo:-70.8849566,42.5489583
END:VEVENT
BEGIN:VEVENT
DTSTART;TZID=America/New_York:20251014T160000
DTEND;TZID=America/New_York:20251014T200000
DTSTAMP:20260422T193244
CREATED:20250617T200220Z
LAST-MODIFIED:20250617T203609Z
UID:10034139-1760457600-1760472000@bevmain.org
SUMMARY:Drop-In: Motion Graphics with After Effects
DESCRIPTION:Stop by BevCam anytime between 4–8 PM to explore and practice your motion graphics skills! This open drop-in session is ideal for anyone interested in animation and visual effects. Learn how to bring your creative vision to life using Adobe After Effects. No prior experience needed\, no sign-up required – just come on in!
URL:https://bevmain.org/event/motion-graphics-or-video-editing-drop-in/2025-10-14/
LOCATION:BevCam\, Cabot Street\, Beverly\, Massachusetts\, 01915\, United States
CATEGORIES:Film,Free,Workshop
ATTACH;FMTTYPE=image/jpeg:https://bevmain.org/wp-content/uploads/2025/06/motion-graphics-scaled.jpg
ORGANIZER;CN="BevCam":MAILTO:amanda@bevcam.org
GEO:42.550186;-70.8777001
X-APPLE-STRUCTURED-LOCATION;VALUE=URI;X-ADDRESS=BevCam Cabot Street Beverly Massachusetts 01915 United States;X-APPLE-RADIUS=500;X-TITLE=Cabot Street:geo:-70.8777001,42.550186
END:VEVENT
BEGIN:VEVENT
DTSTART;TZID=America/New_York:20251021T160000
DTEND;TZID=America/New_York:20251021T200000
DTSTAMP:20260422T193244
CREATED:20250617T200220Z
LAST-MODIFIED:20250617T203609Z
UID:10034140-1761062400-1761076800@bevmain.org
SUMMARY:Drop-In: Motion Graphics with After Effects
DESCRIPTION:Stop by BevCam anytime between 4–8 PM to explore and practice your motion graphics skills! This open drop-in session is ideal for anyone interested in animation and visual effects. Learn how to bring your creative vision to life using Adobe After Effects. No prior experience needed\, no sign-up required – just come on in!
URL:https://bevmain.org/event/motion-graphics-or-video-editing-drop-in/2025-10-21/
LOCATION:BevCam\, Cabot Street\, Beverly\, Massachusetts\, 01915\, United States
CATEGORIES:Film,Free,Workshop
ATTACH;FMTTYPE=image/jpeg:https://bevmain.org/wp-content/uploads/2025/06/motion-graphics-scaled.jpg
ORGANIZER;CN="BevCam":MAILTO:amanda@bevcam.org
GEO:42.550186;-70.8777001
X-APPLE-STRUCTURED-LOCATION;VALUE=URI;X-ADDRESS=BevCam Cabot Street Beverly Massachusetts 01915 United States;X-APPLE-RADIUS=500;X-TITLE=Cabot Street:geo:-70.8777001,42.550186
END:VEVENT
BEGIN:VEVENT
DTSTART;TZID=America/New_York:20251022T153000
DTEND;TZID=America/New_York:20251022T163000
DTSTAMP:20260422T193244
CREATED:20250912T130811Z
LAST-MODIFIED:20250912T130832Z
UID:10035920-1761147000-1761150600@bevmain.org
SUMMARY:BevCam Kids- Intro to Podcasting!
DESCRIPTION:Want to be on the BevCam Kids podcast? Join us for a hands-on workshop on podcasting basics\, explore your ideas\, and hop on the mic! \nCome on by BevCam Downtown\, 261 Cabot St\, for a fun session with BevCam Education Manager Amanda Hurley. Learn the basics on how to set up for a podcast and brainstorm ideas! Then get on the mic and film an episode of BevCam Kids with us and be featured on our cable channel\, YouTube\, AND all the podcast platforms! We will touch on essential topics like favorite books\, what they would do if they were mayor\, and what kind of superhero they would be! \nBing\, bang\, boom- now you’re a podcaster. \nBy the way\, BevCam members can create their own podcast and book our studio regularly to shoot their episodes – kid members included! Want to do a Podcast about Minecraft? Go for it. Cute animals\, world events\, Taylor Swift- nothing is off limits for your podcast. \nTickets are free for BevCam members. \n$15 for non-members. \nSee you there!
URL:https://bevmain.org/event/bevcam-kids-intro-to-podcasting/
LOCATION:BevCam\, Cabot Street\, Beverly\, Massachusetts\, 01915\, United States
CATEGORIES:Film,Kids,Workshop
ATTACH;FMTTYPE=image/jpeg:https://bevmain.org/wp-content/uploads/2025/09/BevCam-Kids-scaled.jpg
ORGANIZER;CN="BevCam":MAILTO:amanda@bevcam.org
GEO:42.550186;-70.8777001
X-APPLE-STRUCTURED-LOCATION;VALUE=URI;X-ADDRESS=BevCam Cabot Street Beverly Massachusetts 01915 United States;X-APPLE-RADIUS=500;X-TITLE=Cabot Street:geo:-70.8777001,42.550186
END:VEVENT
BEGIN:VEVENT
DTSTART;TZID=America/New_York:20251025T200000
DTEND;TZID=America/New_York:20251025T200000
DTSTAMP:20260422T193244
CREATED:20250721T183317Z
LAST-MODIFIED:20250721T183317Z
UID:10035271-1761422400-1761422400@bevmain.org
SUMMARY:The Rocky Horror Picture Show w/ The RKO Army
DESCRIPTION:50th Anniversary Celebration! \nScreening + Shadowcast with the legendary RKO Army \nThe RKO Army Thriller Tour 2025 comes to The Cabot to give you a full experience of the cult phenomenon. \nEnjoy a set of preshows\, featuring their famous “Thriller” set. Then\, experience the greatest cult movie of all time shadow-casted by The RKO Army. Brad & Janet\, a newly engaged couple have a car breakdown in an isolated area and must find a phone to call for help. They find themselves at the bizarre castle of Dr. Frank-N-Furter\, a transvestite mad scientist\, and meet challenges they are unprepared for. They\, and you the audience\, meet a large group of Transylvanians. They dance to the ‘Time Warp’. Dr. Frank-N-Furter builds his own man. Eddie comes out of deep freeze. A rival scientist comes to the castle. And what of the floor show that is held in the middle of the night?! \nYour ticket includes a prop bag!
URL:https://bevmain.org/event/the-rocky-horror-picture-show-w-the-rko-army-3/
LOCATION:The Cabot\, 286 Cabot Street\, Beverly\, MA\, 01915\, United States
CATEGORIES:Film
ATTACH;FMTTYPE=image/png:https://bevmain.org/wp-content/uploads/2025/07/Thriller-Tour-2025-EB-Black.png
GEO:42.5514727;-70.878838
X-APPLE-STRUCTURED-LOCATION;VALUE=URI;X-ADDRESS=The Cabot 286 Cabot Street Beverly MA 01915 United States;X-APPLE-RADIUS=500;X-TITLE=286 Cabot Street:geo:-70.878838,42.5514727
END:VEVENT
BEGIN:VEVENT
DTSTART;TZID=America/New_York:20251028T160000
DTEND;TZID=America/New_York:20251028T200000
DTSTAMP:20260422T193244
CREATED:20250617T200220Z
LAST-MODIFIED:20250617T203609Z
UID:10034141-1761667200-1761681600@bevmain.org
SUMMARY:Drop-In: Motion Graphics with After Effects
DESCRIPTION:Stop by BevCam anytime between 4–8 PM to explore and practice your motion graphics skills! This open drop-in session is ideal for anyone interested in animation and visual effects. Learn how to bring your creative vision to life using Adobe After Effects. No prior experience needed\, no sign-up required – just come on in!
URL:https://bevmain.org/event/motion-graphics-or-video-editing-drop-in/2025-10-28/
LOCATION:BevCam\, Cabot Street\, Beverly\, Massachusetts\, 01915\, United States
CATEGORIES:Film,Free,Workshop
ATTACH;FMTTYPE=image/jpeg:https://bevmain.org/wp-content/uploads/2025/06/motion-graphics-scaled.jpg
ORGANIZER;CN="BevCam":MAILTO:amanda@bevcam.org
GEO:42.550186;-70.8777001
X-APPLE-STRUCTURED-LOCATION;VALUE=URI;X-ADDRESS=BevCam Cabot Street Beverly Massachusetts 01915 United States;X-APPLE-RADIUS=500;X-TITLE=Cabot Street:geo:-70.8777001,42.550186
END:VEVENT
END:VCALENDAR