BEGIN:VCALENDAR
VERSION:2.0
PRODID:-//Beverly Main Streets - ECPv6.15.20//NONSGML v1.0//EN
CALSCALE:GREGORIAN
METHOD:PUBLISH
X-WR-CALNAME:Beverly Main Streets
X-ORIGINAL-URL:https://bevmain.org
X-WR-CALDESC:Events for Beverly Main Streets
REFRESH-INTERVAL;VALUE=DURATION:PT1H
X-Robots-Tag:noindex
X-PUBLISHED-TTL:PT1H
BEGIN:VTIMEZONE
TZID:America/New_York
BEGIN:DAYLIGHT
TZOFFSETFROM:-0500
TZOFFSETTO:-0400
TZNAME:EDT
DTSTART:20250309T070000
END:DAYLIGHT
BEGIN:STANDARD
TZOFFSETFROM:-0400
TZOFFSETTO:-0500
TZNAME:EST
DTSTART:20251102T060000
END:STANDARD
BEGIN:DAYLIGHT
TZOFFSETFROM:-0500
TZOFFSETTO:-0400
TZNAME:EDT
DTSTART:20260308T070000
END:DAYLIGHT
BEGIN:STANDARD
TZOFFSETFROM:-0400
TZOFFSETTO:-0500
TZNAME:EST
DTSTART:20261101T060000
END:STANDARD
BEGIN:DAYLIGHT
TZOFFSETFROM:-0500
TZOFFSETTO:-0400
TZNAME:EDT
DTSTART:20270314T070000
END:DAYLIGHT
BEGIN:STANDARD
TZOFFSETFROM:-0400
TZOFFSETTO:-0500
TZNAME:EST
DTSTART:20271107T060000
END:STANDARD
END:VTIMEZONE
BEGIN:VEVENT
DTSTART;TZID=America/New_York:20260210T190000
DTEND;TZID=America/New_York:20260210T210000
DTSTAMP:20260422T131939
CREATED:20260115T205203Z
LAST-MODIFIED:20260115T205203Z
UID:10037720-1770750000-1770757200@bevmain.org
SUMMARY:Beverly 400 Free Screening: The Proposal
DESCRIPTION:Beverly has had many moments on the big screen\, and we’re celebrating that in style! \nJoin Beverly 400+ at The Cabot for a special film series featuring movies filmed right here in Beverly\, MA. Each screening is more than just a movie night – it’s a fun\, crowd-powered experience. Expect pre-film activities and pop-ups\, themed concessions\, and an interactive movie watching experience with your neighbors! Cheer when you recognize a street. Nudge your neighbor when that one building shows up in the background. Feel deeply validated when you whisper “that’s in Beverly!” and you’re right. Come hang\, celebrate Beverly’s Hollywood era\, and watch movies the way they should be watched: together\, loudly\, and on the big screen. \nTHE PROPOSAL\nWhen New York editor Margaret (Sandra Bullock) faces deportation\, she convinces her assistant Andrew (Ryan Reynolds) to marry her in return for a promotion. However\, when she visits his hometown\, it changes her in many ways. *Beverly Municipal Airport was used as one of the locations in the film!*
URL:https://bevmain.org/event/beverly-400-free-screening-the-proposal/
LOCATION:The Cabot\, 286 Cabot Street\, Beverly\, MA\, 01915\, United States
CATEGORIES:Film,Free
ATTACH;FMTTYPE=image/jpeg:https://bevmain.org/wp-content/uploads/2026/01/1102467_The_Proposal.jpg
GEO:42.5514727;-70.878838
X-APPLE-STRUCTURED-LOCATION;VALUE=URI;X-ADDRESS=The Cabot 286 Cabot Street Beverly MA 01915 United States;X-APPLE-RADIUS=500;X-TITLE=286 Cabot Street:geo:-70.878838,42.5514727
END:VEVENT
END:VCALENDAR