BEGIN:VCALENDAR
VERSION:2.0
PRODID:-//Beverly Main Streets - ECPv6.15.20//NONSGML v1.0//EN
CALSCALE:GREGORIAN
METHOD:PUBLISH
X-ORIGINAL-URL:https://bevmain.org
X-WR-CALDESC:Events for Beverly Main Streets
REFRESH-INTERVAL;VALUE=DURATION:PT1H
X-Robots-Tag:noindex
X-PUBLISHED-TTL:PT1H
BEGIN:VTIMEZONE
TZID:America/New_York
BEGIN:DAYLIGHT
TZOFFSETFROM:-0500
TZOFFSETTO:-0400
TZNAME:EDT
DTSTART:20250309T070000
END:DAYLIGHT
BEGIN:STANDARD
TZOFFSETFROM:-0400
TZOFFSETTO:-0500
TZNAME:EST
DTSTART:20251102T060000
END:STANDARD
BEGIN:DAYLIGHT
TZOFFSETFROM:-0500
TZOFFSETTO:-0400
TZNAME:EDT
DTSTART:20260308T070000
END:DAYLIGHT
BEGIN:STANDARD
TZOFFSETFROM:-0400
TZOFFSETTO:-0500
TZNAME:EST
DTSTART:20261101T060000
END:STANDARD
BEGIN:DAYLIGHT
TZOFFSETFROM:-0500
TZOFFSETTO:-0400
TZNAME:EDT
DTSTART:20270314T070000
END:DAYLIGHT
BEGIN:STANDARD
TZOFFSETFROM:-0400
TZOFFSETTO:-0500
TZNAME:EST
DTSTART:20271107T060000
END:STANDARD
END:VTIMEZONE
BEGIN:VEVENT
DTSTART;TZID=America/New_York:20260324T190000
DTEND;TZID=America/New_York:20260324T210000
DTSTAMP:20260422T211104
CREATED:20260309T201345Z
LAST-MODIFIED:20260309T201345Z
UID:10038325-1774378800-1774386000@bevmain.org
SUMMARY:Beverly 400 Free Screening: The Tender Bar
DESCRIPTION:Beverly has had many moments on the big screen\, and we’re celebrating that in style! \nJoin Beverly 400+ at The Cabot for a special film series featuring movies filmed right here in Beverly\, MA. Each screening is more than just a movie night – it’s a fun\, crowd-powered experience. Expect pre-film activities and pop-ups\, themed concessions\, and an interactive movie watching experience with your neighbors! Cheer when you recognize a street. Nudge your neighbor when that one building shows up in the background. Feel deeply validated when you whisper “that’s in Beverly!” and you’re right. Come hang\, celebrate Beverly’s Hollywood era\, and watch movies the way they should be watched: together\, loudly\, and on the big screen. \nTHE TENDER BAR\nA boy (Tye Sheridan) falls under the unconventional tutelage of his uncle (Ben Affleck)\, a charismatic\, self-educated bartender. *This movie was shot primarily at Jacob’s Corner Bar & Grille in Beverly!*
URL:https://bevmain.org/event/beverly-400-free-screening-the-tender-bar/
LOCATION:The Cabot\, 286 Cabot Street\, Beverly\, MA\, 01915\, United States
CATEGORIES:Film,Free
ATTACH;FMTTYPE=image/jpeg:https://bevmain.org/wp-content/uploads/2026/03/MV5BYTQ3ZGNiMmEtM2FjMi00OTQ2LTllOTMtODNjM2UwYjIwZDBiXkEyXkFqcGc@._V1_.jpg
GEO:42.5514727;-70.878838
X-APPLE-STRUCTURED-LOCATION;VALUE=URI;X-ADDRESS=The Cabot 286 Cabot Street Beverly MA 01915 United States;X-APPLE-RADIUS=500;X-TITLE=286 Cabot Street:geo:-70.878838,42.5514727
END:VEVENT
BEGIN:VEVENT
DTSTART;TZID=America/New_York:20260401T183000
DTEND;TZID=America/New_York:20260401T200000
DTSTAMP:20260422T211104
CREATED:20260316T203301Z
LAST-MODIFIED:20260316T203301Z
UID:10038340-1775068200-1775073600@bevmain.org
SUMMARY:Stop Motion Animation 101
DESCRIPTION:Ever wonder how objects move in animation? Use this overview for new and experienced audiences to help you start creating your own! \nNote: This stop-motion workshop is geared toward adults\, as it involves discussion and focus throughout the session. (16+ recommended)\nHowever\, we will be offering a hands-on character design workshop just for kids in May. \nSpecial Guest Teaching Artist!\nThis workshop features local animator and Montserrat College of Art student Lyss Lentini\, whose work focuses on stop-motion animation and post-production. \nDetails\nJoin us at BevCam on April 1\, 2026\, at 6:30 PM for a fun introduction to the art of stop-motion animation! \nCreating stop-motion videos is more accessible than ever. You can make your own animations using a free app right on your phone\, or\, by becoming a BevCam member\, you can use our DSLR camera and professional stop-motion software\, DragonFrame\, to bring your creations to life. \nThis session will explore different types of stop-motion animation\, take you behind the scenes to see how the process works\, and introduce the tools and resources you need to get started. You’ll learn the fundamentals of bringing objects to life frame by frame\, and gain insight into how animators create movement\, character\, and story from still images. \nThis workshop will be presented in a demonstration-style format rather than a full hands-on session. However\, attendees will learn how to continue their animation journey at BevCam\, with upcoming opportunities for hands-on practice and deeper skill-building. \nEach participant will also receive a piece of moldable plasticine (non-drying clay) to take home so you can start experimenting with simple stop-motion animation on your own. \nBonus for Members!\nBevCam members who complete this workshop gain access to our stop-motion animation software and dedicated camera equipment. Members can also book the edit suite to animate at no additional cost as part of their membership benefits. \nIf you’re excited about creating your own animations\, becoming a BevCam member is the best way to take full advantage of these resources—and we’d love to air your finished work on our channel! \nNon-members and Members alike are welcome at this workshop- See you there! \nReach out to Education Manager\, Amanda Hurley\, for any questions about our workshops: amanda@bevcam.org
URL:https://bevmain.org/event/stop-motion-animation-101/
LOCATION:BevCam\, Cabot Street\, Beverly\, Massachusetts\, 01915\, United States
CATEGORIES:Film,Workshop
ATTACH;FMTTYPE=image/jpeg:https://bevmain.org/wp-content/uploads/2026/03/Stop-Motion.jpg
ORGANIZER;CN="BevCam":MAILTO:amanda@bevcam.org
GEO:42.550186;-70.8777001
X-APPLE-STRUCTURED-LOCATION;VALUE=URI;X-ADDRESS=BevCam Cabot Street Beverly Massachusetts 01915 United States;X-APPLE-RADIUS=500;X-TITLE=Cabot Street:geo:-70.8777001,42.550186
END:VEVENT
BEGIN:VEVENT
DTSTART;TZID=America/New_York:20260413T130000
DTEND;TZID=America/New_York:20260413T150000
DTSTAMP:20260422T211104
CREATED:20260402T183016Z
LAST-MODIFIED:20260402T183016Z
UID:10038388-1776085200-1776092400@bevmain.org
SUMMARY:Free Matinee Series 2026 – My Fair Lady
DESCRIPTION:Please register in advance to claim your tickets. \nIn 1910s London\, snobbish phonetics professor Henry Higgins agrees to a wager that he can make a crude flower girl\, Eliza Doolittle\, presentable in high society. \nMovies as Medicine invites our community to enjoy free classic films\, one Monday each month\, creating a space for comfort and connection. These screenings offer more than a great movie—they create moments that support well-being and belonging.
URL:https://bevmain.org/event/free-matinee-series-2026-my-fair-lady/
LOCATION:The Cabot\, 286 Cabot Street\, Beverly\, MA\, 01915\, United States
CATEGORIES:Film,Free
ATTACH;FMTTYPE=image/jpeg:https://bevmain.org/wp-content/uploads/2026/04/my-fair-lady-1080x675-1.jpg
GEO:42.5514727;-70.878838
X-APPLE-STRUCTURED-LOCATION;VALUE=URI;X-ADDRESS=The Cabot 286 Cabot Street Beverly MA 01915 United States;X-APPLE-RADIUS=500;X-TITLE=286 Cabot Street:geo:-70.878838,42.5514727
END:VEVENT
BEGIN:VEVENT
DTSTART;TZID=America/New_York:20260414T190000
DTEND;TZID=America/New_York:20260414T210000
DTSTAMP:20260422T211104
CREATED:20260402T182958Z
LAST-MODIFIED:20260402T182958Z
UID:10038387-1776193200-1776200400@bevmain.org
SUMMARY:Beverly 400 Free Screening: CODA
DESCRIPTION:Beverly has had many moments on the big screen\, and we’re celebrating that in style! \nJoin Beverly 400+ and The Children’s Center for Communication/Beverly School for the Deaf at The Cabot for a special film series featuring movies filmed right here in Beverly\, MA. Each screening is more than just a movie night – it’s a fun\, crowd-powered experience. Expect pre-film activities and pop-ups\, themed concessions\, and an interactive movie watching experience with your neighbors! Cheer when you recognize a street. Nudge your neighbor when that one building shows up in the background. Feel deeply validated when you whisper “that’s in Beverly!” and you’re right. Come hang\, celebrate Beverly’s Hollywood era\, and watch movies the way they should be watched: together\, loudly\, and on the big screen. \nCODA\nWhen the family’s fishing business is threatened\, Ruby (Emilia Jones) finds herself torn between pursuing her musical passion and her fear of abandoning her deaf parents (Marlee Matlin\, Troy Kotsur). *This film was shot all across Beverly\, including Briscoe Middle School and Henry’s Fine Foods!*
URL:https://bevmain.org/event/beverly-400-free-screening-coda/
LOCATION:The Cabot\, 286 Cabot Street\, Beverly\, MA\, 01915\, United States
CATEGORIES:Community Events,Film,Free
ATTACH;FMTTYPE=image/png:https://bevmain.org/wp-content/uploads/2026/04/CODA.png
GEO:42.5514727;-70.878838
X-APPLE-STRUCTURED-LOCATION;VALUE=URI;X-ADDRESS=The Cabot 286 Cabot Street Beverly MA 01915 United States;X-APPLE-RADIUS=500;X-TITLE=286 Cabot Street:geo:-70.878838,42.5514727
END:VEVENT
BEGIN:VEVENT
DTSTART;TZID=America/New_York:20260422T190000
DTEND;TZID=America/New_York:20260422T210000
DTSTAMP:20260422T211104
CREATED:20260402T182823Z
LAST-MODIFIED:20260402T182823Z
UID:10038383-1776884400-1776891600@bevmain.org
SUMMARY:Plastic People - Earth Day Free Screening w/ Q&A
DESCRIPTION:Please register in advance to claim your tickets. \nPlastic People is an award-winning feature documentary that chronicles humanity’s fraught relationship with plastic and one woman’s mission to expose shocking new revelations about the impact of microplastics on human health. \nWinner of the Best Direction (Documentary Program) at the Canadian Screen Awards\, the Best Science & Technology honour (Documentary & Factual) at the 2025 Rockie Awards\, the Environmental Award at the Hamptons Doc Fest and the Jury Prize at the Filme für die Erde Festival in Switzerland. \nFollowing the film there will be short presentations and Q&A with panelists: \nAndrea Lacroix\, Beyond Plastics\nAndrew Brousseau\, Black Earth Compost\nPatrick Belmonte\, Change is Simmple\nDean Berg\, Green Beverly\nSabrina Auclair\, Unpacked Living
URL:https://bevmain.org/event/plastic-people-earth-day-free-screening-w-qa/
LOCATION:The Cabot\, 286 Cabot Street\, Beverly\, MA\, 01915\, United States
CATEGORIES:Film,Free
ATTACH;FMTTYPE=image/png:https://bevmain.org/wp-content/uploads/2026/04/plastic-people.png
GEO:42.5514727;-70.878838
X-APPLE-STRUCTURED-LOCATION;VALUE=URI;X-ADDRESS=The Cabot 286 Cabot Street Beverly MA 01915 United States;X-APPLE-RADIUS=500;X-TITLE=286 Cabot Street:geo:-70.878838,42.5514727
END:VEVENT
END:VCALENDAR