BEGIN:VCALENDAR
VERSION:2.0
PRODID:-//Beverly Main Streets - ECPv6.15.20//NONSGML v1.0//EN
CALSCALE:GREGORIAN
METHOD:PUBLISH
X-ORIGINAL-URL:https://bevmain.org
X-WR-CALDESC:Events for Beverly Main Streets
REFRESH-INTERVAL;VALUE=DURATION:PT1H
X-Robots-Tag:noindex
X-PUBLISHED-TTL:PT1H
BEGIN:VTIMEZONE
TZID:America/New_York
BEGIN:DAYLIGHT
TZOFFSETFROM:-0500
TZOFFSETTO:-0400
TZNAME:EDT
DTSTART:20250309T070000
END:DAYLIGHT
BEGIN:STANDARD
TZOFFSETFROM:-0400
TZOFFSETTO:-0500
TZNAME:EST
DTSTART:20251102T060000
END:STANDARD
BEGIN:DAYLIGHT
TZOFFSETFROM:-0500
TZOFFSETTO:-0400
TZNAME:EDT
DTSTART:20260308T070000
END:DAYLIGHT
BEGIN:STANDARD
TZOFFSETFROM:-0400
TZOFFSETTO:-0500
TZNAME:EST
DTSTART:20261101T060000
END:STANDARD
BEGIN:DAYLIGHT
TZOFFSETFROM:-0500
TZOFFSETTO:-0400
TZNAME:EDT
DTSTART:20270314T070000
END:DAYLIGHT
BEGIN:STANDARD
TZOFFSETFROM:-0400
TZOFFSETTO:-0500
TZNAME:EST
DTSTART:20271107T060000
END:STANDARD
END:VTIMEZONE
BEGIN:VEVENT
DTSTART;TZID=America/New_York:20260502T110000
DTEND;TZID=America/New_York:20260502T150000
DTSTAMP:20260422T211138
CREATED:20250413T164123Z
LAST-MODIFIED:20250413T164123Z
UID:10028650-1777719600-1777734000@bevmain.org
SUMMARY:Weekend Brunches at Kitchen Table
DESCRIPTION:Brunch every Saturday & Sunday at Kitchen Table\, 392 Cabot Street. Live music from the likes of Alex Anthony\, Steve Dennis\, Lee Biddle\, and more every Sunday Brunch!
URL:https://bevmain.org/event/weekend-brunches-at-kitchen-table/2026-05-02/
LOCATION:Kitchen Table\, 392 Cabot Street\, Beverly\, 01915\, United States
CATEGORIES:Food,Music/Concert
ORGANIZER;CN="Kitchen Table":MAILTO:kitchentable@kitchentablebeverly.com
GEO:42.5581141;-70.8813462
X-APPLE-STRUCTURED-LOCATION;VALUE=URI;X-ADDRESS=Kitchen Table 392 Cabot Street Beverly 01915 United States;X-APPLE-RADIUS=500;X-TITLE=392 Cabot Street:geo:-70.8813462,42.5581141
END:VEVENT
BEGIN:VEVENT
DTSTART;TZID=America/New_York:20260502T140000
DTEND;TZID=America/New_York:20260502T153000
DTSTAMP:20260422T211138
CREATED:20260209T185619Z
LAST-MODIFIED:20260209T185619Z
UID:10038030-1777730400-1777735800@bevmain.org
SUMMARY:Endicott Singers present POPS - Love Songs
DESCRIPTION:The Endicott Singers’ Pops tradition continues: the students in the choir choose the theme and music by vote – and this year Love won! With songs for the full chorus and chamber choirs\, plus featured solos and small groups\, this show features a live combo of student and professional instrumentalists. Audiences will enjoy the wide variety of music about love with great coffee and treats in our black box theater transformed into a music club for the night. Directed by Professor Becca Kenneally.
URL:https://bevmain.org/event/endicott-singers-present-pops-love-songs/2026-05-02/
LOCATION:Tia’s Black Box\, 406 Hale St\, Beverly\, 01915\, United States
CATEGORIES:Community Events,Music/Concert
ATTACH;FMTTYPE=image/jpeg:https://bevmain.org/wp-content/uploads/2026/02/Endicott-Singers-Publicity-Photos-1-scaled.jpg
GEO:42.5526096;-70.8395131
X-APPLE-STRUCTURED-LOCATION;VALUE=URI;X-ADDRESS=Tia’s Black Box 406 Hale St Beverly 01915 United States;X-APPLE-RADIUS=500;X-TITLE=406 Hale St:geo:-70.8395131,42.5526096
END:VEVENT
BEGIN:VEVENT
DTSTART;TZID=America/New_York:20260502T200000
DTEND;TZID=America/New_York:20260502T230000
DTSTAMP:20260422T211138
CREATED:20260320T134210Z
LAST-MODIFIED:20260320T134210Z
UID:10038363-1777752000-1777762800@bevmain.org
SUMMARY:Morgan Myles
DESCRIPTION:Morgan Myles is a powerhouse Americana and country singer-songwriter whose five-octave vocals and fearless honesty have made her one of Nashville’s most compelling rising artists.
URL:https://bevmain.org/event/morgan-myles/
LOCATION:Off Cabot Comedy & Events\, 9 Wallis Street\, Beverly\, 01915\, United States
CATEGORIES:Music/Concert
ATTACH;FMTTYPE=image/jpeg:https://bevmain.org/wp-content/uploads/2026/03/Morgan-Myles-scaled.jpg
ORGANIZER;CN="Off Cabot Comedy &amp%3B Events":MAILTO:info@thecabot.org
GEO:42.5481285;-70.8794388
X-APPLE-STRUCTURED-LOCATION;VALUE=URI;X-ADDRESS=Off Cabot Comedy & Events 9 Wallis Street Beverly 01915 United States;X-APPLE-RADIUS=500;X-TITLE=9 Wallis Street:geo:-70.8794388,42.5481285
END:VEVENT
BEGIN:VEVENT
DTSTART;TZID=America/New_York:20260502T210000
DTEND;TZID=America/New_York:20260503T003000
DTSTAMP:20260422T211138
CREATED:20230314T145932Z
LAST-MODIFIED:20230314T145932Z
UID:10017130-1777755600-1777768200@bevmain.org
SUMMARY:Karaoke at Anmol
DESCRIPTION:Every Saturday\, 9pm to 12:30am!
URL:https://bevmain.org/event/karaoke-at-anmol/2026-05-02/
LOCATION:Anmol\, 258 Rantoul Street\, Beverly\, MA\, 01915\, United States
CATEGORIES:Community Events,Free,Music/Concert,Nightlife
ATTACH;FMTTYPE=image/jpeg:https://bevmain.org/wp-content/uploads/2023/03/anmolkaraoke.jpg
GEO:42.5500156;-70.8836685
X-APPLE-STRUCTURED-LOCATION;VALUE=URI;X-ADDRESS=Anmol 258 Rantoul Street Beverly MA 01915 United States;X-APPLE-RADIUS=500;X-TITLE=258 Rantoul Street:geo:-70.8836685,42.5500156
END:VEVENT
BEGIN:VEVENT
DTSTART;TZID=America/New_York:20260502T210000
DTEND;TZID=America/New_York:20260503T010000
DTSTAMP:20260422T211138
CREATED:20240405T133525Z
LAST-MODIFIED:20240405T133525Z
UID:10022072-1777755600-1777770000@bevmain.org
SUMMARY:Saturday night Karaoke
DESCRIPTION:Come dance & sing the night away! Great for groups or individuals\,
URL:https://bevmain.org/event/saturday-night-karaoke/2026-05-02/
LOCATION:The Pickled Onion\, 355 rantoul st\, Beverly\, 01915\, United States
CATEGORIES:Beer/Wine,Festival,Music/Concert,Nightlife
ATTACH;FMTTYPE=image/png:https://bevmain.org/wp-content/uploads/2024/04/29B68054-2E1A-4D24-A2CA-1FB4798D3CDB.png
GEO:42.5522933;-70.8824043
X-APPLE-STRUCTURED-LOCATION;VALUE=URI;X-ADDRESS=The Pickled Onion 355 rantoul st Beverly 01915 United States;X-APPLE-RADIUS=500;X-TITLE=355 rantoul st:geo:-70.8824043,42.5522933
END:VEVENT
BEGIN:VEVENT
DTSTART;TZID=America/New_York:20260503T110000
DTEND;TZID=America/New_York:20260503T150000
DTSTAMP:20260422T211138
CREATED:20250413T164123Z
LAST-MODIFIED:20250413T164123Z
UID:10028651-1777806000-1777820400@bevmain.org
SUMMARY:Weekend Brunches at Kitchen Table
DESCRIPTION:Brunch every Saturday & Sunday at Kitchen Table\, 392 Cabot Street. Live music from the likes of Alex Anthony\, Steve Dennis\, Lee Biddle\, and more every Sunday Brunch!
URL:https://bevmain.org/event/weekend-brunches-at-kitchen-table/2026-05-03/
LOCATION:Kitchen Table\, 392 Cabot Street\, Beverly\, 01915\, United States
CATEGORIES:Food,Music/Concert
ORGANIZER;CN="Kitchen Table":MAILTO:kitchentable@kitchentablebeverly.com
GEO:42.5581141;-70.8813462
X-APPLE-STRUCTURED-LOCATION;VALUE=URI;X-ADDRESS=Kitchen Table 392 Cabot Street Beverly 01915 United States;X-APPLE-RADIUS=500;X-TITLE=392 Cabot Street:geo:-70.8813462,42.5581141
END:VEVENT
BEGIN:VEVENT
DTSTART;TZID=America/New_York:20260503T140000
DTEND;TZID=America/New_York:20260503T153000
DTSTAMP:20260422T211138
CREATED:20260127T170759Z
LAST-MODIFIED:20260127T170759Z
UID:10037748-1777816800-1777822200@bevmain.org
SUMMARY:Percussion & Chamber Ensemble in Concert
DESCRIPTION:Chamber Ensemble features skilled and talented students on an array of eclectic instrumentation. Percussion Ensemble features a variety of percussion instruments with all original compositions. Together in concert\, these highly musical groups present an unforgettable concert. Directed by George Darrah and Nathan Cohen.
URL:https://bevmain.org/event/percussion-chamber-ensemble-in-concert/
LOCATION:Walter J Manninen Center for the Arts\, Hale Street 406\, Beverly\, Massachusetts\, 01915\, United States
CATEGORIES:Community Events,Music/Concert
ATTACH;FMTTYPE=image/jpeg:https://bevmain.org/wp-content/uploads/2026/01/Percussion-and-Chamber-26-1-scaled.jpg
GEO:42.5526096;-70.8395131
X-APPLE-STRUCTURED-LOCATION;VALUE=URI;X-ADDRESS=Walter J Manninen Center for the Arts Hale Street 406 Beverly Massachusetts 01915 United States;X-APPLE-RADIUS=500;X-TITLE=Hale Street 406:geo:-70.8395131,42.5526096
END:VEVENT
BEGIN:VEVENT
DTSTART;TZID=America/New_York:20260504T183000
DTEND;TZID=America/New_York:20260504T210000
DTSTAMP:20260422T211138
CREATED:20260209T185546Z
LAST-MODIFIED:20260209T185546Z
UID:10038028-1777919400-1777928400@bevmain.org
SUMMARY:Solo Student Recital
DESCRIPTION:Experience an intimate recital featuring students studying voice\, instruments\, and theater through private instruction. These talented performers will present solo pieces and monologues\, showcasing their skills in guitar\, piano\, percussion\, musical theater\, jazz\, classical art songs\, original songs\, and comedy. Guided by Professors George Darrah\, Katie Clarke\, Sahil Warsi\, Jan Zimmerman\, and others\, students have honed their technique and repertoire. Enjoy Act I with first and second-year students\, followed by Act II with third and fourth-year students.
URL:https://bevmain.org/event/solo-student-recital/
LOCATION:Rose Theater
CATEGORIES:Community Events,Music/Concert
ATTACH;FMTTYPE=image/jpeg:https://bevmain.org/wp-content/uploads/2026/02/solo-recital-spring-26-scaled.jpg
GEO:42.5526096;-70.8395131
END:VEVENT
BEGIN:VEVENT
DTSTART;TZID=America/New_York:20260505T210000
DTEND;TZID=America/New_York:20260506T010000
DTSTAMP:20260422T211138
CREATED:20230307T192014Z
LAST-MODIFIED:20230307T193159Z
UID:10015756-1778014800-1778029200@bevmain.org
SUMMARY:Trivia Tuesday
DESCRIPTION:Tuesday night trivia at the Pickled Onion\n355 Rantoul Street
URL:https://bevmain.org/event/trivia-tuesday-3/2026-05-05/
LOCATION:Massachusetts
CATEGORIES:Beer/Wine,Free,Music/Concert,Nightlife
ATTACH;FMTTYPE=image/jpeg:https://bevmain.org/wp-content/uploads/2023/03/pickledoniontriviaUSE.jpg
END:VEVENT
BEGIN:VEVENT
DTSTART;TZID=America/New_York:20260506T210000
DTEND;TZID=America/New_York:20260506T233000
DTSTAMP:20260422T211138
CREATED:20240613T160059Z
LAST-MODIFIED:20240613T160059Z
UID:10022971-1778101200-1778110200@bevmain.org
SUMMARY:Karaoke at Indo
DESCRIPTION:Karaoke night at the Indo every Wednesday night at 9
URL:https://bevmain.org/event/karaoke-at-indo-2/2026-05-06/
LOCATION:Indo Pub\, Beverly\, 298 Cabot Street\, Beverly\, 01915\, United States
CATEGORIES:Music/Concert
ATTACH;FMTTYPE=image/jpeg:https://bevmain.org/wp-content/uploads/2024/06/IMG_20240605_133135_499-scaled.jpg
ORGANIZER;CN="ND Productions":MAILTO:nickkeys@gmail.com
GEO:42.5521872;-70.8790054
X-APPLE-STRUCTURED-LOCATION;VALUE=URI;X-ADDRESS=Indo Pub Beverly 298 Cabot Street Beverly 01915 United States;X-APPLE-RADIUS=500;X-TITLE=298 Cabot Street:geo:-70.8790054,42.5521872
END:VEVENT
BEGIN:VEVENT
DTSTART;TZID=America/New_York:20260507T210000
DTEND;TZID=America/New_York:20260508T010000
DTSTAMP:20260422T211138
CREATED:20230307T180614Z
LAST-MODIFIED:20230307T194535Z
UID:10014980-1778187600-1778202000@bevmain.org
SUMMARY:Live DJ at the Pickled Onion
DESCRIPTION:Live DJ Night!
URL:https://bevmain.org/event/live-dj-at-the-pickled-onion/2026-05-07/
LOCATION:Pickled Onion\, 355 Rantoul Street\, Beverly\, MA\, 01915\, United States
CATEGORIES:Beer/Wine,Music/Concert,Nightlife
ATTACH;FMTTYPE=image/jpeg:https://bevmain.org/wp-content/uploads/2023/03/pickledonionDJ.jpg
GEO:42.5522933;-70.8824043
X-APPLE-STRUCTURED-LOCATION;VALUE=URI;X-ADDRESS=Pickled Onion 355 Rantoul Street Beverly MA 01915 United States;X-APPLE-RADIUS=500;X-TITLE=355 Rantoul Street:geo:-70.8824043,42.5522933
END:VEVENT
BEGIN:VEVENT
DTSTART;TZID=America/New_York:20260507T210000
DTEND;TZID=America/New_York:20260508T010000
DTSTAMP:20260422T211138
CREATED:20240613T160116Z
LAST-MODIFIED:20240613T160116Z
UID:10023233-1778187600-1778202000@bevmain.org
SUMMARY:Karaoke at Jacobs Corner
DESCRIPTION:Karaoke at Jacobs Corner every Thursday at 9pm
URL:https://bevmain.org/event/karaoke-at-jacobs-corner/2026-05-07/
LOCATION:Jacobs Corner\, Rantoul Street\, Beverly\, Massachusetts\, 01915\, United States
CATEGORIES:Music/Concert
ATTACH;FMTTYPE=image/jpeg:https://bevmain.org/wp-content/uploads/2024/06/JCKar.jpg
GEO:42.5505049;-70.8834463
X-APPLE-STRUCTURED-LOCATION;VALUE=URI;X-ADDRESS=Jacobs Corner Rantoul Street Beverly Massachusetts 01915 United States;X-APPLE-RADIUS=500;X-TITLE=Rantoul Street:geo:-70.8834463,42.5505049
END:VEVENT
BEGIN:VEVENT
DTSTART;TZID=America/New_York:20260508T210000
DTEND;TZID=America/New_York:20260510T010000
DTSTAMP:20260422T211138
CREATED:20240405T133417Z
LAST-MODIFIED:20240405T133417Z
UID:10021812-1778274000-1778374800@bevmain.org
SUMMARY:Friday Night Karaoke
DESCRIPTION:Karaoke night hosted by Soulo Productionz. At The Pickled Onion
URL:https://bevmain.org/event/friday-night-karaoke/2026-05-08/
LOCATION:The Pickled Onion\, 355 rantoul st\, Beverly\, 01915\, United States
CATEGORIES:Music/Concert,Nightlife
ATTACH;FMTTYPE=image/png:https://bevmain.org/wp-content/uploads/2024/04/775F44DB-6846-4F23-A77E-1BA24B34B201.png
GEO:42.5522933;-70.8824043
X-APPLE-STRUCTURED-LOCATION;VALUE=URI;X-ADDRESS=The Pickled Onion 355 rantoul st Beverly 01915 United States;X-APPLE-RADIUS=500;X-TITLE=355 rantoul st:geo:-70.8824043,42.5522933
END:VEVENT
BEGIN:VEVENT
DTSTART;TZID=America/New_York:20260509T110000
DTEND;TZID=America/New_York:20260509T150000
DTSTAMP:20260422T211138
CREATED:20250413T164123Z
LAST-MODIFIED:20250413T164123Z
UID:10028652-1778324400-1778338800@bevmain.org
SUMMARY:Weekend Brunches at Kitchen Table
DESCRIPTION:Brunch every Saturday & Sunday at Kitchen Table\, 392 Cabot Street. Live music from the likes of Alex Anthony\, Steve Dennis\, Lee Biddle\, and more every Sunday Brunch!
URL:https://bevmain.org/event/weekend-brunches-at-kitchen-table/2026-05-09/
LOCATION:Kitchen Table\, 392 Cabot Street\, Beverly\, 01915\, United States
CATEGORIES:Food,Music/Concert
ORGANIZER;CN="Kitchen Table":MAILTO:kitchentable@kitchentablebeverly.com
GEO:42.5581141;-70.8813462
X-APPLE-STRUCTURED-LOCATION;VALUE=URI;X-ADDRESS=Kitchen Table 392 Cabot Street Beverly 01915 United States;X-APPLE-RADIUS=500;X-TITLE=392 Cabot Street:geo:-70.8813462,42.5581141
END:VEVENT
BEGIN:VEVENT
DTSTART;TZID=America/New_York:20260509T200000
DTEND;TZID=America/New_York:20260509T220000
DTSTAMP:20260422T211138
CREATED:20260223T143853Z
LAST-MODIFIED:20260223T143853Z
UID:10038041-1778356800-1778364000@bevmain.org
SUMMARY:Johnny Cash + The Ultimate Creedence Clearwater Revival Experience
DESCRIPTION:Prepare for an exhilarating tribute concert honoring two iconic musical legends. Award-winning artist Robert Black and his band will take you on a journey celebrating the timeless legacies of Johnny Cash and Creedence Clearwater Revival. \nFeel the electrifying energy as Robert Black delivers a captivating performance of Johnny Cash’s classics like “I Got Stripes\,” “Cry Cry Cry\,” “A Thing Called Love\,” and other iconic hits. And experience the spirit and sound of Creedence Clearwater Revival as Robert Black and his band\, Sweet Hitch-Hiker faithfully recreate CCR’s greatest hits\, including “Sweet Hitch-Hiker\,” “Have You Ever Seen the Rain\,” “I Put a Spell On You\,” and more. \nRobert Black’s authentic portrayal of Johnny Cash and John Fogerty\, combined with his exceptional vocal talent\, stage presence\, and costuming\, promises an evening filled with pure entertainment. Join us for a night filled with nostalgia and musical brilliance as we pay homage to these legendary artists.
URL:https://bevmain.org/event/johnny-cash-the-ultimate-creedence-clearwater-revival-experience-2/
LOCATION:Larcom Theatre\, 13 Wallis Street\, Beverly\, MA\, 01915\, United States
CATEGORIES:Music/Concert
ATTACH;FMTTYPE=image/jpeg:https://bevmain.org/wp-content/uploads/2026/02/Cash-and-CCR-website-pic.jpg
ORGANIZER;CN="Larcom Theatre":MAILTO:info@thelarcom.org
GEO:42.5481828;-70.8797175
X-APPLE-STRUCTURED-LOCATION;VALUE=URI;X-ADDRESS=Larcom Theatre 13 Wallis Street Beverly MA 01915 United States;X-APPLE-RADIUS=500;X-TITLE=13 Wallis Street:geo:-70.8797175,42.5481828
END:VEVENT
BEGIN:VEVENT
DTSTART;TZID=America/New_York:20260509T210000
DTEND;TZID=America/New_York:20260510T003000
DTSTAMP:20260422T211138
CREATED:20230314T145932Z
LAST-MODIFIED:20230314T145932Z
UID:10017131-1778360400-1778373000@bevmain.org
SUMMARY:Karaoke at Anmol
DESCRIPTION:Every Saturday\, 9pm to 12:30am!
URL:https://bevmain.org/event/karaoke-at-anmol/2026-05-09/
LOCATION:Anmol\, 258 Rantoul Street\, Beverly\, MA\, 01915\, United States
CATEGORIES:Community Events,Free,Music/Concert,Nightlife
ATTACH;FMTTYPE=image/jpeg:https://bevmain.org/wp-content/uploads/2023/03/anmolkaraoke.jpg
GEO:42.5500156;-70.8836685
X-APPLE-STRUCTURED-LOCATION;VALUE=URI;X-ADDRESS=Anmol 258 Rantoul Street Beverly MA 01915 United States;X-APPLE-RADIUS=500;X-TITLE=258 Rantoul Street:geo:-70.8836685,42.5500156
END:VEVENT
BEGIN:VEVENT
DTSTART;TZID=America/New_York:20260509T210000
DTEND;TZID=America/New_York:20260510T010000
DTSTAMP:20260422T211138
CREATED:20240405T133525Z
LAST-MODIFIED:20240405T133525Z
UID:10022073-1778360400-1778374800@bevmain.org
SUMMARY:Saturday night Karaoke
DESCRIPTION:Come dance & sing the night away! Great for groups or individuals\,
URL:https://bevmain.org/event/saturday-night-karaoke/2026-05-09/
LOCATION:The Pickled Onion\, 355 rantoul st\, Beverly\, 01915\, United States
CATEGORIES:Beer/Wine,Festival,Music/Concert,Nightlife
ATTACH;FMTTYPE=image/png:https://bevmain.org/wp-content/uploads/2024/04/29B68054-2E1A-4D24-A2CA-1FB4798D3CDB.png
GEO:42.5522933;-70.8824043
X-APPLE-STRUCTURED-LOCATION;VALUE=URI;X-ADDRESS=The Pickled Onion 355 rantoul st Beverly 01915 United States;X-APPLE-RADIUS=500;X-TITLE=355 rantoul st:geo:-70.8824043,42.5522933
END:VEVENT
BEGIN:VEVENT
DTSTART;TZID=America/New_York:20260510T110000
DTEND;TZID=America/New_York:20260510T150000
DTSTAMP:20260422T211138
CREATED:20250413T164123Z
LAST-MODIFIED:20250413T164123Z
UID:10028653-1778410800-1778425200@bevmain.org
SUMMARY:Weekend Brunches at Kitchen Table
DESCRIPTION:Brunch every Saturday & Sunday at Kitchen Table\, 392 Cabot Street. Live music from the likes of Alex Anthony\, Steve Dennis\, Lee Biddle\, and more every Sunday Brunch!
URL:https://bevmain.org/event/weekend-brunches-at-kitchen-table/2026-05-10/
LOCATION:Kitchen Table\, 392 Cabot Street\, Beverly\, 01915\, United States
CATEGORIES:Food,Music/Concert
ORGANIZER;CN="Kitchen Table":MAILTO:kitchentable@kitchentablebeverly.com
GEO:42.5581141;-70.8813462
X-APPLE-STRUCTURED-LOCATION;VALUE=URI;X-ADDRESS=Kitchen Table 392 Cabot Street Beverly 01915 United States;X-APPLE-RADIUS=500;X-TITLE=392 Cabot Street:geo:-70.8813462,42.5581141
END:VEVENT
BEGIN:VEVENT
DTSTART;TZID=America/New_York:20260512T210000
DTEND;TZID=America/New_York:20260513T010000
DTSTAMP:20260422T211138
CREATED:20230307T192014Z
LAST-MODIFIED:20230307T193159Z
UID:10015757-1778619600-1778634000@bevmain.org
SUMMARY:Trivia Tuesday
DESCRIPTION:Tuesday night trivia at the Pickled Onion\n355 Rantoul Street
URL:https://bevmain.org/event/trivia-tuesday-3/2026-05-12/
LOCATION:Massachusetts
CATEGORIES:Beer/Wine,Free,Music/Concert,Nightlife
ATTACH;FMTTYPE=image/jpeg:https://bevmain.org/wp-content/uploads/2023/03/pickledoniontriviaUSE.jpg
END:VEVENT
BEGIN:VEVENT
DTSTART;TZID=America/New_York:20260513T210000
DTEND;TZID=America/New_York:20260513T233000
DTSTAMP:20260422T211138
CREATED:20240613T160059Z
LAST-MODIFIED:20240613T160059Z
UID:10022972-1778706000-1778715000@bevmain.org
SUMMARY:Karaoke at Indo
DESCRIPTION:Karaoke night at the Indo every Wednesday night at 9
URL:https://bevmain.org/event/karaoke-at-indo-2/2026-05-13/
LOCATION:Indo Pub\, Beverly\, 298 Cabot Street\, Beverly\, 01915\, United States
CATEGORIES:Music/Concert
ATTACH;FMTTYPE=image/jpeg:https://bevmain.org/wp-content/uploads/2024/06/IMG_20240605_133135_499-scaled.jpg
ORGANIZER;CN="ND Productions":MAILTO:nickkeys@gmail.com
GEO:42.5521872;-70.8790054
X-APPLE-STRUCTURED-LOCATION;VALUE=URI;X-ADDRESS=Indo Pub Beverly 298 Cabot Street Beverly 01915 United States;X-APPLE-RADIUS=500;X-TITLE=298 Cabot Street:geo:-70.8790054,42.5521872
END:VEVENT
BEGIN:VEVENT
DTSTART;TZID=America/New_York:20260514T210000
DTEND;TZID=America/New_York:20260515T010000
DTSTAMP:20260422T211138
CREATED:20230307T180614Z
LAST-MODIFIED:20230307T194535Z
UID:10014981-1778792400-1778806800@bevmain.org
SUMMARY:Live DJ at the Pickled Onion
DESCRIPTION:Live DJ Night!
URL:https://bevmain.org/event/live-dj-at-the-pickled-onion/2026-05-14/
LOCATION:Pickled Onion\, 355 Rantoul Street\, Beverly\, MA\, 01915\, United States
CATEGORIES:Beer/Wine,Music/Concert,Nightlife
ATTACH;FMTTYPE=image/jpeg:https://bevmain.org/wp-content/uploads/2023/03/pickledonionDJ.jpg
GEO:42.5522933;-70.8824043
X-APPLE-STRUCTURED-LOCATION;VALUE=URI;X-ADDRESS=Pickled Onion 355 Rantoul Street Beverly MA 01915 United States;X-APPLE-RADIUS=500;X-TITLE=355 Rantoul Street:geo:-70.8824043,42.5522933
END:VEVENT
BEGIN:VEVENT
DTSTART;TZID=America/New_York:20260514T210000
DTEND;TZID=America/New_York:20260515T010000
DTSTAMP:20260422T211138
CREATED:20240613T160116Z
LAST-MODIFIED:20240613T160116Z
UID:10023234-1778792400-1778806800@bevmain.org
SUMMARY:Karaoke at Jacobs Corner
DESCRIPTION:Karaoke at Jacobs Corner every Thursday at 9pm
URL:https://bevmain.org/event/karaoke-at-jacobs-corner/2026-05-14/
LOCATION:Jacobs Corner\, Rantoul Street\, Beverly\, Massachusetts\, 01915\, United States
CATEGORIES:Music/Concert
ATTACH;FMTTYPE=image/jpeg:https://bevmain.org/wp-content/uploads/2024/06/JCKar.jpg
GEO:42.5505049;-70.8834463
X-APPLE-STRUCTURED-LOCATION;VALUE=URI;X-ADDRESS=Jacobs Corner Rantoul Street Beverly Massachusetts 01915 United States;X-APPLE-RADIUS=500;X-TITLE=Rantoul Street:geo:-70.8834463,42.5505049
END:VEVENT
BEGIN:VEVENT
DTSTART;TZID=America/New_York:20260515T210000
DTEND;TZID=America/New_York:20260517T010000
DTSTAMP:20260422T211138
CREATED:20240405T133417Z
LAST-MODIFIED:20240405T133417Z
UID:10021813-1778878800-1778979600@bevmain.org
SUMMARY:Friday Night Karaoke
DESCRIPTION:Karaoke night hosted by Soulo Productionz. At The Pickled Onion
URL:https://bevmain.org/event/friday-night-karaoke/2026-05-15/
LOCATION:The Pickled Onion\, 355 rantoul st\, Beverly\, 01915\, United States
CATEGORIES:Music/Concert,Nightlife
ATTACH;FMTTYPE=image/png:https://bevmain.org/wp-content/uploads/2024/04/775F44DB-6846-4F23-A77E-1BA24B34B201.png
GEO:42.5522933;-70.8824043
X-APPLE-STRUCTURED-LOCATION;VALUE=URI;X-ADDRESS=The Pickled Onion 355 rantoul st Beverly 01915 United States;X-APPLE-RADIUS=500;X-TITLE=355 rantoul st:geo:-70.8824043,42.5522933
END:VEVENT
BEGIN:VEVENT
DTSTART;TZID=America/New_York:20260516T110000
DTEND;TZID=America/New_York:20260516T150000
DTSTAMP:20260422T211138
CREATED:20250413T164123Z
LAST-MODIFIED:20250413T164123Z
UID:10028654-1778929200-1778943600@bevmain.org
SUMMARY:Weekend Brunches at Kitchen Table
DESCRIPTION:Brunch every Saturday & Sunday at Kitchen Table\, 392 Cabot Street. Live music from the likes of Alex Anthony\, Steve Dennis\, Lee Biddle\, and more every Sunday Brunch!
URL:https://bevmain.org/event/weekend-brunches-at-kitchen-table/2026-05-16/
LOCATION:Kitchen Table\, 392 Cabot Street\, Beverly\, 01915\, United States
CATEGORIES:Food,Music/Concert
ORGANIZER;CN="Kitchen Table":MAILTO:kitchentable@kitchentablebeverly.com
GEO:42.5581141;-70.8813462
X-APPLE-STRUCTURED-LOCATION;VALUE=URI;X-ADDRESS=Kitchen Table 392 Cabot Street Beverly 01915 United States;X-APPLE-RADIUS=500;X-TITLE=392 Cabot Street:geo:-70.8813462,42.5581141
END:VEVENT
BEGIN:VEVENT
DTSTART;TZID=America/New_York:20260516T200000
DTEND;TZID=America/New_York:20260516T220000
DTSTAMP:20260422T211138
CREATED:20260223T143908Z
LAST-MODIFIED:20260223T143908Z
UID:10038042-1778961600-1778968800@bevmain.org
SUMMARY:The Eagles Experience
DESCRIPTION:The Eagles Experience aims to be the most authentic tribute show to the Eagles available today. With a one-to-one lineup that reflects the Eagles during their heyday in the late 1970s\, the members of the Eagles Experience each emulate their respective “Eagle”\, playing the correct instrument and singing the songs as sung by their protege. Every member of the Eagles Experience is dedicated to presenting their part as accurately as possible and will provide you with an ultimate “Eagles Experience” you will not soon forget. \nThis tribute band only plays songs written and recorded by the Eagles as a band\, from their biggest hits to hidden gems.
URL:https://bevmain.org/event/the-eagles-experience-9/
LOCATION:Larcom Theatre\, 13 Wallis Street\, Beverly\, MA\, 01915\, United States
CATEGORIES:Music/Concert
ATTACH;FMTTYPE=image/jpeg:https://bevmain.org/wp-content/uploads/2026/02/eagles-facebook-cover.jpg
ORGANIZER;CN="Larcom Theatre":MAILTO:info@thelarcom.org
GEO:42.5481828;-70.8797175
X-APPLE-STRUCTURED-LOCATION;VALUE=URI;X-ADDRESS=Larcom Theatre 13 Wallis Street Beverly MA 01915 United States;X-APPLE-RADIUS=500;X-TITLE=13 Wallis Street:geo:-70.8797175,42.5481828
END:VEVENT
BEGIN:VEVENT
DTSTART;TZID=America/New_York:20260516T210000
DTEND;TZID=America/New_York:20260517T003000
DTSTAMP:20260422T211138
CREATED:20230314T145932Z
LAST-MODIFIED:20230314T145932Z
UID:10017132-1778965200-1778977800@bevmain.org
SUMMARY:Karaoke at Anmol
DESCRIPTION:Every Saturday\, 9pm to 12:30am!
URL:https://bevmain.org/event/karaoke-at-anmol/2026-05-16/
LOCATION:Anmol\, 258 Rantoul Street\, Beverly\, MA\, 01915\, United States
CATEGORIES:Community Events,Free,Music/Concert,Nightlife
ATTACH;FMTTYPE=image/jpeg:https://bevmain.org/wp-content/uploads/2023/03/anmolkaraoke.jpg
GEO:42.5500156;-70.8836685
X-APPLE-STRUCTURED-LOCATION;VALUE=URI;X-ADDRESS=Anmol 258 Rantoul Street Beverly MA 01915 United States;X-APPLE-RADIUS=500;X-TITLE=258 Rantoul Street:geo:-70.8836685,42.5500156
END:VEVENT
BEGIN:VEVENT
DTSTART;TZID=America/New_York:20260516T210000
DTEND;TZID=America/New_York:20260517T010000
DTSTAMP:20260422T211138
CREATED:20240405T133525Z
LAST-MODIFIED:20240405T133525Z
UID:10022074-1778965200-1778979600@bevmain.org
SUMMARY:Saturday night Karaoke
DESCRIPTION:Come dance & sing the night away! Great for groups or individuals\,
URL:https://bevmain.org/event/saturday-night-karaoke/2026-05-16/
LOCATION:The Pickled Onion\, 355 rantoul st\, Beverly\, 01915\, United States
CATEGORIES:Beer/Wine,Festival,Music/Concert,Nightlife
ATTACH;FMTTYPE=image/png:https://bevmain.org/wp-content/uploads/2024/04/29B68054-2E1A-4D24-A2CA-1FB4798D3CDB.png
GEO:42.5522933;-70.8824043
X-APPLE-STRUCTURED-LOCATION;VALUE=URI;X-ADDRESS=The Pickled Onion 355 rantoul st Beverly 01915 United States;X-APPLE-RADIUS=500;X-TITLE=355 rantoul st:geo:-70.8824043,42.5522933
END:VEVENT
BEGIN:VEVENT
DTSTART;TZID=America/New_York:20260517T110000
DTEND;TZID=America/New_York:20260517T150000
DTSTAMP:20260422T211138
CREATED:20250413T164123Z
LAST-MODIFIED:20250413T164123Z
UID:10028655-1779015600-1779030000@bevmain.org
SUMMARY:Weekend Brunches at Kitchen Table
DESCRIPTION:Brunch every Saturday & Sunday at Kitchen Table\, 392 Cabot Street. Live music from the likes of Alex Anthony\, Steve Dennis\, Lee Biddle\, and more every Sunday Brunch!
URL:https://bevmain.org/event/weekend-brunches-at-kitchen-table/2026-05-17/
LOCATION:Kitchen Table\, 392 Cabot Street\, Beverly\, 01915\, United States
CATEGORIES:Food,Music/Concert
ORGANIZER;CN="Kitchen Table":MAILTO:kitchentable@kitchentablebeverly.com
GEO:42.5581141;-70.8813462
X-APPLE-STRUCTURED-LOCATION;VALUE=URI;X-ADDRESS=Kitchen Table 392 Cabot Street Beverly 01915 United States;X-APPLE-RADIUS=500;X-TITLE=392 Cabot Street:geo:-70.8813462,42.5581141
END:VEVENT
BEGIN:VEVENT
DTSTART;TZID=America/New_York:20260519T210000
DTEND;TZID=America/New_York:20260520T010000
DTSTAMP:20260422T211138
CREATED:20230307T192014Z
LAST-MODIFIED:20230307T193159Z
UID:10015758-1779224400-1779238800@bevmain.org
SUMMARY:Trivia Tuesday
DESCRIPTION:Tuesday night trivia at the Pickled Onion\n355 Rantoul Street
URL:https://bevmain.org/event/trivia-tuesday-3/2026-05-19/
LOCATION:Massachusetts
CATEGORIES:Beer/Wine,Free,Music/Concert,Nightlife
ATTACH;FMTTYPE=image/jpeg:https://bevmain.org/wp-content/uploads/2023/03/pickledoniontriviaUSE.jpg
END:VEVENT
BEGIN:VEVENT
DTSTART;TZID=America/New_York:20260520T210000
DTEND;TZID=America/New_York:20260520T233000
DTSTAMP:20260422T211138
CREATED:20240613T160059Z
LAST-MODIFIED:20240613T160059Z
UID:10022973-1779310800-1779319800@bevmain.org
SUMMARY:Karaoke at Indo
DESCRIPTION:Karaoke night at the Indo every Wednesday night at 9
URL:https://bevmain.org/event/karaoke-at-indo-2/2026-05-20/
LOCATION:Indo Pub\, Beverly\, 298 Cabot Street\, Beverly\, 01915\, United States
CATEGORIES:Music/Concert
ATTACH;FMTTYPE=image/jpeg:https://bevmain.org/wp-content/uploads/2024/06/IMG_20240605_133135_499-scaled.jpg
ORGANIZER;CN="ND Productions":MAILTO:nickkeys@gmail.com
GEO:42.5521872;-70.8790054
X-APPLE-STRUCTURED-LOCATION;VALUE=URI;X-ADDRESS=Indo Pub Beverly 298 Cabot Street Beverly 01915 United States;X-APPLE-RADIUS=500;X-TITLE=298 Cabot Street:geo:-70.8790054,42.5521872
END:VEVENT
END:VCALENDAR