BEGIN:VCALENDAR
VERSION:2.0
PRODID:-//Beverly Main Streets - ECPv6.15.20//NONSGML v1.0//EN
CALSCALE:GREGORIAN
METHOD:PUBLISH
X-ORIGINAL-URL:https://bevmain.org
X-WR-CALDESC:Events for Beverly Main Streets
REFRESH-INTERVAL;VALUE=DURATION:PT1H
X-Robots-Tag:noindex
X-PUBLISHED-TTL:PT1H
BEGIN:VTIMEZONE
TZID:America/New_York
BEGIN:DAYLIGHT
TZOFFSETFROM:-0500
TZOFFSETTO:-0400
TZNAME:EDT
DTSTART:20250309T070000
END:DAYLIGHT
BEGIN:STANDARD
TZOFFSETFROM:-0400
TZOFFSETTO:-0500
TZNAME:EST
DTSTART:20251102T060000
END:STANDARD
BEGIN:DAYLIGHT
TZOFFSETFROM:-0500
TZOFFSETTO:-0400
TZNAME:EDT
DTSTART:20260308T070000
END:DAYLIGHT
BEGIN:STANDARD
TZOFFSETFROM:-0400
TZOFFSETTO:-0500
TZNAME:EST
DTSTART:20261101T060000
END:STANDARD
BEGIN:DAYLIGHT
TZOFFSETFROM:-0500
TZOFFSETTO:-0400
TZNAME:EDT
DTSTART:20270314T070000
END:DAYLIGHT
BEGIN:STANDARD
TZOFFSETFROM:-0400
TZOFFSETTO:-0500
TZNAME:EST
DTSTART:20271107T060000
END:STANDARD
END:VTIMEZONE
BEGIN:VEVENT
DTSTART;TZID=America/New_York:20260621T110000
DTEND;TZID=America/New_York:20260621T150000
DTSTAMP:20260423T015621
CREATED:20250413T164123Z
LAST-MODIFIED:20250413T164123Z
UID:10028665-1782039600-1782054000@bevmain.org
SUMMARY:Weekend Brunches at Kitchen Table
DESCRIPTION:Brunch every Saturday & Sunday at Kitchen Table\, 392 Cabot Street. Live music from the likes of Alex Anthony\, Steve Dennis\, Lee Biddle\, and more every Sunday Brunch!
URL:https://bevmain.org/event/weekend-brunches-at-kitchen-table/2026-06-21/
LOCATION:Kitchen Table\, 392 Cabot Street\, Beverly\, 01915\, United States
CATEGORIES:Food,Music/Concert
ORGANIZER;CN="Kitchen Table":MAILTO:kitchentable@kitchentablebeverly.com
GEO:42.5581141;-70.8813462
X-APPLE-STRUCTURED-LOCATION;VALUE=URI;X-ADDRESS=Kitchen Table 392 Cabot Street Beverly 01915 United States;X-APPLE-RADIUS=500;X-TITLE=392 Cabot Street:geo:-70.8813462,42.5581141
END:VEVENT
BEGIN:VEVENT
DTSTART;TZID=America/New_York:20260623T210000
DTEND;TZID=America/New_York:20260624T010000
DTSTAMP:20260423T015621
CREATED:20230307T192014Z
LAST-MODIFIED:20230307T193159Z
UID:10015763-1782248400-1782262800@bevmain.org
SUMMARY:Trivia Tuesday
DESCRIPTION:Tuesday night trivia at the Pickled Onion\n355 Rantoul Street
URL:https://bevmain.org/event/trivia-tuesday-3/2026-06-23/
CATEGORIES:Beer/Wine,Free,Music/Concert,Nightlife
ATTACH;FMTTYPE=image/jpeg:https://bevmain.org/wp-content/uploads/2023/03/pickledoniontriviaUSE.jpg
END:VEVENT
BEGIN:VEVENT
DTSTART;TZID=America/New_York:20260624T210000
DTEND;TZID=America/New_York:20260624T233000
DTSTAMP:20260423T015621
CREATED:20240613T160059Z
LAST-MODIFIED:20240613T160059Z
UID:10022978-1782334800-1782343800@bevmain.org
SUMMARY:Karaoke at Indo
DESCRIPTION:Karaoke night at the Indo every Wednesday night at 9
URL:https://bevmain.org/event/karaoke-at-indo-2/2026-06-24/
LOCATION:Indo Pub\, Beverly\, 298 Cabot Street\, Beverly\, 01915\, United States
CATEGORIES:Music/Concert
ATTACH;FMTTYPE=image/jpeg:https://bevmain.org/wp-content/uploads/2024/06/IMG_20240605_133135_499-scaled.jpg
ORGANIZER;CN="ND Productions":MAILTO:nickkeys@gmail.com
GEO:42.5521872;-70.8790054
X-APPLE-STRUCTURED-LOCATION;VALUE=URI;X-ADDRESS=Indo Pub Beverly 298 Cabot Street Beverly 01915 United States;X-APPLE-RADIUS=500;X-TITLE=298 Cabot Street:geo:-70.8790054,42.5521872
END:VEVENT
BEGIN:VEVENT
DTSTART;TZID=America/New_York:20260625T210000
DTEND;TZID=America/New_York:20260626T010000
DTSTAMP:20260423T015621
CREATED:20230307T180614Z
LAST-MODIFIED:20230307T194535Z
UID:10014987-1782421200-1782435600@bevmain.org
SUMMARY:Live DJ at the Pickled Onion
DESCRIPTION:Live DJ Night!
URL:https://bevmain.org/event/live-dj-at-the-pickled-onion/2026-06-25/
LOCATION:Pickled Onion\, 355 Rantoul Street\, Beverly\, MA\, 01915\, United States
CATEGORIES:Beer/Wine,Music/Concert,Nightlife
ATTACH;FMTTYPE=image/jpeg:https://bevmain.org/wp-content/uploads/2023/03/pickledonionDJ.jpg
GEO:42.5522933;-70.8824043
X-APPLE-STRUCTURED-LOCATION;VALUE=URI;X-ADDRESS=Pickled Onion 355 Rantoul Street Beverly MA 01915 United States;X-APPLE-RADIUS=500;X-TITLE=355 Rantoul Street:geo:-70.8824043,42.5522933
END:VEVENT
BEGIN:VEVENT
DTSTART;TZID=America/New_York:20260625T210000
DTEND;TZID=America/New_York:20260626T010000
DTSTAMP:20260423T015621
CREATED:20240613T160116Z
LAST-MODIFIED:20240613T160116Z
UID:10023240-1782421200-1782435600@bevmain.org
SUMMARY:Karaoke at Jacobs Corner
DESCRIPTION:Karaoke at Jacobs Corner every Thursday at 9pm
URL:https://bevmain.org/event/karaoke-at-jacobs-corner/2026-06-25/
LOCATION:Jacobs Corner\, Rantoul Street\, Beverly\, Massachusetts\, 01915\, United States
CATEGORIES:Music/Concert
ATTACH;FMTTYPE=image/jpeg:https://bevmain.org/wp-content/uploads/2024/06/JCKar.jpg
GEO:42.5505049;-70.8834463
X-APPLE-STRUCTURED-LOCATION;VALUE=URI;X-ADDRESS=Jacobs Corner Rantoul Street Beverly Massachusetts 01915 United States;X-APPLE-RADIUS=500;X-TITLE=Rantoul Street:geo:-70.8834463,42.5505049
END:VEVENT
BEGIN:VEVENT
DTSTART;TZID=America/New_York:20260626T210000
DTEND;TZID=America/New_York:20260628T010000
DTSTAMP:20260423T015621
CREATED:20240405T133417Z
LAST-MODIFIED:20240405T133417Z
UID:10021819-1782507600-1782608400@bevmain.org
SUMMARY:Friday Night Karaoke
DESCRIPTION:Karaoke night hosted by Soulo Productionz. At The Pickled Onion
URL:https://bevmain.org/event/friday-night-karaoke/2026-06-26/
LOCATION:The Pickled Onion\, 355 rantoul st\, Beverly\, 01915\, United States
CATEGORIES:Music/Concert,Nightlife
ATTACH;FMTTYPE=image/png:https://bevmain.org/wp-content/uploads/2024/04/775F44DB-6846-4F23-A77E-1BA24B34B201.png
GEO:42.5522933;-70.8824043
X-APPLE-STRUCTURED-LOCATION;VALUE=URI;X-ADDRESS=The Pickled Onion 355 rantoul st Beverly 01915 United States;X-APPLE-RADIUS=500;X-TITLE=355 rantoul st:geo:-70.8824043,42.5522933
END:VEVENT
BEGIN:VEVENT
DTSTART;TZID=America/New_York:20260627T110000
DTEND;TZID=America/New_York:20260627T150000
DTSTAMP:20260423T015621
CREATED:20250413T164123Z
LAST-MODIFIED:20250413T164123Z
UID:10028666-1782558000-1782572400@bevmain.org
SUMMARY:Weekend Brunches at Kitchen Table
DESCRIPTION:Brunch every Saturday & Sunday at Kitchen Table\, 392 Cabot Street. Live music from the likes of Alex Anthony\, Steve Dennis\, Lee Biddle\, and more every Sunday Brunch!
URL:https://bevmain.org/event/weekend-brunches-at-kitchen-table/2026-06-27/
LOCATION:Kitchen Table\, 392 Cabot Street\, Beverly\, 01915\, United States
CATEGORIES:Food,Music/Concert
ORGANIZER;CN="Kitchen Table":MAILTO:kitchentable@kitchentablebeverly.com
GEO:42.5581141;-70.8813462
X-APPLE-STRUCTURED-LOCATION;VALUE=URI;X-ADDRESS=Kitchen Table 392 Cabot Street Beverly 01915 United States;X-APPLE-RADIUS=500;X-TITLE=392 Cabot Street:geo:-70.8813462,42.5581141
END:VEVENT
BEGIN:VEVENT
DTSTART;TZID=America/New_York:20260627T210000
DTEND;TZID=America/New_York:20260628T003000
DTSTAMP:20260423T015621
CREATED:20230314T145932Z
LAST-MODIFIED:20230314T145932Z
UID:10017138-1782594000-1782606600@bevmain.org
SUMMARY:Karaoke at Anmol
DESCRIPTION:Every Saturday\, 9pm to 12:30am!
URL:https://bevmain.org/event/karaoke-at-anmol/2026-06-27/
LOCATION:Anmol\, 258 Rantoul Street\, Beverly\, MA\, 01915\, United States
CATEGORIES:Community Events,Free,Music/Concert,Nightlife
ATTACH;FMTTYPE=image/jpeg:https://bevmain.org/wp-content/uploads/2023/03/anmolkaraoke.jpg
GEO:42.5500156;-70.8836685
X-APPLE-STRUCTURED-LOCATION;VALUE=URI;X-ADDRESS=Anmol 258 Rantoul Street Beverly MA 01915 United States;X-APPLE-RADIUS=500;X-TITLE=258 Rantoul Street:geo:-70.8836685,42.5500156
END:VEVENT
BEGIN:VEVENT
DTSTART;TZID=America/New_York:20260627T210000
DTEND;TZID=America/New_York:20260628T010000
DTSTAMP:20260423T015621
CREATED:20240405T133525Z
LAST-MODIFIED:20240405T133525Z
UID:10022080-1782594000-1782608400@bevmain.org
SUMMARY:Saturday night Karaoke
DESCRIPTION:Come dance & sing the night away! Great for groups or individuals\,
URL:https://bevmain.org/event/saturday-night-karaoke/2026-06-27/
LOCATION:The Pickled Onion\, 355 rantoul st\, Beverly\, 01915\, United States
CATEGORIES:Beer/Wine,Festival,Music/Concert,Nightlife
ATTACH;FMTTYPE=image/png:https://bevmain.org/wp-content/uploads/2024/04/29B68054-2E1A-4D24-A2CA-1FB4798D3CDB.png
GEO:42.5522933;-70.8824043
X-APPLE-STRUCTURED-LOCATION;VALUE=URI;X-ADDRESS=The Pickled Onion 355 rantoul st Beverly 01915 United States;X-APPLE-RADIUS=500;X-TITLE=355 rantoul st:geo:-70.8824043,42.5522933
END:VEVENT
BEGIN:VEVENT
DTSTART;TZID=America/New_York:20260628T110000
DTEND;TZID=America/New_York:20260628T150000
DTSTAMP:20260423T015621
CREATED:20250413T164123Z
LAST-MODIFIED:20250413T164123Z
UID:10028667-1782644400-1782658800@bevmain.org
SUMMARY:Weekend Brunches at Kitchen Table
DESCRIPTION:Brunch every Saturday & Sunday at Kitchen Table\, 392 Cabot Street. Live music from the likes of Alex Anthony\, Steve Dennis\, Lee Biddle\, and more every Sunday Brunch!
URL:https://bevmain.org/event/weekend-brunches-at-kitchen-table/2026-06-28/
LOCATION:Kitchen Table\, 392 Cabot Street\, Beverly\, 01915\, United States
CATEGORIES:Food,Music/Concert
ORGANIZER;CN="Kitchen Table":MAILTO:kitchentable@kitchentablebeverly.com
GEO:42.5581141;-70.8813462
X-APPLE-STRUCTURED-LOCATION;VALUE=URI;X-ADDRESS=Kitchen Table 392 Cabot Street Beverly 01915 United States;X-APPLE-RADIUS=500;X-TITLE=392 Cabot Street:geo:-70.8813462,42.5581141
END:VEVENT
BEGIN:VEVENT
DTSTART;TZID=America/New_York:20260630T210000
DTEND;TZID=America/New_York:20260701T010000
DTSTAMP:20260423T015621
CREATED:20230307T192014Z
LAST-MODIFIED:20230307T193159Z
UID:10015764-1782853200-1782867600@bevmain.org
SUMMARY:Trivia Tuesday
DESCRIPTION:Tuesday night trivia at the Pickled Onion\n355 Rantoul Street
URL:https://bevmain.org/event/trivia-tuesday-3/2026-06-30/
CATEGORIES:Beer/Wine,Free,Music/Concert,Nightlife
ATTACH;FMTTYPE=image/jpeg:https://bevmain.org/wp-content/uploads/2023/03/pickledoniontriviaUSE.jpg
END:VEVENT
BEGIN:VEVENT
DTSTART;TZID=America/New_York:20260701T210000
DTEND;TZID=America/New_York:20260701T233000
DTSTAMP:20260423T015621
CREATED:20240613T160059Z
LAST-MODIFIED:20240613T160059Z
UID:10022979-1782939600-1782948600@bevmain.org
SUMMARY:Karaoke at Indo
DESCRIPTION:Karaoke night at the Indo every Wednesday night at 9
URL:https://bevmain.org/event/karaoke-at-indo-2/2026-07-01/
LOCATION:Indo Pub\, Beverly\, 298 Cabot Street\, Beverly\, 01915\, United States
CATEGORIES:Music/Concert
ATTACH;FMTTYPE=image/jpeg:https://bevmain.org/wp-content/uploads/2024/06/IMG_20240605_133135_499-scaled.jpg
ORGANIZER;CN="ND Productions":MAILTO:nickkeys@gmail.com
GEO:42.5521872;-70.8790054
X-APPLE-STRUCTURED-LOCATION;VALUE=URI;X-ADDRESS=Indo Pub Beverly 298 Cabot Street Beverly 01915 United States;X-APPLE-RADIUS=500;X-TITLE=298 Cabot Street:geo:-70.8790054,42.5521872
END:VEVENT
BEGIN:VEVENT
DTSTART;TZID=America/New_York:20260702T210000
DTEND;TZID=America/New_York:20260703T010000
DTSTAMP:20260423T015621
CREATED:20230307T180614Z
LAST-MODIFIED:20230307T194535Z
UID:10014988-1783026000-1783040400@bevmain.org
SUMMARY:Live DJ at the Pickled Onion
DESCRIPTION:Live DJ Night!
URL:https://bevmain.org/event/live-dj-at-the-pickled-onion/2026-07-02/
LOCATION:Pickled Onion\, 355 Rantoul Street\, Beverly\, MA\, 01915\, United States
CATEGORIES:Beer/Wine,Music/Concert,Nightlife
ATTACH;FMTTYPE=image/jpeg:https://bevmain.org/wp-content/uploads/2023/03/pickledonionDJ.jpg
GEO:42.5522933;-70.8824043
X-APPLE-STRUCTURED-LOCATION;VALUE=URI;X-ADDRESS=Pickled Onion 355 Rantoul Street Beverly MA 01915 United States;X-APPLE-RADIUS=500;X-TITLE=355 Rantoul Street:geo:-70.8824043,42.5522933
END:VEVENT
BEGIN:VEVENT
DTSTART;TZID=America/New_York:20260702T210000
DTEND;TZID=America/New_York:20260703T010000
DTSTAMP:20260423T015621
CREATED:20240613T160116Z
LAST-MODIFIED:20240613T160116Z
UID:10023241-1783026000-1783040400@bevmain.org
SUMMARY:Karaoke at Jacobs Corner
DESCRIPTION:Karaoke at Jacobs Corner every Thursday at 9pm
URL:https://bevmain.org/event/karaoke-at-jacobs-corner/2026-07-02/
LOCATION:Jacobs Corner\, Rantoul Street\, Beverly\, Massachusetts\, 01915\, United States
CATEGORIES:Music/Concert
ATTACH;FMTTYPE=image/jpeg:https://bevmain.org/wp-content/uploads/2024/06/JCKar.jpg
GEO:42.5505049;-70.8834463
X-APPLE-STRUCTURED-LOCATION;VALUE=URI;X-ADDRESS=Jacobs Corner Rantoul Street Beverly Massachusetts 01915 United States;X-APPLE-RADIUS=500;X-TITLE=Rantoul Street:geo:-70.8834463,42.5505049
END:VEVENT
BEGIN:VEVENT
DTSTART;TZID=America/New_York:20260703T210000
DTEND;TZID=America/New_York:20260705T010000
DTSTAMP:20260423T015621
CREATED:20240405T133417Z
LAST-MODIFIED:20240405T133417Z
UID:10021820-1783112400-1783213200@bevmain.org
SUMMARY:Friday Night Karaoke
DESCRIPTION:Karaoke night hosted by Soulo Productionz. At The Pickled Onion
URL:https://bevmain.org/event/friday-night-karaoke/2026-07-03/
LOCATION:The Pickled Onion\, 355 rantoul st\, Beverly\, 01915\, United States
CATEGORIES:Music/Concert,Nightlife
ATTACH;FMTTYPE=image/png:https://bevmain.org/wp-content/uploads/2024/04/775F44DB-6846-4F23-A77E-1BA24B34B201.png
GEO:42.5522933;-70.8824043
X-APPLE-STRUCTURED-LOCATION;VALUE=URI;X-ADDRESS=The Pickled Onion 355 rantoul st Beverly 01915 United States;X-APPLE-RADIUS=500;X-TITLE=355 rantoul st:geo:-70.8824043,42.5522933
END:VEVENT
BEGIN:VEVENT
DTSTART;TZID=America/New_York:20260704T110000
DTEND;TZID=America/New_York:20260704T150000
DTSTAMP:20260423T015621
CREATED:20250413T164123Z
LAST-MODIFIED:20250413T164123Z
UID:10028668-1783162800-1783177200@bevmain.org
SUMMARY:Weekend Brunches at Kitchen Table
DESCRIPTION:Brunch every Saturday & Sunday at Kitchen Table\, 392 Cabot Street. Live music from the likes of Alex Anthony\, Steve Dennis\, Lee Biddle\, and more every Sunday Brunch!
URL:https://bevmain.org/event/weekend-brunches-at-kitchen-table/2026-07-04/
LOCATION:Kitchen Table\, 392 Cabot Street\, Beverly\, 01915\, United States
CATEGORIES:Food,Music/Concert
ORGANIZER;CN="Kitchen Table":MAILTO:kitchentable@kitchentablebeverly.com
GEO:42.5581141;-70.8813462
X-APPLE-STRUCTURED-LOCATION;VALUE=URI;X-ADDRESS=Kitchen Table 392 Cabot Street Beverly 01915 United States;X-APPLE-RADIUS=500;X-TITLE=392 Cabot Street:geo:-70.8813462,42.5581141
END:VEVENT
BEGIN:VEVENT
DTSTART;TZID=America/New_York:20260704T210000
DTEND;TZID=America/New_York:20260705T003000
DTSTAMP:20260423T015621
CREATED:20230314T145932Z
LAST-MODIFIED:20230314T145932Z
UID:10017139-1783198800-1783211400@bevmain.org
SUMMARY:Karaoke at Anmol
DESCRIPTION:Every Saturday\, 9pm to 12:30am!
URL:https://bevmain.org/event/karaoke-at-anmol/2026-07-04/
LOCATION:Anmol\, 258 Rantoul Street\, Beverly\, MA\, 01915\, United States
CATEGORIES:Community Events,Free,Music/Concert,Nightlife
ATTACH;FMTTYPE=image/jpeg:https://bevmain.org/wp-content/uploads/2023/03/anmolkaraoke.jpg
GEO:42.5500156;-70.8836685
X-APPLE-STRUCTURED-LOCATION;VALUE=URI;X-ADDRESS=Anmol 258 Rantoul Street Beverly MA 01915 United States;X-APPLE-RADIUS=500;X-TITLE=258 Rantoul Street:geo:-70.8836685,42.5500156
END:VEVENT
BEGIN:VEVENT
DTSTART;TZID=America/New_York:20260704T210000
DTEND;TZID=America/New_York:20260705T010000
DTSTAMP:20260423T015621
CREATED:20240405T133525Z
LAST-MODIFIED:20240405T133525Z
UID:10022081-1783198800-1783213200@bevmain.org
SUMMARY:Saturday night Karaoke
DESCRIPTION:Come dance & sing the night away! Great for groups or individuals\,
URL:https://bevmain.org/event/saturday-night-karaoke/2026-07-04/
LOCATION:The Pickled Onion\, 355 rantoul st\, Beverly\, 01915\, United States
CATEGORIES:Beer/Wine,Festival,Music/Concert,Nightlife
ATTACH;FMTTYPE=image/png:https://bevmain.org/wp-content/uploads/2024/04/29B68054-2E1A-4D24-A2CA-1FB4798D3CDB.png
GEO:42.5522933;-70.8824043
X-APPLE-STRUCTURED-LOCATION;VALUE=URI;X-ADDRESS=The Pickled Onion 355 rantoul st Beverly 01915 United States;X-APPLE-RADIUS=500;X-TITLE=355 rantoul st:geo:-70.8824043,42.5522933
END:VEVENT
BEGIN:VEVENT
DTSTART;TZID=America/New_York:20260705T110000
DTEND;TZID=America/New_York:20260705T150000
DTSTAMP:20260423T015621
CREATED:20250413T164123Z
LAST-MODIFIED:20250413T164123Z
UID:10028669-1783249200-1783263600@bevmain.org
SUMMARY:Weekend Brunches at Kitchen Table
DESCRIPTION:Brunch every Saturday & Sunday at Kitchen Table\, 392 Cabot Street. Live music from the likes of Alex Anthony\, Steve Dennis\, Lee Biddle\, and more every Sunday Brunch!
URL:https://bevmain.org/event/weekend-brunches-at-kitchen-table/2026-07-05/
LOCATION:Kitchen Table\, 392 Cabot Street\, Beverly\, 01915\, United States
CATEGORIES:Food,Music/Concert
ORGANIZER;CN="Kitchen Table":MAILTO:kitchentable@kitchentablebeverly.com
GEO:42.5581141;-70.8813462
X-APPLE-STRUCTURED-LOCATION;VALUE=URI;X-ADDRESS=Kitchen Table 392 Cabot Street Beverly 01915 United States;X-APPLE-RADIUS=500;X-TITLE=392 Cabot Street:geo:-70.8813462,42.5581141
END:VEVENT
BEGIN:VEVENT
DTSTART;TZID=America/New_York:20260707T210000
DTEND;TZID=America/New_York:20260708T010000
DTSTAMP:20260423T015621
CREATED:20230307T192014Z
LAST-MODIFIED:20230307T193159Z
UID:10015765-1783458000-1783472400@bevmain.org
SUMMARY:Trivia Tuesday
DESCRIPTION:Tuesday night trivia at the Pickled Onion\n355 Rantoul Street
URL:https://bevmain.org/event/trivia-tuesday-3/2026-07-07/
CATEGORIES:Beer/Wine,Free,Music/Concert,Nightlife
ATTACH;FMTTYPE=image/jpeg:https://bevmain.org/wp-content/uploads/2023/03/pickledoniontriviaUSE.jpg
END:VEVENT
BEGIN:VEVENT
DTSTART;TZID=America/New_York:20260708T210000
DTEND;TZID=America/New_York:20260708T233000
DTSTAMP:20260423T015621
CREATED:20240613T160059Z
LAST-MODIFIED:20240613T160059Z
UID:10022980-1783544400-1783553400@bevmain.org
SUMMARY:Karaoke at Indo
DESCRIPTION:Karaoke night at the Indo every Wednesday night at 9
URL:https://bevmain.org/event/karaoke-at-indo-2/2026-07-08/
LOCATION:Indo Pub\, Beverly\, 298 Cabot Street\, Beverly\, 01915\, United States
CATEGORIES:Music/Concert
ATTACH;FMTTYPE=image/jpeg:https://bevmain.org/wp-content/uploads/2024/06/IMG_20240605_133135_499-scaled.jpg
ORGANIZER;CN="ND Productions":MAILTO:nickkeys@gmail.com
GEO:42.5521872;-70.8790054
X-APPLE-STRUCTURED-LOCATION;VALUE=URI;X-ADDRESS=Indo Pub Beverly 298 Cabot Street Beverly 01915 United States;X-APPLE-RADIUS=500;X-TITLE=298 Cabot Street:geo:-70.8790054,42.5521872
END:VEVENT
BEGIN:VEVENT
DTSTART;TZID=America/New_York:20260709T210000
DTEND;TZID=America/New_York:20260710T010000
DTSTAMP:20260423T015621
CREATED:20230307T180614Z
LAST-MODIFIED:20230307T194535Z
UID:10014989-1783630800-1783645200@bevmain.org
SUMMARY:Live DJ at the Pickled Onion
DESCRIPTION:Live DJ Night!
URL:https://bevmain.org/event/live-dj-at-the-pickled-onion/2026-07-09/
LOCATION:Pickled Onion\, 355 Rantoul Street\, Beverly\, MA\, 01915\, United States
CATEGORIES:Beer/Wine,Music/Concert,Nightlife
ATTACH;FMTTYPE=image/jpeg:https://bevmain.org/wp-content/uploads/2023/03/pickledonionDJ.jpg
GEO:42.5522933;-70.8824043
X-APPLE-STRUCTURED-LOCATION;VALUE=URI;X-ADDRESS=Pickled Onion 355 Rantoul Street Beverly MA 01915 United States;X-APPLE-RADIUS=500;X-TITLE=355 Rantoul Street:geo:-70.8824043,42.5522933
END:VEVENT
BEGIN:VEVENT
DTSTART;TZID=America/New_York:20260709T210000
DTEND;TZID=America/New_York:20260710T010000
DTSTAMP:20260423T015621
CREATED:20240613T160116Z
LAST-MODIFIED:20240613T160116Z
UID:10023242-1783630800-1783645200@bevmain.org
SUMMARY:Karaoke at Jacobs Corner
DESCRIPTION:Karaoke at Jacobs Corner every Thursday at 9pm
URL:https://bevmain.org/event/karaoke-at-jacobs-corner/2026-07-09/
LOCATION:Jacobs Corner\, Rantoul Street\, Beverly\, Massachusetts\, 01915\, United States
CATEGORIES:Music/Concert
ATTACH;FMTTYPE=image/jpeg:https://bevmain.org/wp-content/uploads/2024/06/JCKar.jpg
GEO:42.5505049;-70.8834463
X-APPLE-STRUCTURED-LOCATION;VALUE=URI;X-ADDRESS=Jacobs Corner Rantoul Street Beverly Massachusetts 01915 United States;X-APPLE-RADIUS=500;X-TITLE=Rantoul Street:geo:-70.8834463,42.5505049
END:VEVENT
BEGIN:VEVENT
DTSTART;TZID=America/New_York:20260710T210000
DTEND;TZID=America/New_York:20260712T010000
DTSTAMP:20260423T015621
CREATED:20240405T133417Z
LAST-MODIFIED:20240405T133417Z
UID:10021821-1783717200-1783818000@bevmain.org
SUMMARY:Friday Night Karaoke
DESCRIPTION:Karaoke night hosted by Soulo Productionz. At The Pickled Onion
URL:https://bevmain.org/event/friday-night-karaoke/2026-07-10/
LOCATION:The Pickled Onion\, 355 rantoul st\, Beverly\, 01915\, United States
CATEGORIES:Music/Concert,Nightlife
ATTACH;FMTTYPE=image/png:https://bevmain.org/wp-content/uploads/2024/04/775F44DB-6846-4F23-A77E-1BA24B34B201.png
GEO:42.5522933;-70.8824043
X-APPLE-STRUCTURED-LOCATION;VALUE=URI;X-ADDRESS=The Pickled Onion 355 rantoul st Beverly 01915 United States;X-APPLE-RADIUS=500;X-TITLE=355 rantoul st:geo:-70.8824043,42.5522933
END:VEVENT
BEGIN:VEVENT
DTSTART;TZID=America/New_York:20260711T110000
DTEND;TZID=America/New_York:20260711T150000
DTSTAMP:20260423T015621
CREATED:20250413T164123Z
LAST-MODIFIED:20250413T164123Z
UID:10028670-1783767600-1783782000@bevmain.org
SUMMARY:Weekend Brunches at Kitchen Table
DESCRIPTION:Brunch every Saturday & Sunday at Kitchen Table\, 392 Cabot Street. Live music from the likes of Alex Anthony\, Steve Dennis\, Lee Biddle\, and more every Sunday Brunch!
URL:https://bevmain.org/event/weekend-brunches-at-kitchen-table/2026-07-11/
LOCATION:Kitchen Table\, 392 Cabot Street\, Beverly\, 01915\, United States
CATEGORIES:Food,Music/Concert
ORGANIZER;CN="Kitchen Table":MAILTO:kitchentable@kitchentablebeverly.com
GEO:42.5581141;-70.8813462
X-APPLE-STRUCTURED-LOCATION;VALUE=URI;X-ADDRESS=Kitchen Table 392 Cabot Street Beverly 01915 United States;X-APPLE-RADIUS=500;X-TITLE=392 Cabot Street:geo:-70.8813462,42.5581141
END:VEVENT
BEGIN:VEVENT
DTSTART;TZID=America/New_York:20260711T210000
DTEND;TZID=America/New_York:20260712T003000
DTSTAMP:20260423T015621
CREATED:20230314T145932Z
LAST-MODIFIED:20230314T145932Z
UID:10017140-1783803600-1783816200@bevmain.org
SUMMARY:Karaoke at Anmol
DESCRIPTION:Every Saturday\, 9pm to 12:30am!
URL:https://bevmain.org/event/karaoke-at-anmol/2026-07-11/
LOCATION:Anmol\, 258 Rantoul Street\, Beverly\, MA\, 01915\, United States
CATEGORIES:Community Events,Free,Music/Concert,Nightlife
ATTACH;FMTTYPE=image/jpeg:https://bevmain.org/wp-content/uploads/2023/03/anmolkaraoke.jpg
GEO:42.5500156;-70.8836685
X-APPLE-STRUCTURED-LOCATION;VALUE=URI;X-ADDRESS=Anmol 258 Rantoul Street Beverly MA 01915 United States;X-APPLE-RADIUS=500;X-TITLE=258 Rantoul Street:geo:-70.8836685,42.5500156
END:VEVENT
BEGIN:VEVENT
DTSTART;TZID=America/New_York:20260711T210000
DTEND;TZID=America/New_York:20260712T010000
DTSTAMP:20260423T015621
CREATED:20240405T133525Z
LAST-MODIFIED:20240405T133525Z
UID:10022082-1783803600-1783818000@bevmain.org
SUMMARY:Saturday night Karaoke
DESCRIPTION:Come dance & sing the night away! Great for groups or individuals\,
URL:https://bevmain.org/event/saturday-night-karaoke/2026-07-11/
LOCATION:The Pickled Onion\, 355 rantoul st\, Beverly\, 01915\, United States
CATEGORIES:Beer/Wine,Festival,Music/Concert,Nightlife
ATTACH;FMTTYPE=image/png:https://bevmain.org/wp-content/uploads/2024/04/29B68054-2E1A-4D24-A2CA-1FB4798D3CDB.png
GEO:42.5522933;-70.8824043
X-APPLE-STRUCTURED-LOCATION;VALUE=URI;X-ADDRESS=The Pickled Onion 355 rantoul st Beverly 01915 United States;X-APPLE-RADIUS=500;X-TITLE=355 rantoul st:geo:-70.8824043,42.5522933
END:VEVENT
BEGIN:VEVENT
DTSTART;TZID=America/New_York:20260712T110000
DTEND;TZID=America/New_York:20260712T150000
DTSTAMP:20260423T015621
CREATED:20250413T164123Z
LAST-MODIFIED:20250413T164123Z
UID:10028671-1783854000-1783868400@bevmain.org
SUMMARY:Weekend Brunches at Kitchen Table
DESCRIPTION:Brunch every Saturday & Sunday at Kitchen Table\, 392 Cabot Street. Live music from the likes of Alex Anthony\, Steve Dennis\, Lee Biddle\, and more every Sunday Brunch!
URL:https://bevmain.org/event/weekend-brunches-at-kitchen-table/2026-07-12/
LOCATION:Kitchen Table\, 392 Cabot Street\, Beverly\, 01915\, United States
CATEGORIES:Food,Music/Concert
ORGANIZER;CN="Kitchen Table":MAILTO:kitchentable@kitchentablebeverly.com
GEO:42.5581141;-70.8813462
X-APPLE-STRUCTURED-LOCATION;VALUE=URI;X-ADDRESS=Kitchen Table 392 Cabot Street Beverly 01915 United States;X-APPLE-RADIUS=500;X-TITLE=392 Cabot Street:geo:-70.8813462,42.5581141
END:VEVENT
BEGIN:VEVENT
DTSTART;TZID=America/New_York:20260714T210000
DTEND;TZID=America/New_York:20260715T010000
DTSTAMP:20260423T015621
CREATED:20230307T192014Z
LAST-MODIFIED:20230307T193159Z
UID:10015766-1784062800-1784077200@bevmain.org
SUMMARY:Trivia Tuesday
DESCRIPTION:Tuesday night trivia at the Pickled Onion\n355 Rantoul Street
URL:https://bevmain.org/event/trivia-tuesday-3/2026-07-14/
CATEGORIES:Beer/Wine,Free,Music/Concert,Nightlife
ATTACH;FMTTYPE=image/jpeg:https://bevmain.org/wp-content/uploads/2023/03/pickledoniontriviaUSE.jpg
END:VEVENT
BEGIN:VEVENT
DTSTART;TZID=America/New_York:20260715T210000
DTEND;TZID=America/New_York:20260715T233000
DTSTAMP:20260423T015621
CREATED:20240613T160059Z
LAST-MODIFIED:20240613T160059Z
UID:10022981-1784149200-1784158200@bevmain.org
SUMMARY:Karaoke at Indo
DESCRIPTION:Karaoke night at the Indo every Wednesday night at 9
URL:https://bevmain.org/event/karaoke-at-indo-2/2026-07-15/
LOCATION:Indo Pub\, Beverly\, 298 Cabot Street\, Beverly\, 01915\, United States
CATEGORIES:Music/Concert
ATTACH;FMTTYPE=image/jpeg:https://bevmain.org/wp-content/uploads/2024/06/IMG_20240605_133135_499-scaled.jpg
ORGANIZER;CN="ND Productions":MAILTO:nickkeys@gmail.com
GEO:42.5521872;-70.8790054
X-APPLE-STRUCTURED-LOCATION;VALUE=URI;X-ADDRESS=Indo Pub Beverly 298 Cabot Street Beverly 01915 United States;X-APPLE-RADIUS=500;X-TITLE=298 Cabot Street:geo:-70.8790054,42.5521872
END:VEVENT
END:VCALENDAR