BEGIN:VCALENDAR
VERSION:2.0
PRODID:-//Beverly Main Streets - ECPv6.15.20//NONSGML v1.0//EN
CALSCALE:GREGORIAN
METHOD:PUBLISH
X-WR-CALNAME:Beverly Main Streets
X-ORIGINAL-URL:https://bevmain.org
X-WR-CALDESC:Events for Beverly Main Streets
REFRESH-INTERVAL;VALUE=DURATION:PT1H
X-Robots-Tag:noindex
X-PUBLISHED-TTL:PT1H
BEGIN:VTIMEZONE
TZID:America/New_York
BEGIN:DAYLIGHT
TZOFFSETFROM:-0500
TZOFFSETTO:-0400
TZNAME:EDT
DTSTART:20250309T070000
END:DAYLIGHT
BEGIN:STANDARD
TZOFFSETFROM:-0400
TZOFFSETTO:-0500
TZNAME:EST
DTSTART:20251102T060000
END:STANDARD
BEGIN:DAYLIGHT
TZOFFSETFROM:-0500
TZOFFSETTO:-0400
TZNAME:EDT
DTSTART:20260308T070000
END:DAYLIGHT
BEGIN:STANDARD
TZOFFSETFROM:-0400
TZOFFSETTO:-0500
TZNAME:EST
DTSTART:20261101T060000
END:STANDARD
BEGIN:DAYLIGHT
TZOFFSETFROM:-0500
TZOFFSETTO:-0400
TZNAME:EDT
DTSTART:20270314T070000
END:DAYLIGHT
BEGIN:STANDARD
TZOFFSETFROM:-0400
TZOFFSETTO:-0500
TZNAME:EST
DTSTART:20271107T060000
END:STANDARD
END:VTIMEZONE
BEGIN:VEVENT
DTSTART;TZID=America/New_York:20261028T190000
DTEND;TZID=America/New_York:20261028T210000
DTSTAMP:20260425T235516
CREATED:20230417T144418Z
LAST-MODIFIED:20230417T144436Z
UID:10018028-1793214000-1793221200@bevmain.org
SUMMARY:Trivia Night at Backbeat Brewing
DESCRIPTION:Wednesday at 6:45pm is Trivia Night at Backbeat Brewing Company!
URL:https://bevmain.org/event/trivia-night-at-backbeat-brewing/2026-10-28/
CATEGORIES:Beer/Wine,Food,Nightlife
ATTACH;FMTTYPE=image/jpeg:https://bevmain.org/wp-content/uploads/2023/04/backbeatlogo.jpg
END:VEVENT
BEGIN:VEVENT
DTSTART;TZID=America/New_York:20261029T190000
DTEND;TZID=America/New_York:20261029T210000
DTSTAMP:20260425T235516
CREATED:20230307T174243Z
LAST-MODIFIED:20230315T143421Z
UID:10014221-1793300400-1793307600@bevmain.org
SUMMARY:Thursday Night Trivia
DESCRIPTION:Like a little friendly competition? want to win cool prizes? Come to TRIVIA Thursday nights at 7pm at Old Planters Brewing Co!
URL:https://bevmain.org/event/thursday-night-trivia/2026-10-29/
LOCATION:Old Planter's Brewing Co.\, 232 Rantoul St.\, Beverly\, MA\, 01915\, United States
CATEGORIES:Beer/Wine,Free,Nightlife
ATTACH;FMTTYPE=image/jpeg:https://bevmain.org/wp-content/uploads/2023/03/thursdaytriviaoldplanters.jpg
GEO:42.5493085;-70.8838543
X-APPLE-STRUCTURED-LOCATION;VALUE=URI;X-ADDRESS=Old Planter's Brewing Co. 232 Rantoul St. Beverly MA 01915 United States;X-APPLE-RADIUS=500;X-TITLE=232 Rantoul St.:geo:-70.8838543,42.5493085
END:VEVENT
BEGIN:VEVENT
DTSTART;TZID=America/New_York:20261029T210000
DTEND;TZID=America/New_York:20261030T010000
DTSTAMP:20260425T235516
CREATED:20230307T180614Z
LAST-MODIFIED:20230307T194535Z
UID:10015005-1793307600-1793322000@bevmain.org
SUMMARY:Live DJ at the Pickled Onion
DESCRIPTION:Live DJ Night!
URL:https://bevmain.org/event/live-dj-at-the-pickled-onion/2026-10-29/
LOCATION:Pickled Onion\, 355 Rantoul Street\, Beverly\, MA\, 01915\, United States
CATEGORIES:Beer/Wine,Music/Concert,Nightlife
ATTACH;FMTTYPE=image/jpeg:https://bevmain.org/wp-content/uploads/2023/03/pickledonionDJ.jpg
GEO:42.5522933;-70.8824043
X-APPLE-STRUCTURED-LOCATION;VALUE=URI;X-ADDRESS=Pickled Onion 355 Rantoul Street Beverly MA 01915 United States;X-APPLE-RADIUS=500;X-TITLE=355 Rantoul Street:geo:-70.8824043,42.5522933
END:VEVENT
BEGIN:VEVENT
DTSTART;TZID=America/New_York:20261030T210000
DTEND;TZID=America/New_York:20261101T010000
DTSTAMP:20260425T235516
CREATED:20240405T133417Z
LAST-MODIFIED:20240405T133417Z
UID:10021837-1793394000-1793494800@bevmain.org
SUMMARY:Friday Night Karaoke
DESCRIPTION:Karaoke night hosted by Soulo Productionz. At The Pickled Onion
URL:https://bevmain.org/event/friday-night-karaoke/2026-10-30/
LOCATION:The Pickled Onion\, 355 rantoul st\, Beverly\, 01915\, United States
CATEGORIES:Music/Concert,Nightlife
ATTACH;FMTTYPE=image/png:https://bevmain.org/wp-content/uploads/2024/04/775F44DB-6846-4F23-A77E-1BA24B34B201.png
GEO:42.5522933;-70.8824043
X-APPLE-STRUCTURED-LOCATION;VALUE=URI;X-ADDRESS=The Pickled Onion 355 rantoul st Beverly 01915 United States;X-APPLE-RADIUS=500;X-TITLE=355 rantoul st:geo:-70.8824043,42.5522933
END:VEVENT
BEGIN:VEVENT
DTSTART;TZID=America/New_York:20261031T210000
DTEND;TZID=America/New_York:20261101T003000
DTSTAMP:20260425T235516
CREATED:20230314T145932Z
LAST-MODIFIED:20230314T145932Z
UID:10017156-1793480400-1793493000@bevmain.org
SUMMARY:Karaoke at Anmol
DESCRIPTION:Every Saturday\, 9pm to 12:30am!
URL:https://bevmain.org/event/karaoke-at-anmol/2026-10-31/
LOCATION:Anmol\, 258 Rantoul Street\, Beverly\, MA\, 01915\, United States
CATEGORIES:Community Events,Free,Music/Concert,Nightlife
ATTACH;FMTTYPE=image/jpeg:https://bevmain.org/wp-content/uploads/2023/03/anmolkaraoke.jpg
GEO:42.5500156;-70.8836685
X-APPLE-STRUCTURED-LOCATION;VALUE=URI;X-ADDRESS=Anmol 258 Rantoul Street Beverly MA 01915 United States;X-APPLE-RADIUS=500;X-TITLE=258 Rantoul Street:geo:-70.8836685,42.5500156
END:VEVENT
BEGIN:VEVENT
DTSTART;TZID=America/New_York:20261031T210000
DTEND;TZID=America/New_York:20261101T010000
DTSTAMP:20260425T235516
CREATED:20240405T133525Z
LAST-MODIFIED:20240405T133525Z
UID:10022098-1793480400-1793494800@bevmain.org
SUMMARY:Saturday night Karaoke
DESCRIPTION:Come dance & sing the night away! Great for groups or individuals\,
URL:https://bevmain.org/event/saturday-night-karaoke/2026-10-31/
LOCATION:The Pickled Onion\, 355 rantoul st\, Beverly\, 01915\, United States
CATEGORIES:Beer/Wine,Festival,Music/Concert,Nightlife
ATTACH;FMTTYPE=image/png:https://bevmain.org/wp-content/uploads/2024/04/29B68054-2E1A-4D24-A2CA-1FB4798D3CDB.png
GEO:42.5522933;-70.8824043
X-APPLE-STRUCTURED-LOCATION;VALUE=URI;X-ADDRESS=The Pickled Onion 355 rantoul st Beverly 01915 United States;X-APPLE-RADIUS=500;X-TITLE=355 rantoul st:geo:-70.8824043,42.5522933
END:VEVENT
BEGIN:VEVENT
DTSTART;TZID=America/New_York:20261102T200000
DTEND;TZID=America/New_York:20261102T230000
DTSTAMP:20260425T235516
CREATED:20230628T150156Z
LAST-MODIFIED:20231108T191914Z
UID:10019372-1793649600-1793660400@bevmain.org
SUMMARY:Open Mic at Indo
DESCRIPTION:Hosted by Bob Kramer & Nick Consone!
URL:https://bevmain.org/event/open-mic-at-indo/2026-11-02/
LOCATION:The Indo\, 298 Cabot Street\, Beverly\, MA\, 01915\, United States
CATEGORIES:Beer/Wine,Comedy,Food,Nightlife
ATTACH;FMTTYPE=image/jpeg:https://bevmain.org/wp-content/uploads/2023/06/IndoOpenMic.jpg
GEO:42.5521772;-70.8790122
X-APPLE-STRUCTURED-LOCATION;VALUE=URI;X-ADDRESS=The Indo 298 Cabot Street Beverly MA 01915 United States;X-APPLE-RADIUS=500;X-TITLE=298 Cabot Street:geo:-70.8790122,42.5521772
END:VEVENT
BEGIN:VEVENT
DTSTART;TZID=America/New_York:20261103T200000
DTEND;TZID=America/New_York:20261103T220000
DTSTAMP:20260425T235516
CREATED:20230628T145939Z
LAST-MODIFIED:20230628T145939Z
UID:10019111-1793736000-1793743200@bevmain.org
SUMMARY:Geeks Who Drink Trivia at Indo
DESCRIPTION:Quizzes cover everything from Hungary to The Hunger Games\, from science to sports\, from the Billboard Hot 100 to Better Call Saul. \nEach quiz consists of seven rounds of eight questions each\, in a variety of formats\, including audio and visual rounds. \nTeams can be up to six players\, and winning teams get Indo gift certificates!
URL:https://bevmain.org/event/geeks-who-drink-trivia-at-indo/2026-11-03/
LOCATION:The Indo\, 298 Cabot Street\, Beverly\, MA\, 01915\, United States
CATEGORIES:Beer/Wine,Food,Nightlife
ATTACH;FMTTYPE=image/jpeg:https://bevmain.org/wp-content/uploads/2023/06/geekswhodrinkIndo.jpg
GEO:42.5521772;-70.8790122
X-APPLE-STRUCTURED-LOCATION;VALUE=URI;X-ADDRESS=The Indo 298 Cabot Street Beverly MA 01915 United States;X-APPLE-RADIUS=500;X-TITLE=298 Cabot Street:geo:-70.8790122,42.5521772
END:VEVENT
BEGIN:VEVENT
DTSTART;TZID=America/New_York:20261103T210000
DTEND;TZID=America/New_York:20261104T010000
DTSTAMP:20260425T235516
CREATED:20230307T192014Z
LAST-MODIFIED:20230307T193159Z
UID:10015782-1793739600-1793754000@bevmain.org
SUMMARY:Trivia Tuesday
DESCRIPTION:Tuesday night trivia at the Pickled Onion\n355 Rantoul Street
URL:https://bevmain.org/event/trivia-tuesday-3/2026-11-03/
CATEGORIES:Beer/Wine,Free,Music/Concert,Nightlife
ATTACH;FMTTYPE=image/jpeg:https://bevmain.org/wp-content/uploads/2023/03/pickledoniontriviaUSE.jpg
END:VEVENT
BEGIN:VEVENT
DTSTART;TZID=America/New_York:20261104T183000
DTEND;TZID=America/New_York:20261104T203000
DTSTAMP:20260425T235516
CREATED:20260422T131900Z
LAST-MODIFIED:20260422T131900Z
UID:10038438-1793817000-1793824200@bevmain.org
SUMMARY:Music Bingo at The Pickled Onion
DESCRIPTION:Music Bingo Night at The Pickled Onion\nJoin us for a fun and interactive night of Music Bingo at The Pickled Onion in Beverly! Instead of numbers\, we play your favorite songs—match them on your card for a chance to win prizes each round. It’s high-energy\, easy to play\, and perfect for a night out with friends.\n🗓 Wednesdays\n⏰ 6:30 PM – 8:30 PM\n📍 The Pickled Onion\, Beverly\nEnjoy our $7.50 burger & fries special during the event (beverage purchase required\, dine-in only).\nCome early\, grab a seat\, and get ready to sing along\, win prizes\, and have a great time!
URL:https://bevmain.org/event/music-bingo-at-the-pickled-onion/2026-11-04/
LOCATION:The Pickled Onion\, 355 rantoul st\, Beverly\, 01915\, United States
CATEGORIES:Comedy,Food,Nightlife
ATTACH;FMTTYPE=image/jpeg:https://bevmain.org/wp-content/uploads/2026/04/6B85B753-6EDB-43CF-BA5E-A2463447CB49.jpg
GEO:42.5522933;-70.8824043
X-APPLE-STRUCTURED-LOCATION;VALUE=URI;X-ADDRESS=The Pickled Onion 355 rantoul st Beverly 01915 United States;X-APPLE-RADIUS=500;X-TITLE=355 rantoul st:geo:-70.8824043,42.5522933
END:VEVENT
BEGIN:VEVENT
DTSTART;TZID=America/New_York:20261104T190000
DTEND;TZID=America/New_York:20261104T210000
DTSTAMP:20260425T235516
CREATED:20230417T144418Z
LAST-MODIFIED:20230417T144436Z
UID:10018029-1793818800-1793826000@bevmain.org
SUMMARY:Trivia Night at Backbeat Brewing
DESCRIPTION:Wednesday at 6:45pm is Trivia Night at Backbeat Brewing Company!
URL:https://bevmain.org/event/trivia-night-at-backbeat-brewing/2026-11-04/
CATEGORIES:Beer/Wine,Food,Nightlife
ATTACH;FMTTYPE=image/jpeg:https://bevmain.org/wp-content/uploads/2023/04/backbeatlogo.jpg
END:VEVENT
BEGIN:VEVENT
DTSTART;TZID=America/New_York:20261105T190000
DTEND;TZID=America/New_York:20261105T210000
DTSTAMP:20260425T235516
CREATED:20230307T174243Z
LAST-MODIFIED:20230315T143421Z
UID:10014222-1793905200-1793912400@bevmain.org
SUMMARY:Thursday Night Trivia
DESCRIPTION:Like a little friendly competition? want to win cool prizes? Come to TRIVIA Thursday nights at 7pm at Old Planters Brewing Co!
URL:https://bevmain.org/event/thursday-night-trivia/2026-11-05/
LOCATION:Old Planter's Brewing Co.\, 232 Rantoul St.\, Beverly\, MA\, 01915\, United States
CATEGORIES:Beer/Wine,Free,Nightlife
ATTACH;FMTTYPE=image/jpeg:https://bevmain.org/wp-content/uploads/2023/03/thursdaytriviaoldplanters.jpg
GEO:42.5493085;-70.8838543
X-APPLE-STRUCTURED-LOCATION;VALUE=URI;X-ADDRESS=Old Planter's Brewing Co. 232 Rantoul St. Beverly MA 01915 United States;X-APPLE-RADIUS=500;X-TITLE=232 Rantoul St.:geo:-70.8838543,42.5493085
END:VEVENT
BEGIN:VEVENT
DTSTART;TZID=America/New_York:20261105T210000
DTEND;TZID=America/New_York:20261106T010000
DTSTAMP:20260425T235516
CREATED:20230307T180614Z
LAST-MODIFIED:20230307T194535Z
UID:10015006-1793912400-1793926800@bevmain.org
SUMMARY:Live DJ at the Pickled Onion
DESCRIPTION:Live DJ Night!
URL:https://bevmain.org/event/live-dj-at-the-pickled-onion/2026-11-05/
LOCATION:Pickled Onion\, 355 Rantoul Street\, Beverly\, MA\, 01915\, United States
CATEGORIES:Beer/Wine,Music/Concert,Nightlife
ATTACH;FMTTYPE=image/jpeg:https://bevmain.org/wp-content/uploads/2023/03/pickledonionDJ.jpg
GEO:42.5522933;-70.8824043
X-APPLE-STRUCTURED-LOCATION;VALUE=URI;X-ADDRESS=Pickled Onion 355 Rantoul Street Beverly MA 01915 United States;X-APPLE-RADIUS=500;X-TITLE=355 Rantoul Street:geo:-70.8824043,42.5522933
END:VEVENT
BEGIN:VEVENT
DTSTART;TZID=America/New_York:20261106T210000
DTEND;TZID=America/New_York:20261108T010000
DTSTAMP:20260425T235516
CREATED:20240405T133417Z
LAST-MODIFIED:20240405T133417Z
UID:10021838-1793998800-1794099600@bevmain.org
SUMMARY:Friday Night Karaoke
DESCRIPTION:Karaoke night hosted by Soulo Productionz. At The Pickled Onion
URL:https://bevmain.org/event/friday-night-karaoke/2026-11-06/
LOCATION:The Pickled Onion\, 355 rantoul st\, Beverly\, 01915\, United States
CATEGORIES:Music/Concert,Nightlife
ATTACH;FMTTYPE=image/png:https://bevmain.org/wp-content/uploads/2024/04/775F44DB-6846-4F23-A77E-1BA24B34B201.png
GEO:42.5522933;-70.8824043
X-APPLE-STRUCTURED-LOCATION;VALUE=URI;X-ADDRESS=The Pickled Onion 355 rantoul st Beverly 01915 United States;X-APPLE-RADIUS=500;X-TITLE=355 rantoul st:geo:-70.8824043,42.5522933
END:VEVENT
BEGIN:VEVENT
DTSTART;TZID=America/New_York:20261107T210000
DTEND;TZID=America/New_York:20261108T003000
DTSTAMP:20260425T235516
CREATED:20230314T145932Z
LAST-MODIFIED:20230314T145932Z
UID:10017157-1794085200-1794097800@bevmain.org
SUMMARY:Karaoke at Anmol
DESCRIPTION:Every Saturday\, 9pm to 12:30am!
URL:https://bevmain.org/event/karaoke-at-anmol/2026-11-07/
LOCATION:Anmol\, 258 Rantoul Street\, Beverly\, MA\, 01915\, United States
CATEGORIES:Community Events,Free,Music/Concert,Nightlife
ATTACH;FMTTYPE=image/jpeg:https://bevmain.org/wp-content/uploads/2023/03/anmolkaraoke.jpg
GEO:42.5500156;-70.8836685
X-APPLE-STRUCTURED-LOCATION;VALUE=URI;X-ADDRESS=Anmol 258 Rantoul Street Beverly MA 01915 United States;X-APPLE-RADIUS=500;X-TITLE=258 Rantoul Street:geo:-70.8836685,42.5500156
END:VEVENT
BEGIN:VEVENT
DTSTART;TZID=America/New_York:20261107T210000
DTEND;TZID=America/New_York:20261108T010000
DTSTAMP:20260425T235516
CREATED:20240405T133525Z
LAST-MODIFIED:20240405T133525Z
UID:10022099-1794085200-1794099600@bevmain.org
SUMMARY:Saturday night Karaoke
DESCRIPTION:Come dance & sing the night away! Great for groups or individuals\,
URL:https://bevmain.org/event/saturday-night-karaoke/2026-11-07/
LOCATION:The Pickled Onion\, 355 rantoul st\, Beverly\, 01915\, United States
CATEGORIES:Beer/Wine,Festival,Music/Concert,Nightlife
ATTACH;FMTTYPE=image/png:https://bevmain.org/wp-content/uploads/2024/04/29B68054-2E1A-4D24-A2CA-1FB4798D3CDB.png
GEO:42.5522933;-70.8824043
X-APPLE-STRUCTURED-LOCATION;VALUE=URI;X-ADDRESS=The Pickled Onion 355 rantoul st Beverly 01915 United States;X-APPLE-RADIUS=500;X-TITLE=355 rantoul st:geo:-70.8824043,42.5522933
END:VEVENT
BEGIN:VEVENT
DTSTART;TZID=America/New_York:20261109T200000
DTEND;TZID=America/New_York:20261109T230000
DTSTAMP:20260425T235516
CREATED:20230628T150156Z
LAST-MODIFIED:20231108T191914Z
UID:10019373-1794254400-1794265200@bevmain.org
SUMMARY:Open Mic at Indo
DESCRIPTION:Hosted by Bob Kramer & Nick Consone!
URL:https://bevmain.org/event/open-mic-at-indo/2026-11-09/
LOCATION:The Indo\, 298 Cabot Street\, Beverly\, MA\, 01915\, United States
CATEGORIES:Beer/Wine,Comedy,Food,Nightlife
ATTACH;FMTTYPE=image/jpeg:https://bevmain.org/wp-content/uploads/2023/06/IndoOpenMic.jpg
GEO:42.5521772;-70.8790122
X-APPLE-STRUCTURED-LOCATION;VALUE=URI;X-ADDRESS=The Indo 298 Cabot Street Beverly MA 01915 United States;X-APPLE-RADIUS=500;X-TITLE=298 Cabot Street:geo:-70.8790122,42.5521772
END:VEVENT
BEGIN:VEVENT
DTSTART;TZID=America/New_York:20261110T200000
DTEND;TZID=America/New_York:20261110T220000
DTSTAMP:20260425T235516
CREATED:20230628T145939Z
LAST-MODIFIED:20230628T145939Z
UID:10019112-1794340800-1794348000@bevmain.org
SUMMARY:Geeks Who Drink Trivia at Indo
DESCRIPTION:Quizzes cover everything from Hungary to The Hunger Games\, from science to sports\, from the Billboard Hot 100 to Better Call Saul. \nEach quiz consists of seven rounds of eight questions each\, in a variety of formats\, including audio and visual rounds. \nTeams can be up to six players\, and winning teams get Indo gift certificates!
URL:https://bevmain.org/event/geeks-who-drink-trivia-at-indo/2026-11-10/
LOCATION:The Indo\, 298 Cabot Street\, Beverly\, MA\, 01915\, United States
CATEGORIES:Beer/Wine,Food,Nightlife
ATTACH;FMTTYPE=image/jpeg:https://bevmain.org/wp-content/uploads/2023/06/geekswhodrinkIndo.jpg
GEO:42.5521772;-70.8790122
X-APPLE-STRUCTURED-LOCATION;VALUE=URI;X-ADDRESS=The Indo 298 Cabot Street Beverly MA 01915 United States;X-APPLE-RADIUS=500;X-TITLE=298 Cabot Street:geo:-70.8790122,42.5521772
END:VEVENT
BEGIN:VEVENT
DTSTART;TZID=America/New_York:20261110T210000
DTEND;TZID=America/New_York:20261111T010000
DTSTAMP:20260425T235516
CREATED:20230307T192014Z
LAST-MODIFIED:20230307T193159Z
UID:10015783-1794344400-1794358800@bevmain.org
SUMMARY:Trivia Tuesday
DESCRIPTION:Tuesday night trivia at the Pickled Onion\n355 Rantoul Street
URL:https://bevmain.org/event/trivia-tuesday-3/2026-11-10/
CATEGORIES:Beer/Wine,Free,Music/Concert,Nightlife
ATTACH;FMTTYPE=image/jpeg:https://bevmain.org/wp-content/uploads/2023/03/pickledoniontriviaUSE.jpg
END:VEVENT
BEGIN:VEVENT
DTSTART;TZID=America/New_York:20261111T183000
DTEND;TZID=America/New_York:20261111T203000
DTSTAMP:20260425T235516
CREATED:20260422T131900Z
LAST-MODIFIED:20260422T131900Z
UID:10038439-1794421800-1794429000@bevmain.org
SUMMARY:Music Bingo at The Pickled Onion
DESCRIPTION:Music Bingo Night at The Pickled Onion\nJoin us for a fun and interactive night of Music Bingo at The Pickled Onion in Beverly! Instead of numbers\, we play your favorite songs—match them on your card for a chance to win prizes each round. It’s high-energy\, easy to play\, and perfect for a night out with friends.\n🗓 Wednesdays\n⏰ 6:30 PM – 8:30 PM\n📍 The Pickled Onion\, Beverly\nEnjoy our $7.50 burger & fries special during the event (beverage purchase required\, dine-in only).\nCome early\, grab a seat\, and get ready to sing along\, win prizes\, and have a great time!
URL:https://bevmain.org/event/music-bingo-at-the-pickled-onion/2026-11-11/
LOCATION:The Pickled Onion\, 355 rantoul st\, Beverly\, 01915\, United States
CATEGORIES:Comedy,Food,Nightlife
ATTACH;FMTTYPE=image/jpeg:https://bevmain.org/wp-content/uploads/2026/04/6B85B753-6EDB-43CF-BA5E-A2463447CB49.jpg
GEO:42.5522933;-70.8824043
X-APPLE-STRUCTURED-LOCATION;VALUE=URI;X-ADDRESS=The Pickled Onion 355 rantoul st Beverly 01915 United States;X-APPLE-RADIUS=500;X-TITLE=355 rantoul st:geo:-70.8824043,42.5522933
END:VEVENT
BEGIN:VEVENT
DTSTART;TZID=America/New_York:20261111T190000
DTEND;TZID=America/New_York:20261111T210000
DTSTAMP:20260425T235516
CREATED:20230417T144418Z
LAST-MODIFIED:20230417T144436Z
UID:10018030-1794423600-1794430800@bevmain.org
SUMMARY:Trivia Night at Backbeat Brewing
DESCRIPTION:Wednesday at 6:45pm is Trivia Night at Backbeat Brewing Company!
URL:https://bevmain.org/event/trivia-night-at-backbeat-brewing/2026-11-11/
CATEGORIES:Beer/Wine,Food,Nightlife
ATTACH;FMTTYPE=image/jpeg:https://bevmain.org/wp-content/uploads/2023/04/backbeatlogo.jpg
END:VEVENT
BEGIN:VEVENT
DTSTART;TZID=America/New_York:20261112T190000
DTEND;TZID=America/New_York:20261112T210000
DTSTAMP:20260425T235516
CREATED:20230307T174243Z
LAST-MODIFIED:20230315T143421Z
UID:10014223-1794510000-1794517200@bevmain.org
SUMMARY:Thursday Night Trivia
DESCRIPTION:Like a little friendly competition? want to win cool prizes? Come to TRIVIA Thursday nights at 7pm at Old Planters Brewing Co!
URL:https://bevmain.org/event/thursday-night-trivia/2026-11-12/
LOCATION:Old Planter's Brewing Co.\, 232 Rantoul St.\, Beverly\, MA\, 01915\, United States
CATEGORIES:Beer/Wine,Free,Nightlife
ATTACH;FMTTYPE=image/jpeg:https://bevmain.org/wp-content/uploads/2023/03/thursdaytriviaoldplanters.jpg
GEO:42.5493085;-70.8838543
X-APPLE-STRUCTURED-LOCATION;VALUE=URI;X-ADDRESS=Old Planter's Brewing Co. 232 Rantoul St. Beverly MA 01915 United States;X-APPLE-RADIUS=500;X-TITLE=232 Rantoul St.:geo:-70.8838543,42.5493085
END:VEVENT
BEGIN:VEVENT
DTSTART;TZID=America/New_York:20261112T210000
DTEND;TZID=America/New_York:20261113T010000
DTSTAMP:20260425T235516
CREATED:20230307T180614Z
LAST-MODIFIED:20230307T194535Z
UID:10015007-1794517200-1794531600@bevmain.org
SUMMARY:Live DJ at the Pickled Onion
DESCRIPTION:Live DJ Night!
URL:https://bevmain.org/event/live-dj-at-the-pickled-onion/2026-11-12/
LOCATION:Pickled Onion\, 355 Rantoul Street\, Beverly\, MA\, 01915\, United States
CATEGORIES:Beer/Wine,Music/Concert,Nightlife
ATTACH;FMTTYPE=image/jpeg:https://bevmain.org/wp-content/uploads/2023/03/pickledonionDJ.jpg
GEO:42.5522933;-70.8824043
X-APPLE-STRUCTURED-LOCATION;VALUE=URI;X-ADDRESS=Pickled Onion 355 Rantoul Street Beverly MA 01915 United States;X-APPLE-RADIUS=500;X-TITLE=355 Rantoul Street:geo:-70.8824043,42.5522933
END:VEVENT
BEGIN:VEVENT
DTSTART;TZID=America/New_York:20261113T210000
DTEND;TZID=America/New_York:20261115T010000
DTSTAMP:20260425T235516
CREATED:20240405T133417Z
LAST-MODIFIED:20240405T133417Z
UID:10021839-1794603600-1794704400@bevmain.org
SUMMARY:Friday Night Karaoke
DESCRIPTION:Karaoke night hosted by Soulo Productionz. At The Pickled Onion
URL:https://bevmain.org/event/friday-night-karaoke/2026-11-13/
LOCATION:The Pickled Onion\, 355 rantoul st\, Beverly\, 01915\, United States
CATEGORIES:Music/Concert,Nightlife
ATTACH;FMTTYPE=image/png:https://bevmain.org/wp-content/uploads/2024/04/775F44DB-6846-4F23-A77E-1BA24B34B201.png
GEO:42.5522933;-70.8824043
X-APPLE-STRUCTURED-LOCATION;VALUE=URI;X-ADDRESS=The Pickled Onion 355 rantoul st Beverly 01915 United States;X-APPLE-RADIUS=500;X-TITLE=355 rantoul st:geo:-70.8824043,42.5522933
END:VEVENT
BEGIN:VEVENT
DTSTART;TZID=America/New_York:20261114T210000
DTEND;TZID=America/New_York:20261115T003000
DTSTAMP:20260425T235516
CREATED:20230314T145932Z
LAST-MODIFIED:20230314T145932Z
UID:10017158-1794690000-1794702600@bevmain.org
SUMMARY:Karaoke at Anmol
DESCRIPTION:Every Saturday\, 9pm to 12:30am!
URL:https://bevmain.org/event/karaoke-at-anmol/2026-11-14/
LOCATION:Anmol\, 258 Rantoul Street\, Beverly\, MA\, 01915\, United States
CATEGORIES:Community Events,Free,Music/Concert,Nightlife
ATTACH;FMTTYPE=image/jpeg:https://bevmain.org/wp-content/uploads/2023/03/anmolkaraoke.jpg
GEO:42.5500156;-70.8836685
X-APPLE-STRUCTURED-LOCATION;VALUE=URI;X-ADDRESS=Anmol 258 Rantoul Street Beverly MA 01915 United States;X-APPLE-RADIUS=500;X-TITLE=258 Rantoul Street:geo:-70.8836685,42.5500156
END:VEVENT
BEGIN:VEVENT
DTSTART;TZID=America/New_York:20261114T210000
DTEND;TZID=America/New_York:20261115T010000
DTSTAMP:20260425T235516
CREATED:20240405T133525Z
LAST-MODIFIED:20240405T133525Z
UID:10022100-1794690000-1794704400@bevmain.org
SUMMARY:Saturday night Karaoke
DESCRIPTION:Come dance & sing the night away! Great for groups or individuals\,
URL:https://bevmain.org/event/saturday-night-karaoke/2026-11-14/
LOCATION:The Pickled Onion\, 355 rantoul st\, Beverly\, 01915\, United States
CATEGORIES:Beer/Wine,Festival,Music/Concert,Nightlife
ATTACH;FMTTYPE=image/png:https://bevmain.org/wp-content/uploads/2024/04/29B68054-2E1A-4D24-A2CA-1FB4798D3CDB.png
GEO:42.5522933;-70.8824043
X-APPLE-STRUCTURED-LOCATION;VALUE=URI;X-ADDRESS=The Pickled Onion 355 rantoul st Beverly 01915 United States;X-APPLE-RADIUS=500;X-TITLE=355 rantoul st:geo:-70.8824043,42.5522933
END:VEVENT
BEGIN:VEVENT
DTSTART;TZID=America/New_York:20261116T200000
DTEND;TZID=America/New_York:20261116T230000
DTSTAMP:20260425T235516
CREATED:20230628T150156Z
LAST-MODIFIED:20231108T191914Z
UID:10019374-1794859200-1794870000@bevmain.org
SUMMARY:Open Mic at Indo
DESCRIPTION:Hosted by Bob Kramer & Nick Consone!
URL:https://bevmain.org/event/open-mic-at-indo/2026-11-16/
LOCATION:The Indo\, 298 Cabot Street\, Beverly\, MA\, 01915\, United States
CATEGORIES:Beer/Wine,Comedy,Food,Nightlife
ATTACH;FMTTYPE=image/jpeg:https://bevmain.org/wp-content/uploads/2023/06/IndoOpenMic.jpg
GEO:42.5521772;-70.8790122
X-APPLE-STRUCTURED-LOCATION;VALUE=URI;X-ADDRESS=The Indo 298 Cabot Street Beverly MA 01915 United States;X-APPLE-RADIUS=500;X-TITLE=298 Cabot Street:geo:-70.8790122,42.5521772
END:VEVENT
BEGIN:VEVENT
DTSTART;TZID=America/New_York:20261117T200000
DTEND;TZID=America/New_York:20261117T220000
DTSTAMP:20260425T235516
CREATED:20230628T145939Z
LAST-MODIFIED:20230628T145939Z
UID:10019113-1794945600-1794952800@bevmain.org
SUMMARY:Geeks Who Drink Trivia at Indo
DESCRIPTION:Quizzes cover everything from Hungary to The Hunger Games\, from science to sports\, from the Billboard Hot 100 to Better Call Saul. \nEach quiz consists of seven rounds of eight questions each\, in a variety of formats\, including audio and visual rounds. \nTeams can be up to six players\, and winning teams get Indo gift certificates!
URL:https://bevmain.org/event/geeks-who-drink-trivia-at-indo/2026-11-17/
LOCATION:The Indo\, 298 Cabot Street\, Beverly\, MA\, 01915\, United States
CATEGORIES:Beer/Wine,Food,Nightlife
ATTACH;FMTTYPE=image/jpeg:https://bevmain.org/wp-content/uploads/2023/06/geekswhodrinkIndo.jpg
GEO:42.5521772;-70.8790122
X-APPLE-STRUCTURED-LOCATION;VALUE=URI;X-ADDRESS=The Indo 298 Cabot Street Beverly MA 01915 United States;X-APPLE-RADIUS=500;X-TITLE=298 Cabot Street:geo:-70.8790122,42.5521772
END:VEVENT
BEGIN:VEVENT
DTSTART;TZID=America/New_York:20261117T210000
DTEND;TZID=America/New_York:20261118T010000
DTSTAMP:20260425T235516
CREATED:20230307T192014Z
LAST-MODIFIED:20230307T193159Z
UID:10015784-1794949200-1794963600@bevmain.org
SUMMARY:Trivia Tuesday
DESCRIPTION:Tuesday night trivia at the Pickled Onion\n355 Rantoul Street
URL:https://bevmain.org/event/trivia-tuesday-3/2026-11-17/
CATEGORIES:Beer/Wine,Free,Music/Concert,Nightlife
ATTACH;FMTTYPE=image/jpeg:https://bevmain.org/wp-content/uploads/2023/03/pickledoniontriviaUSE.jpg
END:VEVENT
BEGIN:VEVENT
DTSTART;TZID=America/New_York:20261118T183000
DTEND;TZID=America/New_York:20261118T203000
DTSTAMP:20260425T235516
CREATED:20260422T131900Z
LAST-MODIFIED:20260422T131900Z
UID:10038440-1795026600-1795033800@bevmain.org
SUMMARY:Music Bingo at The Pickled Onion
DESCRIPTION:Music Bingo Night at The Pickled Onion\nJoin us for a fun and interactive night of Music Bingo at The Pickled Onion in Beverly! Instead of numbers\, we play your favorite songs—match them on your card for a chance to win prizes each round. It’s high-energy\, easy to play\, and perfect for a night out with friends.\n🗓 Wednesdays\n⏰ 6:30 PM – 8:30 PM\n📍 The Pickled Onion\, Beverly\nEnjoy our $7.50 burger & fries special during the event (beverage purchase required\, dine-in only).\nCome early\, grab a seat\, and get ready to sing along\, win prizes\, and have a great time!
URL:https://bevmain.org/event/music-bingo-at-the-pickled-onion/2026-11-18/
LOCATION:The Pickled Onion\, 355 rantoul st\, Beverly\, 01915\, United States
CATEGORIES:Comedy,Food,Nightlife
ATTACH;FMTTYPE=image/jpeg:https://bevmain.org/wp-content/uploads/2026/04/6B85B753-6EDB-43CF-BA5E-A2463447CB49.jpg
GEO:42.5522933;-70.8824043
X-APPLE-STRUCTURED-LOCATION;VALUE=URI;X-ADDRESS=The Pickled Onion 355 rantoul st Beverly 01915 United States;X-APPLE-RADIUS=500;X-TITLE=355 rantoul st:geo:-70.8824043,42.5522933
END:VEVENT
END:VCALENDAR