BEGIN:VCALENDAR
VERSION:2.0
PRODID:-//Beverly Main Streets - ECPv6.15.20//NONSGML v1.0//EN
CALSCALE:GREGORIAN
METHOD:PUBLISH
X-WR-CALNAME:Beverly Main Streets
X-ORIGINAL-URL:https://bevmain.org
X-WR-CALDESC:Events for Beverly Main Streets
REFRESH-INTERVAL;VALUE=DURATION:PT1H
X-Robots-Tag:noindex
X-PUBLISHED-TTL:PT1H
BEGIN:VTIMEZONE
TZID:America/New_York
BEGIN:DAYLIGHT
TZOFFSETFROM:-0500
TZOFFSETTO:-0400
TZNAME:EDT
DTSTART:20250309T070000
END:DAYLIGHT
BEGIN:STANDARD
TZOFFSETFROM:-0400
TZOFFSETTO:-0500
TZNAME:EST
DTSTART:20251102T060000
END:STANDARD
BEGIN:DAYLIGHT
TZOFFSETFROM:-0500
TZOFFSETTO:-0400
TZNAME:EDT
DTSTART:20260308T070000
END:DAYLIGHT
BEGIN:STANDARD
TZOFFSETFROM:-0400
TZOFFSETTO:-0500
TZNAME:EST
DTSTART:20261101T060000
END:STANDARD
BEGIN:DAYLIGHT
TZOFFSETFROM:-0500
TZOFFSETTO:-0400
TZNAME:EDT
DTSTART:20270314T070000
END:DAYLIGHT
BEGIN:STANDARD
TZOFFSETFROM:-0400
TZOFFSETTO:-0500
TZNAME:EST
DTSTART:20271107T060000
END:STANDARD
END:VTIMEZONE
BEGIN:VEVENT
DTSTART;TZID=America/New_York:20260126T200000
DTEND;TZID=America/New_York:20260126T230000
DTSTAMP:20260421T230841
CREATED:20230628T150156Z
LAST-MODIFIED:20231108T191914Z
UID:10019332-1769457600-1769468400@bevmain.org
SUMMARY:Open Mic at Indo
DESCRIPTION:Hosted by Bob Kramer & Nick Consone!
URL:https://bevmain.org/event/open-mic-at-indo/2026-01-26/
LOCATION:The Indo\, 298 Cabot Street\, Beverly\, MA\, 01915\, United States
CATEGORIES:Beer/Wine,Comedy,Food,Nightlife
ATTACH;FMTTYPE=image/jpeg:https://bevmain.org/wp-content/uploads/2023/06/IndoOpenMic.jpg
GEO:42.5521772;-70.8790122
X-APPLE-STRUCTURED-LOCATION;VALUE=URI;X-ADDRESS=The Indo 298 Cabot Street Beverly MA 01915 United States;X-APPLE-RADIUS=500;X-TITLE=298 Cabot Street:geo:-70.8790122,42.5521772
END:VEVENT
BEGIN:VEVENT
DTSTART;TZID=America/New_York:20260127T200000
DTEND;TZID=America/New_York:20260127T220000
DTSTAMP:20260421T230841
CREATED:20230628T145939Z
LAST-MODIFIED:20230628T145939Z
UID:10019071-1769544000-1769551200@bevmain.org
SUMMARY:Geeks Who Drink Trivia at Indo
DESCRIPTION:Quizzes cover everything from Hungary to The Hunger Games\, from science to sports\, from the Billboard Hot 100 to Better Call Saul. \nEach quiz consists of seven rounds of eight questions each\, in a variety of formats\, including audio and visual rounds. \nTeams can be up to six players\, and winning teams get Indo gift certificates!
URL:https://bevmain.org/event/geeks-who-drink-trivia-at-indo/2026-01-27/
LOCATION:The Indo\, 298 Cabot Street\, Beverly\, MA\, 01915\, United States
CATEGORIES:Beer/Wine,Food,Nightlife
ATTACH;FMTTYPE=image/jpeg:https://bevmain.org/wp-content/uploads/2023/06/geekswhodrinkIndo.jpg
GEO:42.5521772;-70.8790122
X-APPLE-STRUCTURED-LOCATION;VALUE=URI;X-ADDRESS=The Indo 298 Cabot Street Beverly MA 01915 United States;X-APPLE-RADIUS=500;X-TITLE=298 Cabot Street:geo:-70.8790122,42.5521772
END:VEVENT
BEGIN:VEVENT
DTSTART;TZID=America/New_York:20260127T210000
DTEND;TZID=America/New_York:20260128T010000
DTSTAMP:20260421T230841
CREATED:20230307T192014Z
LAST-MODIFIED:20230307T193159Z
UID:10015742-1769547600-1769562000@bevmain.org
SUMMARY:Trivia Tuesday
DESCRIPTION:Tuesday night trivia at the Pickled Onion\n355 Rantoul Street
URL:https://bevmain.org/event/trivia-tuesday-3/2026-01-27/
CATEGORIES:Beer/Wine,Free,Music/Concert,Nightlife
ATTACH;FMTTYPE=image/jpeg:https://bevmain.org/wp-content/uploads/2023/03/pickledoniontriviaUSE.jpg
END:VEVENT
BEGIN:VEVENT
DTSTART;TZID=America/New_York:20260128T190000
DTEND;TZID=America/New_York:20260128T210000
DTSTAMP:20260421T230841
CREATED:20230417T144418Z
LAST-MODIFIED:20230417T144436Z
UID:10017989-1769626800-1769634000@bevmain.org
SUMMARY:Trivia Night at Backbeat Brewing
DESCRIPTION:Wednesday at 6:45pm is Trivia Night at Backbeat Brewing Company!
URL:https://bevmain.org/event/trivia-night-at-backbeat-brewing/2026-01-28/
CATEGORIES:Beer/Wine,Food,Nightlife
ATTACH;FMTTYPE=image/jpeg:https://bevmain.org/wp-content/uploads/2023/04/backbeatlogo.jpg
END:VEVENT
BEGIN:VEVENT
DTSTART;TZID=America/New_York:20260129T190000
DTEND;TZID=America/New_York:20260129T210000
DTSTAMP:20260421T230841
CREATED:20230307T174243Z
LAST-MODIFIED:20230315T143421Z
UID:10014182-1769713200-1769720400@bevmain.org
SUMMARY:Thursday Night Trivia
DESCRIPTION:Like a little friendly competition? want to win cool prizes? Come to TRIVIA Thursday nights at 7pm at Old Planters Brewing Co!
URL:https://bevmain.org/event/thursday-night-trivia/2026-01-29/
LOCATION:Old Planter's Brewing Co.\, 232 Rantoul St.\, Beverly\, MA\, 01915\, United States
CATEGORIES:Beer/Wine,Free,Nightlife
ATTACH;FMTTYPE=image/jpeg:https://bevmain.org/wp-content/uploads/2023/03/thursdaytriviaoldplanters.jpg
GEO:42.5493085;-70.8838543
X-APPLE-STRUCTURED-LOCATION;VALUE=URI;X-ADDRESS=Old Planter's Brewing Co. 232 Rantoul St. Beverly MA 01915 United States;X-APPLE-RADIUS=500;X-TITLE=232 Rantoul St.:geo:-70.8838543,42.5493085
END:VEVENT
BEGIN:VEVENT
DTSTART;TZID=America/New_York:20260129T210000
DTEND;TZID=America/New_York:20260130T010000
DTSTAMP:20260421T230841
CREATED:20230307T180614Z
LAST-MODIFIED:20230307T194535Z
UID:10014966-1769720400-1769734800@bevmain.org
SUMMARY:Live DJ at the Pickled Onion
DESCRIPTION:Live DJ Night!
URL:https://bevmain.org/event/live-dj-at-the-pickled-onion/2026-01-29/
LOCATION:Pickled Onion\, 355 Rantoul Street\, Beverly\, MA\, 01915\, United States
CATEGORIES:Beer/Wine,Music/Concert,Nightlife
ATTACH;FMTTYPE=image/jpeg:https://bevmain.org/wp-content/uploads/2023/03/pickledonionDJ.jpg
GEO:42.5522933;-70.8824043
X-APPLE-STRUCTURED-LOCATION;VALUE=URI;X-ADDRESS=Pickled Onion 355 Rantoul Street Beverly MA 01915 United States;X-APPLE-RADIUS=500;X-TITLE=355 Rantoul Street:geo:-70.8824043,42.5522933
END:VEVENT
BEGIN:VEVENT
DTSTART;TZID=America/New_York:20260130T210000
DTEND;TZID=America/New_York:20260201T010000
DTSTAMP:20260421T230841
CREATED:20240405T133417Z
LAST-MODIFIED:20240405T133417Z
UID:10021798-1769806800-1769907600@bevmain.org
SUMMARY:Friday Night Karaoke
DESCRIPTION:Karaoke night hosted by Soulo Productionz. At The Pickled Onion
URL:https://bevmain.org/event/friday-night-karaoke/2026-01-30/
LOCATION:The Pickled Onion\, 355 rantoul st\, Beverly\, 01915\, United States
CATEGORIES:Music/Concert,Nightlife
ATTACH;FMTTYPE=image/png:https://bevmain.org/wp-content/uploads/2024/04/775F44DB-6846-4F23-A77E-1BA24B34B201.png
GEO:42.5522933;-70.8824043
X-APPLE-STRUCTURED-LOCATION;VALUE=URI;X-ADDRESS=The Pickled Onion 355 rantoul st Beverly 01915 United States;X-APPLE-RADIUS=500;X-TITLE=355 rantoul st:geo:-70.8824043,42.5522933
END:VEVENT
BEGIN:VEVENT
DTSTART;TZID=America/New_York:20260131T210000
DTEND;TZID=America/New_York:20260201T003000
DTSTAMP:20260421T230841
CREATED:20230314T145932Z
LAST-MODIFIED:20230314T145932Z
UID:10017117-1769893200-1769905800@bevmain.org
SUMMARY:Karaoke at Anmol
DESCRIPTION:Every Saturday\, 9pm to 12:30am!
URL:https://bevmain.org/event/karaoke-at-anmol/2026-01-31/
LOCATION:Anmol\, 258 Rantoul Street\, Beverly\, MA\, 01915\, United States
CATEGORIES:Community Events,Free,Music/Concert,Nightlife
ATTACH;FMTTYPE=image/jpeg:https://bevmain.org/wp-content/uploads/2023/03/anmolkaraoke.jpg
GEO:42.5500156;-70.8836685
X-APPLE-STRUCTURED-LOCATION;VALUE=URI;X-ADDRESS=Anmol 258 Rantoul Street Beverly MA 01915 United States;X-APPLE-RADIUS=500;X-TITLE=258 Rantoul Street:geo:-70.8836685,42.5500156
END:VEVENT
BEGIN:VEVENT
DTSTART;TZID=America/New_York:20260131T210000
DTEND;TZID=America/New_York:20260201T010000
DTSTAMP:20260421T230841
CREATED:20240405T133525Z
LAST-MODIFIED:20240405T133525Z
UID:10022059-1769893200-1769907600@bevmain.org
SUMMARY:Saturday night Karaoke
DESCRIPTION:Come dance & sing the night away! Great for groups or individuals\,
URL:https://bevmain.org/event/saturday-night-karaoke/2026-01-31/
LOCATION:The Pickled Onion\, 355 rantoul st\, Beverly\, 01915\, United States
CATEGORIES:Beer/Wine,Festival,Music/Concert,Nightlife
ATTACH;FMTTYPE=image/png:https://bevmain.org/wp-content/uploads/2024/04/29B68054-2E1A-4D24-A2CA-1FB4798D3CDB.png
GEO:42.5522933;-70.8824043
X-APPLE-STRUCTURED-LOCATION;VALUE=URI;X-ADDRESS=The Pickled Onion 355 rantoul st Beverly 01915 United States;X-APPLE-RADIUS=500;X-TITLE=355 rantoul st:geo:-70.8824043,42.5522933
END:VEVENT
BEGIN:VEVENT
DTSTART;TZID=America/New_York:20260202T200000
DTEND;TZID=America/New_York:20260202T230000
DTSTAMP:20260421T230841
CREATED:20230628T150156Z
LAST-MODIFIED:20231108T191914Z
UID:10019333-1770062400-1770073200@bevmain.org
SUMMARY:Open Mic at Indo
DESCRIPTION:Hosted by Bob Kramer & Nick Consone!
URL:https://bevmain.org/event/open-mic-at-indo/2026-02-02/
LOCATION:The Indo\, 298 Cabot Street\, Beverly\, MA\, 01915\, United States
CATEGORIES:Beer/Wine,Comedy,Food,Nightlife
ATTACH;FMTTYPE=image/jpeg:https://bevmain.org/wp-content/uploads/2023/06/IndoOpenMic.jpg
GEO:42.5521772;-70.8790122
X-APPLE-STRUCTURED-LOCATION;VALUE=URI;X-ADDRESS=The Indo 298 Cabot Street Beverly MA 01915 United States;X-APPLE-RADIUS=500;X-TITLE=298 Cabot Street:geo:-70.8790122,42.5521772
END:VEVENT
BEGIN:VEVENT
DTSTART;TZID=America/New_York:20260203T200000
DTEND;TZID=America/New_York:20260203T220000
DTSTAMP:20260421T230841
CREATED:20230628T145939Z
LAST-MODIFIED:20230628T145939Z
UID:10019072-1770148800-1770156000@bevmain.org
SUMMARY:Geeks Who Drink Trivia at Indo
DESCRIPTION:Quizzes cover everything from Hungary to The Hunger Games\, from science to sports\, from the Billboard Hot 100 to Better Call Saul. \nEach quiz consists of seven rounds of eight questions each\, in a variety of formats\, including audio and visual rounds. \nTeams can be up to six players\, and winning teams get Indo gift certificates!
URL:https://bevmain.org/event/geeks-who-drink-trivia-at-indo/2026-02-03/
LOCATION:The Indo\, 298 Cabot Street\, Beverly\, MA\, 01915\, United States
CATEGORIES:Beer/Wine,Food,Nightlife
ATTACH;FMTTYPE=image/jpeg:https://bevmain.org/wp-content/uploads/2023/06/geekswhodrinkIndo.jpg
GEO:42.5521772;-70.8790122
X-APPLE-STRUCTURED-LOCATION;VALUE=URI;X-ADDRESS=The Indo 298 Cabot Street Beverly MA 01915 United States;X-APPLE-RADIUS=500;X-TITLE=298 Cabot Street:geo:-70.8790122,42.5521772
END:VEVENT
BEGIN:VEVENT
DTSTART;TZID=America/New_York:20260203T210000
DTEND;TZID=America/New_York:20260204T010000
DTSTAMP:20260421T230841
CREATED:20230307T192014Z
LAST-MODIFIED:20230307T193159Z
UID:10015743-1770152400-1770166800@bevmain.org
SUMMARY:Trivia Tuesday
DESCRIPTION:Tuesday night trivia at the Pickled Onion\n355 Rantoul Street
URL:https://bevmain.org/event/trivia-tuesday-3/2026-02-03/
CATEGORIES:Beer/Wine,Free,Music/Concert,Nightlife
ATTACH;FMTTYPE=image/jpeg:https://bevmain.org/wp-content/uploads/2023/03/pickledoniontriviaUSE.jpg
END:VEVENT
BEGIN:VEVENT
DTSTART;TZID=America/New_York:20260204T190000
DTEND;TZID=America/New_York:20260204T210000
DTSTAMP:20260421T230841
CREATED:20230417T144418Z
LAST-MODIFIED:20230417T144436Z
UID:10017990-1770231600-1770238800@bevmain.org
SUMMARY:Trivia Night at Backbeat Brewing
DESCRIPTION:Wednesday at 6:45pm is Trivia Night at Backbeat Brewing Company!
URL:https://bevmain.org/event/trivia-night-at-backbeat-brewing/2026-02-04/
CATEGORIES:Beer/Wine,Food,Nightlife
ATTACH;FMTTYPE=image/jpeg:https://bevmain.org/wp-content/uploads/2023/04/backbeatlogo.jpg
END:VEVENT
BEGIN:VEVENT
DTSTART;TZID=America/New_York:20260205T190000
DTEND;TZID=America/New_York:20260205T210000
DTSTAMP:20260421T230841
CREATED:20230307T174243Z
LAST-MODIFIED:20230315T143421Z
UID:10014183-1770318000-1770325200@bevmain.org
SUMMARY:Thursday Night Trivia
DESCRIPTION:Like a little friendly competition? want to win cool prizes? Come to TRIVIA Thursday nights at 7pm at Old Planters Brewing Co!
URL:https://bevmain.org/event/thursday-night-trivia/2026-02-05/
LOCATION:Old Planter's Brewing Co.\, 232 Rantoul St.\, Beverly\, MA\, 01915\, United States
CATEGORIES:Beer/Wine,Free,Nightlife
ATTACH;FMTTYPE=image/jpeg:https://bevmain.org/wp-content/uploads/2023/03/thursdaytriviaoldplanters.jpg
GEO:42.5493085;-70.8838543
X-APPLE-STRUCTURED-LOCATION;VALUE=URI;X-ADDRESS=Old Planter's Brewing Co. 232 Rantoul St. Beverly MA 01915 United States;X-APPLE-RADIUS=500;X-TITLE=232 Rantoul St.:geo:-70.8838543,42.5493085
END:VEVENT
BEGIN:VEVENT
DTSTART;TZID=America/New_York:20260205T210000
DTEND;TZID=America/New_York:20260206T010000
DTSTAMP:20260421T230841
CREATED:20230307T180614Z
LAST-MODIFIED:20230307T194535Z
UID:10014967-1770325200-1770339600@bevmain.org
SUMMARY:Live DJ at the Pickled Onion
DESCRIPTION:Live DJ Night!
URL:https://bevmain.org/event/live-dj-at-the-pickled-onion/2026-02-05/
LOCATION:Pickled Onion\, 355 Rantoul Street\, Beverly\, MA\, 01915\, United States
CATEGORIES:Beer/Wine,Music/Concert,Nightlife
ATTACH;FMTTYPE=image/jpeg:https://bevmain.org/wp-content/uploads/2023/03/pickledonionDJ.jpg
GEO:42.5522933;-70.8824043
X-APPLE-STRUCTURED-LOCATION;VALUE=URI;X-ADDRESS=Pickled Onion 355 Rantoul Street Beverly MA 01915 United States;X-APPLE-RADIUS=500;X-TITLE=355 Rantoul Street:geo:-70.8824043,42.5522933
END:VEVENT
BEGIN:VEVENT
DTSTART;TZID=America/New_York:20260206T210000
DTEND;TZID=America/New_York:20260208T010000
DTSTAMP:20260421T230841
CREATED:20240405T133417Z
LAST-MODIFIED:20240405T133417Z
UID:10021799-1770411600-1770512400@bevmain.org
SUMMARY:Friday Night Karaoke
DESCRIPTION:Karaoke night hosted by Soulo Productionz. At The Pickled Onion
URL:https://bevmain.org/event/friday-night-karaoke/2026-02-06/
LOCATION:The Pickled Onion\, 355 rantoul st\, Beverly\, 01915\, United States
CATEGORIES:Music/Concert,Nightlife
ATTACH;FMTTYPE=image/png:https://bevmain.org/wp-content/uploads/2024/04/775F44DB-6846-4F23-A77E-1BA24B34B201.png
GEO:42.5522933;-70.8824043
X-APPLE-STRUCTURED-LOCATION;VALUE=URI;X-ADDRESS=The Pickled Onion 355 rantoul st Beverly 01915 United States;X-APPLE-RADIUS=500;X-TITLE=355 rantoul st:geo:-70.8824043,42.5522933
END:VEVENT
BEGIN:VEVENT
DTSTART;TZID=America/New_York:20260207T210000
DTEND;TZID=America/New_York:20260208T003000
DTSTAMP:20260421T230841
CREATED:20230314T145932Z
LAST-MODIFIED:20230314T145932Z
UID:10017118-1770498000-1770510600@bevmain.org
SUMMARY:Karaoke at Anmol
DESCRIPTION:Every Saturday\, 9pm to 12:30am!
URL:https://bevmain.org/event/karaoke-at-anmol/2026-02-07/
LOCATION:Anmol\, 258 Rantoul Street\, Beverly\, MA\, 01915\, United States
CATEGORIES:Community Events,Free,Music/Concert,Nightlife
ATTACH;FMTTYPE=image/jpeg:https://bevmain.org/wp-content/uploads/2023/03/anmolkaraoke.jpg
GEO:42.5500156;-70.8836685
X-APPLE-STRUCTURED-LOCATION;VALUE=URI;X-ADDRESS=Anmol 258 Rantoul Street Beverly MA 01915 United States;X-APPLE-RADIUS=500;X-TITLE=258 Rantoul Street:geo:-70.8836685,42.5500156
END:VEVENT
BEGIN:VEVENT
DTSTART;TZID=America/New_York:20260207T210000
DTEND;TZID=America/New_York:20260208T010000
DTSTAMP:20260421T230841
CREATED:20240405T133525Z
LAST-MODIFIED:20240405T133525Z
UID:10022060-1770498000-1770512400@bevmain.org
SUMMARY:Saturday night Karaoke
DESCRIPTION:Come dance & sing the night away! Great for groups or individuals\,
URL:https://bevmain.org/event/saturday-night-karaoke/2026-02-07/
LOCATION:The Pickled Onion\, 355 rantoul st\, Beverly\, 01915\, United States
CATEGORIES:Beer/Wine,Festival,Music/Concert,Nightlife
ATTACH;FMTTYPE=image/png:https://bevmain.org/wp-content/uploads/2024/04/29B68054-2E1A-4D24-A2CA-1FB4798D3CDB.png
GEO:42.5522933;-70.8824043
X-APPLE-STRUCTURED-LOCATION;VALUE=URI;X-ADDRESS=The Pickled Onion 355 rantoul st Beverly 01915 United States;X-APPLE-RADIUS=500;X-TITLE=355 rantoul st:geo:-70.8824043,42.5522933
END:VEVENT
BEGIN:VEVENT
DTSTART;TZID=America/New_York:20260209T200000
DTEND;TZID=America/New_York:20260209T230000
DTSTAMP:20260421T230841
CREATED:20230628T150156Z
LAST-MODIFIED:20231108T191914Z
UID:10019334-1770667200-1770678000@bevmain.org
SUMMARY:Open Mic at Indo
DESCRIPTION:Hosted by Bob Kramer & Nick Consone!
URL:https://bevmain.org/event/open-mic-at-indo/2026-02-09/
LOCATION:The Indo\, 298 Cabot Street\, Beverly\, MA\, 01915\, United States
CATEGORIES:Beer/Wine,Comedy,Food,Nightlife
ATTACH;FMTTYPE=image/jpeg:https://bevmain.org/wp-content/uploads/2023/06/IndoOpenMic.jpg
GEO:42.5521772;-70.8790122
X-APPLE-STRUCTURED-LOCATION;VALUE=URI;X-ADDRESS=The Indo 298 Cabot Street Beverly MA 01915 United States;X-APPLE-RADIUS=500;X-TITLE=298 Cabot Street:geo:-70.8790122,42.5521772
END:VEVENT
BEGIN:VEVENT
DTSTART;TZID=America/New_York:20260210T200000
DTEND;TZID=America/New_York:20260210T220000
DTSTAMP:20260421T230841
CREATED:20230628T145939Z
LAST-MODIFIED:20230628T145939Z
UID:10019073-1770753600-1770760800@bevmain.org
SUMMARY:Geeks Who Drink Trivia at Indo
DESCRIPTION:Quizzes cover everything from Hungary to The Hunger Games\, from science to sports\, from the Billboard Hot 100 to Better Call Saul. \nEach quiz consists of seven rounds of eight questions each\, in a variety of formats\, including audio and visual rounds. \nTeams can be up to six players\, and winning teams get Indo gift certificates!
URL:https://bevmain.org/event/geeks-who-drink-trivia-at-indo/2026-02-10/
LOCATION:The Indo\, 298 Cabot Street\, Beverly\, MA\, 01915\, United States
CATEGORIES:Beer/Wine,Food,Nightlife
ATTACH;FMTTYPE=image/jpeg:https://bevmain.org/wp-content/uploads/2023/06/geekswhodrinkIndo.jpg
GEO:42.5521772;-70.8790122
X-APPLE-STRUCTURED-LOCATION;VALUE=URI;X-ADDRESS=The Indo 298 Cabot Street Beverly MA 01915 United States;X-APPLE-RADIUS=500;X-TITLE=298 Cabot Street:geo:-70.8790122,42.5521772
END:VEVENT
BEGIN:VEVENT
DTSTART;TZID=America/New_York:20260210T210000
DTEND;TZID=America/New_York:20260211T010000
DTSTAMP:20260421T230841
CREATED:20230307T192014Z
LAST-MODIFIED:20230307T193159Z
UID:10015744-1770757200-1770771600@bevmain.org
SUMMARY:Trivia Tuesday
DESCRIPTION:Tuesday night trivia at the Pickled Onion\n355 Rantoul Street
URL:https://bevmain.org/event/trivia-tuesday-3/2026-02-10/
CATEGORIES:Beer/Wine,Free,Music/Concert,Nightlife
ATTACH;FMTTYPE=image/jpeg:https://bevmain.org/wp-content/uploads/2023/03/pickledoniontriviaUSE.jpg
END:VEVENT
BEGIN:VEVENT
DTSTART;TZID=America/New_York:20260211T190000
DTEND;TZID=America/New_York:20260211T210000
DTSTAMP:20260421T230841
CREATED:20230417T144418Z
LAST-MODIFIED:20230417T144436Z
UID:10017991-1770836400-1770843600@bevmain.org
SUMMARY:Trivia Night at Backbeat Brewing
DESCRIPTION:Wednesday at 6:45pm is Trivia Night at Backbeat Brewing Company!
URL:https://bevmain.org/event/trivia-night-at-backbeat-brewing/2026-02-11/
CATEGORIES:Beer/Wine,Food,Nightlife
ATTACH;FMTTYPE=image/jpeg:https://bevmain.org/wp-content/uploads/2023/04/backbeatlogo.jpg
END:VEVENT
BEGIN:VEVENT
DTSTART;TZID=America/New_York:20260212T190000
DTEND;TZID=America/New_York:20260212T210000
DTSTAMP:20260421T230841
CREATED:20230307T174243Z
LAST-MODIFIED:20230315T143421Z
UID:10014184-1770922800-1770930000@bevmain.org
SUMMARY:Thursday Night Trivia
DESCRIPTION:Like a little friendly competition? want to win cool prizes? Come to TRIVIA Thursday nights at 7pm at Old Planters Brewing Co!
URL:https://bevmain.org/event/thursday-night-trivia/2026-02-12/
LOCATION:Old Planter's Brewing Co.\, 232 Rantoul St.\, Beverly\, MA\, 01915\, United States
CATEGORIES:Beer/Wine,Free,Nightlife
ATTACH;FMTTYPE=image/jpeg:https://bevmain.org/wp-content/uploads/2023/03/thursdaytriviaoldplanters.jpg
GEO:42.5493085;-70.8838543
X-APPLE-STRUCTURED-LOCATION;VALUE=URI;X-ADDRESS=Old Planter's Brewing Co. 232 Rantoul St. Beverly MA 01915 United States;X-APPLE-RADIUS=500;X-TITLE=232 Rantoul St.:geo:-70.8838543,42.5493085
END:VEVENT
BEGIN:VEVENT
DTSTART;TZID=America/New_York:20260212T210000
DTEND;TZID=America/New_York:20260213T010000
DTSTAMP:20260421T230841
CREATED:20230307T180614Z
LAST-MODIFIED:20230307T194535Z
UID:10014968-1770930000-1770944400@bevmain.org
SUMMARY:Live DJ at the Pickled Onion
DESCRIPTION:Live DJ Night!
URL:https://bevmain.org/event/live-dj-at-the-pickled-onion/2026-02-12/
LOCATION:Pickled Onion\, 355 Rantoul Street\, Beverly\, MA\, 01915\, United States
CATEGORIES:Beer/Wine,Music/Concert,Nightlife
ATTACH;FMTTYPE=image/jpeg:https://bevmain.org/wp-content/uploads/2023/03/pickledonionDJ.jpg
GEO:42.5522933;-70.8824043
X-APPLE-STRUCTURED-LOCATION;VALUE=URI;X-ADDRESS=Pickled Onion 355 Rantoul Street Beverly MA 01915 United States;X-APPLE-RADIUS=500;X-TITLE=355 Rantoul Street:geo:-70.8824043,42.5522933
END:VEVENT
BEGIN:VEVENT
DTSTART;TZID=America/New_York:20260213T210000
DTEND;TZID=America/New_York:20260215T010000
DTSTAMP:20260421T230841
CREATED:20240405T133417Z
LAST-MODIFIED:20240405T133417Z
UID:10021800-1771016400-1771117200@bevmain.org
SUMMARY:Friday Night Karaoke
DESCRIPTION:Karaoke night hosted by Soulo Productionz. At The Pickled Onion
URL:https://bevmain.org/event/friday-night-karaoke/2026-02-13/
LOCATION:The Pickled Onion\, 355 rantoul st\, Beverly\, 01915\, United States
CATEGORIES:Music/Concert,Nightlife
ATTACH;FMTTYPE=image/png:https://bevmain.org/wp-content/uploads/2024/04/775F44DB-6846-4F23-A77E-1BA24B34B201.png
GEO:42.5522933;-70.8824043
X-APPLE-STRUCTURED-LOCATION;VALUE=URI;X-ADDRESS=The Pickled Onion 355 rantoul st Beverly 01915 United States;X-APPLE-RADIUS=500;X-TITLE=355 rantoul st:geo:-70.8824043,42.5522933
END:VEVENT
BEGIN:VEVENT
DTSTART;TZID=America/New_York:20260214T170000
DTEND;TZID=America/New_York:20260214T220000
DTSTAMP:20260421T230841
CREATED:20260128T143516Z
LAST-MODIFIED:20260128T143516Z
UID:10037754-1771088400-1771106400@bevmain.org
SUMMARY:Hell Night 2026
DESCRIPTION:Kitchen Table Hell Night\nValentine’s Day. Saturday\, February 14\, 2026 \nKitchen Table’s Hell Night returns this Valentine’s Day\, marking our annual tradition of starting the year with serious heat. For one night only\, we offer a separate Hell Night menu built for spice lovers and daring diners\, featuring bold dishes that push the limits without sacrificing flavor. Expect big heat\, big flavors\, and a high-energy night designed for those who like their Valentine’s Day a little dangerous. (Mild options and are regular seasonal menu will also be available that evening) \nAll guests are welcome. Reservations are highly recommended.
URL:https://bevmain.org/event/hell-night-2026/
LOCATION:Kitchen Table\, 392 Cabot Street\, Beverly\, 01915\, United States
CATEGORIES:Beer/Wine,Food,Nightlife
ATTACH;FMTTYPE=image/jpeg:https://bevmain.org/wp-content/uploads/2026/01/HELL-NIGHT-22026-WEB.jpg
ORGANIZER;CN="Kitchen Table":MAILTO:kitchentable@kitchentablebeverly.com
GEO:42.5581141;-70.8813462
X-APPLE-STRUCTURED-LOCATION;VALUE=URI;X-ADDRESS=Kitchen Table 392 Cabot Street Beverly 01915 United States;X-APPLE-RADIUS=500;X-TITLE=392 Cabot Street:geo:-70.8813462,42.5581141
END:VEVENT
BEGIN:VEVENT
DTSTART;TZID=America/New_York:20260214T210000
DTEND;TZID=America/New_York:20260215T003000
DTSTAMP:20260421T230841
CREATED:20230314T145932Z
LAST-MODIFIED:20230314T145932Z
UID:10017119-1771102800-1771115400@bevmain.org
SUMMARY:Karaoke at Anmol
DESCRIPTION:Every Saturday\, 9pm to 12:30am!
URL:https://bevmain.org/event/karaoke-at-anmol/2026-02-14/
LOCATION:Anmol\, 258 Rantoul Street\, Beverly\, MA\, 01915\, United States
CATEGORIES:Community Events,Free,Music/Concert,Nightlife
ATTACH;FMTTYPE=image/jpeg:https://bevmain.org/wp-content/uploads/2023/03/anmolkaraoke.jpg
GEO:42.5500156;-70.8836685
X-APPLE-STRUCTURED-LOCATION;VALUE=URI;X-ADDRESS=Anmol 258 Rantoul Street Beverly MA 01915 United States;X-APPLE-RADIUS=500;X-TITLE=258 Rantoul Street:geo:-70.8836685,42.5500156
END:VEVENT
BEGIN:VEVENT
DTSTART;TZID=America/New_York:20260214T210000
DTEND;TZID=America/New_York:20260215T010000
DTSTAMP:20260421T230841
CREATED:20240405T133525Z
LAST-MODIFIED:20240405T133525Z
UID:10022061-1771102800-1771117200@bevmain.org
SUMMARY:Saturday night Karaoke
DESCRIPTION:Come dance & sing the night away! Great for groups or individuals\,
URL:https://bevmain.org/event/saturday-night-karaoke/2026-02-14/
LOCATION:The Pickled Onion\, 355 rantoul st\, Beverly\, 01915\, United States
CATEGORIES:Beer/Wine,Festival,Music/Concert,Nightlife
ATTACH;FMTTYPE=image/png:https://bevmain.org/wp-content/uploads/2024/04/29B68054-2E1A-4D24-A2CA-1FB4798D3CDB.png
GEO:42.5522933;-70.8824043
X-APPLE-STRUCTURED-LOCATION;VALUE=URI;X-ADDRESS=The Pickled Onion 355 rantoul st Beverly 01915 United States;X-APPLE-RADIUS=500;X-TITLE=355 rantoul st:geo:-70.8824043,42.5522933
END:VEVENT
BEGIN:VEVENT
DTSTART;TZID=America/New_York:20260216T200000
DTEND;TZID=America/New_York:20260216T230000
DTSTAMP:20260421T230841
CREATED:20230628T150156Z
LAST-MODIFIED:20231108T191914Z
UID:10019335-1771272000-1771282800@bevmain.org
SUMMARY:Open Mic at Indo
DESCRIPTION:Hosted by Bob Kramer & Nick Consone!
URL:https://bevmain.org/event/open-mic-at-indo/2026-02-16/
LOCATION:The Indo\, 298 Cabot Street\, Beverly\, MA\, 01915\, United States
CATEGORIES:Beer/Wine,Comedy,Food,Nightlife
ATTACH;FMTTYPE=image/jpeg:https://bevmain.org/wp-content/uploads/2023/06/IndoOpenMic.jpg
GEO:42.5521772;-70.8790122
X-APPLE-STRUCTURED-LOCATION;VALUE=URI;X-ADDRESS=The Indo 298 Cabot Street Beverly MA 01915 United States;X-APPLE-RADIUS=500;X-TITLE=298 Cabot Street:geo:-70.8790122,42.5521772
END:VEVENT
BEGIN:VEVENT
DTSTART;TZID=America/New_York:20260217T200000
DTEND;TZID=America/New_York:20260217T220000
DTSTAMP:20260421T230841
CREATED:20230628T145939Z
LAST-MODIFIED:20230628T145939Z
UID:10019074-1771358400-1771365600@bevmain.org
SUMMARY:Geeks Who Drink Trivia at Indo
DESCRIPTION:Quizzes cover everything from Hungary to The Hunger Games\, from science to sports\, from the Billboard Hot 100 to Better Call Saul. \nEach quiz consists of seven rounds of eight questions each\, in a variety of formats\, including audio and visual rounds. \nTeams can be up to six players\, and winning teams get Indo gift certificates!
URL:https://bevmain.org/event/geeks-who-drink-trivia-at-indo/2026-02-17/
LOCATION:The Indo\, 298 Cabot Street\, Beverly\, MA\, 01915\, United States
CATEGORIES:Beer/Wine,Food,Nightlife
ATTACH;FMTTYPE=image/jpeg:https://bevmain.org/wp-content/uploads/2023/06/geekswhodrinkIndo.jpg
GEO:42.5521772;-70.8790122
X-APPLE-STRUCTURED-LOCATION;VALUE=URI;X-ADDRESS=The Indo 298 Cabot Street Beverly MA 01915 United States;X-APPLE-RADIUS=500;X-TITLE=298 Cabot Street:geo:-70.8790122,42.5521772
END:VEVENT
END:VCALENDAR