BEGIN:VCALENDAR
VERSION:2.0
PRODID:-//Beverly Main Streets - ECPv6.15.20//NONSGML v1.0//EN
CALSCALE:GREGORIAN
METHOD:PUBLISH
X-WR-CALNAME:Beverly Main Streets
X-ORIGINAL-URL:https://bevmain.org
X-WR-CALDESC:Events for Beverly Main Streets
REFRESH-INTERVAL;VALUE=DURATION:PT1H
X-Robots-Tag:noindex
X-PUBLISHED-TTL:PT1H
BEGIN:VTIMEZONE
TZID:America/New_York
BEGIN:DAYLIGHT
TZOFFSETFROM:-0500
TZOFFSETTO:-0400
TZNAME:EDT
DTSTART:20240310T070000
END:DAYLIGHT
BEGIN:STANDARD
TZOFFSETFROM:-0400
TZOFFSETTO:-0500
TZNAME:EST
DTSTART:20241103T060000
END:STANDARD
BEGIN:DAYLIGHT
TZOFFSETFROM:-0500
TZOFFSETTO:-0400
TZNAME:EDT
DTSTART:20250309T070000
END:DAYLIGHT
BEGIN:STANDARD
TZOFFSETFROM:-0400
TZOFFSETTO:-0500
TZNAME:EST
DTSTART:20251102T060000
END:STANDARD
BEGIN:DAYLIGHT
TZOFFSETFROM:-0500
TZOFFSETTO:-0400
TZNAME:EDT
DTSTART:20260308T070000
END:DAYLIGHT
BEGIN:STANDARD
TZOFFSETFROM:-0400
TZOFFSETTO:-0500
TZNAME:EST
DTSTART:20261101T060000
END:STANDARD
END:VTIMEZONE
BEGIN:VEVENT
DTSTART;TZID=America/New_York:20251203T190000
DTEND;TZID=America/New_York:20251203T210000
DTSTAMP:20260422T024933
CREATED:20230417T144418Z
LAST-MODIFIED:20230417T144436Z
UID:10017981-1764788400-1764795600@bevmain.org
SUMMARY:Trivia Night at Backbeat Brewing
DESCRIPTION:Wednesday at 6:45pm is Trivia Night at Backbeat Brewing Company!
URL:https://bevmain.org/event/trivia-night-at-backbeat-brewing/2025-12-03/
CATEGORIES:Beer/Wine,Food,Nightlife
ATTACH;FMTTYPE=image/jpeg:https://bevmain.org/wp-content/uploads/2023/04/backbeatlogo.jpg
END:VEVENT
BEGIN:VEVENT
DTSTART;TZID=America/New_York:20251204T190000
DTEND;TZID=America/New_York:20251204T210000
DTSTAMP:20260422T024933
CREATED:20230307T174243Z
LAST-MODIFIED:20230315T143421Z
UID:10014174-1764874800-1764882000@bevmain.org
SUMMARY:Thursday Night Trivia
DESCRIPTION:Like a little friendly competition? want to win cool prizes? Come to TRIVIA Thursday nights at 7pm at Old Planters Brewing Co!
URL:https://bevmain.org/event/thursday-night-trivia/2025-12-04/
LOCATION:Old Planter's Brewing Co.\, 232 Rantoul St.\, Beverly\, MA\, 01915\, United States
CATEGORIES:Beer/Wine,Free,Nightlife
ATTACH;FMTTYPE=image/jpeg:https://bevmain.org/wp-content/uploads/2023/03/thursdaytriviaoldplanters.jpg
GEO:42.5493085;-70.8838543
X-APPLE-STRUCTURED-LOCATION;VALUE=URI;X-ADDRESS=Old Planter's Brewing Co. 232 Rantoul St. Beverly MA 01915 United States;X-APPLE-RADIUS=500;X-TITLE=232 Rantoul St.:geo:-70.8838543,42.5493085
END:VEVENT
BEGIN:VEVENT
DTSTART;TZID=America/New_York:20251204T210000
DTEND;TZID=America/New_York:20251205T010000
DTSTAMP:20260422T024933
CREATED:20230307T180614Z
LAST-MODIFIED:20230307T194535Z
UID:10014958-1764882000-1764896400@bevmain.org
SUMMARY:Live DJ at the Pickled Onion
DESCRIPTION:Live DJ Night!
URL:https://bevmain.org/event/live-dj-at-the-pickled-onion/2025-12-04/
LOCATION:Pickled Onion\, 355 Rantoul Street\, Beverly\, MA\, 01915\, United States
CATEGORIES:Beer/Wine,Music/Concert,Nightlife
ATTACH;FMTTYPE=image/jpeg:https://bevmain.org/wp-content/uploads/2023/03/pickledonionDJ.jpg
GEO:42.5522933;-70.8824043
X-APPLE-STRUCTURED-LOCATION;VALUE=URI;X-ADDRESS=Pickled Onion 355 Rantoul Street Beverly MA 01915 United States;X-APPLE-RADIUS=500;X-TITLE=355 Rantoul Street:geo:-70.8824043,42.5522933
END:VEVENT
BEGIN:VEVENT
DTSTART;TZID=America/New_York:20251205T200000
DTEND;TZID=America/New_York:20251205T213000
DTSTAMP:20260422T024933
CREATED:20250908T132126Z
LAST-MODIFIED:20250908T132126Z
UID:10035718-1764964800-1764970200@bevmain.org
SUMMARY:Liberated – A Cheeky\, Satirical Burlesque Revue with Live Jazz Musicians
DESCRIPTION:A cheeky\, satirical burlesque revue where sultry jazz meets the art of tease in an intimate setting. Boston’s finest dancers and live jazz musicians strike the perfect balance of cheeky charm and classic cabaret\, guiding you through the Boston Tea Party\, Stamp Act\, Boston Massacre and more—all with a wink to 18th-century colonial intrigue.\n​\nThe night features solo and ensemble dance acts\, vocalists\, live jazz musicians\, and more! This must-see celebration is all about breaking free—from British rule and societal pressures to anything holding you back.\n​\nJoin us for a steamy night of Boston pride\, jazz\, and\, most of all Liberation!! \n90-Minute show\, includes 15-minute intermission. 18+
URL:https://bevmain.org/event/liberated-a-cheeky-satirical-burlesque-revue-with-live-jazz-musicians/2025-12-05/
LOCATION:Larcom Theatre\, 13 Wallis Street\, 01915\, United States
CATEGORIES:Dance,Music/Concert,Nightlife
ATTACH;FMTTYPE=image/jpeg:https://bevmain.org/wp-content/uploads/2025/09/Boston-She-Party_420-x-315-px.jpg
ORGANIZER;CN="Larcom Theatre":MAILTO:info@thelarcom.org
GEO:42.5481592;-70.879767
END:VEVENT
BEGIN:VEVENT
DTSTART;TZID=America/New_York:20251205T210000
DTEND;TZID=America/New_York:20251207T010000
DTSTAMP:20260422T024933
CREATED:20240405T133417Z
LAST-MODIFIED:20240405T133417Z
UID:10021790-1764968400-1765069200@bevmain.org
SUMMARY:Friday Night Karaoke
DESCRIPTION:Karaoke night hosted by Soulo Productionz. At The Pickled Onion
URL:https://bevmain.org/event/friday-night-karaoke/2025-12-05/
LOCATION:The Pickled Onion\, 355 rantoul st\, Beverly\, 01915\, United States
CATEGORIES:Music/Concert,Nightlife
ATTACH;FMTTYPE=image/png:https://bevmain.org/wp-content/uploads/2024/04/775F44DB-6846-4F23-A77E-1BA24B34B201.png
GEO:42.5522933;-70.8824043
X-APPLE-STRUCTURED-LOCATION;VALUE=URI;X-ADDRESS=The Pickled Onion 355 rantoul st Beverly 01915 United States;X-APPLE-RADIUS=500;X-TITLE=355 rantoul st:geo:-70.8824043,42.5522933
END:VEVENT
BEGIN:VEVENT
DTSTART;TZID=America/New_York:20251206T210000
DTEND;TZID=America/New_York:20251207T003000
DTSTAMP:20260422T024933
CREATED:20230314T145932Z
LAST-MODIFIED:20230314T145932Z
UID:10017109-1765054800-1765067400@bevmain.org
SUMMARY:Karaoke at Anmol
DESCRIPTION:Every Saturday\, 9pm to 12:30am!
URL:https://bevmain.org/event/karaoke-at-anmol/2025-12-06/
LOCATION:Anmol\, 258 Rantoul Street\, Beverly\, MA\, 01915\, United States
CATEGORIES:Community Events,Free,Music/Concert,Nightlife
ATTACH;FMTTYPE=image/jpeg:https://bevmain.org/wp-content/uploads/2023/03/anmolkaraoke.jpg
GEO:42.5500156;-70.8836685
X-APPLE-STRUCTURED-LOCATION;VALUE=URI;X-ADDRESS=Anmol 258 Rantoul Street Beverly MA 01915 United States;X-APPLE-RADIUS=500;X-TITLE=258 Rantoul Street:geo:-70.8836685,42.5500156
END:VEVENT
BEGIN:VEVENT
DTSTART;TZID=America/New_York:20251206T210000
DTEND;TZID=America/New_York:20251207T010000
DTSTAMP:20260422T024933
CREATED:20240405T133525Z
LAST-MODIFIED:20240405T133525Z
UID:10022051-1765054800-1765069200@bevmain.org
SUMMARY:Saturday night Karaoke
DESCRIPTION:Come dance & sing the night away! Great for groups or individuals\,
URL:https://bevmain.org/event/saturday-night-karaoke/2025-12-06/
LOCATION:The Pickled Onion\, 355 rantoul st\, Beverly\, 01915\, United States
CATEGORIES:Beer/Wine,Festival,Music/Concert,Nightlife
ATTACH;FMTTYPE=image/png:https://bevmain.org/wp-content/uploads/2024/04/29B68054-2E1A-4D24-A2CA-1FB4798D3CDB.png
GEO:42.5522933;-70.8824043
X-APPLE-STRUCTURED-LOCATION;VALUE=URI;X-ADDRESS=The Pickled Onion 355 rantoul st Beverly 01915 United States;X-APPLE-RADIUS=500;X-TITLE=355 rantoul st:geo:-70.8824043,42.5522933
END:VEVENT
BEGIN:VEVENT
DTSTART;TZID=America/New_York:20251207T190000
DTEND;TZID=America/New_York:20251207T210000
DTSTAMP:20260422T024933
CREATED:20251027T170832Z
LAST-MODIFIED:20251027T170832Z
UID:10036128-1765134000-1765141200@bevmain.org
SUMMARY:Strippin' Around the Christmas Tree
DESCRIPTION:Tease the season! Celebrate with burlesque tributes to your favorite yuletide characters & movies – from the beloved “fragile” lamp\, to Whoville\, to the jolly man himself\, we’re sleighing the holidays! Come see why we’re on Santa’s naughty list! \nFeaturing:\nSasha Southend\nPhoebe Flows\nSerena Havok\nMimi MaShuga\nEmerald Storm\nPixel Angel\nScarrie Bradshaw\nPrince Albert\nStella Blue\nThe Vampire LeSlut\n& Siren of the Circle\nHosted by A Glam B\nwith stage kittens Lorilou Darling & Chelsea Syn \nOff Cabot\, 9 Wallis Street\, Beverly\, MA 01915\nSunday\, December 7th\nDoors 6:00 – Show 7:00\nTickets $25 GA | $35 VIP\nhttps://offcabot.org/shows/strippin-around-the-christmas-tree/
URL:https://bevmain.org/event/strippin-around-the-christmas-tree-2/
LOCATION:Off Cabot Comedy & Events\, 9 Wallis Street\, Beverly\, 01915\, United States
CATEGORIES:Dance,Nightlife,Theatre
ATTACH;FMTTYPE=image/jpeg:https://bevmain.org/wp-content/uploads/2025/10/1000041143.jpg
ORGANIZER;CN="Siren of the Circle":MAILTO:sirenofthecircle@gmail.com
GEO:42.5481285;-70.8794388
X-APPLE-STRUCTURED-LOCATION;VALUE=URI;X-ADDRESS=Off Cabot Comedy & Events 9 Wallis Street Beverly 01915 United States;X-APPLE-RADIUS=500;X-TITLE=9 Wallis Street:geo:-70.8794388,42.5481285
END:VEVENT
BEGIN:VEVENT
DTSTART;TZID=America/New_York:20251208T200000
DTEND;TZID=America/New_York:20251208T230000
DTSTAMP:20260422T024934
CREATED:20230628T150156Z
LAST-MODIFIED:20231108T191914Z
UID:10019325-1765224000-1765234800@bevmain.org
SUMMARY:Open Mic at Indo
DESCRIPTION:Hosted by Bob Kramer & Nick Consone!
URL:https://bevmain.org/event/open-mic-at-indo/2025-12-08/
LOCATION:The Indo\, 298 Cabot Street\, Beverly\, MA\, 01915\, United States
CATEGORIES:Beer/Wine,Comedy,Food,Nightlife
ATTACH;FMTTYPE=image/jpeg:https://bevmain.org/wp-content/uploads/2023/06/IndoOpenMic.jpg
GEO:42.5521772;-70.8790122
X-APPLE-STRUCTURED-LOCATION;VALUE=URI;X-ADDRESS=The Indo 298 Cabot Street Beverly MA 01915 United States;X-APPLE-RADIUS=500;X-TITLE=298 Cabot Street:geo:-70.8790122,42.5521772
END:VEVENT
BEGIN:VEVENT
DTSTART;TZID=America/New_York:20251209T200000
DTEND;TZID=America/New_York:20251209T220000
DTSTAMP:20260422T024934
CREATED:20230628T145939Z
LAST-MODIFIED:20230628T145939Z
UID:10019064-1765310400-1765317600@bevmain.org
SUMMARY:Geeks Who Drink Trivia at Indo
DESCRIPTION:Quizzes cover everything from Hungary to The Hunger Games\, from science to sports\, from the Billboard Hot 100 to Better Call Saul. \nEach quiz consists of seven rounds of eight questions each\, in a variety of formats\, including audio and visual rounds. \nTeams can be up to six players\, and winning teams get Indo gift certificates!
URL:https://bevmain.org/event/geeks-who-drink-trivia-at-indo/2025-12-09/
LOCATION:The Indo\, 298 Cabot Street\, Beverly\, MA\, 01915\, United States
CATEGORIES:Beer/Wine,Food,Nightlife
ATTACH;FMTTYPE=image/jpeg:https://bevmain.org/wp-content/uploads/2023/06/geekswhodrinkIndo.jpg
GEO:42.5521772;-70.8790122
X-APPLE-STRUCTURED-LOCATION;VALUE=URI;X-ADDRESS=The Indo 298 Cabot Street Beverly MA 01915 United States;X-APPLE-RADIUS=500;X-TITLE=298 Cabot Street:geo:-70.8790122,42.5521772
END:VEVENT
BEGIN:VEVENT
DTSTART;TZID=America/New_York:20251209T210000
DTEND;TZID=America/New_York:20251210T010000
DTSTAMP:20260422T024934
CREATED:20230307T192014Z
LAST-MODIFIED:20230307T193159Z
UID:10015735-1765314000-1765328400@bevmain.org
SUMMARY:Trivia Tuesday
DESCRIPTION:Tuesday night trivia at the Pickled Onion\n355 Rantoul Street
URL:https://bevmain.org/event/trivia-tuesday-3/2025-12-09/
CATEGORIES:Beer/Wine,Free,Music/Concert,Nightlife
ATTACH;FMTTYPE=image/jpeg:https://bevmain.org/wp-content/uploads/2023/03/pickledoniontriviaUSE.jpg
END:VEVENT
BEGIN:VEVENT
DTSTART;TZID=America/New_York:20251210T190000
DTEND;TZID=America/New_York:20251210T210000
DTSTAMP:20260422T024934
CREATED:20230417T144418Z
LAST-MODIFIED:20230417T144436Z
UID:10017982-1765393200-1765400400@bevmain.org
SUMMARY:Trivia Night at Backbeat Brewing
DESCRIPTION:Wednesday at 6:45pm is Trivia Night at Backbeat Brewing Company!
URL:https://bevmain.org/event/trivia-night-at-backbeat-brewing/2025-12-10/
CATEGORIES:Beer/Wine,Food,Nightlife
ATTACH;FMTTYPE=image/jpeg:https://bevmain.org/wp-content/uploads/2023/04/backbeatlogo.jpg
END:VEVENT
BEGIN:VEVENT
DTSTART;TZID=America/New_York:20251211T190000
DTEND;TZID=America/New_York:20251211T210000
DTSTAMP:20260422T024934
CREATED:20230307T174243Z
LAST-MODIFIED:20230315T143421Z
UID:10014175-1765479600-1765486800@bevmain.org
SUMMARY:Thursday Night Trivia
DESCRIPTION:Like a little friendly competition? want to win cool prizes? Come to TRIVIA Thursday nights at 7pm at Old Planters Brewing Co!
URL:https://bevmain.org/event/thursday-night-trivia/2025-12-11/
LOCATION:Old Planter's Brewing Co.\, 232 Rantoul St.\, Beverly\, MA\, 01915\, United States
CATEGORIES:Beer/Wine,Free,Nightlife
ATTACH;FMTTYPE=image/jpeg:https://bevmain.org/wp-content/uploads/2023/03/thursdaytriviaoldplanters.jpg
GEO:42.5493085;-70.8838543
X-APPLE-STRUCTURED-LOCATION;VALUE=URI;X-ADDRESS=Old Planter's Brewing Co. 232 Rantoul St. Beverly MA 01915 United States;X-APPLE-RADIUS=500;X-TITLE=232 Rantoul St.:geo:-70.8838543,42.5493085
END:VEVENT
BEGIN:VEVENT
DTSTART;TZID=America/New_York:20251211T210000
DTEND;TZID=America/New_York:20251212T010000
DTSTAMP:20260422T024934
CREATED:20230307T180614Z
LAST-MODIFIED:20230307T194535Z
UID:10014959-1765486800-1765501200@bevmain.org
SUMMARY:Live DJ at the Pickled Onion
DESCRIPTION:Live DJ Night!
URL:https://bevmain.org/event/live-dj-at-the-pickled-onion/2025-12-11/
LOCATION:Pickled Onion\, 355 Rantoul Street\, Beverly\, MA\, 01915\, United States
CATEGORIES:Beer/Wine,Music/Concert,Nightlife
ATTACH;FMTTYPE=image/jpeg:https://bevmain.org/wp-content/uploads/2023/03/pickledonionDJ.jpg
GEO:42.5522933;-70.8824043
X-APPLE-STRUCTURED-LOCATION;VALUE=URI;X-ADDRESS=Pickled Onion 355 Rantoul Street Beverly MA 01915 United States;X-APPLE-RADIUS=500;X-TITLE=355 Rantoul Street:geo:-70.8824043,42.5522933
END:VEVENT
BEGIN:VEVENT
DTSTART;TZID=America/New_York:20251212T200000
DTEND;TZID=America/New_York:20251212T213000
DTSTAMP:20260422T024934
CREATED:20250908T132126Z
LAST-MODIFIED:20250908T132126Z
UID:10035719-1765569600-1765575000@bevmain.org
SUMMARY:Liberated – A Cheeky\, Satirical Burlesque Revue with Live Jazz Musicians
DESCRIPTION:A cheeky\, satirical burlesque revue where sultry jazz meets the art of tease in an intimate setting. Boston’s finest dancers and live jazz musicians strike the perfect balance of cheeky charm and classic cabaret\, guiding you through the Boston Tea Party\, Stamp Act\, Boston Massacre and more—all with a wink to 18th-century colonial intrigue.\n​\nThe night features solo and ensemble dance acts\, vocalists\, live jazz musicians\, and more! This must-see celebration is all about breaking free—from British rule and societal pressures to anything holding you back.\n​\nJoin us for a steamy night of Boston pride\, jazz\, and\, most of all Liberation!! \n90-Minute show\, includes 15-minute intermission. 18+
URL:https://bevmain.org/event/liberated-a-cheeky-satirical-burlesque-revue-with-live-jazz-musicians/2025-12-12/
LOCATION:Larcom Theatre\, 13 Wallis Street\, 01915\, United States
CATEGORIES:Dance,Music/Concert,Nightlife
ATTACH;FMTTYPE=image/jpeg:https://bevmain.org/wp-content/uploads/2025/09/Boston-She-Party_420-x-315-px.jpg
ORGANIZER;CN="Larcom Theatre":MAILTO:info@thelarcom.org
GEO:42.5481592;-70.879767
END:VEVENT
BEGIN:VEVENT
DTSTART;TZID=America/New_York:20251212T210000
DTEND;TZID=America/New_York:20251214T010000
DTSTAMP:20260422T024934
CREATED:20240405T133417Z
LAST-MODIFIED:20240405T133417Z
UID:10021791-1765573200-1765674000@bevmain.org
SUMMARY:Friday Night Karaoke
DESCRIPTION:Karaoke night hosted by Soulo Productionz. At The Pickled Onion
URL:https://bevmain.org/event/friday-night-karaoke/2025-12-12/
LOCATION:The Pickled Onion\, 355 rantoul st\, Beverly\, 01915\, United States
CATEGORIES:Music/Concert,Nightlife
ATTACH;FMTTYPE=image/png:https://bevmain.org/wp-content/uploads/2024/04/775F44DB-6846-4F23-A77E-1BA24B34B201.png
GEO:42.5522933;-70.8824043
X-APPLE-STRUCTURED-LOCATION;VALUE=URI;X-ADDRESS=The Pickled Onion 355 rantoul st Beverly 01915 United States;X-APPLE-RADIUS=500;X-TITLE=355 rantoul st:geo:-70.8824043,42.5522933
END:VEVENT
BEGIN:VEVENT
DTSTART;TZID=America/New_York:20251213T210000
DTEND;TZID=America/New_York:20251214T003000
DTSTAMP:20260422T024934
CREATED:20230314T145932Z
LAST-MODIFIED:20230314T145932Z
UID:10017110-1765659600-1765672200@bevmain.org
SUMMARY:Karaoke at Anmol
DESCRIPTION:Every Saturday\, 9pm to 12:30am!
URL:https://bevmain.org/event/karaoke-at-anmol/2025-12-13/
LOCATION:Anmol\, 258 Rantoul Street\, Beverly\, MA\, 01915\, United States
CATEGORIES:Community Events,Free,Music/Concert,Nightlife
ATTACH;FMTTYPE=image/jpeg:https://bevmain.org/wp-content/uploads/2023/03/anmolkaraoke.jpg
GEO:42.5500156;-70.8836685
X-APPLE-STRUCTURED-LOCATION;VALUE=URI;X-ADDRESS=Anmol 258 Rantoul Street Beverly MA 01915 United States;X-APPLE-RADIUS=500;X-TITLE=258 Rantoul Street:geo:-70.8836685,42.5500156
END:VEVENT
BEGIN:VEVENT
DTSTART;TZID=America/New_York:20251213T210000
DTEND;TZID=America/New_York:20251214T010000
DTSTAMP:20260422T024934
CREATED:20240405T133525Z
LAST-MODIFIED:20240405T133525Z
UID:10022052-1765659600-1765674000@bevmain.org
SUMMARY:Saturday night Karaoke
DESCRIPTION:Come dance & sing the night away! Great for groups or individuals\,
URL:https://bevmain.org/event/saturday-night-karaoke/2025-12-13/
LOCATION:The Pickled Onion\, 355 rantoul st\, Beverly\, 01915\, United States
CATEGORIES:Beer/Wine,Festival,Music/Concert,Nightlife
ATTACH;FMTTYPE=image/png:https://bevmain.org/wp-content/uploads/2024/04/29B68054-2E1A-4D24-A2CA-1FB4798D3CDB.png
GEO:42.5522933;-70.8824043
X-APPLE-STRUCTURED-LOCATION;VALUE=URI;X-ADDRESS=The Pickled Onion 355 rantoul st Beverly 01915 United States;X-APPLE-RADIUS=500;X-TITLE=355 rantoul st:geo:-70.8824043,42.5522933
END:VEVENT
BEGIN:VEVENT
DTSTART;TZID=America/New_York:20251215T200000
DTEND;TZID=America/New_York:20251215T230000
DTSTAMP:20260422T024934
CREATED:20230628T150156Z
LAST-MODIFIED:20231108T191914Z
UID:10019326-1765828800-1765839600@bevmain.org
SUMMARY:Open Mic at Indo
DESCRIPTION:Hosted by Bob Kramer & Nick Consone!
URL:https://bevmain.org/event/open-mic-at-indo/2025-12-15/
LOCATION:The Indo\, 298 Cabot Street\, Beverly\, MA\, 01915\, United States
CATEGORIES:Beer/Wine,Comedy,Food,Nightlife
ATTACH;FMTTYPE=image/jpeg:https://bevmain.org/wp-content/uploads/2023/06/IndoOpenMic.jpg
GEO:42.5521772;-70.8790122
X-APPLE-STRUCTURED-LOCATION;VALUE=URI;X-ADDRESS=The Indo 298 Cabot Street Beverly MA 01915 United States;X-APPLE-RADIUS=500;X-TITLE=298 Cabot Street:geo:-70.8790122,42.5521772
END:VEVENT
BEGIN:VEVENT
DTSTART;TZID=America/New_York:20251216T200000
DTEND;TZID=America/New_York:20251216T220000
DTSTAMP:20260422T024934
CREATED:20230628T145939Z
LAST-MODIFIED:20230628T145939Z
UID:10019065-1765915200-1765922400@bevmain.org
SUMMARY:Geeks Who Drink Trivia at Indo
DESCRIPTION:Quizzes cover everything from Hungary to The Hunger Games\, from science to sports\, from the Billboard Hot 100 to Better Call Saul. \nEach quiz consists of seven rounds of eight questions each\, in a variety of formats\, including audio and visual rounds. \nTeams can be up to six players\, and winning teams get Indo gift certificates!
URL:https://bevmain.org/event/geeks-who-drink-trivia-at-indo/2025-12-16/
LOCATION:The Indo\, 298 Cabot Street\, Beverly\, MA\, 01915\, United States
CATEGORIES:Beer/Wine,Food,Nightlife
ATTACH;FMTTYPE=image/jpeg:https://bevmain.org/wp-content/uploads/2023/06/geekswhodrinkIndo.jpg
GEO:42.5521772;-70.8790122
X-APPLE-STRUCTURED-LOCATION;VALUE=URI;X-ADDRESS=The Indo 298 Cabot Street Beverly MA 01915 United States;X-APPLE-RADIUS=500;X-TITLE=298 Cabot Street:geo:-70.8790122,42.5521772
END:VEVENT
BEGIN:VEVENT
DTSTART;TZID=America/New_York:20251216T210000
DTEND;TZID=America/New_York:20251217T010000
DTSTAMP:20260422T024934
CREATED:20230307T192014Z
LAST-MODIFIED:20230307T193159Z
UID:10015736-1765918800-1765933200@bevmain.org
SUMMARY:Trivia Tuesday
DESCRIPTION:Tuesday night trivia at the Pickled Onion\n355 Rantoul Street
URL:https://bevmain.org/event/trivia-tuesday-3/2025-12-16/
CATEGORIES:Beer/Wine,Free,Music/Concert,Nightlife
ATTACH;FMTTYPE=image/jpeg:https://bevmain.org/wp-content/uploads/2023/03/pickledoniontriviaUSE.jpg
END:VEVENT
BEGIN:VEVENT
DTSTART;TZID=America/New_York:20251217T190000
DTEND;TZID=America/New_York:20251217T210000
DTSTAMP:20260422T024934
CREATED:20230417T144418Z
LAST-MODIFIED:20230417T144436Z
UID:10017983-1765998000-1766005200@bevmain.org
SUMMARY:Trivia Night at Backbeat Brewing
DESCRIPTION:Wednesday at 6:45pm is Trivia Night at Backbeat Brewing Company!
URL:https://bevmain.org/event/trivia-night-at-backbeat-brewing/2025-12-17/
CATEGORIES:Beer/Wine,Food,Nightlife
ATTACH;FMTTYPE=image/jpeg:https://bevmain.org/wp-content/uploads/2023/04/backbeatlogo.jpg
END:VEVENT
BEGIN:VEVENT
DTSTART;TZID=America/New_York:20251218T190000
DTEND;TZID=America/New_York:20251218T210000
DTSTAMP:20260422T024934
CREATED:20230307T174243Z
LAST-MODIFIED:20230315T143421Z
UID:10014176-1766084400-1766091600@bevmain.org
SUMMARY:Thursday Night Trivia
DESCRIPTION:Like a little friendly competition? want to win cool prizes? Come to TRIVIA Thursday nights at 7pm at Old Planters Brewing Co!
URL:https://bevmain.org/event/thursday-night-trivia/2025-12-18/
LOCATION:Old Planter's Brewing Co.\, 232 Rantoul St.\, Beverly\, MA\, 01915\, United States
CATEGORIES:Beer/Wine,Free,Nightlife
ATTACH;FMTTYPE=image/jpeg:https://bevmain.org/wp-content/uploads/2023/03/thursdaytriviaoldplanters.jpg
GEO:42.5493085;-70.8838543
X-APPLE-STRUCTURED-LOCATION;VALUE=URI;X-ADDRESS=Old Planter's Brewing Co. 232 Rantoul St. Beverly MA 01915 United States;X-APPLE-RADIUS=500;X-TITLE=232 Rantoul St.:geo:-70.8838543,42.5493085
END:VEVENT
BEGIN:VEVENT
DTSTART;TZID=America/New_York:20251218T190000
DTEND;TZID=America/New_York:20251218T210000
DTSTAMP:20260422T024934
CREATED:20230309T230135Z
LAST-MODIFIED:20230309T230135Z
UID:10016419-1766084400-1766091600@bevmain.org
SUMMARY:Third Thursday Trivia
DESCRIPTION:Hone your skills & win a giftcard & a Coastal Mass Tulip Glass! Cheers and may the odds be ever in your favor!
URL:https://bevmain.org/event/third-thursday-trivia/2025-12-18/
LOCATION:Coastal Mass Brewing\, 95 Rantoul Street\, Beverly\, MA\, 01915\, United States
CATEGORIES:Beer/Wine,Community Events,Free,Nightlife
ATTACH;FMTTYPE=image/jpeg:https://bevmain.org/wp-content/uploads/2023/03/TriviaCover1.19-6.18.jpg
GEO:42.5448066;-70.8843239
X-APPLE-STRUCTURED-LOCATION;VALUE=URI;X-ADDRESS=Coastal Mass Brewing 95 Rantoul Street Beverly MA 01915 United States;X-APPLE-RADIUS=500;X-TITLE=95 Rantoul Street:geo:-70.8843239,42.5448066
END:VEVENT
BEGIN:VEVENT
DTSTART;TZID=America/New_York:20251218T210000
DTEND;TZID=America/New_York:20251219T010000
DTSTAMP:20260422T024934
CREATED:20230307T180614Z
LAST-MODIFIED:20230307T194535Z
UID:10014960-1766091600-1766106000@bevmain.org
SUMMARY:Live DJ at the Pickled Onion
DESCRIPTION:Live DJ Night!
URL:https://bevmain.org/event/live-dj-at-the-pickled-onion/2025-12-18/
LOCATION:Pickled Onion\, 355 Rantoul Street\, Beverly\, MA\, 01915\, United States
CATEGORIES:Beer/Wine,Music/Concert,Nightlife
ATTACH;FMTTYPE=image/jpeg:https://bevmain.org/wp-content/uploads/2023/03/pickledonionDJ.jpg
GEO:42.5522933;-70.8824043
X-APPLE-STRUCTURED-LOCATION;VALUE=URI;X-ADDRESS=Pickled Onion 355 Rantoul Street Beverly MA 01915 United States;X-APPLE-RADIUS=500;X-TITLE=355 Rantoul Street:geo:-70.8824043,42.5522933
END:VEVENT
BEGIN:VEVENT
DTSTART;TZID=America/New_York:20251219T200000
DTEND;TZID=America/New_York:20251219T213000
DTSTAMP:20260422T024934
CREATED:20250908T132126Z
LAST-MODIFIED:20250908T132126Z
UID:10035720-1766174400-1766179800@bevmain.org
SUMMARY:Liberated – A Cheeky\, Satirical Burlesque Revue with Live Jazz Musicians
DESCRIPTION:A cheeky\, satirical burlesque revue where sultry jazz meets the art of tease in an intimate setting. Boston’s finest dancers and live jazz musicians strike the perfect balance of cheeky charm and classic cabaret\, guiding you through the Boston Tea Party\, Stamp Act\, Boston Massacre and more—all with a wink to 18th-century colonial intrigue.\n​\nThe night features solo and ensemble dance acts\, vocalists\, live jazz musicians\, and more! This must-see celebration is all about breaking free—from British rule and societal pressures to anything holding you back.\n​\nJoin us for a steamy night of Boston pride\, jazz\, and\, most of all Liberation!! \n90-Minute show\, includes 15-minute intermission. 18+
URL:https://bevmain.org/event/liberated-a-cheeky-satirical-burlesque-revue-with-live-jazz-musicians/2025-12-19/
LOCATION:Larcom Theatre\, 13 Wallis Street\, 01915\, United States
CATEGORIES:Dance,Music/Concert,Nightlife
ATTACH;FMTTYPE=image/jpeg:https://bevmain.org/wp-content/uploads/2025/09/Boston-She-Party_420-x-315-px.jpg
ORGANIZER;CN="Larcom Theatre":MAILTO:info@thelarcom.org
GEO:42.5481592;-70.879767
END:VEVENT
BEGIN:VEVENT
DTSTART;TZID=America/New_York:20251219T210000
DTEND;TZID=America/New_York:20251221T010000
DTSTAMP:20260422T024934
CREATED:20240405T133417Z
LAST-MODIFIED:20240405T133417Z
UID:10021792-1766178000-1766278800@bevmain.org
SUMMARY:Friday Night Karaoke
DESCRIPTION:Karaoke night hosted by Soulo Productionz. At The Pickled Onion
URL:https://bevmain.org/event/friday-night-karaoke/2025-12-19/
LOCATION:The Pickled Onion\, 355 rantoul st\, Beverly\, 01915\, United States
CATEGORIES:Music/Concert,Nightlife
ATTACH;FMTTYPE=image/png:https://bevmain.org/wp-content/uploads/2024/04/775F44DB-6846-4F23-A77E-1BA24B34B201.png
GEO:42.5522933;-70.8824043
X-APPLE-STRUCTURED-LOCATION;VALUE=URI;X-ADDRESS=The Pickled Onion 355 rantoul st Beverly 01915 United States;X-APPLE-RADIUS=500;X-TITLE=355 rantoul st:geo:-70.8824043,42.5522933
END:VEVENT
BEGIN:VEVENT
DTSTART;TZID=America/New_York:20251220T210000
DTEND;TZID=America/New_York:20251221T003000
DTSTAMP:20260422T024934
CREATED:20230314T145932Z
LAST-MODIFIED:20230314T145932Z
UID:10017111-1766264400-1766277000@bevmain.org
SUMMARY:Karaoke at Anmol
DESCRIPTION:Every Saturday\, 9pm to 12:30am!
URL:https://bevmain.org/event/karaoke-at-anmol/2025-12-20/
LOCATION:Anmol\, 258 Rantoul Street\, Beverly\, MA\, 01915\, United States
CATEGORIES:Community Events,Free,Music/Concert,Nightlife
ATTACH;FMTTYPE=image/jpeg:https://bevmain.org/wp-content/uploads/2023/03/anmolkaraoke.jpg
GEO:42.5500156;-70.8836685
X-APPLE-STRUCTURED-LOCATION;VALUE=URI;X-ADDRESS=Anmol 258 Rantoul Street Beverly MA 01915 United States;X-APPLE-RADIUS=500;X-TITLE=258 Rantoul Street:geo:-70.8836685,42.5500156
END:VEVENT
BEGIN:VEVENT
DTSTART;TZID=America/New_York:20251220T210000
DTEND;TZID=America/New_York:20251221T010000
DTSTAMP:20260422T024934
CREATED:20240405T133525Z
LAST-MODIFIED:20240405T133525Z
UID:10022053-1766264400-1766278800@bevmain.org
SUMMARY:Saturday night Karaoke
DESCRIPTION:Come dance & sing the night away! Great for groups or individuals\,
URL:https://bevmain.org/event/saturday-night-karaoke/2025-12-20/
LOCATION:The Pickled Onion\, 355 rantoul st\, Beverly\, 01915\, United States
CATEGORIES:Beer/Wine,Festival,Music/Concert,Nightlife
ATTACH;FMTTYPE=image/png:https://bevmain.org/wp-content/uploads/2024/04/29B68054-2E1A-4D24-A2CA-1FB4798D3CDB.png
GEO:42.5522933;-70.8824043
X-APPLE-STRUCTURED-LOCATION;VALUE=URI;X-ADDRESS=The Pickled Onion 355 rantoul st Beverly 01915 United States;X-APPLE-RADIUS=500;X-TITLE=355 rantoul st:geo:-70.8824043,42.5522933
END:VEVENT
BEGIN:VEVENT
DTSTART;TZID=America/New_York:20251222T200000
DTEND;TZID=America/New_York:20251222T230000
DTSTAMP:20260422T024934
CREATED:20230628T150156Z
LAST-MODIFIED:20231108T191914Z
UID:10019327-1766433600-1766444400@bevmain.org
SUMMARY:Open Mic at Indo
DESCRIPTION:Hosted by Bob Kramer & Nick Consone!
URL:https://bevmain.org/event/open-mic-at-indo/2025-12-22/
LOCATION:The Indo\, 298 Cabot Street\, Beverly\, MA\, 01915\, United States
CATEGORIES:Beer/Wine,Comedy,Food,Nightlife
ATTACH;FMTTYPE=image/jpeg:https://bevmain.org/wp-content/uploads/2023/06/IndoOpenMic.jpg
GEO:42.5521772;-70.8790122
X-APPLE-STRUCTURED-LOCATION;VALUE=URI;X-ADDRESS=The Indo 298 Cabot Street Beverly MA 01915 United States;X-APPLE-RADIUS=500;X-TITLE=298 Cabot Street:geo:-70.8790122,42.5521772
END:VEVENT
END:VCALENDAR