BEGIN:VCALENDAR
VERSION:2.0
PRODID:-//Beverly Main Streets - ECPv6.15.20//NONSGML v1.0//EN
CALSCALE:GREGORIAN
METHOD:PUBLISH
X-ORIGINAL-URL:https://bevmain.org
X-WR-CALDESC:Events for Beverly Main Streets
REFRESH-INTERVAL;VALUE=DURATION:PT1H
X-Robots-Tag:noindex
X-PUBLISHED-TTL:PT1H
BEGIN:VTIMEZONE
TZID:America/New_York
BEGIN:DAYLIGHT
TZOFFSETFROM:-0500
TZOFFSETTO:-0400
TZNAME:EDT
DTSTART:20250309T070000
END:DAYLIGHT
BEGIN:STANDARD
TZOFFSETFROM:-0400
TZOFFSETTO:-0500
TZNAME:EST
DTSTART:20251102T060000
END:STANDARD
BEGIN:DAYLIGHT
TZOFFSETFROM:-0500
TZOFFSETTO:-0400
TZNAME:EDT
DTSTART:20260308T070000
END:DAYLIGHT
BEGIN:STANDARD
TZOFFSETFROM:-0400
TZOFFSETTO:-0500
TZNAME:EST
DTSTART:20261101T060000
END:STANDARD
BEGIN:DAYLIGHT
TZOFFSETFROM:-0500
TZOFFSETTO:-0400
TZNAME:EDT
DTSTART:20270314T070000
END:DAYLIGHT
BEGIN:STANDARD
TZOFFSETFROM:-0400
TZOFFSETTO:-0500
TZNAME:EST
DTSTART:20271107T060000
END:STANDARD
END:VTIMEZONE
BEGIN:VEVENT
DTSTART;TZID=America/New_York:20260302T200000
DTEND;TZID=America/New_York:20260302T230000
DTSTAMP:20260424T053604
CREATED:20230628T150156Z
LAST-MODIFIED:20231108T191914Z
UID:10019337-1772481600-1772492400@bevmain.org
SUMMARY:Open Mic at Indo
DESCRIPTION:Hosted by Bob Kramer & Nick Consone!
URL:https://bevmain.org/event/open-mic-at-indo/2026-03-02/
LOCATION:The Indo\, 298 Cabot Street\, Beverly\, MA\, 01915\, United States
CATEGORIES:Beer/Wine,Comedy,Food,Nightlife
ATTACH;FMTTYPE=image/jpeg:https://bevmain.org/wp-content/uploads/2023/06/IndoOpenMic.jpg
GEO:42.5521772;-70.8790122
X-APPLE-STRUCTURED-LOCATION;VALUE=URI;X-ADDRESS=The Indo 298 Cabot Street Beverly MA 01915 United States;X-APPLE-RADIUS=500;X-TITLE=298 Cabot Street:geo:-70.8790122,42.5521772
END:VEVENT
BEGIN:VEVENT
DTSTART;TZID=America/New_York:20260303T200000
DTEND;TZID=America/New_York:20260303T220000
DTSTAMP:20260424T053604
CREATED:20230628T145939Z
LAST-MODIFIED:20230628T145939Z
UID:10019076-1772568000-1772575200@bevmain.org
SUMMARY:Geeks Who Drink Trivia at Indo
DESCRIPTION:Quizzes cover everything from Hungary to The Hunger Games\, from science to sports\, from the Billboard Hot 100 to Better Call Saul. \nEach quiz consists of seven rounds of eight questions each\, in a variety of formats\, including audio and visual rounds. \nTeams can be up to six players\, and winning teams get Indo gift certificates!
URL:https://bevmain.org/event/geeks-who-drink-trivia-at-indo/2026-03-03/
LOCATION:The Indo\, 298 Cabot Street\, Beverly\, MA\, 01915\, United States
CATEGORIES:Beer/Wine,Food,Nightlife
ATTACH;FMTTYPE=image/jpeg:https://bevmain.org/wp-content/uploads/2023/06/geekswhodrinkIndo.jpg
GEO:42.5521772;-70.8790122
X-APPLE-STRUCTURED-LOCATION;VALUE=URI;X-ADDRESS=The Indo 298 Cabot Street Beverly MA 01915 United States;X-APPLE-RADIUS=500;X-TITLE=298 Cabot Street:geo:-70.8790122,42.5521772
END:VEVENT
BEGIN:VEVENT
DTSTART;TZID=America/New_York:20260303T210000
DTEND;TZID=America/New_York:20260304T010000
DTSTAMP:20260424T053604
CREATED:20230307T192014Z
LAST-MODIFIED:20230307T193159Z
UID:10015747-1772571600-1772586000@bevmain.org
SUMMARY:Trivia Tuesday
DESCRIPTION:Tuesday night trivia at the Pickled Onion\n355 Rantoul Street
URL:https://bevmain.org/event/trivia-tuesday-3/2026-03-03/
CATEGORIES:Beer/Wine,Free,Music/Concert,Nightlife
ATTACH;FMTTYPE=image/jpeg:https://bevmain.org/wp-content/uploads/2023/03/pickledoniontriviaUSE.jpg
END:VEVENT
BEGIN:VEVENT
DTSTART;TZID=America/New_York:20260304T190000
DTEND;TZID=America/New_York:20260304T210000
DTSTAMP:20260424T053604
CREATED:20230417T144418Z
LAST-MODIFIED:20230417T144436Z
UID:10017994-1772650800-1772658000@bevmain.org
SUMMARY:Trivia Night at Backbeat Brewing
DESCRIPTION:Wednesday at 6:45pm is Trivia Night at Backbeat Brewing Company!
URL:https://bevmain.org/event/trivia-night-at-backbeat-brewing/2026-03-04/
CATEGORIES:Beer/Wine,Food,Nightlife
ATTACH;FMTTYPE=image/jpeg:https://bevmain.org/wp-content/uploads/2023/04/backbeatlogo.jpg
END:VEVENT
BEGIN:VEVENT
DTSTART;TZID=America/New_York:20260305T190000
DTEND;TZID=America/New_York:20260305T210000
DTSTAMP:20260424T053604
CREATED:20230307T174243Z
LAST-MODIFIED:20230315T143421Z
UID:10014187-1772737200-1772744400@bevmain.org
SUMMARY:Thursday Night Trivia
DESCRIPTION:Like a little friendly competition? want to win cool prizes? Come to TRIVIA Thursday nights at 7pm at Old Planters Brewing Co!
URL:https://bevmain.org/event/thursday-night-trivia/2026-03-05/
LOCATION:Old Planter's Brewing Co.\, 232 Rantoul St.\, Beverly\, MA\, 01915\, United States
CATEGORIES:Beer/Wine,Free,Nightlife
ATTACH;FMTTYPE=image/jpeg:https://bevmain.org/wp-content/uploads/2023/03/thursdaytriviaoldplanters.jpg
GEO:42.5493085;-70.8838543
X-APPLE-STRUCTURED-LOCATION;VALUE=URI;X-ADDRESS=Old Planter's Brewing Co. 232 Rantoul St. Beverly MA 01915 United States;X-APPLE-RADIUS=500;X-TITLE=232 Rantoul St.:geo:-70.8838543,42.5493085
END:VEVENT
BEGIN:VEVENT
DTSTART;TZID=America/New_York:20260305T210000
DTEND;TZID=America/New_York:20260306T010000
DTSTAMP:20260424T053604
CREATED:20230307T180614Z
LAST-MODIFIED:20230307T194535Z
UID:10014971-1772744400-1772758800@bevmain.org
SUMMARY:Live DJ at the Pickled Onion
DESCRIPTION:Live DJ Night!
URL:https://bevmain.org/event/live-dj-at-the-pickled-onion/2026-03-05/
LOCATION:Pickled Onion\, 355 Rantoul Street\, Beverly\, MA\, 01915\, United States
CATEGORIES:Beer/Wine,Music/Concert,Nightlife
ATTACH;FMTTYPE=image/jpeg:https://bevmain.org/wp-content/uploads/2023/03/pickledonionDJ.jpg
GEO:42.5522933;-70.8824043
X-APPLE-STRUCTURED-LOCATION;VALUE=URI;X-ADDRESS=Pickled Onion 355 Rantoul Street Beverly MA 01915 United States;X-APPLE-RADIUS=500;X-TITLE=355 Rantoul Street:geo:-70.8824043,42.5522933
END:VEVENT
BEGIN:VEVENT
DTSTART;TZID=America/New_York:20260306T210000
DTEND;TZID=America/New_York:20260308T010000
DTSTAMP:20260424T053604
CREATED:20240405T133417Z
LAST-MODIFIED:20240405T133417Z
UID:10021803-1772830800-1772931600@bevmain.org
SUMMARY:Friday Night Karaoke
DESCRIPTION:Karaoke night hosted by Soulo Productionz. At The Pickled Onion
URL:https://bevmain.org/event/friday-night-karaoke/2026-03-06/
LOCATION:The Pickled Onion\, 355 rantoul st\, Beverly\, 01915\, United States
CATEGORIES:Music/Concert,Nightlife
ATTACH;FMTTYPE=image/png:https://bevmain.org/wp-content/uploads/2024/04/775F44DB-6846-4F23-A77E-1BA24B34B201.png
GEO:42.5522933;-70.8824043
X-APPLE-STRUCTURED-LOCATION;VALUE=URI;X-ADDRESS=The Pickled Onion 355 rantoul st Beverly 01915 United States;X-APPLE-RADIUS=500;X-TITLE=355 rantoul st:geo:-70.8824043,42.5522933
END:VEVENT
BEGIN:VEVENT
DTSTART;TZID=America/New_York:20260307T190000
DTEND;TZID=America/New_York:20260307T210000
DTSTAMP:20260424T053604
CREATED:20260203T175952Z
LAST-MODIFIED:20260203T175952Z
UID:10038021-1772910000-1772917200@bevmain.org
SUMMARY:Do Not Attend This Show
DESCRIPTION:Do Not Attend This Show is a live comedy performance featuring fast-paced\, short-form improv\, local stand-up comedians\, and sketches. One of the first public shows at The Bower\, Montserrat College of Art’s new community arts space.
URL:https://bevmain.org/event/do-not-attend-this-show/
LOCATION:The Bower\, 248 Cabot St\, Beverly\, 01915\, United States
CATEGORIES:Comedy,Nightlife
ATTACH;FMTTYPE=image/png:https://bevmain.org/wp-content/uploads/2026/02/promo_banner.png
ORGANIZER;CN="Very Very Temporary":MAILTO:sean@denny.family
END:VEVENT
BEGIN:VEVENT
DTSTART;TZID=America/New_York:20260307T210000
DTEND;TZID=America/New_York:20260308T003000
DTSTAMP:20260424T053605
CREATED:20230314T145932Z
LAST-MODIFIED:20230314T145932Z
UID:10017122-1772917200-1772929800@bevmain.org
SUMMARY:Karaoke at Anmol
DESCRIPTION:Every Saturday\, 9pm to 12:30am!
URL:https://bevmain.org/event/karaoke-at-anmol/2026-03-07/
LOCATION:Anmol\, 258 Rantoul Street\, Beverly\, MA\, 01915\, United States
CATEGORIES:Community Events,Free,Music/Concert,Nightlife
ATTACH;FMTTYPE=image/jpeg:https://bevmain.org/wp-content/uploads/2023/03/anmolkaraoke.jpg
GEO:42.5500156;-70.8836685
X-APPLE-STRUCTURED-LOCATION;VALUE=URI;X-ADDRESS=Anmol 258 Rantoul Street Beverly MA 01915 United States;X-APPLE-RADIUS=500;X-TITLE=258 Rantoul Street:geo:-70.8836685,42.5500156
END:VEVENT
BEGIN:VEVENT
DTSTART;TZID=America/New_York:20260307T210000
DTEND;TZID=America/New_York:20260308T010000
DTSTAMP:20260424T053605
CREATED:20240405T133525Z
LAST-MODIFIED:20240405T133525Z
UID:10022064-1772917200-1772931600@bevmain.org
SUMMARY:Saturday night Karaoke
DESCRIPTION:Come dance & sing the night away! Great for groups or individuals\,
URL:https://bevmain.org/event/saturday-night-karaoke/2026-03-07/
LOCATION:The Pickled Onion\, 355 rantoul st\, Beverly\, 01915\, United States
CATEGORIES:Beer/Wine,Festival,Music/Concert,Nightlife
ATTACH;FMTTYPE=image/png:https://bevmain.org/wp-content/uploads/2024/04/29B68054-2E1A-4D24-A2CA-1FB4798D3CDB.png
GEO:42.5522933;-70.8824043
X-APPLE-STRUCTURED-LOCATION;VALUE=URI;X-ADDRESS=The Pickled Onion 355 rantoul st Beverly 01915 United States;X-APPLE-RADIUS=500;X-TITLE=355 rantoul st:geo:-70.8824043,42.5522933
END:VEVENT
BEGIN:VEVENT
DTSTART;TZID=America/New_York:20260309T200000
DTEND;TZID=America/New_York:20260309T230000
DTSTAMP:20260424T053605
CREATED:20230628T150156Z
LAST-MODIFIED:20231108T191914Z
UID:10019338-1773086400-1773097200@bevmain.org
SUMMARY:Open Mic at Indo
DESCRIPTION:Hosted by Bob Kramer & Nick Consone!
URL:https://bevmain.org/event/open-mic-at-indo/2026-03-09/
LOCATION:The Indo\, 298 Cabot Street\, Beverly\, MA\, 01915\, United States
CATEGORIES:Beer/Wine,Comedy,Food,Nightlife
ATTACH;FMTTYPE=image/jpeg:https://bevmain.org/wp-content/uploads/2023/06/IndoOpenMic.jpg
GEO:42.5521772;-70.8790122
X-APPLE-STRUCTURED-LOCATION;VALUE=URI;X-ADDRESS=The Indo 298 Cabot Street Beverly MA 01915 United States;X-APPLE-RADIUS=500;X-TITLE=298 Cabot Street:geo:-70.8790122,42.5521772
END:VEVENT
BEGIN:VEVENT
DTSTART;TZID=America/New_York:20260310T200000
DTEND;TZID=America/New_York:20260310T220000
DTSTAMP:20260424T053605
CREATED:20230628T145939Z
LAST-MODIFIED:20230628T145939Z
UID:10019077-1773172800-1773180000@bevmain.org
SUMMARY:Geeks Who Drink Trivia at Indo
DESCRIPTION:Quizzes cover everything from Hungary to The Hunger Games\, from science to sports\, from the Billboard Hot 100 to Better Call Saul. \nEach quiz consists of seven rounds of eight questions each\, in a variety of formats\, including audio and visual rounds. \nTeams can be up to six players\, and winning teams get Indo gift certificates!
URL:https://bevmain.org/event/geeks-who-drink-trivia-at-indo/2026-03-10/
LOCATION:The Indo\, 298 Cabot Street\, Beverly\, MA\, 01915\, United States
CATEGORIES:Beer/Wine,Food,Nightlife
ATTACH;FMTTYPE=image/jpeg:https://bevmain.org/wp-content/uploads/2023/06/geekswhodrinkIndo.jpg
GEO:42.5521772;-70.8790122
X-APPLE-STRUCTURED-LOCATION;VALUE=URI;X-ADDRESS=The Indo 298 Cabot Street Beverly MA 01915 United States;X-APPLE-RADIUS=500;X-TITLE=298 Cabot Street:geo:-70.8790122,42.5521772
END:VEVENT
BEGIN:VEVENT
DTSTART;TZID=America/New_York:20260310T210000
DTEND;TZID=America/New_York:20260311T010000
DTSTAMP:20260424T053605
CREATED:20230307T192014Z
LAST-MODIFIED:20230307T193159Z
UID:10015748-1773176400-1773190800@bevmain.org
SUMMARY:Trivia Tuesday
DESCRIPTION:Tuesday night trivia at the Pickled Onion\n355 Rantoul Street
URL:https://bevmain.org/event/trivia-tuesday-3/2026-03-10/
CATEGORIES:Beer/Wine,Free,Music/Concert,Nightlife
ATTACH;FMTTYPE=image/jpeg:https://bevmain.org/wp-content/uploads/2023/03/pickledoniontriviaUSE.jpg
END:VEVENT
BEGIN:VEVENT
DTSTART;TZID=America/New_York:20260311T190000
DTEND;TZID=America/New_York:20260311T210000
DTSTAMP:20260424T053605
CREATED:20230417T144418Z
LAST-MODIFIED:20230417T144436Z
UID:10017995-1773255600-1773262800@bevmain.org
SUMMARY:Trivia Night at Backbeat Brewing
DESCRIPTION:Wednesday at 6:45pm is Trivia Night at Backbeat Brewing Company!
URL:https://bevmain.org/event/trivia-night-at-backbeat-brewing/2026-03-11/
CATEGORIES:Beer/Wine,Food,Nightlife
ATTACH;FMTTYPE=image/jpeg:https://bevmain.org/wp-content/uploads/2023/04/backbeatlogo.jpg
END:VEVENT
BEGIN:VEVENT
DTSTART;TZID=America/New_York:20260312T190000
DTEND;TZID=America/New_York:20260312T210000
DTSTAMP:20260424T053605
CREATED:20230307T174243Z
LAST-MODIFIED:20230315T143421Z
UID:10014188-1773342000-1773349200@bevmain.org
SUMMARY:Thursday Night Trivia
DESCRIPTION:Like a little friendly competition? want to win cool prizes? Come to TRIVIA Thursday nights at 7pm at Old Planters Brewing Co!
URL:https://bevmain.org/event/thursday-night-trivia/2026-03-12/
LOCATION:Old Planter's Brewing Co.\, 232 Rantoul St.\, Beverly\, MA\, 01915\, United States
CATEGORIES:Beer/Wine,Free,Nightlife
ATTACH;FMTTYPE=image/jpeg:https://bevmain.org/wp-content/uploads/2023/03/thursdaytriviaoldplanters.jpg
GEO:42.5493085;-70.8838543
X-APPLE-STRUCTURED-LOCATION;VALUE=URI;X-ADDRESS=Old Planter's Brewing Co. 232 Rantoul St. Beverly MA 01915 United States;X-APPLE-RADIUS=500;X-TITLE=232 Rantoul St.:geo:-70.8838543,42.5493085
END:VEVENT
BEGIN:VEVENT
DTSTART;TZID=America/New_York:20260312T210000
DTEND;TZID=America/New_York:20260313T010000
DTSTAMP:20260424T053605
CREATED:20230307T180614Z
LAST-MODIFIED:20230307T194535Z
UID:10014972-1773349200-1773363600@bevmain.org
SUMMARY:Live DJ at the Pickled Onion
DESCRIPTION:Live DJ Night!
URL:https://bevmain.org/event/live-dj-at-the-pickled-onion/2026-03-12/
LOCATION:Pickled Onion\, 355 Rantoul Street\, Beverly\, MA\, 01915\, United States
CATEGORIES:Beer/Wine,Music/Concert,Nightlife
ATTACH;FMTTYPE=image/jpeg:https://bevmain.org/wp-content/uploads/2023/03/pickledonionDJ.jpg
GEO:42.5522933;-70.8824043
X-APPLE-STRUCTURED-LOCATION;VALUE=URI;X-ADDRESS=Pickled Onion 355 Rantoul Street Beverly MA 01915 United States;X-APPLE-RADIUS=500;X-TITLE=355 Rantoul Street:geo:-70.8824043,42.5522933
END:VEVENT
BEGIN:VEVENT
DTSTART;TZID=America/New_York:20260313T210000
DTEND;TZID=America/New_York:20260315T010000
DTSTAMP:20260424T053605
CREATED:20240405T133417Z
LAST-MODIFIED:20240405T133417Z
UID:10021804-1773435600-1773536400@bevmain.org
SUMMARY:Friday Night Karaoke
DESCRIPTION:Karaoke night hosted by Soulo Productionz. At The Pickled Onion
URL:https://bevmain.org/event/friday-night-karaoke/2026-03-13/
LOCATION:The Pickled Onion\, 355 rantoul st\, Beverly\, 01915\, United States
CATEGORIES:Music/Concert,Nightlife
ATTACH;FMTTYPE=image/png:https://bevmain.org/wp-content/uploads/2024/04/775F44DB-6846-4F23-A77E-1BA24B34B201.png
GEO:42.5522933;-70.8824043
X-APPLE-STRUCTURED-LOCATION;VALUE=URI;X-ADDRESS=The Pickled Onion 355 rantoul st Beverly 01915 United States;X-APPLE-RADIUS=500;X-TITLE=355 rantoul st:geo:-70.8824043,42.5522933
END:VEVENT
BEGIN:VEVENT
DTSTART;TZID=America/New_York:20260314T210000
DTEND;TZID=America/New_York:20260315T003000
DTSTAMP:20260424T053605
CREATED:20230314T145932Z
LAST-MODIFIED:20230314T145932Z
UID:10017123-1773522000-1773534600@bevmain.org
SUMMARY:Karaoke at Anmol
DESCRIPTION:Every Saturday\, 9pm to 12:30am!
URL:https://bevmain.org/event/karaoke-at-anmol/2026-03-14/
LOCATION:Anmol\, 258 Rantoul Street\, Beverly\, MA\, 01915\, United States
CATEGORIES:Community Events,Free,Music/Concert,Nightlife
ATTACH;FMTTYPE=image/jpeg:https://bevmain.org/wp-content/uploads/2023/03/anmolkaraoke.jpg
GEO:42.5500156;-70.8836685
X-APPLE-STRUCTURED-LOCATION;VALUE=URI;X-ADDRESS=Anmol 258 Rantoul Street Beverly MA 01915 United States;X-APPLE-RADIUS=500;X-TITLE=258 Rantoul Street:geo:-70.8836685,42.5500156
END:VEVENT
BEGIN:VEVENT
DTSTART;TZID=America/New_York:20260314T210000
DTEND;TZID=America/New_York:20260315T010000
DTSTAMP:20260424T053605
CREATED:20240405T133525Z
LAST-MODIFIED:20240405T133525Z
UID:10022065-1773522000-1773536400@bevmain.org
SUMMARY:Saturday night Karaoke
DESCRIPTION:Come dance & sing the night away! Great for groups or individuals\,
URL:https://bevmain.org/event/saturday-night-karaoke/2026-03-14/
LOCATION:The Pickled Onion\, 355 rantoul st\, Beverly\, 01915\, United States
CATEGORIES:Beer/Wine,Festival,Music/Concert,Nightlife
ATTACH;FMTTYPE=image/png:https://bevmain.org/wp-content/uploads/2024/04/29B68054-2E1A-4D24-A2CA-1FB4798D3CDB.png
GEO:42.5522933;-70.8824043
X-APPLE-STRUCTURED-LOCATION;VALUE=URI;X-ADDRESS=The Pickled Onion 355 rantoul st Beverly 01915 United States;X-APPLE-RADIUS=500;X-TITLE=355 rantoul st:geo:-70.8824043,42.5522933
END:VEVENT
BEGIN:VEVENT
DTSTART;TZID=America/New_York:20260316T200000
DTEND;TZID=America/New_York:20260316T230000
DTSTAMP:20260424T053605
CREATED:20230628T150156Z
LAST-MODIFIED:20231108T191914Z
UID:10019339-1773691200-1773702000@bevmain.org
SUMMARY:Open Mic at Indo
DESCRIPTION:Hosted by Bob Kramer & Nick Consone!
URL:https://bevmain.org/event/open-mic-at-indo/2026-03-16/
LOCATION:The Indo\, 298 Cabot Street\, Beverly\, MA\, 01915\, United States
CATEGORIES:Beer/Wine,Comedy,Food,Nightlife
ATTACH;FMTTYPE=image/jpeg:https://bevmain.org/wp-content/uploads/2023/06/IndoOpenMic.jpg
GEO:42.5521772;-70.8790122
X-APPLE-STRUCTURED-LOCATION;VALUE=URI;X-ADDRESS=The Indo 298 Cabot Street Beverly MA 01915 United States;X-APPLE-RADIUS=500;X-TITLE=298 Cabot Street:geo:-70.8790122,42.5521772
END:VEVENT
BEGIN:VEVENT
DTSTART;TZID=America/New_York:20260317T200000
DTEND;TZID=America/New_York:20260317T220000
DTSTAMP:20260424T053605
CREATED:20230628T145939Z
LAST-MODIFIED:20230628T145939Z
UID:10019078-1773777600-1773784800@bevmain.org
SUMMARY:Geeks Who Drink Trivia at Indo
DESCRIPTION:Quizzes cover everything from Hungary to The Hunger Games\, from science to sports\, from the Billboard Hot 100 to Better Call Saul. \nEach quiz consists of seven rounds of eight questions each\, in a variety of formats\, including audio and visual rounds. \nTeams can be up to six players\, and winning teams get Indo gift certificates!
URL:https://bevmain.org/event/geeks-who-drink-trivia-at-indo/2026-03-17/
LOCATION:The Indo\, 298 Cabot Street\, Beverly\, MA\, 01915\, United States
CATEGORIES:Beer/Wine,Food,Nightlife
ATTACH;FMTTYPE=image/jpeg:https://bevmain.org/wp-content/uploads/2023/06/geekswhodrinkIndo.jpg
GEO:42.5521772;-70.8790122
X-APPLE-STRUCTURED-LOCATION;VALUE=URI;X-ADDRESS=The Indo 298 Cabot Street Beverly MA 01915 United States;X-APPLE-RADIUS=500;X-TITLE=298 Cabot Street:geo:-70.8790122,42.5521772
END:VEVENT
BEGIN:VEVENT
DTSTART;TZID=America/New_York:20260317T210000
DTEND;TZID=America/New_York:20260318T010000
DTSTAMP:20260424T053605
CREATED:20230307T192014Z
LAST-MODIFIED:20230307T193159Z
UID:10015749-1773781200-1773795600@bevmain.org
SUMMARY:Trivia Tuesday
DESCRIPTION:Tuesday night trivia at the Pickled Onion\n355 Rantoul Street
URL:https://bevmain.org/event/trivia-tuesday-3/2026-03-17/
CATEGORIES:Beer/Wine,Free,Music/Concert,Nightlife
ATTACH;FMTTYPE=image/jpeg:https://bevmain.org/wp-content/uploads/2023/03/pickledoniontriviaUSE.jpg
END:VEVENT
BEGIN:VEVENT
DTSTART;TZID=America/New_York:20260318T190000
DTEND;TZID=America/New_York:20260318T210000
DTSTAMP:20260424T053605
CREATED:20230417T144418Z
LAST-MODIFIED:20230417T144436Z
UID:10017996-1773860400-1773867600@bevmain.org
SUMMARY:Trivia Night at Backbeat Brewing
DESCRIPTION:Wednesday at 6:45pm is Trivia Night at Backbeat Brewing Company!
URL:https://bevmain.org/event/trivia-night-at-backbeat-brewing/2026-03-18/
CATEGORIES:Beer/Wine,Food,Nightlife
ATTACH;FMTTYPE=image/jpeg:https://bevmain.org/wp-content/uploads/2023/04/backbeatlogo.jpg
END:VEVENT
BEGIN:VEVENT
DTSTART;TZID=America/New_York:20260319T190000
DTEND;TZID=America/New_York:20260319T210000
DTSTAMP:20260424T053605
CREATED:20230307T174243Z
LAST-MODIFIED:20230315T143421Z
UID:10014189-1773946800-1773954000@bevmain.org
SUMMARY:Thursday Night Trivia
DESCRIPTION:Like a little friendly competition? want to win cool prizes? Come to TRIVIA Thursday nights at 7pm at Old Planters Brewing Co!
URL:https://bevmain.org/event/thursday-night-trivia/2026-03-19/
LOCATION:Old Planter's Brewing Co.\, 232 Rantoul St.\, Beverly\, MA\, 01915\, United States
CATEGORIES:Beer/Wine,Free,Nightlife
ATTACH;FMTTYPE=image/jpeg:https://bevmain.org/wp-content/uploads/2023/03/thursdaytriviaoldplanters.jpg
GEO:42.5493085;-70.8838543
X-APPLE-STRUCTURED-LOCATION;VALUE=URI;X-ADDRESS=Old Planter's Brewing Co. 232 Rantoul St. Beverly MA 01915 United States;X-APPLE-RADIUS=500;X-TITLE=232 Rantoul St.:geo:-70.8838543,42.5493085
END:VEVENT
BEGIN:VEVENT
DTSTART;TZID=America/New_York:20260319T190000
DTEND;TZID=America/New_York:20260319T210000
DTSTAMP:20260424T053605
CREATED:20230309T230135Z
LAST-MODIFIED:20230309T230135Z
UID:10016422-1773946800-1773954000@bevmain.org
SUMMARY:Third Thursday Trivia
DESCRIPTION:Hone your skills & win a giftcard & a Coastal Mass Tulip Glass! Cheers and may the odds be ever in your favor!
URL:https://bevmain.org/event/third-thursday-trivia/2026-03-19/
LOCATION:Coastal Mass Brewing\, 95 Rantoul Street\, Beverly\, MA\, 01915\, United States
CATEGORIES:Beer/Wine,Community Events,Free,Nightlife
ATTACH;FMTTYPE=image/jpeg:https://bevmain.org/wp-content/uploads/2023/03/TriviaCover1.19-6.18.jpg
GEO:42.5448066;-70.8843239
X-APPLE-STRUCTURED-LOCATION;VALUE=URI;X-ADDRESS=Coastal Mass Brewing 95 Rantoul Street Beverly MA 01915 United States;X-APPLE-RADIUS=500;X-TITLE=95 Rantoul Street:geo:-70.8843239,42.5448066
END:VEVENT
BEGIN:VEVENT
DTSTART;TZID=America/New_York:20260319T210000
DTEND;TZID=America/New_York:20260320T010000
DTSTAMP:20260424T053605
CREATED:20230307T180614Z
LAST-MODIFIED:20230307T194535Z
UID:10014973-1773954000-1773968400@bevmain.org
SUMMARY:Live DJ at the Pickled Onion
DESCRIPTION:Live DJ Night!
URL:https://bevmain.org/event/live-dj-at-the-pickled-onion/2026-03-19/
LOCATION:Pickled Onion\, 355 Rantoul Street\, Beverly\, MA\, 01915\, United States
CATEGORIES:Beer/Wine,Music/Concert,Nightlife
ATTACH;FMTTYPE=image/jpeg:https://bevmain.org/wp-content/uploads/2023/03/pickledonionDJ.jpg
GEO:42.5522933;-70.8824043
X-APPLE-STRUCTURED-LOCATION;VALUE=URI;X-ADDRESS=Pickled Onion 355 Rantoul Street Beverly MA 01915 United States;X-APPLE-RADIUS=500;X-TITLE=355 Rantoul Street:geo:-70.8824043,42.5522933
END:VEVENT
BEGIN:VEVENT
DTSTART;TZID=America/New_York:20260320T210000
DTEND;TZID=America/New_York:20260322T010000
DTSTAMP:20260424T053605
CREATED:20240405T133417Z
LAST-MODIFIED:20240405T133417Z
UID:10021805-1774040400-1774141200@bevmain.org
SUMMARY:Friday Night Karaoke
DESCRIPTION:Karaoke night hosted by Soulo Productionz. At The Pickled Onion
URL:https://bevmain.org/event/friday-night-karaoke/2026-03-20/
LOCATION:The Pickled Onion\, 355 rantoul st\, Beverly\, 01915\, United States
CATEGORIES:Music/Concert,Nightlife
ATTACH;FMTTYPE=image/png:https://bevmain.org/wp-content/uploads/2024/04/775F44DB-6846-4F23-A77E-1BA24B34B201.png
GEO:42.5522933;-70.8824043
X-APPLE-STRUCTURED-LOCATION;VALUE=URI;X-ADDRESS=The Pickled Onion 355 rantoul st Beverly 01915 United States;X-APPLE-RADIUS=500;X-TITLE=355 rantoul st:geo:-70.8824043,42.5522933
END:VEVENT
BEGIN:VEVENT
DTSTART;TZID=America/New_York:20260321T210000
DTEND;TZID=America/New_York:20260322T003000
DTSTAMP:20260424T053605
CREATED:20230314T145932Z
LAST-MODIFIED:20230314T145932Z
UID:10017124-1774126800-1774139400@bevmain.org
SUMMARY:Karaoke at Anmol
DESCRIPTION:Every Saturday\, 9pm to 12:30am!
URL:https://bevmain.org/event/karaoke-at-anmol/2026-03-21/
LOCATION:Anmol\, 258 Rantoul Street\, Beverly\, MA\, 01915\, United States
CATEGORIES:Community Events,Free,Music/Concert,Nightlife
ATTACH;FMTTYPE=image/jpeg:https://bevmain.org/wp-content/uploads/2023/03/anmolkaraoke.jpg
GEO:42.5500156;-70.8836685
X-APPLE-STRUCTURED-LOCATION;VALUE=URI;X-ADDRESS=Anmol 258 Rantoul Street Beverly MA 01915 United States;X-APPLE-RADIUS=500;X-TITLE=258 Rantoul Street:geo:-70.8836685,42.5500156
END:VEVENT
BEGIN:VEVENT
DTSTART;TZID=America/New_York:20260321T210000
DTEND;TZID=America/New_York:20260322T010000
DTSTAMP:20260424T053605
CREATED:20240405T133525Z
LAST-MODIFIED:20240405T133525Z
UID:10022066-1774126800-1774141200@bevmain.org
SUMMARY:Saturday night Karaoke
DESCRIPTION:Come dance & sing the night away! Great for groups or individuals\,
URL:https://bevmain.org/event/saturday-night-karaoke/2026-03-21/
LOCATION:The Pickled Onion\, 355 rantoul st\, Beverly\, 01915\, United States
CATEGORIES:Beer/Wine,Festival,Music/Concert,Nightlife
ATTACH;FMTTYPE=image/png:https://bevmain.org/wp-content/uploads/2024/04/29B68054-2E1A-4D24-A2CA-1FB4798D3CDB.png
GEO:42.5522933;-70.8824043
X-APPLE-STRUCTURED-LOCATION;VALUE=URI;X-ADDRESS=The Pickled Onion 355 rantoul st Beverly 01915 United States;X-APPLE-RADIUS=500;X-TITLE=355 rantoul st:geo:-70.8824043,42.5522933
END:VEVENT
BEGIN:VEVENT
DTSTART;TZID=America/New_York:20260322T180000
DTEND;TZID=America/New_York:20260322T210000
DTSTAMP:20260424T053605
CREATED:20260310T173354Z
LAST-MODIFIED:20260310T173354Z
UID:10038330-1774202400-1774213200@bevmain.org
SUMMARY:Queens of the Castle Drag Show
DESCRIPTION:18+\nThe comedic duo of Kristi Kreamm & Buffy Halliwell are hosting a fabulous drag show celebrating 3 Birthdays. Along With performances by Velvet Smoke \, Karisma and Starri Knights at The Castle: Restaurant & Bar in Beverly . Come out and celebrate Kristi Kreamm \, Buffy Halliwell & Velvet Smokes birthdays 🎈 for a night you won’t forget\n5:00pm Doors (general admission seating)\n6:00pm Show\nDrinks 🍹 & Food served throughout the show\n$20 Tickets go on sale 2/15 at Noon . Almost every show sells out so set your alarm and get tickets while they last\n*Cast is subject to change\nThe Castle: Restaurant & Bar\n140 Rantoul St Beverly Ma
URL:https://bevmain.org/event/queens-of-the-castle-drag-show/
LOCATION:The Castle: Restaurant & Bar\, Rantoul Street\, Beverly\, MA\, 01915\, United States
CATEGORIES:Nightlife
ATTACH;FMTTYPE=image/jpeg:https://bevmain.org/wp-content/uploads/2026/03/631821115_10226696324628895_5608242554071505301_n-scaled.jpg
GEO:42.5463262;-70.8846717
X-APPLE-STRUCTURED-LOCATION;VALUE=URI;X-ADDRESS=The Castle: Restaurant & Bar Rantoul Street Beverly MA 01915 United States;X-APPLE-RADIUS=500;X-TITLE=Rantoul Street:geo:-70.8846717,42.5463262
END:VEVENT
END:VCALENDAR