BEGIN:VCALENDAR
VERSION:2.0
PRODID:-//Beverly Main Streets - ECPv6.15.20//NONSGML v1.0//EN
CALSCALE:GREGORIAN
METHOD:PUBLISH
X-WR-CALNAME:Beverly Main Streets
X-ORIGINAL-URL:https://bevmain.org
X-WR-CALDESC:Events for Beverly Main Streets
REFRESH-INTERVAL;VALUE=DURATION:PT1H
X-Robots-Tag:noindex
X-PUBLISHED-TTL:PT1H
BEGIN:VTIMEZONE
TZID:America/New_York
BEGIN:DAYLIGHT
TZOFFSETFROM:-0500
TZOFFSETTO:-0400
TZNAME:EDT
DTSTART:20250309T070000
END:DAYLIGHT
BEGIN:STANDARD
TZOFFSETFROM:-0400
TZOFFSETTO:-0500
TZNAME:EST
DTSTART:20251102T060000
END:STANDARD
BEGIN:DAYLIGHT
TZOFFSETFROM:-0500
TZOFFSETTO:-0400
TZNAME:EDT
DTSTART:20260308T070000
END:DAYLIGHT
BEGIN:STANDARD
TZOFFSETFROM:-0400
TZOFFSETTO:-0500
TZNAME:EST
DTSTART:20261101T060000
END:STANDARD
BEGIN:DAYLIGHT
TZOFFSETFROM:-0500
TZOFFSETTO:-0400
TZNAME:EDT
DTSTART:20270314T070000
END:DAYLIGHT
BEGIN:STANDARD
TZOFFSETFROM:-0400
TZOFFSETTO:-0500
TZNAME:EST
DTSTART:20271107T060000
END:STANDARD
END:VTIMEZONE
BEGIN:VEVENT
DTSTART;TZID=America/New_York:20260422T193000
DTEND;TZID=America/New_York:20260422T213000
DTSTAMP:20260421T111130
CREATED:20230307T180121Z
LAST-MODIFIED:20230307T194001Z
UID:10014717-1776886200-1776893400@bevmain.org
SUMMARY:Rhino Run Club
DESCRIPTION:Avid runner? just beginning? Looking for some friends to run with? JOIN us every Wednesday night at 7:30pm at Old Planters Brewing Co.
URL:https://bevmain.org/event/rhino-run-club/2026-04-22/
LOCATION:Old Planter's Brewing Co.\, 232 Rantoul St.\, Beverly\, MA\, 01915\, United States
CATEGORIES:Beer/Wine,Community Events,Free,Outdoor
ATTACH;FMTTYPE=image/jpeg:https://bevmain.org/wp-content/uploads/2023/03/rhinorunclub.jpg
GEO:42.5493085;-70.8838543
X-APPLE-STRUCTURED-LOCATION;VALUE=URI;X-ADDRESS=Old Planter's Brewing Co. 232 Rantoul St. Beverly MA 01915 United States;X-APPLE-RADIUS=500;X-TITLE=232 Rantoul St.:geo:-70.8838543,42.5493085
END:VEVENT
BEGIN:VEVENT
DTSTART;TZID=America/New_York:20260429T193000
DTEND;TZID=America/New_York:20260429T213000
DTSTAMP:20260421T111130
CREATED:20230307T180121Z
LAST-MODIFIED:20230307T194001Z
UID:10014718-1777491000-1777498200@bevmain.org
SUMMARY:Rhino Run Club
DESCRIPTION:Avid runner? just beginning? Looking for some friends to run with? JOIN us every Wednesday night at 7:30pm at Old Planters Brewing Co.
URL:https://bevmain.org/event/rhino-run-club/2026-04-29/
LOCATION:Old Planter's Brewing Co.\, 232 Rantoul St.\, Beverly\, MA\, 01915\, United States
CATEGORIES:Beer/Wine,Community Events,Free,Outdoor
ATTACH;FMTTYPE=image/jpeg:https://bevmain.org/wp-content/uploads/2023/03/rhinorunclub.jpg
GEO:42.5493085;-70.8838543
X-APPLE-STRUCTURED-LOCATION;VALUE=URI;X-ADDRESS=Old Planter's Brewing Co. 232 Rantoul St. Beverly MA 01915 United States;X-APPLE-RADIUS=500;X-TITLE=232 Rantoul St.:geo:-70.8838543,42.5493085
END:VEVENT
BEGIN:VEVENT
DTSTART;TZID=America/New_York:20260506T193000
DTEND;TZID=America/New_York:20260506T213000
DTSTAMP:20260421T111130
CREATED:20230307T180121Z
LAST-MODIFIED:20230307T194001Z
UID:10014719-1778095800-1778103000@bevmain.org
SUMMARY:Rhino Run Club
DESCRIPTION:Avid runner? just beginning? Looking for some friends to run with? JOIN us every Wednesday night at 7:30pm at Old Planters Brewing Co.
URL:https://bevmain.org/event/rhino-run-club/2026-05-06/
LOCATION:Old Planter's Brewing Co.\, 232 Rantoul St.\, Beverly\, MA\, 01915\, United States
CATEGORIES:Beer/Wine,Community Events,Free,Outdoor
ATTACH;FMTTYPE=image/jpeg:https://bevmain.org/wp-content/uploads/2023/03/rhinorunclub.jpg
GEO:42.5493085;-70.8838543
X-APPLE-STRUCTURED-LOCATION;VALUE=URI;X-ADDRESS=Old Planter's Brewing Co. 232 Rantoul St. Beverly MA 01915 United States;X-APPLE-RADIUS=500;X-TITLE=232 Rantoul St.:geo:-70.8838543,42.5493085
END:VEVENT
BEGIN:VEVENT
DTSTART;TZID=America/New_York:20260513T193000
DTEND;TZID=America/New_York:20260513T213000
DTSTAMP:20260421T111130
CREATED:20230307T180121Z
LAST-MODIFIED:20230307T194001Z
UID:10014720-1778700600-1778707800@bevmain.org
SUMMARY:Rhino Run Club
DESCRIPTION:Avid runner? just beginning? Looking for some friends to run with? JOIN us every Wednesday night at 7:30pm at Old Planters Brewing Co.
URL:https://bevmain.org/event/rhino-run-club/2026-05-13/
LOCATION:Old Planter's Brewing Co.\, 232 Rantoul St.\, Beverly\, MA\, 01915\, United States
CATEGORIES:Beer/Wine,Community Events,Free,Outdoor
ATTACH;FMTTYPE=image/jpeg:https://bevmain.org/wp-content/uploads/2023/03/rhinorunclub.jpg
GEO:42.5493085;-70.8838543
X-APPLE-STRUCTURED-LOCATION;VALUE=URI;X-ADDRESS=Old Planter's Brewing Co. 232 Rantoul St. Beverly MA 01915 United States;X-APPLE-RADIUS=500;X-TITLE=232 Rantoul St.:geo:-70.8838543,42.5493085
END:VEVENT
BEGIN:VEVENT
DTSTART;TZID=America/New_York:20260520T193000
DTEND;TZID=America/New_York:20260520T213000
DTSTAMP:20260421T111130
CREATED:20230307T180121Z
LAST-MODIFIED:20230307T194001Z
UID:10014721-1779305400-1779312600@bevmain.org
SUMMARY:Rhino Run Club
DESCRIPTION:Avid runner? just beginning? Looking for some friends to run with? JOIN us every Wednesday night at 7:30pm at Old Planters Brewing Co.
URL:https://bevmain.org/event/rhino-run-club/2026-05-20/
LOCATION:Old Planter's Brewing Co.\, 232 Rantoul St.\, Beverly\, MA\, 01915\, United States
CATEGORIES:Beer/Wine,Community Events,Free,Outdoor
ATTACH;FMTTYPE=image/jpeg:https://bevmain.org/wp-content/uploads/2023/03/rhinorunclub.jpg
GEO:42.5493085;-70.8838543
X-APPLE-STRUCTURED-LOCATION;VALUE=URI;X-ADDRESS=Old Planter's Brewing Co. 232 Rantoul St. Beverly MA 01915 United States;X-APPLE-RADIUS=500;X-TITLE=232 Rantoul St.:geo:-70.8838543,42.5493085
END:VEVENT
BEGIN:VEVENT
DTSTART;TZID=America/New_York:20260527T193000
DTEND;TZID=America/New_York:20260527T213000
DTSTAMP:20260421T111130
CREATED:20230307T180121Z
LAST-MODIFIED:20230307T194001Z
UID:10014722-1779910200-1779917400@bevmain.org
SUMMARY:Rhino Run Club
DESCRIPTION:Avid runner? just beginning? Looking for some friends to run with? JOIN us every Wednesday night at 7:30pm at Old Planters Brewing Co.
URL:https://bevmain.org/event/rhino-run-club/2026-05-27/
LOCATION:Old Planter's Brewing Co.\, 232 Rantoul St.\, Beverly\, MA\, 01915\, United States
CATEGORIES:Beer/Wine,Community Events,Free,Outdoor
ATTACH;FMTTYPE=image/jpeg:https://bevmain.org/wp-content/uploads/2023/03/rhinorunclub.jpg
GEO:42.5493085;-70.8838543
X-APPLE-STRUCTURED-LOCATION;VALUE=URI;X-ADDRESS=Old Planter's Brewing Co. 232 Rantoul St. Beverly MA 01915 United States;X-APPLE-RADIUS=500;X-TITLE=232 Rantoul St.:geo:-70.8838543,42.5493085
END:VEVENT
BEGIN:VEVENT
DTSTART;TZID=America/New_York:20260603T193000
DTEND;TZID=America/New_York:20260603T213000
DTSTAMP:20260421T111130
CREATED:20230307T180121Z
LAST-MODIFIED:20230307T194001Z
UID:10014723-1780515000-1780522200@bevmain.org
SUMMARY:Rhino Run Club
DESCRIPTION:Avid runner? just beginning? Looking for some friends to run with? JOIN us every Wednesday night at 7:30pm at Old Planters Brewing Co.
URL:https://bevmain.org/event/rhino-run-club/2026-06-03/
LOCATION:Old Planter's Brewing Co.\, 232 Rantoul St.\, Beverly\, MA\, 01915\, United States
CATEGORIES:Beer/Wine,Community Events,Free,Outdoor
ATTACH;FMTTYPE=image/jpeg:https://bevmain.org/wp-content/uploads/2023/03/rhinorunclub.jpg
GEO:42.5493085;-70.8838543
X-APPLE-STRUCTURED-LOCATION;VALUE=URI;X-ADDRESS=Old Planter's Brewing Co. 232 Rantoul St. Beverly MA 01915 United States;X-APPLE-RADIUS=500;X-TITLE=232 Rantoul St.:geo:-70.8838543,42.5493085
END:VEVENT
BEGIN:VEVENT
DTSTART;TZID=America/New_York:20260610T193000
DTEND;TZID=America/New_York:20260610T213000
DTSTAMP:20260421T111130
CREATED:20230307T180121Z
LAST-MODIFIED:20230307T194001Z
UID:10014724-1781119800-1781127000@bevmain.org
SUMMARY:Rhino Run Club
DESCRIPTION:Avid runner? just beginning? Looking for some friends to run with? JOIN us every Wednesday night at 7:30pm at Old Planters Brewing Co.
URL:https://bevmain.org/event/rhino-run-club/2026-06-10/
LOCATION:Old Planter's Brewing Co.\, 232 Rantoul St.\, Beverly\, MA\, 01915\, United States
CATEGORIES:Beer/Wine,Community Events,Free,Outdoor
ATTACH;FMTTYPE=image/jpeg:https://bevmain.org/wp-content/uploads/2023/03/rhinorunclub.jpg
GEO:42.5493085;-70.8838543
X-APPLE-STRUCTURED-LOCATION;VALUE=URI;X-ADDRESS=Old Planter's Brewing Co. 232 Rantoul St. Beverly MA 01915 United States;X-APPLE-RADIUS=500;X-TITLE=232 Rantoul St.:geo:-70.8838543,42.5493085
END:VEVENT
BEGIN:VEVENT
DTSTART;TZID=America/New_York:20260617T193000
DTEND;TZID=America/New_York:20260617T213000
DTSTAMP:20260421T111130
CREATED:20230307T180121Z
LAST-MODIFIED:20230307T194001Z
UID:10014725-1781724600-1781731800@bevmain.org
SUMMARY:Rhino Run Club
DESCRIPTION:Avid runner? just beginning? Looking for some friends to run with? JOIN us every Wednesday night at 7:30pm at Old Planters Brewing Co.
URL:https://bevmain.org/event/rhino-run-club/2026-06-17/
LOCATION:Old Planter's Brewing Co.\, 232 Rantoul St.\, Beverly\, MA\, 01915\, United States
CATEGORIES:Beer/Wine,Community Events,Free,Outdoor
ATTACH;FMTTYPE=image/jpeg:https://bevmain.org/wp-content/uploads/2023/03/rhinorunclub.jpg
GEO:42.5493085;-70.8838543
X-APPLE-STRUCTURED-LOCATION;VALUE=URI;X-ADDRESS=Old Planter's Brewing Co. 232 Rantoul St. Beverly MA 01915 United States;X-APPLE-RADIUS=500;X-TITLE=232 Rantoul St.:geo:-70.8838543,42.5493085
END:VEVENT
BEGIN:VEVENT
DTSTART;TZID=America/New_York:20260624T193000
DTEND;TZID=America/New_York:20260624T213000
DTSTAMP:20260421T111130
CREATED:20230307T180121Z
LAST-MODIFIED:20230307T194001Z
UID:10014726-1782329400-1782336600@bevmain.org
SUMMARY:Rhino Run Club
DESCRIPTION:Avid runner? just beginning? Looking for some friends to run with? JOIN us every Wednesday night at 7:30pm at Old Planters Brewing Co.
URL:https://bevmain.org/event/rhino-run-club/2026-06-24/
LOCATION:Old Planter's Brewing Co.\, 232 Rantoul St.\, Beverly\, MA\, 01915\, United States
CATEGORIES:Beer/Wine,Community Events,Free,Outdoor
ATTACH;FMTTYPE=image/jpeg:https://bevmain.org/wp-content/uploads/2023/03/rhinorunclub.jpg
GEO:42.5493085;-70.8838543
X-APPLE-STRUCTURED-LOCATION;VALUE=URI;X-ADDRESS=Old Planter's Brewing Co. 232 Rantoul St. Beverly MA 01915 United States;X-APPLE-RADIUS=500;X-TITLE=232 Rantoul St.:geo:-70.8838543,42.5493085
END:VEVENT
BEGIN:VEVENT
DTSTART;TZID=America/New_York:20260701T193000
DTEND;TZID=America/New_York:20260701T213000
DTSTAMP:20260421T111130
CREATED:20230307T180121Z
LAST-MODIFIED:20230307T194001Z
UID:10014727-1782934200-1782941400@bevmain.org
SUMMARY:Rhino Run Club
DESCRIPTION:Avid runner? just beginning? Looking for some friends to run with? JOIN us every Wednesday night at 7:30pm at Old Planters Brewing Co.
URL:https://bevmain.org/event/rhino-run-club/2026-07-01/
LOCATION:Old Planter's Brewing Co.\, 232 Rantoul St.\, Beverly\, MA\, 01915\, United States
CATEGORIES:Beer/Wine,Community Events,Free,Outdoor
ATTACH;FMTTYPE=image/jpeg:https://bevmain.org/wp-content/uploads/2023/03/rhinorunclub.jpg
GEO:42.5493085;-70.8838543
X-APPLE-STRUCTURED-LOCATION;VALUE=URI;X-ADDRESS=Old Planter's Brewing Co. 232 Rantoul St. Beverly MA 01915 United States;X-APPLE-RADIUS=500;X-TITLE=232 Rantoul St.:geo:-70.8838543,42.5493085
END:VEVENT
BEGIN:VEVENT
DTSTART;TZID=America/New_York:20260708T193000
DTEND;TZID=America/New_York:20260708T213000
DTSTAMP:20260421T111130
CREATED:20230307T180121Z
LAST-MODIFIED:20230307T194001Z
UID:10014728-1783539000-1783546200@bevmain.org
SUMMARY:Rhino Run Club
DESCRIPTION:Avid runner? just beginning? Looking for some friends to run with? JOIN us every Wednesday night at 7:30pm at Old Planters Brewing Co.
URL:https://bevmain.org/event/rhino-run-club/2026-07-08/
LOCATION:Old Planter's Brewing Co.\, 232 Rantoul St.\, Beverly\, MA\, 01915\, United States
CATEGORIES:Beer/Wine,Community Events,Free,Outdoor
ATTACH;FMTTYPE=image/jpeg:https://bevmain.org/wp-content/uploads/2023/03/rhinorunclub.jpg
GEO:42.5493085;-70.8838543
X-APPLE-STRUCTURED-LOCATION;VALUE=URI;X-ADDRESS=Old Planter's Brewing Co. 232 Rantoul St. Beverly MA 01915 United States;X-APPLE-RADIUS=500;X-TITLE=232 Rantoul St.:geo:-70.8838543,42.5493085
END:VEVENT
BEGIN:VEVENT
DTSTART;TZID=America/New_York:20260715T193000
DTEND;TZID=America/New_York:20260715T213000
DTSTAMP:20260421T111130
CREATED:20230307T180121Z
LAST-MODIFIED:20230307T194001Z
UID:10014729-1784143800-1784151000@bevmain.org
SUMMARY:Rhino Run Club
DESCRIPTION:Avid runner? just beginning? Looking for some friends to run with? JOIN us every Wednesday night at 7:30pm at Old Planters Brewing Co.
URL:https://bevmain.org/event/rhino-run-club/2026-07-15/
LOCATION:Old Planter's Brewing Co.\, 232 Rantoul St.\, Beverly\, MA\, 01915\, United States
CATEGORIES:Beer/Wine,Community Events,Free,Outdoor
ATTACH;FMTTYPE=image/jpeg:https://bevmain.org/wp-content/uploads/2023/03/rhinorunclub.jpg
GEO:42.5493085;-70.8838543
X-APPLE-STRUCTURED-LOCATION;VALUE=URI;X-ADDRESS=Old Planter's Brewing Co. 232 Rantoul St. Beverly MA 01915 United States;X-APPLE-RADIUS=500;X-TITLE=232 Rantoul St.:geo:-70.8838543,42.5493085
END:VEVENT
BEGIN:VEVENT
DTSTART;TZID=America/New_York:20260722T193000
DTEND;TZID=America/New_York:20260722T213000
DTSTAMP:20260421T111130
CREATED:20230307T180121Z
LAST-MODIFIED:20230307T194001Z
UID:10014730-1784748600-1784755800@bevmain.org
SUMMARY:Rhino Run Club
DESCRIPTION:Avid runner? just beginning? Looking for some friends to run with? JOIN us every Wednesday night at 7:30pm at Old Planters Brewing Co.
URL:https://bevmain.org/event/rhino-run-club/2026-07-22/
LOCATION:Old Planter's Brewing Co.\, 232 Rantoul St.\, Beverly\, MA\, 01915\, United States
CATEGORIES:Beer/Wine,Community Events,Free,Outdoor
ATTACH;FMTTYPE=image/jpeg:https://bevmain.org/wp-content/uploads/2023/03/rhinorunclub.jpg
GEO:42.5493085;-70.8838543
X-APPLE-STRUCTURED-LOCATION;VALUE=URI;X-ADDRESS=Old Planter's Brewing Co. 232 Rantoul St. Beverly MA 01915 United States;X-APPLE-RADIUS=500;X-TITLE=232 Rantoul St.:geo:-70.8838543,42.5493085
END:VEVENT
BEGIN:VEVENT
DTSTART;TZID=America/New_York:20260729T193000
DTEND;TZID=America/New_York:20260729T213000
DTSTAMP:20260421T111130
CREATED:20230307T180121Z
LAST-MODIFIED:20230307T194001Z
UID:10014731-1785353400-1785360600@bevmain.org
SUMMARY:Rhino Run Club
DESCRIPTION:Avid runner? just beginning? Looking for some friends to run with? JOIN us every Wednesday night at 7:30pm at Old Planters Brewing Co.
URL:https://bevmain.org/event/rhino-run-club/2026-07-29/
LOCATION:Old Planter's Brewing Co.\, 232 Rantoul St.\, Beverly\, MA\, 01915\, United States
CATEGORIES:Beer/Wine,Community Events,Free,Outdoor
ATTACH;FMTTYPE=image/jpeg:https://bevmain.org/wp-content/uploads/2023/03/rhinorunclub.jpg
GEO:42.5493085;-70.8838543
X-APPLE-STRUCTURED-LOCATION;VALUE=URI;X-ADDRESS=Old Planter's Brewing Co. 232 Rantoul St. Beverly MA 01915 United States;X-APPLE-RADIUS=500;X-TITLE=232 Rantoul St.:geo:-70.8838543,42.5493085
END:VEVENT
BEGIN:VEVENT
DTSTART;TZID=America/New_York:20260805T193000
DTEND;TZID=America/New_York:20260805T213000
DTSTAMP:20260421T111130
CREATED:20230307T180121Z
LAST-MODIFIED:20230307T194001Z
UID:10014732-1785958200-1785965400@bevmain.org
SUMMARY:Rhino Run Club
DESCRIPTION:Avid runner? just beginning? Looking for some friends to run with? JOIN us every Wednesday night at 7:30pm at Old Planters Brewing Co.
URL:https://bevmain.org/event/rhino-run-club/2026-08-05/
LOCATION:Old Planter's Brewing Co.\, 232 Rantoul St.\, Beverly\, MA\, 01915\, United States
CATEGORIES:Beer/Wine,Community Events,Free,Outdoor
ATTACH;FMTTYPE=image/jpeg:https://bevmain.org/wp-content/uploads/2023/03/rhinorunclub.jpg
GEO:42.5493085;-70.8838543
X-APPLE-STRUCTURED-LOCATION;VALUE=URI;X-ADDRESS=Old Planter's Brewing Co. 232 Rantoul St. Beverly MA 01915 United States;X-APPLE-RADIUS=500;X-TITLE=232 Rantoul St.:geo:-70.8838543,42.5493085
END:VEVENT
BEGIN:VEVENT
DTSTART;TZID=America/New_York:20260812T193000
DTEND;TZID=America/New_York:20260812T213000
DTSTAMP:20260421T111130
CREATED:20230307T180121Z
LAST-MODIFIED:20230307T194001Z
UID:10014733-1786563000-1786570200@bevmain.org
SUMMARY:Rhino Run Club
DESCRIPTION:Avid runner? just beginning? Looking for some friends to run with? JOIN us every Wednesday night at 7:30pm at Old Planters Brewing Co.
URL:https://bevmain.org/event/rhino-run-club/2026-08-12/
LOCATION:Old Planter's Brewing Co.\, 232 Rantoul St.\, Beverly\, MA\, 01915\, United States
CATEGORIES:Beer/Wine,Community Events,Free,Outdoor
ATTACH;FMTTYPE=image/jpeg:https://bevmain.org/wp-content/uploads/2023/03/rhinorunclub.jpg
GEO:42.5493085;-70.8838543
X-APPLE-STRUCTURED-LOCATION;VALUE=URI;X-ADDRESS=Old Planter's Brewing Co. 232 Rantoul St. Beverly MA 01915 United States;X-APPLE-RADIUS=500;X-TITLE=232 Rantoul St.:geo:-70.8838543,42.5493085
END:VEVENT
BEGIN:VEVENT
DTSTART;TZID=America/New_York:20260819T193000
DTEND;TZID=America/New_York:20260819T213000
DTSTAMP:20260421T111130
CREATED:20230307T180121Z
LAST-MODIFIED:20230307T194001Z
UID:10014734-1787167800-1787175000@bevmain.org
SUMMARY:Rhino Run Club
DESCRIPTION:Avid runner? just beginning? Looking for some friends to run with? JOIN us every Wednesday night at 7:30pm at Old Planters Brewing Co.
URL:https://bevmain.org/event/rhino-run-club/2026-08-19/
LOCATION:Old Planter's Brewing Co.\, 232 Rantoul St.\, Beverly\, MA\, 01915\, United States
CATEGORIES:Beer/Wine,Community Events,Free,Outdoor
ATTACH;FMTTYPE=image/jpeg:https://bevmain.org/wp-content/uploads/2023/03/rhinorunclub.jpg
GEO:42.5493085;-70.8838543
X-APPLE-STRUCTURED-LOCATION;VALUE=URI;X-ADDRESS=Old Planter's Brewing Co. 232 Rantoul St. Beverly MA 01915 United States;X-APPLE-RADIUS=500;X-TITLE=232 Rantoul St.:geo:-70.8838543,42.5493085
END:VEVENT
BEGIN:VEVENT
DTSTART;TZID=America/New_York:20260826T193000
DTEND;TZID=America/New_York:20260826T213000
DTSTAMP:20260421T111130
CREATED:20230307T180121Z
LAST-MODIFIED:20230307T194001Z
UID:10014735-1787772600-1787779800@bevmain.org
SUMMARY:Rhino Run Club
DESCRIPTION:Avid runner? just beginning? Looking for some friends to run with? JOIN us every Wednesday night at 7:30pm at Old Planters Brewing Co.
URL:https://bevmain.org/event/rhino-run-club/2026-08-26/
LOCATION:Old Planter's Brewing Co.\, 232 Rantoul St.\, Beverly\, MA\, 01915\, United States
CATEGORIES:Beer/Wine,Community Events,Free,Outdoor
ATTACH;FMTTYPE=image/jpeg:https://bevmain.org/wp-content/uploads/2023/03/rhinorunclub.jpg
GEO:42.5493085;-70.8838543
X-APPLE-STRUCTURED-LOCATION;VALUE=URI;X-ADDRESS=Old Planter's Brewing Co. 232 Rantoul St. Beverly MA 01915 United States;X-APPLE-RADIUS=500;X-TITLE=232 Rantoul St.:geo:-70.8838543,42.5493085
END:VEVENT
BEGIN:VEVENT
DTSTART;TZID=America/New_York:20260902T193000
DTEND;TZID=America/New_York:20260902T213000
DTSTAMP:20260421T111130
CREATED:20230307T180121Z
LAST-MODIFIED:20230307T194001Z
UID:10014736-1788377400-1788384600@bevmain.org
SUMMARY:Rhino Run Club
DESCRIPTION:Avid runner? just beginning? Looking for some friends to run with? JOIN us every Wednesday night at 7:30pm at Old Planters Brewing Co.
URL:https://bevmain.org/event/rhino-run-club/2026-09-02/
LOCATION:Old Planter's Brewing Co.\, 232 Rantoul St.\, Beverly\, MA\, 01915\, United States
CATEGORIES:Beer/Wine,Community Events,Free,Outdoor
ATTACH;FMTTYPE=image/jpeg:https://bevmain.org/wp-content/uploads/2023/03/rhinorunclub.jpg
GEO:42.5493085;-70.8838543
X-APPLE-STRUCTURED-LOCATION;VALUE=URI;X-ADDRESS=Old Planter's Brewing Co. 232 Rantoul St. Beverly MA 01915 United States;X-APPLE-RADIUS=500;X-TITLE=232 Rantoul St.:geo:-70.8838543,42.5493085
END:VEVENT
BEGIN:VEVENT
DTSTART;TZID=America/New_York:20260909T193000
DTEND;TZID=America/New_York:20260909T213000
DTSTAMP:20260421T111130
CREATED:20230307T180121Z
LAST-MODIFIED:20230307T194001Z
UID:10014737-1788982200-1788989400@bevmain.org
SUMMARY:Rhino Run Club
DESCRIPTION:Avid runner? just beginning? Looking for some friends to run with? JOIN us every Wednesday night at 7:30pm at Old Planters Brewing Co.
URL:https://bevmain.org/event/rhino-run-club/2026-09-09/
LOCATION:Old Planter's Brewing Co.\, 232 Rantoul St.\, Beverly\, MA\, 01915\, United States
CATEGORIES:Beer/Wine,Community Events,Free,Outdoor
ATTACH;FMTTYPE=image/jpeg:https://bevmain.org/wp-content/uploads/2023/03/rhinorunclub.jpg
GEO:42.5493085;-70.8838543
X-APPLE-STRUCTURED-LOCATION;VALUE=URI;X-ADDRESS=Old Planter's Brewing Co. 232 Rantoul St. Beverly MA 01915 United States;X-APPLE-RADIUS=500;X-TITLE=232 Rantoul St.:geo:-70.8838543,42.5493085
END:VEVENT
BEGIN:VEVENT
DTSTART;TZID=America/New_York:20260916T193000
DTEND;TZID=America/New_York:20260916T213000
DTSTAMP:20260421T111130
CREATED:20230307T180121Z
LAST-MODIFIED:20230307T194001Z
UID:10014738-1789587000-1789594200@bevmain.org
SUMMARY:Rhino Run Club
DESCRIPTION:Avid runner? just beginning? Looking for some friends to run with? JOIN us every Wednesday night at 7:30pm at Old Planters Brewing Co.
URL:https://bevmain.org/event/rhino-run-club/2026-09-16/
LOCATION:Old Planter's Brewing Co.\, 232 Rantoul St.\, Beverly\, MA\, 01915\, United States
CATEGORIES:Beer/Wine,Community Events,Free,Outdoor
ATTACH;FMTTYPE=image/jpeg:https://bevmain.org/wp-content/uploads/2023/03/rhinorunclub.jpg
GEO:42.5493085;-70.8838543
X-APPLE-STRUCTURED-LOCATION;VALUE=URI;X-ADDRESS=Old Planter's Brewing Co. 232 Rantoul St. Beverly MA 01915 United States;X-APPLE-RADIUS=500;X-TITLE=232 Rantoul St.:geo:-70.8838543,42.5493085
END:VEVENT
BEGIN:VEVENT
DTSTART;TZID=America/New_York:20260923T193000
DTEND;TZID=America/New_York:20260923T213000
DTSTAMP:20260421T111130
CREATED:20230307T180121Z
LAST-MODIFIED:20230307T194001Z
UID:10014739-1790191800-1790199000@bevmain.org
SUMMARY:Rhino Run Club
DESCRIPTION:Avid runner? just beginning? Looking for some friends to run with? JOIN us every Wednesday night at 7:30pm at Old Planters Brewing Co.
URL:https://bevmain.org/event/rhino-run-club/2026-09-23/
LOCATION:Old Planter's Brewing Co.\, 232 Rantoul St.\, Beverly\, MA\, 01915\, United States
CATEGORIES:Beer/Wine,Community Events,Free,Outdoor
ATTACH;FMTTYPE=image/jpeg:https://bevmain.org/wp-content/uploads/2023/03/rhinorunclub.jpg
GEO:42.5493085;-70.8838543
X-APPLE-STRUCTURED-LOCATION;VALUE=URI;X-ADDRESS=Old Planter's Brewing Co. 232 Rantoul St. Beverly MA 01915 United States;X-APPLE-RADIUS=500;X-TITLE=232 Rantoul St.:geo:-70.8838543,42.5493085
END:VEVENT
BEGIN:VEVENT
DTSTART;TZID=America/New_York:20260930T193000
DTEND;TZID=America/New_York:20260930T213000
DTSTAMP:20260421T111130
CREATED:20230307T180121Z
LAST-MODIFIED:20230307T194001Z
UID:10014740-1790796600-1790803800@bevmain.org
SUMMARY:Rhino Run Club
DESCRIPTION:Avid runner? just beginning? Looking for some friends to run with? JOIN us every Wednesday night at 7:30pm at Old Planters Brewing Co.
URL:https://bevmain.org/event/rhino-run-club/2026-09-30/
LOCATION:Old Planter's Brewing Co.\, 232 Rantoul St.\, Beverly\, MA\, 01915\, United States
CATEGORIES:Beer/Wine,Community Events,Free,Outdoor
ATTACH;FMTTYPE=image/jpeg:https://bevmain.org/wp-content/uploads/2023/03/rhinorunclub.jpg
GEO:42.5493085;-70.8838543
X-APPLE-STRUCTURED-LOCATION;VALUE=URI;X-ADDRESS=Old Planter's Brewing Co. 232 Rantoul St. Beverly MA 01915 United States;X-APPLE-RADIUS=500;X-TITLE=232 Rantoul St.:geo:-70.8838543,42.5493085
END:VEVENT
BEGIN:VEVENT
DTSTART;TZID=America/New_York:20261007T193000
DTEND;TZID=America/New_York:20261007T213000
DTSTAMP:20260421T111130
CREATED:20230307T180121Z
LAST-MODIFIED:20230307T194001Z
UID:10014741-1791401400-1791408600@bevmain.org
SUMMARY:Rhino Run Club
DESCRIPTION:Avid runner? just beginning? Looking for some friends to run with? JOIN us every Wednesday night at 7:30pm at Old Planters Brewing Co.
URL:https://bevmain.org/event/rhino-run-club/2026-10-07/
LOCATION:Old Planter's Brewing Co.\, 232 Rantoul St.\, Beverly\, MA\, 01915\, United States
CATEGORIES:Beer/Wine,Community Events,Free,Outdoor
ATTACH;FMTTYPE=image/jpeg:https://bevmain.org/wp-content/uploads/2023/03/rhinorunclub.jpg
GEO:42.5493085;-70.8838543
X-APPLE-STRUCTURED-LOCATION;VALUE=URI;X-ADDRESS=Old Planter's Brewing Co. 232 Rantoul St. Beverly MA 01915 United States;X-APPLE-RADIUS=500;X-TITLE=232 Rantoul St.:geo:-70.8838543,42.5493085
END:VEVENT
BEGIN:VEVENT
DTSTART;TZID=America/New_York:20261014T193000
DTEND;TZID=America/New_York:20261014T213000
DTSTAMP:20260421T111130
CREATED:20230307T180121Z
LAST-MODIFIED:20230307T194001Z
UID:10014742-1792006200-1792013400@bevmain.org
SUMMARY:Rhino Run Club
DESCRIPTION:Avid runner? just beginning? Looking for some friends to run with? JOIN us every Wednesday night at 7:30pm at Old Planters Brewing Co.
URL:https://bevmain.org/event/rhino-run-club/2026-10-14/
LOCATION:Old Planter's Brewing Co.\, 232 Rantoul St.\, Beverly\, MA\, 01915\, United States
CATEGORIES:Beer/Wine,Community Events,Free,Outdoor
ATTACH;FMTTYPE=image/jpeg:https://bevmain.org/wp-content/uploads/2023/03/rhinorunclub.jpg
GEO:42.5493085;-70.8838543
X-APPLE-STRUCTURED-LOCATION;VALUE=URI;X-ADDRESS=Old Planter's Brewing Co. 232 Rantoul St. Beverly MA 01915 United States;X-APPLE-RADIUS=500;X-TITLE=232 Rantoul St.:geo:-70.8838543,42.5493085
END:VEVENT
BEGIN:VEVENT
DTSTART;TZID=America/New_York:20261021T193000
DTEND;TZID=America/New_York:20261021T213000
DTSTAMP:20260421T111130
CREATED:20230307T180121Z
LAST-MODIFIED:20230307T194001Z
UID:10014743-1792611000-1792618200@bevmain.org
SUMMARY:Rhino Run Club
DESCRIPTION:Avid runner? just beginning? Looking for some friends to run with? JOIN us every Wednesday night at 7:30pm at Old Planters Brewing Co.
URL:https://bevmain.org/event/rhino-run-club/2026-10-21/
LOCATION:Old Planter's Brewing Co.\, 232 Rantoul St.\, Beverly\, MA\, 01915\, United States
CATEGORIES:Beer/Wine,Community Events,Free,Outdoor
ATTACH;FMTTYPE=image/jpeg:https://bevmain.org/wp-content/uploads/2023/03/rhinorunclub.jpg
GEO:42.5493085;-70.8838543
X-APPLE-STRUCTURED-LOCATION;VALUE=URI;X-ADDRESS=Old Planter's Brewing Co. 232 Rantoul St. Beverly MA 01915 United States;X-APPLE-RADIUS=500;X-TITLE=232 Rantoul St.:geo:-70.8838543,42.5493085
END:VEVENT
BEGIN:VEVENT
DTSTART;TZID=America/New_York:20261028T193000
DTEND;TZID=America/New_York:20261028T213000
DTSTAMP:20260421T111130
CREATED:20230307T180121Z
LAST-MODIFIED:20230307T194001Z
UID:10014744-1793215800-1793223000@bevmain.org
SUMMARY:Rhino Run Club
DESCRIPTION:Avid runner? just beginning? Looking for some friends to run with? JOIN us every Wednesday night at 7:30pm at Old Planters Brewing Co.
URL:https://bevmain.org/event/rhino-run-club/2026-10-28/
LOCATION:Old Planter's Brewing Co.\, 232 Rantoul St.\, Beverly\, MA\, 01915\, United States
CATEGORIES:Beer/Wine,Community Events,Free,Outdoor
ATTACH;FMTTYPE=image/jpeg:https://bevmain.org/wp-content/uploads/2023/03/rhinorunclub.jpg
GEO:42.5493085;-70.8838543
X-APPLE-STRUCTURED-LOCATION;VALUE=URI;X-ADDRESS=Old Planter's Brewing Co. 232 Rantoul St. Beverly MA 01915 United States;X-APPLE-RADIUS=500;X-TITLE=232 Rantoul St.:geo:-70.8838543,42.5493085
END:VEVENT
BEGIN:VEVENT
DTSTART;TZID=America/New_York:20261104T193000
DTEND;TZID=America/New_York:20261104T213000
DTSTAMP:20260421T111130
CREATED:20230307T180121Z
LAST-MODIFIED:20230307T194001Z
UID:10014745-1793820600-1793827800@bevmain.org
SUMMARY:Rhino Run Club
DESCRIPTION:Avid runner? just beginning? Looking for some friends to run with? JOIN us every Wednesday night at 7:30pm at Old Planters Brewing Co.
URL:https://bevmain.org/event/rhino-run-club/2026-11-04/
LOCATION:Old Planter's Brewing Co.\, 232 Rantoul St.\, Beverly\, MA\, 01915\, United States
CATEGORIES:Beer/Wine,Community Events,Free,Outdoor
ATTACH;FMTTYPE=image/jpeg:https://bevmain.org/wp-content/uploads/2023/03/rhinorunclub.jpg
GEO:42.5493085;-70.8838543
X-APPLE-STRUCTURED-LOCATION;VALUE=URI;X-ADDRESS=Old Planter's Brewing Co. 232 Rantoul St. Beverly MA 01915 United States;X-APPLE-RADIUS=500;X-TITLE=232 Rantoul St.:geo:-70.8838543,42.5493085
END:VEVENT
BEGIN:VEVENT
DTSTART;TZID=America/New_York:20261111T193000
DTEND;TZID=America/New_York:20261111T213000
DTSTAMP:20260421T111130
CREATED:20230307T180121Z
LAST-MODIFIED:20230307T194001Z
UID:10014746-1794425400-1794432600@bevmain.org
SUMMARY:Rhino Run Club
DESCRIPTION:Avid runner? just beginning? Looking for some friends to run with? JOIN us every Wednesday night at 7:30pm at Old Planters Brewing Co.
URL:https://bevmain.org/event/rhino-run-club/2026-11-11/
LOCATION:Old Planter's Brewing Co.\, 232 Rantoul St.\, Beverly\, MA\, 01915\, United States
CATEGORIES:Beer/Wine,Community Events,Free,Outdoor
ATTACH;FMTTYPE=image/jpeg:https://bevmain.org/wp-content/uploads/2023/03/rhinorunclub.jpg
GEO:42.5493085;-70.8838543
X-APPLE-STRUCTURED-LOCATION;VALUE=URI;X-ADDRESS=Old Planter's Brewing Co. 232 Rantoul St. Beverly MA 01915 United States;X-APPLE-RADIUS=500;X-TITLE=232 Rantoul St.:geo:-70.8838543,42.5493085
END:VEVENT
END:VCALENDAR