BEGIN:VCALENDAR
VERSION:2.0
PRODID:-//Beverly Main Streets - ECPv6.15.20//NONSGML v1.0//EN
CALSCALE:GREGORIAN
METHOD:PUBLISH
X-WR-CALNAME:Beverly Main Streets
X-ORIGINAL-URL:https://bevmain.org
X-WR-CALDESC:Events for Beverly Main Streets
REFRESH-INTERVAL;VALUE=DURATION:PT1H
X-Robots-Tag:noindex
X-PUBLISHED-TTL:PT1H
BEGIN:VTIMEZONE
TZID:America/New_York
BEGIN:DAYLIGHT
TZOFFSETFROM:-0500
TZOFFSETTO:-0400
TZNAME:EDT
DTSTART:20250309T070000
END:DAYLIGHT
BEGIN:STANDARD
TZOFFSETFROM:-0400
TZOFFSETTO:-0500
TZNAME:EST
DTSTART:20251102T060000
END:STANDARD
BEGIN:DAYLIGHT
TZOFFSETFROM:-0500
TZOFFSETTO:-0400
TZNAME:EDT
DTSTART:20260308T070000
END:DAYLIGHT
BEGIN:STANDARD
TZOFFSETFROM:-0400
TZOFFSETTO:-0500
TZNAME:EST
DTSTART:20261101T060000
END:STANDARD
BEGIN:DAYLIGHT
TZOFFSETFROM:-0500
TZOFFSETTO:-0400
TZNAME:EDT
DTSTART:20270314T070000
END:DAYLIGHT
BEGIN:STANDARD
TZOFFSETFROM:-0400
TZOFFSETTO:-0500
TZNAME:EST
DTSTART:20271107T060000
END:STANDARD
END:VTIMEZONE
BEGIN:VEVENT
DTSTART;TZID=America/New_York:20260428T140000
DTEND;TZID=America/New_York:20260428T210000
DTSTAMP:20260422T150743
CREATED:20260422T133237Z
LAST-MODIFIED:20260422T133237Z
UID:10038672-1777384800-1777410000@bevmain.org
SUMMARY:Wing Night
DESCRIPTION:It’s WING NIGHT at The Pickled Onion\n.75¢ wings flying out of the kitchen\nGrab a drink\, grab a seat\, and dig in!\nDine-in only • Beverage purchase required
URL:https://bevmain.org/event/wing-night-2/2026-04-28/
LOCATION:The Pickled Onion\, 355 rantoul st\, Beverly\, 01915\, United States
CATEGORIES:Beer/Wine,Food
ATTACH;FMTTYPE=image/jpeg:https://bevmain.org/wp-content/uploads/2026/04/ChatGPT-Image-Feb-10-2026-at-12_24_55-PM.jpg
GEO:42.5522933;-70.8824043
X-APPLE-STRUCTURED-LOCATION;VALUE=URI;X-ADDRESS=The Pickled Onion 355 rantoul st Beverly 01915 United States;X-APPLE-RADIUS=500;X-TITLE=355 rantoul st:geo:-70.8824043,42.5522933
END:VEVENT
BEGIN:VEVENT
DTSTART;TZID=America/New_York:20260505T140000
DTEND;TZID=America/New_York:20260505T210000
DTSTAMP:20260422T150743
CREATED:20260422T133237Z
LAST-MODIFIED:20260422T133237Z
UID:10038673-1777989600-1778014800@bevmain.org
SUMMARY:Wing Night
DESCRIPTION:It’s WING NIGHT at The Pickled Onion\n.75¢ wings flying out of the kitchen\nGrab a drink\, grab a seat\, and dig in!\nDine-in only • Beverage purchase required
URL:https://bevmain.org/event/wing-night-2/2026-05-05/
LOCATION:The Pickled Onion\, 355 rantoul st\, Beverly\, 01915\, United States
CATEGORIES:Beer/Wine,Food
ATTACH;FMTTYPE=image/jpeg:https://bevmain.org/wp-content/uploads/2026/04/ChatGPT-Image-Feb-10-2026-at-12_24_55-PM.jpg
GEO:42.5522933;-70.8824043
X-APPLE-STRUCTURED-LOCATION;VALUE=URI;X-ADDRESS=The Pickled Onion 355 rantoul st Beverly 01915 United States;X-APPLE-RADIUS=500;X-TITLE=355 rantoul st:geo:-70.8824043,42.5522933
END:VEVENT
BEGIN:VEVENT
DTSTART;TZID=America/New_York:20260512T140000
DTEND;TZID=America/New_York:20260512T210000
DTSTAMP:20260422T150743
CREATED:20260422T133237Z
LAST-MODIFIED:20260422T133237Z
UID:10038674-1778594400-1778619600@bevmain.org
SUMMARY:Wing Night
DESCRIPTION:It’s WING NIGHT at The Pickled Onion\n.75¢ wings flying out of the kitchen\nGrab a drink\, grab a seat\, and dig in!\nDine-in only • Beverage purchase required
URL:https://bevmain.org/event/wing-night-2/2026-05-12/
LOCATION:The Pickled Onion\, 355 rantoul st\, Beverly\, 01915\, United States
CATEGORIES:Beer/Wine,Food
ATTACH;FMTTYPE=image/jpeg:https://bevmain.org/wp-content/uploads/2026/04/ChatGPT-Image-Feb-10-2026-at-12_24_55-PM.jpg
GEO:42.5522933;-70.8824043
X-APPLE-STRUCTURED-LOCATION;VALUE=URI;X-ADDRESS=The Pickled Onion 355 rantoul st Beverly 01915 United States;X-APPLE-RADIUS=500;X-TITLE=355 rantoul st:geo:-70.8824043,42.5522933
END:VEVENT
BEGIN:VEVENT
DTSTART;TZID=America/New_York:20260519T140000
DTEND;TZID=America/New_York:20260519T210000
DTSTAMP:20260422T150743
CREATED:20260422T133237Z
LAST-MODIFIED:20260422T133237Z
UID:10038675-1779199200-1779224400@bevmain.org
SUMMARY:Wing Night
DESCRIPTION:It’s WING NIGHT at The Pickled Onion\n.75¢ wings flying out of the kitchen\nGrab a drink\, grab a seat\, and dig in!\nDine-in only • Beverage purchase required
URL:https://bevmain.org/event/wing-night-2/2026-05-19/
LOCATION:The Pickled Onion\, 355 rantoul st\, Beverly\, 01915\, United States
CATEGORIES:Beer/Wine,Food
ATTACH;FMTTYPE=image/jpeg:https://bevmain.org/wp-content/uploads/2026/04/ChatGPT-Image-Feb-10-2026-at-12_24_55-PM.jpg
GEO:42.5522933;-70.8824043
X-APPLE-STRUCTURED-LOCATION;VALUE=URI;X-ADDRESS=The Pickled Onion 355 rantoul st Beverly 01915 United States;X-APPLE-RADIUS=500;X-TITLE=355 rantoul st:geo:-70.8824043,42.5522933
END:VEVENT
BEGIN:VEVENT
DTSTART;TZID=America/New_York:20260526T140000
DTEND;TZID=America/New_York:20260526T210000
DTSTAMP:20260422T150743
CREATED:20260422T133237Z
LAST-MODIFIED:20260422T133237Z
UID:10038676-1779804000-1779829200@bevmain.org
SUMMARY:Wing Night
DESCRIPTION:It’s WING NIGHT at The Pickled Onion\n.75¢ wings flying out of the kitchen\nGrab a drink\, grab a seat\, and dig in!\nDine-in only • Beverage purchase required
URL:https://bevmain.org/event/wing-night-2/2026-05-26/
LOCATION:The Pickled Onion\, 355 rantoul st\, Beverly\, 01915\, United States
CATEGORIES:Beer/Wine,Food
ATTACH;FMTTYPE=image/jpeg:https://bevmain.org/wp-content/uploads/2026/04/ChatGPT-Image-Feb-10-2026-at-12_24_55-PM.jpg
GEO:42.5522933;-70.8824043
X-APPLE-STRUCTURED-LOCATION;VALUE=URI;X-ADDRESS=The Pickled Onion 355 rantoul st Beverly 01915 United States;X-APPLE-RADIUS=500;X-TITLE=355 rantoul st:geo:-70.8824043,42.5522933
END:VEVENT
BEGIN:VEVENT
DTSTART;TZID=America/New_York:20260602T140000
DTEND;TZID=America/New_York:20260602T210000
DTSTAMP:20260422T150743
CREATED:20260422T133237Z
LAST-MODIFIED:20260422T133237Z
UID:10038677-1780408800-1780434000@bevmain.org
SUMMARY:Wing Night
DESCRIPTION:It’s WING NIGHT at The Pickled Onion\n.75¢ wings flying out of the kitchen\nGrab a drink\, grab a seat\, and dig in!\nDine-in only • Beverage purchase required
URL:https://bevmain.org/event/wing-night-2/2026-06-02/
LOCATION:The Pickled Onion\, 355 rantoul st\, Beverly\, 01915\, United States
CATEGORIES:Beer/Wine,Food
ATTACH;FMTTYPE=image/jpeg:https://bevmain.org/wp-content/uploads/2026/04/ChatGPT-Image-Feb-10-2026-at-12_24_55-PM.jpg
GEO:42.5522933;-70.8824043
X-APPLE-STRUCTURED-LOCATION;VALUE=URI;X-ADDRESS=The Pickled Onion 355 rantoul st Beverly 01915 United States;X-APPLE-RADIUS=500;X-TITLE=355 rantoul st:geo:-70.8824043,42.5522933
END:VEVENT
BEGIN:VEVENT
DTSTART;TZID=America/New_York:20260609T140000
DTEND;TZID=America/New_York:20260609T210000
DTSTAMP:20260422T150743
CREATED:20260422T133237Z
LAST-MODIFIED:20260422T133237Z
UID:10038678-1781013600-1781038800@bevmain.org
SUMMARY:Wing Night
DESCRIPTION:It’s WING NIGHT at The Pickled Onion\n.75¢ wings flying out of the kitchen\nGrab a drink\, grab a seat\, and dig in!\nDine-in only • Beverage purchase required
URL:https://bevmain.org/event/wing-night-2/2026-06-09/
LOCATION:The Pickled Onion\, 355 rantoul st\, Beverly\, 01915\, United States
CATEGORIES:Beer/Wine,Food
ATTACH;FMTTYPE=image/jpeg:https://bevmain.org/wp-content/uploads/2026/04/ChatGPT-Image-Feb-10-2026-at-12_24_55-PM.jpg
GEO:42.5522933;-70.8824043
X-APPLE-STRUCTURED-LOCATION;VALUE=URI;X-ADDRESS=The Pickled Onion 355 rantoul st Beverly 01915 United States;X-APPLE-RADIUS=500;X-TITLE=355 rantoul st:geo:-70.8824043,42.5522933
END:VEVENT
BEGIN:VEVENT
DTSTART;TZID=America/New_York:20260616T140000
DTEND;TZID=America/New_York:20260616T210000
DTSTAMP:20260422T150743
CREATED:20260422T133237Z
LAST-MODIFIED:20260422T133237Z
UID:10038679-1781618400-1781643600@bevmain.org
SUMMARY:Wing Night
DESCRIPTION:It’s WING NIGHT at The Pickled Onion\n.75¢ wings flying out of the kitchen\nGrab a drink\, grab a seat\, and dig in!\nDine-in only • Beverage purchase required
URL:https://bevmain.org/event/wing-night-2/2026-06-16/
LOCATION:The Pickled Onion\, 355 rantoul st\, Beverly\, 01915\, United States
CATEGORIES:Beer/Wine,Food
ATTACH;FMTTYPE=image/jpeg:https://bevmain.org/wp-content/uploads/2026/04/ChatGPT-Image-Feb-10-2026-at-12_24_55-PM.jpg
GEO:42.5522933;-70.8824043
X-APPLE-STRUCTURED-LOCATION;VALUE=URI;X-ADDRESS=The Pickled Onion 355 rantoul st Beverly 01915 United States;X-APPLE-RADIUS=500;X-TITLE=355 rantoul st:geo:-70.8824043,42.5522933
END:VEVENT
BEGIN:VEVENT
DTSTART;TZID=America/New_York:20260623T140000
DTEND;TZID=America/New_York:20260623T210000
DTSTAMP:20260422T150743
CREATED:20260422T133237Z
LAST-MODIFIED:20260422T133237Z
UID:10038680-1782223200-1782248400@bevmain.org
SUMMARY:Wing Night
DESCRIPTION:It’s WING NIGHT at The Pickled Onion\n.75¢ wings flying out of the kitchen\nGrab a drink\, grab a seat\, and dig in!\nDine-in only • Beverage purchase required
URL:https://bevmain.org/event/wing-night-2/2026-06-23/
LOCATION:The Pickled Onion\, 355 rantoul st\, Beverly\, 01915\, United States
CATEGORIES:Beer/Wine,Food
ATTACH;FMTTYPE=image/jpeg:https://bevmain.org/wp-content/uploads/2026/04/ChatGPT-Image-Feb-10-2026-at-12_24_55-PM.jpg
GEO:42.5522933;-70.8824043
X-APPLE-STRUCTURED-LOCATION;VALUE=URI;X-ADDRESS=The Pickled Onion 355 rantoul st Beverly 01915 United States;X-APPLE-RADIUS=500;X-TITLE=355 rantoul st:geo:-70.8824043,42.5522933
END:VEVENT
BEGIN:VEVENT
DTSTART;TZID=America/New_York:20260630T140000
DTEND;TZID=America/New_York:20260630T210000
DTSTAMP:20260422T150743
CREATED:20260422T133237Z
LAST-MODIFIED:20260422T133237Z
UID:10038681-1782828000-1782853200@bevmain.org
SUMMARY:Wing Night
DESCRIPTION:It’s WING NIGHT at The Pickled Onion\n.75¢ wings flying out of the kitchen\nGrab a drink\, grab a seat\, and dig in!\nDine-in only • Beverage purchase required
URL:https://bevmain.org/event/wing-night-2/2026-06-30/
LOCATION:The Pickled Onion\, 355 rantoul st\, Beverly\, 01915\, United States
CATEGORIES:Beer/Wine,Food
ATTACH;FMTTYPE=image/jpeg:https://bevmain.org/wp-content/uploads/2026/04/ChatGPT-Image-Feb-10-2026-at-12_24_55-PM.jpg
GEO:42.5522933;-70.8824043
X-APPLE-STRUCTURED-LOCATION;VALUE=URI;X-ADDRESS=The Pickled Onion 355 rantoul st Beverly 01915 United States;X-APPLE-RADIUS=500;X-TITLE=355 rantoul st:geo:-70.8824043,42.5522933
END:VEVENT
BEGIN:VEVENT
DTSTART;TZID=America/New_York:20260707T140000
DTEND;TZID=America/New_York:20260707T210000
DTSTAMP:20260422T150743
CREATED:20260422T133237Z
LAST-MODIFIED:20260422T133237Z
UID:10038682-1783432800-1783458000@bevmain.org
SUMMARY:Wing Night
DESCRIPTION:It’s WING NIGHT at The Pickled Onion\n.75¢ wings flying out of the kitchen\nGrab a drink\, grab a seat\, and dig in!\nDine-in only • Beverage purchase required
URL:https://bevmain.org/event/wing-night-2/2026-07-07/
LOCATION:The Pickled Onion\, 355 rantoul st\, Beverly\, 01915\, United States
CATEGORIES:Beer/Wine,Food
ATTACH;FMTTYPE=image/jpeg:https://bevmain.org/wp-content/uploads/2026/04/ChatGPT-Image-Feb-10-2026-at-12_24_55-PM.jpg
GEO:42.5522933;-70.8824043
X-APPLE-STRUCTURED-LOCATION;VALUE=URI;X-ADDRESS=The Pickled Onion 355 rantoul st Beverly 01915 United States;X-APPLE-RADIUS=500;X-TITLE=355 rantoul st:geo:-70.8824043,42.5522933
END:VEVENT
BEGIN:VEVENT
DTSTART;TZID=America/New_York:20260714T140000
DTEND;TZID=America/New_York:20260714T210000
DTSTAMP:20260422T150743
CREATED:20260422T133237Z
LAST-MODIFIED:20260422T133237Z
UID:10038683-1784037600-1784062800@bevmain.org
SUMMARY:Wing Night
DESCRIPTION:It’s WING NIGHT at The Pickled Onion\n.75¢ wings flying out of the kitchen\nGrab a drink\, grab a seat\, and dig in!\nDine-in only • Beverage purchase required
URL:https://bevmain.org/event/wing-night-2/2026-07-14/
LOCATION:The Pickled Onion\, 355 rantoul st\, Beverly\, 01915\, United States
CATEGORIES:Beer/Wine,Food
ATTACH;FMTTYPE=image/jpeg:https://bevmain.org/wp-content/uploads/2026/04/ChatGPT-Image-Feb-10-2026-at-12_24_55-PM.jpg
GEO:42.5522933;-70.8824043
X-APPLE-STRUCTURED-LOCATION;VALUE=URI;X-ADDRESS=The Pickled Onion 355 rantoul st Beverly 01915 United States;X-APPLE-RADIUS=500;X-TITLE=355 rantoul st:geo:-70.8824043,42.5522933
END:VEVENT
BEGIN:VEVENT
DTSTART;TZID=America/New_York:20260721T140000
DTEND;TZID=America/New_York:20260721T210000
DTSTAMP:20260422T150743
CREATED:20260422T133237Z
LAST-MODIFIED:20260422T133237Z
UID:10038684-1784642400-1784667600@bevmain.org
SUMMARY:Wing Night
DESCRIPTION:It’s WING NIGHT at The Pickled Onion\n.75¢ wings flying out of the kitchen\nGrab a drink\, grab a seat\, and dig in!\nDine-in only • Beverage purchase required
URL:https://bevmain.org/event/wing-night-2/2026-07-21/
LOCATION:The Pickled Onion\, 355 rantoul st\, Beverly\, 01915\, United States
CATEGORIES:Beer/Wine,Food
ATTACH;FMTTYPE=image/jpeg:https://bevmain.org/wp-content/uploads/2026/04/ChatGPT-Image-Feb-10-2026-at-12_24_55-PM.jpg
GEO:42.5522933;-70.8824043
X-APPLE-STRUCTURED-LOCATION;VALUE=URI;X-ADDRESS=The Pickled Onion 355 rantoul st Beverly 01915 United States;X-APPLE-RADIUS=500;X-TITLE=355 rantoul st:geo:-70.8824043,42.5522933
END:VEVENT
BEGIN:VEVENT
DTSTART;TZID=America/New_York:20260728T140000
DTEND;TZID=America/New_York:20260728T210000
DTSTAMP:20260422T150743
CREATED:20260422T133237Z
LAST-MODIFIED:20260422T133237Z
UID:10038685-1785247200-1785272400@bevmain.org
SUMMARY:Wing Night
DESCRIPTION:It’s WING NIGHT at The Pickled Onion\n.75¢ wings flying out of the kitchen\nGrab a drink\, grab a seat\, and dig in!\nDine-in only • Beverage purchase required
URL:https://bevmain.org/event/wing-night-2/2026-07-28/
LOCATION:The Pickled Onion\, 355 rantoul st\, Beverly\, 01915\, United States
CATEGORIES:Beer/Wine,Food
ATTACH;FMTTYPE=image/jpeg:https://bevmain.org/wp-content/uploads/2026/04/ChatGPT-Image-Feb-10-2026-at-12_24_55-PM.jpg
GEO:42.5522933;-70.8824043
X-APPLE-STRUCTURED-LOCATION;VALUE=URI;X-ADDRESS=The Pickled Onion 355 rantoul st Beverly 01915 United States;X-APPLE-RADIUS=500;X-TITLE=355 rantoul st:geo:-70.8824043,42.5522933
END:VEVENT
BEGIN:VEVENT
DTSTART;TZID=America/New_York:20260804T140000
DTEND;TZID=America/New_York:20260804T210000
DTSTAMP:20260422T150743
CREATED:20260422T133237Z
LAST-MODIFIED:20260422T133237Z
UID:10038686-1785852000-1785877200@bevmain.org
SUMMARY:Wing Night
DESCRIPTION:It’s WING NIGHT at The Pickled Onion\n.75¢ wings flying out of the kitchen\nGrab a drink\, grab a seat\, and dig in!\nDine-in only • Beverage purchase required
URL:https://bevmain.org/event/wing-night-2/2026-08-04/
LOCATION:The Pickled Onion\, 355 rantoul st\, Beverly\, 01915\, United States
CATEGORIES:Beer/Wine,Food
ATTACH;FMTTYPE=image/jpeg:https://bevmain.org/wp-content/uploads/2026/04/ChatGPT-Image-Feb-10-2026-at-12_24_55-PM.jpg
GEO:42.5522933;-70.8824043
X-APPLE-STRUCTURED-LOCATION;VALUE=URI;X-ADDRESS=The Pickled Onion 355 rantoul st Beverly 01915 United States;X-APPLE-RADIUS=500;X-TITLE=355 rantoul st:geo:-70.8824043,42.5522933
END:VEVENT
BEGIN:VEVENT
DTSTART;TZID=America/New_York:20260811T140000
DTEND;TZID=America/New_York:20260811T210000
DTSTAMP:20260422T150743
CREATED:20260422T133237Z
LAST-MODIFIED:20260422T133237Z
UID:10038687-1786456800-1786482000@bevmain.org
SUMMARY:Wing Night
DESCRIPTION:It’s WING NIGHT at The Pickled Onion\n.75¢ wings flying out of the kitchen\nGrab a drink\, grab a seat\, and dig in!\nDine-in only • Beverage purchase required
URL:https://bevmain.org/event/wing-night-2/2026-08-11/
LOCATION:The Pickled Onion\, 355 rantoul st\, Beverly\, 01915\, United States
CATEGORIES:Beer/Wine,Food
ATTACH;FMTTYPE=image/jpeg:https://bevmain.org/wp-content/uploads/2026/04/ChatGPT-Image-Feb-10-2026-at-12_24_55-PM.jpg
GEO:42.5522933;-70.8824043
X-APPLE-STRUCTURED-LOCATION;VALUE=URI;X-ADDRESS=The Pickled Onion 355 rantoul st Beverly 01915 United States;X-APPLE-RADIUS=500;X-TITLE=355 rantoul st:geo:-70.8824043,42.5522933
END:VEVENT
BEGIN:VEVENT
DTSTART;TZID=America/New_York:20260818T140000
DTEND;TZID=America/New_York:20260818T210000
DTSTAMP:20260422T150743
CREATED:20260422T133237Z
LAST-MODIFIED:20260422T133237Z
UID:10038688-1787061600-1787086800@bevmain.org
SUMMARY:Wing Night
DESCRIPTION:It’s WING NIGHT at The Pickled Onion\n.75¢ wings flying out of the kitchen\nGrab a drink\, grab a seat\, and dig in!\nDine-in only • Beverage purchase required
URL:https://bevmain.org/event/wing-night-2/2026-08-18/
LOCATION:The Pickled Onion\, 355 rantoul st\, Beverly\, 01915\, United States
CATEGORIES:Beer/Wine,Food
ATTACH;FMTTYPE=image/jpeg:https://bevmain.org/wp-content/uploads/2026/04/ChatGPT-Image-Feb-10-2026-at-12_24_55-PM.jpg
GEO:42.5522933;-70.8824043
X-APPLE-STRUCTURED-LOCATION;VALUE=URI;X-ADDRESS=The Pickled Onion 355 rantoul st Beverly 01915 United States;X-APPLE-RADIUS=500;X-TITLE=355 rantoul st:geo:-70.8824043,42.5522933
END:VEVENT
BEGIN:VEVENT
DTSTART;TZID=America/New_York:20260825T140000
DTEND;TZID=America/New_York:20260825T210000
DTSTAMP:20260422T150743
CREATED:20260422T133237Z
LAST-MODIFIED:20260422T133237Z
UID:10038689-1787666400-1787691600@bevmain.org
SUMMARY:Wing Night
DESCRIPTION:It’s WING NIGHT at The Pickled Onion\n.75¢ wings flying out of the kitchen\nGrab a drink\, grab a seat\, and dig in!\nDine-in only • Beverage purchase required
URL:https://bevmain.org/event/wing-night-2/2026-08-25/
LOCATION:The Pickled Onion\, 355 rantoul st\, Beverly\, 01915\, United States
CATEGORIES:Beer/Wine,Food
ATTACH;FMTTYPE=image/jpeg:https://bevmain.org/wp-content/uploads/2026/04/ChatGPT-Image-Feb-10-2026-at-12_24_55-PM.jpg
GEO:42.5522933;-70.8824043
X-APPLE-STRUCTURED-LOCATION;VALUE=URI;X-ADDRESS=The Pickled Onion 355 rantoul st Beverly 01915 United States;X-APPLE-RADIUS=500;X-TITLE=355 rantoul st:geo:-70.8824043,42.5522933
END:VEVENT
BEGIN:VEVENT
DTSTART;TZID=America/New_York:20260901T140000
DTEND;TZID=America/New_York:20260901T210000
DTSTAMP:20260422T150743
CREATED:20260422T133237Z
LAST-MODIFIED:20260422T133237Z
UID:10038690-1788271200-1788296400@bevmain.org
SUMMARY:Wing Night
DESCRIPTION:It’s WING NIGHT at The Pickled Onion\n.75¢ wings flying out of the kitchen\nGrab a drink\, grab a seat\, and dig in!\nDine-in only • Beverage purchase required
URL:https://bevmain.org/event/wing-night-2/2026-09-01/
LOCATION:The Pickled Onion\, 355 rantoul st\, Beverly\, 01915\, United States
CATEGORIES:Beer/Wine,Food
ATTACH;FMTTYPE=image/jpeg:https://bevmain.org/wp-content/uploads/2026/04/ChatGPT-Image-Feb-10-2026-at-12_24_55-PM.jpg
GEO:42.5522933;-70.8824043
X-APPLE-STRUCTURED-LOCATION;VALUE=URI;X-ADDRESS=The Pickled Onion 355 rantoul st Beverly 01915 United States;X-APPLE-RADIUS=500;X-TITLE=355 rantoul st:geo:-70.8824043,42.5522933
END:VEVENT
BEGIN:VEVENT
DTSTART;TZID=America/New_York:20260908T140000
DTEND;TZID=America/New_York:20260908T210000
DTSTAMP:20260422T150743
CREATED:20260422T133237Z
LAST-MODIFIED:20260422T133237Z
UID:10038691-1788876000-1788901200@bevmain.org
SUMMARY:Wing Night
DESCRIPTION:It’s WING NIGHT at The Pickled Onion\n.75¢ wings flying out of the kitchen\nGrab a drink\, grab a seat\, and dig in!\nDine-in only • Beverage purchase required
URL:https://bevmain.org/event/wing-night-2/2026-09-08/
LOCATION:The Pickled Onion\, 355 rantoul st\, Beverly\, 01915\, United States
CATEGORIES:Beer/Wine,Food
ATTACH;FMTTYPE=image/jpeg:https://bevmain.org/wp-content/uploads/2026/04/ChatGPT-Image-Feb-10-2026-at-12_24_55-PM.jpg
GEO:42.5522933;-70.8824043
X-APPLE-STRUCTURED-LOCATION;VALUE=URI;X-ADDRESS=The Pickled Onion 355 rantoul st Beverly 01915 United States;X-APPLE-RADIUS=500;X-TITLE=355 rantoul st:geo:-70.8824043,42.5522933
END:VEVENT
BEGIN:VEVENT
DTSTART;TZID=America/New_York:20260915T140000
DTEND;TZID=America/New_York:20260915T210000
DTSTAMP:20260422T150743
CREATED:20260422T133237Z
LAST-MODIFIED:20260422T133237Z
UID:10038692-1789480800-1789506000@bevmain.org
SUMMARY:Wing Night
DESCRIPTION:It’s WING NIGHT at The Pickled Onion\n.75¢ wings flying out of the kitchen\nGrab a drink\, grab a seat\, and dig in!\nDine-in only • Beverage purchase required
URL:https://bevmain.org/event/wing-night-2/2026-09-15/
LOCATION:The Pickled Onion\, 355 rantoul st\, Beverly\, 01915\, United States
CATEGORIES:Beer/Wine,Food
ATTACH;FMTTYPE=image/jpeg:https://bevmain.org/wp-content/uploads/2026/04/ChatGPT-Image-Feb-10-2026-at-12_24_55-PM.jpg
GEO:42.5522933;-70.8824043
X-APPLE-STRUCTURED-LOCATION;VALUE=URI;X-ADDRESS=The Pickled Onion 355 rantoul st Beverly 01915 United States;X-APPLE-RADIUS=500;X-TITLE=355 rantoul st:geo:-70.8824043,42.5522933
END:VEVENT
BEGIN:VEVENT
DTSTART;TZID=America/New_York:20260922T140000
DTEND;TZID=America/New_York:20260922T210000
DTSTAMP:20260422T150743
CREATED:20260422T133237Z
LAST-MODIFIED:20260422T133237Z
UID:10038693-1790085600-1790110800@bevmain.org
SUMMARY:Wing Night
DESCRIPTION:It’s WING NIGHT at The Pickled Onion\n.75¢ wings flying out of the kitchen\nGrab a drink\, grab a seat\, and dig in!\nDine-in only • Beverage purchase required
URL:https://bevmain.org/event/wing-night-2/2026-09-22/
LOCATION:The Pickled Onion\, 355 rantoul st\, Beverly\, 01915\, United States
CATEGORIES:Beer/Wine,Food
ATTACH;FMTTYPE=image/jpeg:https://bevmain.org/wp-content/uploads/2026/04/ChatGPT-Image-Feb-10-2026-at-12_24_55-PM.jpg
GEO:42.5522933;-70.8824043
X-APPLE-STRUCTURED-LOCATION;VALUE=URI;X-ADDRESS=The Pickled Onion 355 rantoul st Beverly 01915 United States;X-APPLE-RADIUS=500;X-TITLE=355 rantoul st:geo:-70.8824043,42.5522933
END:VEVENT
BEGIN:VEVENT
DTSTART;TZID=America/New_York:20260929T140000
DTEND;TZID=America/New_York:20260929T210000
DTSTAMP:20260422T150743
CREATED:20260422T133237Z
LAST-MODIFIED:20260422T133237Z
UID:10038694-1790690400-1790715600@bevmain.org
SUMMARY:Wing Night
DESCRIPTION:It’s WING NIGHT at The Pickled Onion\n.75¢ wings flying out of the kitchen\nGrab a drink\, grab a seat\, and dig in!\nDine-in only • Beverage purchase required
URL:https://bevmain.org/event/wing-night-2/2026-09-29/
LOCATION:The Pickled Onion\, 355 rantoul st\, Beverly\, 01915\, United States
CATEGORIES:Beer/Wine,Food
ATTACH;FMTTYPE=image/jpeg:https://bevmain.org/wp-content/uploads/2026/04/ChatGPT-Image-Feb-10-2026-at-12_24_55-PM.jpg
GEO:42.5522933;-70.8824043
X-APPLE-STRUCTURED-LOCATION;VALUE=URI;X-ADDRESS=The Pickled Onion 355 rantoul st Beverly 01915 United States;X-APPLE-RADIUS=500;X-TITLE=355 rantoul st:geo:-70.8824043,42.5522933
END:VEVENT
BEGIN:VEVENT
DTSTART;TZID=America/New_York:20261006T140000
DTEND;TZID=America/New_York:20261006T210000
DTSTAMP:20260422T150743
CREATED:20260422T133237Z
LAST-MODIFIED:20260422T133237Z
UID:10038695-1791295200-1791320400@bevmain.org
SUMMARY:Wing Night
DESCRIPTION:It’s WING NIGHT at The Pickled Onion\n.75¢ wings flying out of the kitchen\nGrab a drink\, grab a seat\, and dig in!\nDine-in only • Beverage purchase required
URL:https://bevmain.org/event/wing-night-2/2026-10-06/
LOCATION:The Pickled Onion\, 355 rantoul st\, Beverly\, 01915\, United States
CATEGORIES:Beer/Wine,Food
ATTACH;FMTTYPE=image/jpeg:https://bevmain.org/wp-content/uploads/2026/04/ChatGPT-Image-Feb-10-2026-at-12_24_55-PM.jpg
GEO:42.5522933;-70.8824043
X-APPLE-STRUCTURED-LOCATION;VALUE=URI;X-ADDRESS=The Pickled Onion 355 rantoul st Beverly 01915 United States;X-APPLE-RADIUS=500;X-TITLE=355 rantoul st:geo:-70.8824043,42.5522933
END:VEVENT
BEGIN:VEVENT
DTSTART;TZID=America/New_York:20261013T140000
DTEND;TZID=America/New_York:20261013T210000
DTSTAMP:20260422T150743
CREATED:20260422T133237Z
LAST-MODIFIED:20260422T133237Z
UID:10038696-1791900000-1791925200@bevmain.org
SUMMARY:Wing Night
DESCRIPTION:It’s WING NIGHT at The Pickled Onion\n.75¢ wings flying out of the kitchen\nGrab a drink\, grab a seat\, and dig in!\nDine-in only • Beverage purchase required
URL:https://bevmain.org/event/wing-night-2/2026-10-13/
LOCATION:The Pickled Onion\, 355 rantoul st\, Beverly\, 01915\, United States
CATEGORIES:Beer/Wine,Food
ATTACH;FMTTYPE=image/jpeg:https://bevmain.org/wp-content/uploads/2026/04/ChatGPT-Image-Feb-10-2026-at-12_24_55-PM.jpg
GEO:42.5522933;-70.8824043
X-APPLE-STRUCTURED-LOCATION;VALUE=URI;X-ADDRESS=The Pickled Onion 355 rantoul st Beverly 01915 United States;X-APPLE-RADIUS=500;X-TITLE=355 rantoul st:geo:-70.8824043,42.5522933
END:VEVENT
BEGIN:VEVENT
DTSTART;TZID=America/New_York:20261020T140000
DTEND;TZID=America/New_York:20261020T210000
DTSTAMP:20260422T150743
CREATED:20260422T133237Z
LAST-MODIFIED:20260422T133237Z
UID:10038697-1792504800-1792530000@bevmain.org
SUMMARY:Wing Night
DESCRIPTION:It’s WING NIGHT at The Pickled Onion\n.75¢ wings flying out of the kitchen\nGrab a drink\, grab a seat\, and dig in!\nDine-in only • Beverage purchase required
URL:https://bevmain.org/event/wing-night-2/2026-10-20/
LOCATION:The Pickled Onion\, 355 rantoul st\, Beverly\, 01915\, United States
CATEGORIES:Beer/Wine,Food
ATTACH;FMTTYPE=image/jpeg:https://bevmain.org/wp-content/uploads/2026/04/ChatGPT-Image-Feb-10-2026-at-12_24_55-PM.jpg
GEO:42.5522933;-70.8824043
X-APPLE-STRUCTURED-LOCATION;VALUE=URI;X-ADDRESS=The Pickled Onion 355 rantoul st Beverly 01915 United States;X-APPLE-RADIUS=500;X-TITLE=355 rantoul st:geo:-70.8824043,42.5522933
END:VEVENT
BEGIN:VEVENT
DTSTART;TZID=America/New_York:20261027T140000
DTEND;TZID=America/New_York:20261027T210000
DTSTAMP:20260422T150743
CREATED:20260422T133237Z
LAST-MODIFIED:20260422T133237Z
UID:10038698-1793109600-1793134800@bevmain.org
SUMMARY:Wing Night
DESCRIPTION:It’s WING NIGHT at The Pickled Onion\n.75¢ wings flying out of the kitchen\nGrab a drink\, grab a seat\, and dig in!\nDine-in only • Beverage purchase required
URL:https://bevmain.org/event/wing-night-2/2026-10-27/
LOCATION:The Pickled Onion\, 355 rantoul st\, Beverly\, 01915\, United States
CATEGORIES:Beer/Wine,Food
ATTACH;FMTTYPE=image/jpeg:https://bevmain.org/wp-content/uploads/2026/04/ChatGPT-Image-Feb-10-2026-at-12_24_55-PM.jpg
GEO:42.5522933;-70.8824043
X-APPLE-STRUCTURED-LOCATION;VALUE=URI;X-ADDRESS=The Pickled Onion 355 rantoul st Beverly 01915 United States;X-APPLE-RADIUS=500;X-TITLE=355 rantoul st:geo:-70.8824043,42.5522933
END:VEVENT
BEGIN:VEVENT
DTSTART;TZID=America/New_York:20261103T140000
DTEND;TZID=America/New_York:20261103T210000
DTSTAMP:20260422T150743
CREATED:20260422T133237Z
LAST-MODIFIED:20260422T133237Z
UID:10038699-1793714400-1793739600@bevmain.org
SUMMARY:Wing Night
DESCRIPTION:It’s WING NIGHT at The Pickled Onion\n.75¢ wings flying out of the kitchen\nGrab a drink\, grab a seat\, and dig in!\nDine-in only • Beverage purchase required
URL:https://bevmain.org/event/wing-night-2/2026-11-03/
LOCATION:The Pickled Onion\, 355 rantoul st\, Beverly\, 01915\, United States
CATEGORIES:Beer/Wine,Food
ATTACH;FMTTYPE=image/jpeg:https://bevmain.org/wp-content/uploads/2026/04/ChatGPT-Image-Feb-10-2026-at-12_24_55-PM.jpg
GEO:42.5522933;-70.8824043
X-APPLE-STRUCTURED-LOCATION;VALUE=URI;X-ADDRESS=The Pickled Onion 355 rantoul st Beverly 01915 United States;X-APPLE-RADIUS=500;X-TITLE=355 rantoul st:geo:-70.8824043,42.5522933
END:VEVENT
BEGIN:VEVENT
DTSTART;TZID=America/New_York:20261110T140000
DTEND;TZID=America/New_York:20261110T210000
DTSTAMP:20260422T150743
CREATED:20260422T133237Z
LAST-MODIFIED:20260422T133237Z
UID:10038700-1794319200-1794344400@bevmain.org
SUMMARY:Wing Night
DESCRIPTION:It’s WING NIGHT at The Pickled Onion\n.75¢ wings flying out of the kitchen\nGrab a drink\, grab a seat\, and dig in!\nDine-in only • Beverage purchase required
URL:https://bevmain.org/event/wing-night-2/2026-11-10/
LOCATION:The Pickled Onion\, 355 rantoul st\, Beverly\, 01915\, United States
CATEGORIES:Beer/Wine,Food
ATTACH;FMTTYPE=image/jpeg:https://bevmain.org/wp-content/uploads/2026/04/ChatGPT-Image-Feb-10-2026-at-12_24_55-PM.jpg
GEO:42.5522933;-70.8824043
X-APPLE-STRUCTURED-LOCATION;VALUE=URI;X-ADDRESS=The Pickled Onion 355 rantoul st Beverly 01915 United States;X-APPLE-RADIUS=500;X-TITLE=355 rantoul st:geo:-70.8824043,42.5522933
END:VEVENT
BEGIN:VEVENT
DTSTART;TZID=America/New_York:20261117T140000
DTEND;TZID=America/New_York:20261117T210000
DTSTAMP:20260422T150743
CREATED:20260422T133237Z
LAST-MODIFIED:20260422T133237Z
UID:10038701-1794924000-1794949200@bevmain.org
SUMMARY:Wing Night
DESCRIPTION:It’s WING NIGHT at The Pickled Onion\n.75¢ wings flying out of the kitchen\nGrab a drink\, grab a seat\, and dig in!\nDine-in only • Beverage purchase required
URL:https://bevmain.org/event/wing-night-2/2026-11-17/
LOCATION:The Pickled Onion\, 355 rantoul st\, Beverly\, 01915\, United States
CATEGORIES:Beer/Wine,Food
ATTACH;FMTTYPE=image/jpeg:https://bevmain.org/wp-content/uploads/2026/04/ChatGPT-Image-Feb-10-2026-at-12_24_55-PM.jpg
GEO:42.5522933;-70.8824043
X-APPLE-STRUCTURED-LOCATION;VALUE=URI;X-ADDRESS=The Pickled Onion 355 rantoul st Beverly 01915 United States;X-APPLE-RADIUS=500;X-TITLE=355 rantoul st:geo:-70.8824043,42.5522933
END:VEVENT
END:VCALENDAR