BEGIN:VCALENDAR
VERSION:2.0
PRODID:-//Beverly Main Streets - ECPv6.15.20//NONSGML v1.0//EN
CALSCALE:GREGORIAN
METHOD:PUBLISH
X-ORIGINAL-URL:https://bevmain.org
X-WR-CALDESC:Events for Beverly Main Streets
REFRESH-INTERVAL;VALUE=DURATION:PT1H
X-Robots-Tag:noindex
X-PUBLISHED-TTL:PT1H
BEGIN:VTIMEZONE
TZID:America/New_York
BEGIN:DAYLIGHT
TZOFFSETFROM:-0500
TZOFFSETTO:-0400
TZNAME:EDT
DTSTART:20230312T070000
END:DAYLIGHT
BEGIN:STANDARD
TZOFFSETFROM:-0400
TZOFFSETTO:-0500
TZNAME:EST
DTSTART:20231105T060000
END:STANDARD
BEGIN:DAYLIGHT
TZOFFSETFROM:-0500
TZOFFSETTO:-0400
TZNAME:EDT
DTSTART:20240310T070000
END:DAYLIGHT
BEGIN:STANDARD
TZOFFSETFROM:-0400
TZOFFSETTO:-0500
TZNAME:EST
DTSTART:20241103T060000
END:STANDARD
BEGIN:DAYLIGHT
TZOFFSETFROM:-0500
TZOFFSETTO:-0400
TZNAME:EDT
DTSTART:20250309T070000
END:DAYLIGHT
BEGIN:STANDARD
TZOFFSETFROM:-0400
TZOFFSETTO:-0500
TZNAME:EST
DTSTART:20251102T060000
END:STANDARD
END:VTIMEZONE
BEGIN:VEVENT
DTSTART;TZID=America/New_York:20241207T080000
DTEND;TZID=America/New_York:20241207T170000
DTSTAMP:20260420T223854
CREATED:20241114T191923Z
LAST-MODIFIED:20241114T191923Z
UID:10025611-1733558400-1733590800@bevmain.org
SUMMARY:Holiday Open Studios
DESCRIPTION:Porter Mill Holiday Open Studios\nSaturday\, Dec 7 from 12-6pm\nSunday\, Dec 8 from 12-4pm \nJoin us for Porter Mill’s annual Holiday Open Studio event!\nExplore four floors of artist spaces\, offering a variety of gift-able artwork including painting\, drawing\, ceramics\, photography\, jewelry\, glass work\, poetry\, fashion and more. This event is a great opportunity to meet the artists\, learn about their craft and purchase directly from them!\nIn the lobby you will find an exhibit of work exploring Lewis Carroll’s classic Alice in Wonderland\, produced from our Nov 10 event.\nCoastal Mass Brewing will be in full swing\, and you can enjoy your beverages throughout the studio spaces. \n​\nPark all day for $2 at the MBTA parking garage\, across Rantoul Street from Porter Mill.\n​\nThanks to the Beverly Cultural Council for making much of this event possible! \n\nBeverly
URL:https://bevmain.org/event/holiday-open-studios/2024-12-07/1/
LOCATION:Studios at Porter Mill\, 95 Rantoul St \, MA 01915 United States\, Beverly\, MA\, 01915\, United States
CATEGORIES:Free,Shopping
ATTACH;FMTTYPE=image/jpeg:https://bevmain.org/wp-content/uploads/2024/11/winter24postcard-scaled.jpg
GEO:42.544817;-70.8843987
X-APPLE-STRUCTURED-LOCATION;VALUE=URI;X-ADDRESS=Studios at Porter Mill 95 Rantoul St  MA 01915 United States Beverly MA 01915 United States;X-APPLE-RADIUS=500;X-TITLE=95 Rantoul St \, MA 01915 United States:geo:-70.8843987,42.544817
END:VEVENT
BEGIN:VEVENT
DTSTART;TZID=America/New_York:20241207T120000
DTEND;TZID=America/New_York:20241207T180000
DTSTAMP:20260420T223854
CREATED:20241114T191923Z
LAST-MODIFIED:20241114T191923Z
UID:10025612-1733572800-1733594400@bevmain.org
SUMMARY:Holiday Open Studios
DESCRIPTION:Porter Mill Holiday Open Studios\nSaturday\, Dec 7 from 12-6pm\nSunday\, Dec 8 from 12-4pm \nJoin us for Porter Mill’s annual Holiday Open Studio event!\nExplore four floors of artist spaces\, offering a variety of gift-able artwork including painting\, drawing\, ceramics\, photography\, jewelry\, glass work\, poetry\, fashion and more. This event is a great opportunity to meet the artists\, learn about their craft and purchase directly from them!\nIn the lobby you will find an exhibit of work exploring Lewis Carroll’s classic Alice in Wonderland\, produced from our Nov 10 event.\nCoastal Mass Brewing will be in full swing\, and you can enjoy your beverages throughout the studio spaces. \n​\nPark all day for $2 at the MBTA parking garage\, across Rantoul Street from Porter Mill.\n​\nThanks to the Beverly Cultural Council for making much of this event possible! \n\nBeverly
URL:https://bevmain.org/event/holiday-open-studios/2024-12-07/2/
LOCATION:Studios at Porter Mill\, 95 Rantoul St \, MA 01915 United States\, Beverly\, MA\, 01915\, United States
CATEGORIES:Free,Shopping
ATTACH;FMTTYPE=image/jpeg:https://bevmain.org/wp-content/uploads/2024/11/winter24postcard-scaled.jpg
GEO:42.544817;-70.8843987
X-APPLE-STRUCTURED-LOCATION;VALUE=URI;X-ADDRESS=Studios at Porter Mill 95 Rantoul St  MA 01915 United States Beverly MA 01915 United States;X-APPLE-RADIUS=500;X-TITLE=95 Rantoul St \, MA 01915 United States:geo:-70.8843987,42.544817
END:VEVENT
BEGIN:VEVENT
DTSTART;TZID=America/New_York:20241208T120000
DTEND;TZID=America/New_York:20241208T160000
DTSTAMP:20260420T223854
CREATED:20241114T191923Z
LAST-MODIFIED:20241114T191923Z
UID:10025613-1733659200-1733673600@bevmain.org
SUMMARY:Holiday Open Studios
DESCRIPTION:Porter Mill Holiday Open Studios\nSaturday\, Dec 7 from 12-6pm\nSunday\, Dec 8 from 12-4pm \nJoin us for Porter Mill’s annual Holiday Open Studio event!\nExplore four floors of artist spaces\, offering a variety of gift-able artwork including painting\, drawing\, ceramics\, photography\, jewelry\, glass work\, poetry\, fashion and more. This event is a great opportunity to meet the artists\, learn about their craft and purchase directly from them!\nIn the lobby you will find an exhibit of work exploring Lewis Carroll’s classic Alice in Wonderland\, produced from our Nov 10 event.\nCoastal Mass Brewing will be in full swing\, and you can enjoy your beverages throughout the studio spaces. \n​\nPark all day for $2 at the MBTA parking garage\, across Rantoul Street from Porter Mill.\n​\nThanks to the Beverly Cultural Council for making much of this event possible! \n\nBeverly
URL:https://bevmain.org/event/holiday-open-studios/2024-12-08/
LOCATION:Studios at Porter Mill\, 95 Rantoul St \, MA 01915 United States\, Beverly\, MA\, 01915\, United States
CATEGORIES:Free,Shopping
ATTACH;FMTTYPE=image/jpeg:https://bevmain.org/wp-content/uploads/2024/11/winter24postcard-scaled.jpg
GEO:42.544817;-70.8843987
X-APPLE-STRUCTURED-LOCATION;VALUE=URI;X-ADDRESS=Studios at Porter Mill 95 Rantoul St  MA 01915 United States Beverly MA 01915 United States;X-APPLE-RADIUS=500;X-TITLE=95 Rantoul St \, MA 01915 United States:geo:-70.8843987,42.544817
END:VEVENT
END:VCALENDAR