BEGIN:VCALENDAR
VERSION:2.0
PRODID:-//Beverly Main Streets - ECPv6.15.20//NONSGML v1.0//EN
CALSCALE:GREGORIAN
METHOD:PUBLISH
X-ORIGINAL-URL:https://bevmain.org
X-WR-CALDESC:Events for Beverly Main Streets
REFRESH-INTERVAL;VALUE=DURATION:PT1H
X-Robots-Tag:noindex
X-PUBLISHED-TTL:PT1H
BEGIN:VTIMEZONE
TZID:America/New_York
BEGIN:DAYLIGHT
TZOFFSETFROM:-0500
TZOFFSETTO:-0400
TZNAME:EDT
DTSTART:20250309T070000
END:DAYLIGHT
BEGIN:STANDARD
TZOFFSETFROM:-0400
TZOFFSETTO:-0500
TZNAME:EST
DTSTART:20251102T060000
END:STANDARD
BEGIN:DAYLIGHT
TZOFFSETFROM:-0500
TZOFFSETTO:-0400
TZNAME:EDT
DTSTART:20260308T070000
END:DAYLIGHT
BEGIN:STANDARD
TZOFFSETFROM:-0400
TZOFFSETTO:-0500
TZNAME:EST
DTSTART:20261101T060000
END:STANDARD
BEGIN:DAYLIGHT
TZOFFSETFROM:-0500
TZOFFSETTO:-0400
TZNAME:EDT
DTSTART:20270314T070000
END:DAYLIGHT
BEGIN:STANDARD
TZOFFSETFROM:-0400
TZOFFSETTO:-0500
TZNAME:EST
DTSTART:20271107T060000
END:STANDARD
END:VTIMEZONE
BEGIN:VEVENT
DTSTART;TZID=America/New_York:20260508T100000
DTEND;TZID=America/New_York:20260508T110000
DTSTAMP:20260422T193540
CREATED:20260422T185002Z
LAST-MODIFIED:20260422T185002Z
UID:10039197-1778234400-1778238000@bevmain.org
SUMMARY:Coffee & Conversation: Jonathan Schuster presents Beverly in the Civil War
DESCRIPTION:Join Historic Beverly for a lively and engaging Coffee & Conversation as we take a deep dive into the Civil War with our Archives & Research Manager\, Jonathan Schuster. A longtime student of the war\, Jonathan will share how his passion for Civil War history began and how it informs his work preserving and interpreting Beverly’s past. \nTogether\, we’ll explore the many ways Beverly contributed to the Union cause\, with special attention to the 23rd Massachusetts Infantry\, Company G\, and the local men who served. What better time than April\, the very month the war began\, to reflect on the conflict that reshaped the nation and left a lasting mark on our community? \nAs always\, this program is informal and discussion-based. Bring your curiosity and your questions about soldiers’ experiences\, home front contributions\, regimental history\, and even the role coffee played during the war. Whether you are a dedicated Civil War enthusiast or simply eager to learn more about Beverly’s history\, this promises to be a thoughtful and engaging morning. \nCoffee & Conversation are held every second Friday at 10:00 am at the Cabot House\nAdmission is free; $5 suggested donation. Coffee provided by https://www.beantrustcoffee.com/
URL:https://bevmain.org/event/coffee-conversation-jonathan-schuster-presents-beverly-in-the-civil-war/
LOCATION:Cabot House\, Cabot Street\, Beverly\, MA\, 01915\, United States
CATEGORIES:Community Events
ATTACH;FMTTYPE=image/png:https://bevmain.org/wp-content/uploads/2026/04/Coffee-Conversation-Beverly-in-the-Civil-War.png
ORGANIZER;CN="Historic Beverly":MAILTO:events@historicbeverly.net
GEO:42.5458772;-70.879895
X-APPLE-STRUCTURED-LOCATION;VALUE=URI;X-ADDRESS=Cabot House Cabot Street Beverly MA 01915 United States;X-APPLE-RADIUS=500;X-TITLE=Cabot Street:geo:-70.879895,42.5458772
END:VEVENT
END:VCALENDAR