BEGIN:VCALENDAR
VERSION:2.0
PRODID:-//Beverly Main Streets - ECPv6.15.20//NONSGML v1.0//EN
CALSCALE:GREGORIAN
METHOD:PUBLISH
X-WR-CALNAME:Beverly Main Streets
X-ORIGINAL-URL:https://bevmain.org
X-WR-CALDESC:Events for Beverly Main Streets
REFRESH-INTERVAL;VALUE=DURATION:PT1H
X-Robots-Tag:noindex
X-PUBLISHED-TTL:PT1H
BEGIN:VTIMEZONE
TZID:America/New_York
BEGIN:DAYLIGHT
TZOFFSETFROM:-0500
TZOFFSETTO:-0400
TZNAME:EDT
DTSTART:20260308T070000
END:DAYLIGHT
BEGIN:STANDARD
TZOFFSETFROM:-0400
TZOFFSETTO:-0500
TZNAME:EST
DTSTART:20261101T060000
END:STANDARD
BEGIN:DAYLIGHT
TZOFFSETFROM:-0500
TZOFFSETTO:-0400
TZNAME:EDT
DTSTART:20270314T070000
END:DAYLIGHT
BEGIN:STANDARD
TZOFFSETFROM:-0400
TZOFFSETTO:-0500
TZNAME:EST
DTSTART:20271107T060000
END:STANDARD
BEGIN:DAYLIGHT
TZOFFSETFROM:-0500
TZOFFSETTO:-0400
TZNAME:EDT
DTSTART:20280312T070000
END:DAYLIGHT
BEGIN:STANDARD
TZOFFSETFROM:-0400
TZOFFSETTO:-0500
TZNAME:EST
DTSTART:20281105T060000
END:STANDARD
END:VTIMEZONE
BEGIN:VEVENT
DTSTART;TZID=America/New_York:20270114T110000
DTEND;TZID=America/New_York:20270118T210000
DTSTAMP:20260423T022316
CREATED:20250417T172123Z
LAST-MODIFIED:20250417T172123Z
UID:10029545-1799924400-1800306000@bevmain.org
SUMMARY:Burrito & A Beer
DESCRIPTION:Craving a burrito and a beer? We’ve got you covered! \nGet our Burrito & a Beer combo\, all for only $20\, Monday through Friday!
URL:https://bevmain.org/event/burrito-a-beer/2027-01-14/
LOCATION:La Qchara\, 275 Cabot Street\, Beverly\, 01915\, United States
CATEGORIES:Beer/Wine,Food
ATTACH;FMTTYPE=image/jpeg:https://bevmain.org/wp-content/uploads/2025/04/Burrito-and-a-Beer-Beverly-Main-Streets-Ad.jpg
ORGANIZER;CN="La Qchara":MAILTO:marketing@laqchara.com
GEO:42.5509677;-70.8781069
X-APPLE-STRUCTURED-LOCATION;VALUE=URI;X-ADDRESS=La Qchara 275 Cabot Street Beverly 01915 United States;X-APPLE-RADIUS=500;X-TITLE=275 Cabot Street:geo:-70.8781069,42.5509677
END:VEVENT
BEGIN:VEVENT
DTSTART;TZID=America/New_York:20270115T110000
DTEND;TZID=America/New_York:20270119T210000
DTSTAMP:20260423T022316
CREATED:20250417T172123Z
LAST-MODIFIED:20250417T172123Z
UID:10029546-1800010800-1800392400@bevmain.org
SUMMARY:Burrito & A Beer
DESCRIPTION:Craving a burrito and a beer? We’ve got you covered! \nGet our Burrito & a Beer combo\, all for only $20\, Monday through Friday!
URL:https://bevmain.org/event/burrito-a-beer/2027-01-15/
LOCATION:La Qchara\, 275 Cabot Street\, Beverly\, 01915\, United States
CATEGORIES:Beer/Wine,Food
ATTACH;FMTTYPE=image/jpeg:https://bevmain.org/wp-content/uploads/2025/04/Burrito-and-a-Beer-Beverly-Main-Streets-Ad.jpg
ORGANIZER;CN="La Qchara":MAILTO:marketing@laqchara.com
GEO:42.5509677;-70.8781069
X-APPLE-STRUCTURED-LOCATION;VALUE=URI;X-ADDRESS=La Qchara 275 Cabot Street Beverly 01915 United States;X-APPLE-RADIUS=500;X-TITLE=275 Cabot Street:geo:-70.8781069,42.5509677
END:VEVENT
BEGIN:VEVENT
DTSTART;TZID=America/New_York:20270118T110000
DTEND;TZID=America/New_York:20270122T210000
DTSTAMP:20260423T022316
CREATED:20250417T172123Z
LAST-MODIFIED:20250417T172123Z
UID:10029547-1800270000-1800651600@bevmain.org
SUMMARY:Burrito & A Beer
DESCRIPTION:Craving a burrito and a beer? We’ve got you covered! \nGet our Burrito & a Beer combo\, all for only $20\, Monday through Friday!
URL:https://bevmain.org/event/burrito-a-beer/2027-01-18/
LOCATION:La Qchara\, 275 Cabot Street\, Beverly\, 01915\, United States
CATEGORIES:Beer/Wine,Food
ATTACH;FMTTYPE=image/jpeg:https://bevmain.org/wp-content/uploads/2025/04/Burrito-and-a-Beer-Beverly-Main-Streets-Ad.jpg
ORGANIZER;CN="La Qchara":MAILTO:marketing@laqchara.com
GEO:42.5509677;-70.8781069
X-APPLE-STRUCTURED-LOCATION;VALUE=URI;X-ADDRESS=La Qchara 275 Cabot Street Beverly 01915 United States;X-APPLE-RADIUS=500;X-TITLE=275 Cabot Street:geo:-70.8781069,42.5509677
END:VEVENT
BEGIN:VEVENT
DTSTART;TZID=America/New_York:20270119T110000
DTEND;TZID=America/New_York:20270123T210000
DTSTAMP:20260423T022316
CREATED:20250417T172123Z
LAST-MODIFIED:20250417T172123Z
UID:10029548-1800356400-1800738000@bevmain.org
SUMMARY:Burrito & A Beer
DESCRIPTION:Craving a burrito and a beer? We’ve got you covered! \nGet our Burrito & a Beer combo\, all for only $20\, Monday through Friday!
URL:https://bevmain.org/event/burrito-a-beer/2027-01-19/
LOCATION:La Qchara\, 275 Cabot Street\, Beverly\, 01915\, United States
CATEGORIES:Beer/Wine,Food
ATTACH;FMTTYPE=image/jpeg:https://bevmain.org/wp-content/uploads/2025/04/Burrito-and-a-Beer-Beverly-Main-Streets-Ad.jpg
ORGANIZER;CN="La Qchara":MAILTO:marketing@laqchara.com
GEO:42.5509677;-70.8781069
X-APPLE-STRUCTURED-LOCATION;VALUE=URI;X-ADDRESS=La Qchara 275 Cabot Street Beverly 01915 United States;X-APPLE-RADIUS=500;X-TITLE=275 Cabot Street:geo:-70.8781069,42.5509677
END:VEVENT
BEGIN:VEVENT
DTSTART;TZID=America/New_York:20270120T110000
DTEND;TZID=America/New_York:20270124T210000
DTSTAMP:20260423T022316
CREATED:20250417T172123Z
LAST-MODIFIED:20250417T172123Z
UID:10029549-1800442800-1800824400@bevmain.org
SUMMARY:Burrito & A Beer
DESCRIPTION:Craving a burrito and a beer? We’ve got you covered! \nGet our Burrito & a Beer combo\, all for only $20\, Monday through Friday!
URL:https://bevmain.org/event/burrito-a-beer/2027-01-20/
LOCATION:La Qchara\, 275 Cabot Street\, Beverly\, 01915\, United States
CATEGORIES:Beer/Wine,Food
ATTACH;FMTTYPE=image/jpeg:https://bevmain.org/wp-content/uploads/2025/04/Burrito-and-a-Beer-Beverly-Main-Streets-Ad.jpg
ORGANIZER;CN="La Qchara":MAILTO:marketing@laqchara.com
GEO:42.5509677;-70.8781069
X-APPLE-STRUCTURED-LOCATION;VALUE=URI;X-ADDRESS=La Qchara 275 Cabot Street Beverly 01915 United States;X-APPLE-RADIUS=500;X-TITLE=275 Cabot Street:geo:-70.8781069,42.5509677
END:VEVENT
BEGIN:VEVENT
DTSTART;TZID=America/New_York:20270121T110000
DTEND;TZID=America/New_York:20270125T210000
DTSTAMP:20260423T022316
CREATED:20250417T172123Z
LAST-MODIFIED:20250417T172123Z
UID:10029550-1800529200-1800910800@bevmain.org
SUMMARY:Burrito & A Beer
DESCRIPTION:Craving a burrito and a beer? We’ve got you covered! \nGet our Burrito & a Beer combo\, all for only $20\, Monday through Friday!
URL:https://bevmain.org/event/burrito-a-beer/2027-01-21/
LOCATION:La Qchara\, 275 Cabot Street\, Beverly\, 01915\, United States
CATEGORIES:Beer/Wine,Food
ATTACH;FMTTYPE=image/jpeg:https://bevmain.org/wp-content/uploads/2025/04/Burrito-and-a-Beer-Beverly-Main-Streets-Ad.jpg
ORGANIZER;CN="La Qchara":MAILTO:marketing@laqchara.com
GEO:42.5509677;-70.8781069
X-APPLE-STRUCTURED-LOCATION;VALUE=URI;X-ADDRESS=La Qchara 275 Cabot Street Beverly 01915 United States;X-APPLE-RADIUS=500;X-TITLE=275 Cabot Street:geo:-70.8781069,42.5509677
END:VEVENT
BEGIN:VEVENT
DTSTART;TZID=America/New_York:20270122T110000
DTEND;TZID=America/New_York:20270126T210000
DTSTAMP:20260423T022316
CREATED:20250417T172123Z
LAST-MODIFIED:20250417T172123Z
UID:10029551-1800615600-1800997200@bevmain.org
SUMMARY:Burrito & A Beer
DESCRIPTION:Craving a burrito and a beer? We’ve got you covered! \nGet our Burrito & a Beer combo\, all for only $20\, Monday through Friday!
URL:https://bevmain.org/event/burrito-a-beer/2027-01-22/
LOCATION:La Qchara\, 275 Cabot Street\, Beverly\, 01915\, United States
CATEGORIES:Beer/Wine,Food
ATTACH;FMTTYPE=image/jpeg:https://bevmain.org/wp-content/uploads/2025/04/Burrito-and-a-Beer-Beverly-Main-Streets-Ad.jpg
ORGANIZER;CN="La Qchara":MAILTO:marketing@laqchara.com
GEO:42.5509677;-70.8781069
X-APPLE-STRUCTURED-LOCATION;VALUE=URI;X-ADDRESS=La Qchara 275 Cabot Street Beverly 01915 United States;X-APPLE-RADIUS=500;X-TITLE=275 Cabot Street:geo:-70.8781069,42.5509677
END:VEVENT
BEGIN:VEVENT
DTSTART;TZID=America/New_York:20270125T110000
DTEND;TZID=America/New_York:20270129T210000
DTSTAMP:20260423T022316
CREATED:20250417T172123Z
LAST-MODIFIED:20250417T172123Z
UID:10029552-1800874800-1801256400@bevmain.org
SUMMARY:Burrito & A Beer
DESCRIPTION:Craving a burrito and a beer? We’ve got you covered! \nGet our Burrito & a Beer combo\, all for only $20\, Monday through Friday!
URL:https://bevmain.org/event/burrito-a-beer/2027-01-25/
LOCATION:La Qchara\, 275 Cabot Street\, Beverly\, 01915\, United States
CATEGORIES:Beer/Wine,Food
ATTACH;FMTTYPE=image/jpeg:https://bevmain.org/wp-content/uploads/2025/04/Burrito-and-a-Beer-Beverly-Main-Streets-Ad.jpg
ORGANIZER;CN="La Qchara":MAILTO:marketing@laqchara.com
GEO:42.5509677;-70.8781069
X-APPLE-STRUCTURED-LOCATION;VALUE=URI;X-ADDRESS=La Qchara 275 Cabot Street Beverly 01915 United States;X-APPLE-RADIUS=500;X-TITLE=275 Cabot Street:geo:-70.8781069,42.5509677
END:VEVENT
BEGIN:VEVENT
DTSTART;TZID=America/New_York:20270126T110000
DTEND;TZID=America/New_York:20270130T210000
DTSTAMP:20260423T022316
CREATED:20250417T172123Z
LAST-MODIFIED:20250417T172123Z
UID:10029553-1800961200-1801342800@bevmain.org
SUMMARY:Burrito & A Beer
DESCRIPTION:Craving a burrito and a beer? We’ve got you covered! \nGet our Burrito & a Beer combo\, all for only $20\, Monday through Friday!
URL:https://bevmain.org/event/burrito-a-beer/2027-01-26/
LOCATION:La Qchara\, 275 Cabot Street\, Beverly\, 01915\, United States
CATEGORIES:Beer/Wine,Food
ATTACH;FMTTYPE=image/jpeg:https://bevmain.org/wp-content/uploads/2025/04/Burrito-and-a-Beer-Beverly-Main-Streets-Ad.jpg
ORGANIZER;CN="La Qchara":MAILTO:marketing@laqchara.com
GEO:42.5509677;-70.8781069
X-APPLE-STRUCTURED-LOCATION;VALUE=URI;X-ADDRESS=La Qchara 275 Cabot Street Beverly 01915 United States;X-APPLE-RADIUS=500;X-TITLE=275 Cabot Street:geo:-70.8781069,42.5509677
END:VEVENT
BEGIN:VEVENT
DTSTART;TZID=America/New_York:20270127T110000
DTEND;TZID=America/New_York:20270131T210000
DTSTAMP:20260423T022316
CREATED:20250417T172123Z
LAST-MODIFIED:20250417T172123Z
UID:10029554-1801047600-1801429200@bevmain.org
SUMMARY:Burrito & A Beer
DESCRIPTION:Craving a burrito and a beer? We’ve got you covered! \nGet our Burrito & a Beer combo\, all for only $20\, Monday through Friday!
URL:https://bevmain.org/event/burrito-a-beer/2027-01-27/
LOCATION:La Qchara\, 275 Cabot Street\, Beverly\, 01915\, United States
CATEGORIES:Beer/Wine,Food
ATTACH;FMTTYPE=image/jpeg:https://bevmain.org/wp-content/uploads/2025/04/Burrito-and-a-Beer-Beverly-Main-Streets-Ad.jpg
ORGANIZER;CN="La Qchara":MAILTO:marketing@laqchara.com
GEO:42.5509677;-70.8781069
X-APPLE-STRUCTURED-LOCATION;VALUE=URI;X-ADDRESS=La Qchara 275 Cabot Street Beverly 01915 United States;X-APPLE-RADIUS=500;X-TITLE=275 Cabot Street:geo:-70.8781069,42.5509677
END:VEVENT
BEGIN:VEVENT
DTSTART;TZID=America/New_York:20270128T110000
DTEND;TZID=America/New_York:20270201T210000
DTSTAMP:20260423T022316
CREATED:20250417T172123Z
LAST-MODIFIED:20250417T172123Z
UID:10029555-1801134000-1801515600@bevmain.org
SUMMARY:Burrito & A Beer
DESCRIPTION:Craving a burrito and a beer? We’ve got you covered! \nGet our Burrito & a Beer combo\, all for only $20\, Monday through Friday!
URL:https://bevmain.org/event/burrito-a-beer/2027-01-28/
LOCATION:La Qchara\, 275 Cabot Street\, Beverly\, 01915\, United States
CATEGORIES:Beer/Wine,Food
ATTACH;FMTTYPE=image/jpeg:https://bevmain.org/wp-content/uploads/2025/04/Burrito-and-a-Beer-Beverly-Main-Streets-Ad.jpg
ORGANIZER;CN="La Qchara":MAILTO:marketing@laqchara.com
GEO:42.5509677;-70.8781069
X-APPLE-STRUCTURED-LOCATION;VALUE=URI;X-ADDRESS=La Qchara 275 Cabot Street Beverly 01915 United States;X-APPLE-RADIUS=500;X-TITLE=275 Cabot Street:geo:-70.8781069,42.5509677
END:VEVENT
BEGIN:VEVENT
DTSTART;TZID=America/New_York:20270129T110000
DTEND;TZID=America/New_York:20270202T210000
DTSTAMP:20260423T022316
CREATED:20250417T172123Z
LAST-MODIFIED:20250417T172123Z
UID:10029556-1801220400-1801602000@bevmain.org
SUMMARY:Burrito & A Beer
DESCRIPTION:Craving a burrito and a beer? We’ve got you covered! \nGet our Burrito & a Beer combo\, all for only $20\, Monday through Friday!
URL:https://bevmain.org/event/burrito-a-beer/2027-01-29/
LOCATION:La Qchara\, 275 Cabot Street\, Beverly\, 01915\, United States
CATEGORIES:Beer/Wine,Food
ATTACH;FMTTYPE=image/jpeg:https://bevmain.org/wp-content/uploads/2025/04/Burrito-and-a-Beer-Beverly-Main-Streets-Ad.jpg
ORGANIZER;CN="La Qchara":MAILTO:marketing@laqchara.com
GEO:42.5509677;-70.8781069
X-APPLE-STRUCTURED-LOCATION;VALUE=URI;X-ADDRESS=La Qchara 275 Cabot Street Beverly 01915 United States;X-APPLE-RADIUS=500;X-TITLE=275 Cabot Street:geo:-70.8781069,42.5509677
END:VEVENT
BEGIN:VEVENT
DTSTART;TZID=America/New_York:20270201T110000
DTEND;TZID=America/New_York:20270205T210000
DTSTAMP:20260423T022316
CREATED:20250417T172123Z
LAST-MODIFIED:20250417T172123Z
UID:10029557-1801479600-1801861200@bevmain.org
SUMMARY:Burrito & A Beer
DESCRIPTION:Craving a burrito and a beer? We’ve got you covered! \nGet our Burrito & a Beer combo\, all for only $20\, Monday through Friday!
URL:https://bevmain.org/event/burrito-a-beer/2027-02-01/
LOCATION:La Qchara\, 275 Cabot Street\, Beverly\, 01915\, United States
CATEGORIES:Beer/Wine,Food
ATTACH;FMTTYPE=image/jpeg:https://bevmain.org/wp-content/uploads/2025/04/Burrito-and-a-Beer-Beverly-Main-Streets-Ad.jpg
ORGANIZER;CN="La Qchara":MAILTO:marketing@laqchara.com
GEO:42.5509677;-70.8781069
X-APPLE-STRUCTURED-LOCATION;VALUE=URI;X-ADDRESS=La Qchara 275 Cabot Street Beverly 01915 United States;X-APPLE-RADIUS=500;X-TITLE=275 Cabot Street:geo:-70.8781069,42.5509677
END:VEVENT
BEGIN:VEVENT
DTSTART;TZID=America/New_York:20270202T110000
DTEND;TZID=America/New_York:20270206T210000
DTSTAMP:20260423T022316
CREATED:20250417T172123Z
LAST-MODIFIED:20250417T172123Z
UID:10029558-1801566000-1801947600@bevmain.org
SUMMARY:Burrito & A Beer
DESCRIPTION:Craving a burrito and a beer? We’ve got you covered! \nGet our Burrito & a Beer combo\, all for only $20\, Monday through Friday!
URL:https://bevmain.org/event/burrito-a-beer/2027-02-02/
LOCATION:La Qchara\, 275 Cabot Street\, Beverly\, 01915\, United States
CATEGORIES:Beer/Wine,Food
ATTACH;FMTTYPE=image/jpeg:https://bevmain.org/wp-content/uploads/2025/04/Burrito-and-a-Beer-Beverly-Main-Streets-Ad.jpg
ORGANIZER;CN="La Qchara":MAILTO:marketing@laqchara.com
GEO:42.5509677;-70.8781069
X-APPLE-STRUCTURED-LOCATION;VALUE=URI;X-ADDRESS=La Qchara 275 Cabot Street Beverly 01915 United States;X-APPLE-RADIUS=500;X-TITLE=275 Cabot Street:geo:-70.8781069,42.5509677
END:VEVENT
BEGIN:VEVENT
DTSTART;TZID=America/New_York:20270203T110000
DTEND;TZID=America/New_York:20270207T210000
DTSTAMP:20260423T022316
CREATED:20250417T172123Z
LAST-MODIFIED:20250417T172123Z
UID:10029559-1801652400-1802034000@bevmain.org
SUMMARY:Burrito & A Beer
DESCRIPTION:Craving a burrito and a beer? We’ve got you covered! \nGet our Burrito & a Beer combo\, all for only $20\, Monday through Friday!
URL:https://bevmain.org/event/burrito-a-beer/2027-02-03/
LOCATION:La Qchara\, 275 Cabot Street\, Beverly\, 01915\, United States
CATEGORIES:Beer/Wine,Food
ATTACH;FMTTYPE=image/jpeg:https://bevmain.org/wp-content/uploads/2025/04/Burrito-and-a-Beer-Beverly-Main-Streets-Ad.jpg
ORGANIZER;CN="La Qchara":MAILTO:marketing@laqchara.com
GEO:42.5509677;-70.8781069
X-APPLE-STRUCTURED-LOCATION;VALUE=URI;X-ADDRESS=La Qchara 275 Cabot Street Beverly 01915 United States;X-APPLE-RADIUS=500;X-TITLE=275 Cabot Street:geo:-70.8781069,42.5509677
END:VEVENT
BEGIN:VEVENT
DTSTART;TZID=America/New_York:20270204T110000
DTEND;TZID=America/New_York:20270208T210000
DTSTAMP:20260423T022316
CREATED:20250417T172123Z
LAST-MODIFIED:20250417T172123Z
UID:10029560-1801738800-1802120400@bevmain.org
SUMMARY:Burrito & A Beer
DESCRIPTION:Craving a burrito and a beer? We’ve got you covered! \nGet our Burrito & a Beer combo\, all for only $20\, Monday through Friday!
URL:https://bevmain.org/event/burrito-a-beer/2027-02-04/
LOCATION:La Qchara\, 275 Cabot Street\, Beverly\, 01915\, United States
CATEGORIES:Beer/Wine,Food
ATTACH;FMTTYPE=image/jpeg:https://bevmain.org/wp-content/uploads/2025/04/Burrito-and-a-Beer-Beverly-Main-Streets-Ad.jpg
ORGANIZER;CN="La Qchara":MAILTO:marketing@laqchara.com
GEO:42.5509677;-70.8781069
X-APPLE-STRUCTURED-LOCATION;VALUE=URI;X-ADDRESS=La Qchara 275 Cabot Street Beverly 01915 United States;X-APPLE-RADIUS=500;X-TITLE=275 Cabot Street:geo:-70.8781069,42.5509677
END:VEVENT
BEGIN:VEVENT
DTSTART;TZID=America/New_York:20270205T110000
DTEND;TZID=America/New_York:20270209T210000
DTSTAMP:20260423T022316
CREATED:20250417T172123Z
LAST-MODIFIED:20250417T172123Z
UID:10029561-1801825200-1802206800@bevmain.org
SUMMARY:Burrito & A Beer
DESCRIPTION:Craving a burrito and a beer? We’ve got you covered! \nGet our Burrito & a Beer combo\, all for only $20\, Monday through Friday!
URL:https://bevmain.org/event/burrito-a-beer/2027-02-05/
LOCATION:La Qchara\, 275 Cabot Street\, Beverly\, 01915\, United States
CATEGORIES:Beer/Wine,Food
ATTACH;FMTTYPE=image/jpeg:https://bevmain.org/wp-content/uploads/2025/04/Burrito-and-a-Beer-Beverly-Main-Streets-Ad.jpg
ORGANIZER;CN="La Qchara":MAILTO:marketing@laqchara.com
GEO:42.5509677;-70.8781069
X-APPLE-STRUCTURED-LOCATION;VALUE=URI;X-ADDRESS=La Qchara 275 Cabot Street Beverly 01915 United States;X-APPLE-RADIUS=500;X-TITLE=275 Cabot Street:geo:-70.8781069,42.5509677
END:VEVENT
BEGIN:VEVENT
DTSTART;TZID=America/New_York:20270208T110000
DTEND;TZID=America/New_York:20270212T210000
DTSTAMP:20260423T022316
CREATED:20250417T172123Z
LAST-MODIFIED:20250417T172123Z
UID:10029562-1802084400-1802466000@bevmain.org
SUMMARY:Burrito & A Beer
DESCRIPTION:Craving a burrito and a beer? We’ve got you covered! \nGet our Burrito & a Beer combo\, all for only $20\, Monday through Friday!
URL:https://bevmain.org/event/burrito-a-beer/2027-02-08/
LOCATION:La Qchara\, 275 Cabot Street\, Beverly\, 01915\, United States
CATEGORIES:Beer/Wine,Food
ATTACH;FMTTYPE=image/jpeg:https://bevmain.org/wp-content/uploads/2025/04/Burrito-and-a-Beer-Beverly-Main-Streets-Ad.jpg
ORGANIZER;CN="La Qchara":MAILTO:marketing@laqchara.com
GEO:42.5509677;-70.8781069
X-APPLE-STRUCTURED-LOCATION;VALUE=URI;X-ADDRESS=La Qchara 275 Cabot Street Beverly 01915 United States;X-APPLE-RADIUS=500;X-TITLE=275 Cabot Street:geo:-70.8781069,42.5509677
END:VEVENT
BEGIN:VEVENT
DTSTART;TZID=America/New_York:20270209T110000
DTEND;TZID=America/New_York:20270213T210000
DTSTAMP:20260423T022316
CREATED:20250417T172123Z
LAST-MODIFIED:20250417T172123Z
UID:10029563-1802170800-1802552400@bevmain.org
SUMMARY:Burrito & A Beer
DESCRIPTION:Craving a burrito and a beer? We’ve got you covered! \nGet our Burrito & a Beer combo\, all for only $20\, Monday through Friday!
URL:https://bevmain.org/event/burrito-a-beer/2027-02-09/
LOCATION:La Qchara\, 275 Cabot Street\, Beverly\, 01915\, United States
CATEGORIES:Beer/Wine,Food
ATTACH;FMTTYPE=image/jpeg:https://bevmain.org/wp-content/uploads/2025/04/Burrito-and-a-Beer-Beverly-Main-Streets-Ad.jpg
ORGANIZER;CN="La Qchara":MAILTO:marketing@laqchara.com
GEO:42.5509677;-70.8781069
X-APPLE-STRUCTURED-LOCATION;VALUE=URI;X-ADDRESS=La Qchara 275 Cabot Street Beverly 01915 United States;X-APPLE-RADIUS=500;X-TITLE=275 Cabot Street:geo:-70.8781069,42.5509677
END:VEVENT
BEGIN:VEVENT
DTSTART;TZID=America/New_York:20270210T110000
DTEND;TZID=America/New_York:20270214T210000
DTSTAMP:20260423T022316
CREATED:20250417T172123Z
LAST-MODIFIED:20250417T172123Z
UID:10029564-1802257200-1802638800@bevmain.org
SUMMARY:Burrito & A Beer
DESCRIPTION:Craving a burrito and a beer? We’ve got you covered! \nGet our Burrito & a Beer combo\, all for only $20\, Monday through Friday!
URL:https://bevmain.org/event/burrito-a-beer/2027-02-10/
LOCATION:La Qchara\, 275 Cabot Street\, Beverly\, 01915\, United States
CATEGORIES:Beer/Wine,Food
ATTACH;FMTTYPE=image/jpeg:https://bevmain.org/wp-content/uploads/2025/04/Burrito-and-a-Beer-Beverly-Main-Streets-Ad.jpg
ORGANIZER;CN="La Qchara":MAILTO:marketing@laqchara.com
GEO:42.5509677;-70.8781069
X-APPLE-STRUCTURED-LOCATION;VALUE=URI;X-ADDRESS=La Qchara 275 Cabot Street Beverly 01915 United States;X-APPLE-RADIUS=500;X-TITLE=275 Cabot Street:geo:-70.8781069,42.5509677
END:VEVENT
BEGIN:VEVENT
DTSTART;TZID=America/New_York:20270211T110000
DTEND;TZID=America/New_York:20270215T210000
DTSTAMP:20260423T022316
CREATED:20250417T172123Z
LAST-MODIFIED:20250417T172123Z
UID:10029565-1802343600-1802725200@bevmain.org
SUMMARY:Burrito & A Beer
DESCRIPTION:Craving a burrito and a beer? We’ve got you covered! \nGet our Burrito & a Beer combo\, all for only $20\, Monday through Friday!
URL:https://bevmain.org/event/burrito-a-beer/2027-02-11/
LOCATION:La Qchara\, 275 Cabot Street\, Beverly\, 01915\, United States
CATEGORIES:Beer/Wine,Food
ATTACH;FMTTYPE=image/jpeg:https://bevmain.org/wp-content/uploads/2025/04/Burrito-and-a-Beer-Beverly-Main-Streets-Ad.jpg
ORGANIZER;CN="La Qchara":MAILTO:marketing@laqchara.com
GEO:42.5509677;-70.8781069
X-APPLE-STRUCTURED-LOCATION;VALUE=URI;X-ADDRESS=La Qchara 275 Cabot Street Beverly 01915 United States;X-APPLE-RADIUS=500;X-TITLE=275 Cabot Street:geo:-70.8781069,42.5509677
END:VEVENT
BEGIN:VEVENT
DTSTART;TZID=America/New_York:20270212T110000
DTEND;TZID=America/New_York:20270216T210000
DTSTAMP:20260423T022316
CREATED:20250417T172123Z
LAST-MODIFIED:20250417T172123Z
UID:10029566-1802430000-1802811600@bevmain.org
SUMMARY:Burrito & A Beer
DESCRIPTION:Craving a burrito and a beer? We’ve got you covered! \nGet our Burrito & a Beer combo\, all for only $20\, Monday through Friday!
URL:https://bevmain.org/event/burrito-a-beer/2027-02-12/
LOCATION:La Qchara\, 275 Cabot Street\, Beverly\, 01915\, United States
CATEGORIES:Beer/Wine,Food
ATTACH;FMTTYPE=image/jpeg:https://bevmain.org/wp-content/uploads/2025/04/Burrito-and-a-Beer-Beverly-Main-Streets-Ad.jpg
ORGANIZER;CN="La Qchara":MAILTO:marketing@laqchara.com
GEO:42.5509677;-70.8781069
X-APPLE-STRUCTURED-LOCATION;VALUE=URI;X-ADDRESS=La Qchara 275 Cabot Street Beverly 01915 United States;X-APPLE-RADIUS=500;X-TITLE=275 Cabot Street:geo:-70.8781069,42.5509677
END:VEVENT
BEGIN:VEVENT
DTSTART;TZID=America/New_York:20270215T110000
DTEND;TZID=America/New_York:20270219T210000
DTSTAMP:20260423T022316
CREATED:20250417T172123Z
LAST-MODIFIED:20250417T172123Z
UID:10029567-1802689200-1803070800@bevmain.org
SUMMARY:Burrito & A Beer
DESCRIPTION:Craving a burrito and a beer? We’ve got you covered! \nGet our Burrito & a Beer combo\, all for only $20\, Monday through Friday!
URL:https://bevmain.org/event/burrito-a-beer/2027-02-15/
LOCATION:La Qchara\, 275 Cabot Street\, Beverly\, 01915\, United States
CATEGORIES:Beer/Wine,Food
ATTACH;FMTTYPE=image/jpeg:https://bevmain.org/wp-content/uploads/2025/04/Burrito-and-a-Beer-Beverly-Main-Streets-Ad.jpg
ORGANIZER;CN="La Qchara":MAILTO:marketing@laqchara.com
GEO:42.5509677;-70.8781069
X-APPLE-STRUCTURED-LOCATION;VALUE=URI;X-ADDRESS=La Qchara 275 Cabot Street Beverly 01915 United States;X-APPLE-RADIUS=500;X-TITLE=275 Cabot Street:geo:-70.8781069,42.5509677
END:VEVENT
BEGIN:VEVENT
DTSTART;TZID=America/New_York:20270216T110000
DTEND;TZID=America/New_York:20270220T210000
DTSTAMP:20260423T022316
CREATED:20250417T172123Z
LAST-MODIFIED:20250417T172123Z
UID:10029568-1802775600-1803157200@bevmain.org
SUMMARY:Burrito & A Beer
DESCRIPTION:Craving a burrito and a beer? We’ve got you covered! \nGet our Burrito & a Beer combo\, all for only $20\, Monday through Friday!
URL:https://bevmain.org/event/burrito-a-beer/2027-02-16/
LOCATION:La Qchara\, 275 Cabot Street\, Beverly\, 01915\, United States
CATEGORIES:Beer/Wine,Food
ATTACH;FMTTYPE=image/jpeg:https://bevmain.org/wp-content/uploads/2025/04/Burrito-and-a-Beer-Beverly-Main-Streets-Ad.jpg
ORGANIZER;CN="La Qchara":MAILTO:marketing@laqchara.com
GEO:42.5509677;-70.8781069
X-APPLE-STRUCTURED-LOCATION;VALUE=URI;X-ADDRESS=La Qchara 275 Cabot Street Beverly 01915 United States;X-APPLE-RADIUS=500;X-TITLE=275 Cabot Street:geo:-70.8781069,42.5509677
END:VEVENT
BEGIN:VEVENT
DTSTART;TZID=America/New_York:20270217T110000
DTEND;TZID=America/New_York:20270221T210000
DTSTAMP:20260423T022316
CREATED:20250417T172123Z
LAST-MODIFIED:20250417T172123Z
UID:10029569-1802862000-1803243600@bevmain.org
SUMMARY:Burrito & A Beer
DESCRIPTION:Craving a burrito and a beer? We’ve got you covered! \nGet our Burrito & a Beer combo\, all for only $20\, Monday through Friday!
URL:https://bevmain.org/event/burrito-a-beer/2027-02-17/
LOCATION:La Qchara\, 275 Cabot Street\, Beverly\, 01915\, United States
CATEGORIES:Beer/Wine,Food
ATTACH;FMTTYPE=image/jpeg:https://bevmain.org/wp-content/uploads/2025/04/Burrito-and-a-Beer-Beverly-Main-Streets-Ad.jpg
ORGANIZER;CN="La Qchara":MAILTO:marketing@laqchara.com
GEO:42.5509677;-70.8781069
X-APPLE-STRUCTURED-LOCATION;VALUE=URI;X-ADDRESS=La Qchara 275 Cabot Street Beverly 01915 United States;X-APPLE-RADIUS=500;X-TITLE=275 Cabot Street:geo:-70.8781069,42.5509677
END:VEVENT
BEGIN:VEVENT
DTSTART;TZID=America/New_York:20270218T110000
DTEND;TZID=America/New_York:20270222T210000
DTSTAMP:20260423T022316
CREATED:20250417T172123Z
LAST-MODIFIED:20250417T172123Z
UID:10029570-1802948400-1803330000@bevmain.org
SUMMARY:Burrito & A Beer
DESCRIPTION:Craving a burrito and a beer? We’ve got you covered! \nGet our Burrito & a Beer combo\, all for only $20\, Monday through Friday!
URL:https://bevmain.org/event/burrito-a-beer/2027-02-18/
LOCATION:La Qchara\, 275 Cabot Street\, Beverly\, 01915\, United States
CATEGORIES:Beer/Wine,Food
ATTACH;FMTTYPE=image/jpeg:https://bevmain.org/wp-content/uploads/2025/04/Burrito-and-a-Beer-Beverly-Main-Streets-Ad.jpg
ORGANIZER;CN="La Qchara":MAILTO:marketing@laqchara.com
GEO:42.5509677;-70.8781069
X-APPLE-STRUCTURED-LOCATION;VALUE=URI;X-ADDRESS=La Qchara 275 Cabot Street Beverly 01915 United States;X-APPLE-RADIUS=500;X-TITLE=275 Cabot Street:geo:-70.8781069,42.5509677
END:VEVENT
BEGIN:VEVENT
DTSTART;TZID=America/New_York:20270219T110000
DTEND;TZID=America/New_York:20270223T210000
DTSTAMP:20260423T022316
CREATED:20250417T172123Z
LAST-MODIFIED:20250417T172123Z
UID:10029571-1803034800-1803416400@bevmain.org
SUMMARY:Burrito & A Beer
DESCRIPTION:Craving a burrito and a beer? We’ve got you covered! \nGet our Burrito & a Beer combo\, all for only $20\, Monday through Friday!
URL:https://bevmain.org/event/burrito-a-beer/2027-02-19/
LOCATION:La Qchara\, 275 Cabot Street\, Beverly\, 01915\, United States
CATEGORIES:Beer/Wine,Food
ATTACH;FMTTYPE=image/jpeg:https://bevmain.org/wp-content/uploads/2025/04/Burrito-and-a-Beer-Beverly-Main-Streets-Ad.jpg
ORGANIZER;CN="La Qchara":MAILTO:marketing@laqchara.com
GEO:42.5509677;-70.8781069
X-APPLE-STRUCTURED-LOCATION;VALUE=URI;X-ADDRESS=La Qchara 275 Cabot Street Beverly 01915 United States;X-APPLE-RADIUS=500;X-TITLE=275 Cabot Street:geo:-70.8781069,42.5509677
END:VEVENT
BEGIN:VEVENT
DTSTART;TZID=America/New_York:20270222T110000
DTEND;TZID=America/New_York:20270226T210000
DTSTAMP:20260423T022316
CREATED:20250417T172123Z
LAST-MODIFIED:20250417T172123Z
UID:10029572-1803294000-1803675600@bevmain.org
SUMMARY:Burrito & A Beer
DESCRIPTION:Craving a burrito and a beer? We’ve got you covered! \nGet our Burrito & a Beer combo\, all for only $20\, Monday through Friday!
URL:https://bevmain.org/event/burrito-a-beer/2027-02-22/
LOCATION:La Qchara\, 275 Cabot Street\, Beverly\, 01915\, United States
CATEGORIES:Beer/Wine,Food
ATTACH;FMTTYPE=image/jpeg:https://bevmain.org/wp-content/uploads/2025/04/Burrito-and-a-Beer-Beverly-Main-Streets-Ad.jpg
ORGANIZER;CN="La Qchara":MAILTO:marketing@laqchara.com
GEO:42.5509677;-70.8781069
X-APPLE-STRUCTURED-LOCATION;VALUE=URI;X-ADDRESS=La Qchara 275 Cabot Street Beverly 01915 United States;X-APPLE-RADIUS=500;X-TITLE=275 Cabot Street:geo:-70.8781069,42.5509677
END:VEVENT
BEGIN:VEVENT
DTSTART;TZID=America/New_York:20270223T110000
DTEND;TZID=America/New_York:20270227T210000
DTSTAMP:20260423T022316
CREATED:20250417T172123Z
LAST-MODIFIED:20250417T172123Z
UID:10029573-1803380400-1803762000@bevmain.org
SUMMARY:Burrito & A Beer
DESCRIPTION:Craving a burrito and a beer? We’ve got you covered! \nGet our Burrito & a Beer combo\, all for only $20\, Monday through Friday!
URL:https://bevmain.org/event/burrito-a-beer/2027-02-23/
LOCATION:La Qchara\, 275 Cabot Street\, Beverly\, 01915\, United States
CATEGORIES:Beer/Wine,Food
ATTACH;FMTTYPE=image/jpeg:https://bevmain.org/wp-content/uploads/2025/04/Burrito-and-a-Beer-Beverly-Main-Streets-Ad.jpg
ORGANIZER;CN="La Qchara":MAILTO:marketing@laqchara.com
GEO:42.5509677;-70.8781069
X-APPLE-STRUCTURED-LOCATION;VALUE=URI;X-ADDRESS=La Qchara 275 Cabot Street Beverly 01915 United States;X-APPLE-RADIUS=500;X-TITLE=275 Cabot Street:geo:-70.8781069,42.5509677
END:VEVENT
BEGIN:VEVENT
DTSTART;TZID=America/New_York:20270224T110000
DTEND;TZID=America/New_York:20270228T210000
DTSTAMP:20260423T022316
CREATED:20250417T172123Z
LAST-MODIFIED:20250417T172123Z
UID:10029574-1803466800-1803848400@bevmain.org
SUMMARY:Burrito & A Beer
DESCRIPTION:Craving a burrito and a beer? We’ve got you covered! \nGet our Burrito & a Beer combo\, all for only $20\, Monday through Friday!
URL:https://bevmain.org/event/burrito-a-beer/2027-02-24/
LOCATION:La Qchara\, 275 Cabot Street\, Beverly\, 01915\, United States
CATEGORIES:Beer/Wine,Food
ATTACH;FMTTYPE=image/jpeg:https://bevmain.org/wp-content/uploads/2025/04/Burrito-and-a-Beer-Beverly-Main-Streets-Ad.jpg
ORGANIZER;CN="La Qchara":MAILTO:marketing@laqchara.com
GEO:42.5509677;-70.8781069
X-APPLE-STRUCTURED-LOCATION;VALUE=URI;X-ADDRESS=La Qchara 275 Cabot Street Beverly 01915 United States;X-APPLE-RADIUS=500;X-TITLE=275 Cabot Street:geo:-70.8781069,42.5509677
END:VEVENT
END:VCALENDAR