BEGIN:VCALENDAR
VERSION:2.0
PRODID:-//Beverly Main Streets - ECPv6.15.20//NONSGML v1.0//EN
CALSCALE:GREGORIAN
METHOD:PUBLISH
X-ORIGINAL-URL:https://bevmain.org
X-WR-CALDESC:Events for Beverly Main Streets
REFRESH-INTERVAL;VALUE=DURATION:PT1H
X-Robots-Tag:noindex
X-PUBLISHED-TTL:PT1H
BEGIN:VTIMEZONE
TZID:America/New_York
BEGIN:DAYLIGHT
TZOFFSETFROM:-0500
TZOFFSETTO:-0400
TZNAME:EDT
DTSTART:20250309T070000
END:DAYLIGHT
BEGIN:STANDARD
TZOFFSETFROM:-0400
TZOFFSETTO:-0500
TZNAME:EST
DTSTART:20251102T060000
END:STANDARD
BEGIN:DAYLIGHT
TZOFFSETFROM:-0500
TZOFFSETTO:-0400
TZNAME:EDT
DTSTART:20260308T070000
END:DAYLIGHT
BEGIN:STANDARD
TZOFFSETFROM:-0400
TZOFFSETTO:-0500
TZNAME:EST
DTSTART:20261101T060000
END:STANDARD
BEGIN:DAYLIGHT
TZOFFSETFROM:-0500
TZOFFSETTO:-0400
TZNAME:EDT
DTSTART:20270314T070000
END:DAYLIGHT
BEGIN:STANDARD
TZOFFSETFROM:-0400
TZOFFSETTO:-0500
TZNAME:EST
DTSTART:20271107T060000
END:STANDARD
END:VTIMEZONE
BEGIN:VEVENT
DTSTART;TZID=America/New_York:20260601T170000
DTEND;TZID=America/New_York:20260601T190000
DTSTAMP:20260421T131501
CREATED:20230314T150712Z
LAST-MODIFIED:20230314T150712Z
UID:10017396-1780333200-1780340400@bevmain.org
SUMMARY:Backbeat Street Fleet Run Club
DESCRIPTION:Run Club meets every Monday from 5pm to 7pm with groups going out at 6pm. All walkers and runners welcome. Earn prizes each week!
URL:https://bevmain.org/event/backbeat-street-fleet-run-club/2026-06-01/
LOCATION:Backbeat Brewing\, 31A Park Street\, Beverly\, MA\, 01915\, United States
CATEGORIES:Beer/Wine,Community Events,Free,Outdoor
ATTACH;FMTTYPE=image/jpeg:https://bevmain.org/wp-content/uploads/2023/03/backbeatrunclub.jpg
GEO:42.5476788;-70.8846903
X-APPLE-STRUCTURED-LOCATION;VALUE=URI;X-ADDRESS=Backbeat Brewing 31A Park Street Beverly MA 01915 United States;X-APPLE-RADIUS=500;X-TITLE=31A Park Street:geo:-70.8846903,42.5476788
END:VEVENT
BEGIN:VEVENT
DTSTART;TZID=America/New_York:20260603T190000
DTEND;TZID=America/New_York:20260603T210000
DTSTAMP:20260421T131501
CREATED:20230417T144418Z
LAST-MODIFIED:20230417T144436Z
UID:10018007-1780513200-1780520400@bevmain.org
SUMMARY:Trivia Night at Backbeat Brewing
DESCRIPTION:Wednesday at 6:45pm is Trivia Night at Backbeat Brewing Company!
URL:https://bevmain.org/event/trivia-night-at-backbeat-brewing/2026-06-03/
LOCATION:MA
CATEGORIES:Beer/Wine,Food,Nightlife
ATTACH;FMTTYPE=image/jpeg:https://bevmain.org/wp-content/uploads/2023/04/backbeatlogo.jpg
END:VEVENT
BEGIN:VEVENT
DTSTART;TZID=America/New_York:20260608T170000
DTEND;TZID=America/New_York:20260608T190000
DTSTAMP:20260421T131501
CREATED:20230314T150712Z
LAST-MODIFIED:20230314T150712Z
UID:10017397-1780938000-1780945200@bevmain.org
SUMMARY:Backbeat Street Fleet Run Club
DESCRIPTION:Run Club meets every Monday from 5pm to 7pm with groups going out at 6pm. All walkers and runners welcome. Earn prizes each week!
URL:https://bevmain.org/event/backbeat-street-fleet-run-club/2026-06-08/
LOCATION:Backbeat Brewing\, 31A Park Street\, Beverly\, MA\, 01915\, United States
CATEGORIES:Beer/Wine,Community Events,Free,Outdoor
ATTACH;FMTTYPE=image/jpeg:https://bevmain.org/wp-content/uploads/2023/03/backbeatrunclub.jpg
GEO:42.5476788;-70.8846903
X-APPLE-STRUCTURED-LOCATION;VALUE=URI;X-ADDRESS=Backbeat Brewing 31A Park Street Beverly MA 01915 United States;X-APPLE-RADIUS=500;X-TITLE=31A Park Street:geo:-70.8846903,42.5476788
END:VEVENT
BEGIN:VEVENT
DTSTART;TZID=America/New_York:20260610T190000
DTEND;TZID=America/New_York:20260610T210000
DTSTAMP:20260421T131501
CREATED:20230417T144418Z
LAST-MODIFIED:20230417T144436Z
UID:10018008-1781118000-1781125200@bevmain.org
SUMMARY:Trivia Night at Backbeat Brewing
DESCRIPTION:Wednesday at 6:45pm is Trivia Night at Backbeat Brewing Company!
URL:https://bevmain.org/event/trivia-night-at-backbeat-brewing/2026-06-10/
LOCATION:MA
CATEGORIES:Beer/Wine,Food,Nightlife
ATTACH;FMTTYPE=image/jpeg:https://bevmain.org/wp-content/uploads/2023/04/backbeatlogo.jpg
END:VEVENT
BEGIN:VEVENT
DTSTART;TZID=America/New_York:20260615T170000
DTEND;TZID=America/New_York:20260615T190000
DTSTAMP:20260421T131501
CREATED:20230314T150712Z
LAST-MODIFIED:20230314T150712Z
UID:10017398-1781542800-1781550000@bevmain.org
SUMMARY:Backbeat Street Fleet Run Club
DESCRIPTION:Run Club meets every Monday from 5pm to 7pm with groups going out at 6pm. All walkers and runners welcome. Earn prizes each week!
URL:https://bevmain.org/event/backbeat-street-fleet-run-club/2026-06-15/
LOCATION:Backbeat Brewing\, 31A Park Street\, Beverly\, MA\, 01915\, United States
CATEGORIES:Beer/Wine,Community Events,Free,Outdoor
ATTACH;FMTTYPE=image/jpeg:https://bevmain.org/wp-content/uploads/2023/03/backbeatrunclub.jpg
GEO:42.5476788;-70.8846903
X-APPLE-STRUCTURED-LOCATION;VALUE=URI;X-ADDRESS=Backbeat Brewing 31A Park Street Beverly MA 01915 United States;X-APPLE-RADIUS=500;X-TITLE=31A Park Street:geo:-70.8846903,42.5476788
END:VEVENT
BEGIN:VEVENT
DTSTART;TZID=America/New_York:20260617T190000
DTEND;TZID=America/New_York:20260617T210000
DTSTAMP:20260421T131501
CREATED:20230417T144418Z
LAST-MODIFIED:20230417T144436Z
UID:10018009-1781722800-1781730000@bevmain.org
SUMMARY:Trivia Night at Backbeat Brewing
DESCRIPTION:Wednesday at 6:45pm is Trivia Night at Backbeat Brewing Company!
URL:https://bevmain.org/event/trivia-night-at-backbeat-brewing/2026-06-17/
LOCATION:MA
CATEGORIES:Beer/Wine,Food,Nightlife
ATTACH;FMTTYPE=image/jpeg:https://bevmain.org/wp-content/uploads/2023/04/backbeatlogo.jpg
END:VEVENT
BEGIN:VEVENT
DTSTART;TZID=America/New_York:20260618T190000
DTEND;TZID=America/New_York:20260618T210000
DTSTAMP:20260421T131501
CREATED:20230309T230135Z
LAST-MODIFIED:20230309T230135Z
UID:10016425-1781809200-1781816400@bevmain.org
SUMMARY:Third Thursday Trivia
DESCRIPTION:Hone your skills & win a giftcard & a Coastal Mass Tulip Glass! Cheers and may the odds be ever in your favor!
URL:https://bevmain.org/event/third-thursday-trivia/2026-06-18/
LOCATION:Coastal Mass Brewing\, 95 Rantoul Street\, Beverly\, MA\, 01915\, United States
CATEGORIES:Beer/Wine,Community Events,Free,Nightlife
ATTACH;FMTTYPE=image/jpeg:https://bevmain.org/wp-content/uploads/2023/03/TriviaCover1.19-6.18.jpg
GEO:42.5448066;-70.8843239
X-APPLE-STRUCTURED-LOCATION;VALUE=URI;X-ADDRESS=Coastal Mass Brewing 95 Rantoul Street Beverly MA 01915 United States;X-APPLE-RADIUS=500;X-TITLE=95 Rantoul Street:geo:-70.8843239,42.5448066
END:VEVENT
BEGIN:VEVENT
DTSTART;TZID=America/New_York:20260622T170000
DTEND;TZID=America/New_York:20260622T190000
DTSTAMP:20260421T131501
CREATED:20230314T150712Z
LAST-MODIFIED:20230314T150712Z
UID:10017399-1782147600-1782154800@bevmain.org
SUMMARY:Backbeat Street Fleet Run Club
DESCRIPTION:Run Club meets every Monday from 5pm to 7pm with groups going out at 6pm. All walkers and runners welcome. Earn prizes each week!
URL:https://bevmain.org/event/backbeat-street-fleet-run-club/2026-06-22/
LOCATION:Backbeat Brewing\, 31A Park Street\, Beverly\, MA\, 01915\, United States
CATEGORIES:Beer/Wine,Community Events,Free,Outdoor
ATTACH;FMTTYPE=image/jpeg:https://bevmain.org/wp-content/uploads/2023/03/backbeatrunclub.jpg
GEO:42.5476788;-70.8846903
X-APPLE-STRUCTURED-LOCATION;VALUE=URI;X-ADDRESS=Backbeat Brewing 31A Park Street Beverly MA 01915 United States;X-APPLE-RADIUS=500;X-TITLE=31A Park Street:geo:-70.8846903,42.5476788
END:VEVENT
BEGIN:VEVENT
DTSTART;TZID=America/New_York:20260624T190000
DTEND;TZID=America/New_York:20260624T210000
DTSTAMP:20260421T131501
CREATED:20230417T144418Z
LAST-MODIFIED:20230417T144436Z
UID:10018010-1782327600-1782334800@bevmain.org
SUMMARY:Trivia Night at Backbeat Brewing
DESCRIPTION:Wednesday at 6:45pm is Trivia Night at Backbeat Brewing Company!
URL:https://bevmain.org/event/trivia-night-at-backbeat-brewing/2026-06-24/
LOCATION:MA
CATEGORIES:Beer/Wine,Food,Nightlife
ATTACH;FMTTYPE=image/jpeg:https://bevmain.org/wp-content/uploads/2023/04/backbeatlogo.jpg
END:VEVENT
BEGIN:VEVENT
DTSTART;TZID=America/New_York:20260629T170000
DTEND;TZID=America/New_York:20260629T190000
DTSTAMP:20260421T131501
CREATED:20230314T150712Z
LAST-MODIFIED:20230314T150712Z
UID:10017400-1782752400-1782759600@bevmain.org
SUMMARY:Backbeat Street Fleet Run Club
DESCRIPTION:Run Club meets every Monday from 5pm to 7pm with groups going out at 6pm. All walkers and runners welcome. Earn prizes each week!
URL:https://bevmain.org/event/backbeat-street-fleet-run-club/2026-06-29/
LOCATION:Backbeat Brewing\, 31A Park Street\, Beverly\, MA\, 01915\, United States
CATEGORIES:Beer/Wine,Community Events,Free,Outdoor
ATTACH;FMTTYPE=image/jpeg:https://bevmain.org/wp-content/uploads/2023/03/backbeatrunclub.jpg
GEO:42.5476788;-70.8846903
X-APPLE-STRUCTURED-LOCATION;VALUE=URI;X-ADDRESS=Backbeat Brewing 31A Park Street Beverly MA 01915 United States;X-APPLE-RADIUS=500;X-TITLE=31A Park Street:geo:-70.8846903,42.5476788
END:VEVENT
BEGIN:VEVENT
DTSTART;TZID=America/New_York:20260701T190000
DTEND;TZID=America/New_York:20260701T210000
DTSTAMP:20260421T131501
CREATED:20230417T144418Z
LAST-MODIFIED:20230417T144436Z
UID:10018011-1782932400-1782939600@bevmain.org
SUMMARY:Trivia Night at Backbeat Brewing
DESCRIPTION:Wednesday at 6:45pm is Trivia Night at Backbeat Brewing Company!
URL:https://bevmain.org/event/trivia-night-at-backbeat-brewing/2026-07-01/
LOCATION:MA
CATEGORIES:Beer/Wine,Food,Nightlife
ATTACH;FMTTYPE=image/jpeg:https://bevmain.org/wp-content/uploads/2023/04/backbeatlogo.jpg
END:VEVENT
BEGIN:VEVENT
DTSTART;TZID=America/New_York:20260706T170000
DTEND;TZID=America/New_York:20260706T190000
DTSTAMP:20260421T131501
CREATED:20230314T150712Z
LAST-MODIFIED:20230314T150712Z
UID:10017401-1783357200-1783364400@bevmain.org
SUMMARY:Backbeat Street Fleet Run Club
DESCRIPTION:Run Club meets every Monday from 5pm to 7pm with groups going out at 6pm. All walkers and runners welcome. Earn prizes each week!
URL:https://bevmain.org/event/backbeat-street-fleet-run-club/2026-07-06/
LOCATION:Backbeat Brewing\, 31A Park Street\, Beverly\, MA\, 01915\, United States
CATEGORIES:Beer/Wine,Community Events,Free,Outdoor
ATTACH;FMTTYPE=image/jpeg:https://bevmain.org/wp-content/uploads/2023/03/backbeatrunclub.jpg
GEO:42.5476788;-70.8846903
X-APPLE-STRUCTURED-LOCATION;VALUE=URI;X-ADDRESS=Backbeat Brewing 31A Park Street Beverly MA 01915 United States;X-APPLE-RADIUS=500;X-TITLE=31A Park Street:geo:-70.8846903,42.5476788
END:VEVENT
BEGIN:VEVENT
DTSTART;TZID=America/New_York:20260708T190000
DTEND;TZID=America/New_York:20260708T210000
DTSTAMP:20260421T131501
CREATED:20230417T144418Z
LAST-MODIFIED:20230417T144436Z
UID:10018012-1783537200-1783544400@bevmain.org
SUMMARY:Trivia Night at Backbeat Brewing
DESCRIPTION:Wednesday at 6:45pm is Trivia Night at Backbeat Brewing Company!
URL:https://bevmain.org/event/trivia-night-at-backbeat-brewing/2026-07-08/
LOCATION:MA
CATEGORIES:Beer/Wine,Food,Nightlife
ATTACH;FMTTYPE=image/jpeg:https://bevmain.org/wp-content/uploads/2023/04/backbeatlogo.jpg
END:VEVENT
BEGIN:VEVENT
DTSTART;TZID=America/New_York:20260713T170000
DTEND;TZID=America/New_York:20260713T190000
DTSTAMP:20260421T131501
CREATED:20230314T150712Z
LAST-MODIFIED:20230314T150712Z
UID:10017402-1783962000-1783969200@bevmain.org
SUMMARY:Backbeat Street Fleet Run Club
DESCRIPTION:Run Club meets every Monday from 5pm to 7pm with groups going out at 6pm. All walkers and runners welcome. Earn prizes each week!
URL:https://bevmain.org/event/backbeat-street-fleet-run-club/2026-07-13/
LOCATION:Backbeat Brewing\, 31A Park Street\, Beverly\, MA\, 01915\, United States
CATEGORIES:Beer/Wine,Community Events,Free,Outdoor
ATTACH;FMTTYPE=image/jpeg:https://bevmain.org/wp-content/uploads/2023/03/backbeatrunclub.jpg
GEO:42.5476788;-70.8846903
X-APPLE-STRUCTURED-LOCATION;VALUE=URI;X-ADDRESS=Backbeat Brewing 31A Park Street Beverly MA 01915 United States;X-APPLE-RADIUS=500;X-TITLE=31A Park Street:geo:-70.8846903,42.5476788
END:VEVENT
BEGIN:VEVENT
DTSTART;TZID=America/New_York:20260715T190000
DTEND;TZID=America/New_York:20260715T210000
DTSTAMP:20260421T131501
CREATED:20230417T144418Z
LAST-MODIFIED:20230417T144436Z
UID:10018013-1784142000-1784149200@bevmain.org
SUMMARY:Trivia Night at Backbeat Brewing
DESCRIPTION:Wednesday at 6:45pm is Trivia Night at Backbeat Brewing Company!
URL:https://bevmain.org/event/trivia-night-at-backbeat-brewing/2026-07-15/
LOCATION:MA
CATEGORIES:Beer/Wine,Food,Nightlife
ATTACH;FMTTYPE=image/jpeg:https://bevmain.org/wp-content/uploads/2023/04/backbeatlogo.jpg
END:VEVENT
BEGIN:VEVENT
DTSTART;TZID=America/New_York:20260716T190000
DTEND;TZID=America/New_York:20260716T210000
DTSTAMP:20260421T131501
CREATED:20230309T230135Z
LAST-MODIFIED:20230309T230135Z
UID:10016426-1784228400-1784235600@bevmain.org
SUMMARY:Third Thursday Trivia
DESCRIPTION:Hone your skills & win a giftcard & a Coastal Mass Tulip Glass! Cheers and may the odds be ever in your favor!
URL:https://bevmain.org/event/third-thursday-trivia/2026-07-16/
LOCATION:Coastal Mass Brewing\, 95 Rantoul Street\, Beverly\, MA\, 01915\, United States
CATEGORIES:Beer/Wine,Community Events,Free,Nightlife
ATTACH;FMTTYPE=image/jpeg:https://bevmain.org/wp-content/uploads/2023/03/TriviaCover1.19-6.18.jpg
GEO:42.5448066;-70.8843239
X-APPLE-STRUCTURED-LOCATION;VALUE=URI;X-ADDRESS=Coastal Mass Brewing 95 Rantoul Street Beverly MA 01915 United States;X-APPLE-RADIUS=500;X-TITLE=95 Rantoul Street:geo:-70.8843239,42.5448066
END:VEVENT
BEGIN:VEVENT
DTSTART;TZID=America/New_York:20260720T170000
DTEND;TZID=America/New_York:20260720T190000
DTSTAMP:20260421T131501
CREATED:20230314T150712Z
LAST-MODIFIED:20230314T150712Z
UID:10017403-1784566800-1784574000@bevmain.org
SUMMARY:Backbeat Street Fleet Run Club
DESCRIPTION:Run Club meets every Monday from 5pm to 7pm with groups going out at 6pm. All walkers and runners welcome. Earn prizes each week!
URL:https://bevmain.org/event/backbeat-street-fleet-run-club/2026-07-20/
LOCATION:Backbeat Brewing\, 31A Park Street\, Beverly\, MA\, 01915\, United States
CATEGORIES:Beer/Wine,Community Events,Free,Outdoor
ATTACH;FMTTYPE=image/jpeg:https://bevmain.org/wp-content/uploads/2023/03/backbeatrunclub.jpg
GEO:42.5476788;-70.8846903
X-APPLE-STRUCTURED-LOCATION;VALUE=URI;X-ADDRESS=Backbeat Brewing 31A Park Street Beverly MA 01915 United States;X-APPLE-RADIUS=500;X-TITLE=31A Park Street:geo:-70.8846903,42.5476788
END:VEVENT
BEGIN:VEVENT
DTSTART;TZID=America/New_York:20260722T190000
DTEND;TZID=America/New_York:20260722T210000
DTSTAMP:20260421T131501
CREATED:20230417T144418Z
LAST-MODIFIED:20230417T144436Z
UID:10018014-1784746800-1784754000@bevmain.org
SUMMARY:Trivia Night at Backbeat Brewing
DESCRIPTION:Wednesday at 6:45pm is Trivia Night at Backbeat Brewing Company!
URL:https://bevmain.org/event/trivia-night-at-backbeat-brewing/2026-07-22/
LOCATION:MA
CATEGORIES:Beer/Wine,Food,Nightlife
ATTACH;FMTTYPE=image/jpeg:https://bevmain.org/wp-content/uploads/2023/04/backbeatlogo.jpg
END:VEVENT
BEGIN:VEVENT
DTSTART;TZID=America/New_York:20260727T170000
DTEND;TZID=America/New_York:20260727T190000
DTSTAMP:20260421T131501
CREATED:20230314T150712Z
LAST-MODIFIED:20230314T150712Z
UID:10017404-1785171600-1785178800@bevmain.org
SUMMARY:Backbeat Street Fleet Run Club
DESCRIPTION:Run Club meets every Monday from 5pm to 7pm with groups going out at 6pm. All walkers and runners welcome. Earn prizes each week!
URL:https://bevmain.org/event/backbeat-street-fleet-run-club/2026-07-27/
LOCATION:Backbeat Brewing\, 31A Park Street\, Beverly\, MA\, 01915\, United States
CATEGORIES:Beer/Wine,Community Events,Free,Outdoor
ATTACH;FMTTYPE=image/jpeg:https://bevmain.org/wp-content/uploads/2023/03/backbeatrunclub.jpg
GEO:42.5476788;-70.8846903
X-APPLE-STRUCTURED-LOCATION;VALUE=URI;X-ADDRESS=Backbeat Brewing 31A Park Street Beverly MA 01915 United States;X-APPLE-RADIUS=500;X-TITLE=31A Park Street:geo:-70.8846903,42.5476788
END:VEVENT
BEGIN:VEVENT
DTSTART;TZID=America/New_York:20260729T190000
DTEND;TZID=America/New_York:20260729T210000
DTSTAMP:20260421T131501
CREATED:20230417T144418Z
LAST-MODIFIED:20230417T144436Z
UID:10018015-1785351600-1785358800@bevmain.org
SUMMARY:Trivia Night at Backbeat Brewing
DESCRIPTION:Wednesday at 6:45pm is Trivia Night at Backbeat Brewing Company!
URL:https://bevmain.org/event/trivia-night-at-backbeat-brewing/2026-07-29/
LOCATION:MA
CATEGORIES:Beer/Wine,Food,Nightlife
ATTACH;FMTTYPE=image/jpeg:https://bevmain.org/wp-content/uploads/2023/04/backbeatlogo.jpg
END:VEVENT
BEGIN:VEVENT
DTSTART;TZID=America/New_York:20260803T170000
DTEND;TZID=America/New_York:20260803T190000
DTSTAMP:20260421T131501
CREATED:20230314T150712Z
LAST-MODIFIED:20230314T150712Z
UID:10017405-1785776400-1785783600@bevmain.org
SUMMARY:Backbeat Street Fleet Run Club
DESCRIPTION:Run Club meets every Monday from 5pm to 7pm with groups going out at 6pm. All walkers and runners welcome. Earn prizes each week!
URL:https://bevmain.org/event/backbeat-street-fleet-run-club/2026-08-03/
LOCATION:Backbeat Brewing\, 31A Park Street\, Beverly\, MA\, 01915\, United States
CATEGORIES:Beer/Wine,Community Events,Free,Outdoor
ATTACH;FMTTYPE=image/jpeg:https://bevmain.org/wp-content/uploads/2023/03/backbeatrunclub.jpg
GEO:42.5476788;-70.8846903
X-APPLE-STRUCTURED-LOCATION;VALUE=URI;X-ADDRESS=Backbeat Brewing 31A Park Street Beverly MA 01915 United States;X-APPLE-RADIUS=500;X-TITLE=31A Park Street:geo:-70.8846903,42.5476788
END:VEVENT
BEGIN:VEVENT
DTSTART;TZID=America/New_York:20260805T190000
DTEND;TZID=America/New_York:20260805T210000
DTSTAMP:20260421T131501
CREATED:20230417T144418Z
LAST-MODIFIED:20230417T144436Z
UID:10018016-1785956400-1785963600@bevmain.org
SUMMARY:Trivia Night at Backbeat Brewing
DESCRIPTION:Wednesday at 6:45pm is Trivia Night at Backbeat Brewing Company!
URL:https://bevmain.org/event/trivia-night-at-backbeat-brewing/2026-08-05/
LOCATION:MA
CATEGORIES:Beer/Wine,Food,Nightlife
ATTACH;FMTTYPE=image/jpeg:https://bevmain.org/wp-content/uploads/2023/04/backbeatlogo.jpg
END:VEVENT
BEGIN:VEVENT
DTSTART;TZID=America/New_York:20260810T170000
DTEND;TZID=America/New_York:20260810T190000
DTSTAMP:20260421T131501
CREATED:20230314T150712Z
LAST-MODIFIED:20230314T150712Z
UID:10017406-1786381200-1786388400@bevmain.org
SUMMARY:Backbeat Street Fleet Run Club
DESCRIPTION:Run Club meets every Monday from 5pm to 7pm with groups going out at 6pm. All walkers and runners welcome. Earn prizes each week!
URL:https://bevmain.org/event/backbeat-street-fleet-run-club/2026-08-10/
LOCATION:Backbeat Brewing\, 31A Park Street\, Beverly\, MA\, 01915\, United States
CATEGORIES:Beer/Wine,Community Events,Free,Outdoor
ATTACH;FMTTYPE=image/jpeg:https://bevmain.org/wp-content/uploads/2023/03/backbeatrunclub.jpg
GEO:42.5476788;-70.8846903
X-APPLE-STRUCTURED-LOCATION;VALUE=URI;X-ADDRESS=Backbeat Brewing 31A Park Street Beverly MA 01915 United States;X-APPLE-RADIUS=500;X-TITLE=31A Park Street:geo:-70.8846903,42.5476788
END:VEVENT
BEGIN:VEVENT
DTSTART;TZID=America/New_York:20260812T190000
DTEND;TZID=America/New_York:20260812T210000
DTSTAMP:20260421T131501
CREATED:20230417T144418Z
LAST-MODIFIED:20230417T144436Z
UID:10018017-1786561200-1786568400@bevmain.org
SUMMARY:Trivia Night at Backbeat Brewing
DESCRIPTION:Wednesday at 6:45pm is Trivia Night at Backbeat Brewing Company!
URL:https://bevmain.org/event/trivia-night-at-backbeat-brewing/2026-08-12/
LOCATION:MA
CATEGORIES:Beer/Wine,Food,Nightlife
ATTACH;FMTTYPE=image/jpeg:https://bevmain.org/wp-content/uploads/2023/04/backbeatlogo.jpg
END:VEVENT
BEGIN:VEVENT
DTSTART;TZID=America/New_York:20260817T170000
DTEND;TZID=America/New_York:20260817T190000
DTSTAMP:20260421T131501
CREATED:20230314T150712Z
LAST-MODIFIED:20230314T150712Z
UID:10017407-1786986000-1786993200@bevmain.org
SUMMARY:Backbeat Street Fleet Run Club
DESCRIPTION:Run Club meets every Monday from 5pm to 7pm with groups going out at 6pm. All walkers and runners welcome. Earn prizes each week!
URL:https://bevmain.org/event/backbeat-street-fleet-run-club/2026-08-17/
LOCATION:Backbeat Brewing\, 31A Park Street\, Beverly\, MA\, 01915\, United States
CATEGORIES:Beer/Wine,Community Events,Free,Outdoor
ATTACH;FMTTYPE=image/jpeg:https://bevmain.org/wp-content/uploads/2023/03/backbeatrunclub.jpg
GEO:42.5476788;-70.8846903
X-APPLE-STRUCTURED-LOCATION;VALUE=URI;X-ADDRESS=Backbeat Brewing 31A Park Street Beverly MA 01915 United States;X-APPLE-RADIUS=500;X-TITLE=31A Park Street:geo:-70.8846903,42.5476788
END:VEVENT
BEGIN:VEVENT
DTSTART;TZID=America/New_York:20260819T190000
DTEND;TZID=America/New_York:20260819T210000
DTSTAMP:20260421T131501
CREATED:20230417T144418Z
LAST-MODIFIED:20230417T144436Z
UID:10018018-1787166000-1787173200@bevmain.org
SUMMARY:Trivia Night at Backbeat Brewing
DESCRIPTION:Wednesday at 6:45pm is Trivia Night at Backbeat Brewing Company!
URL:https://bevmain.org/event/trivia-night-at-backbeat-brewing/2026-08-19/
LOCATION:MA
CATEGORIES:Beer/Wine,Food,Nightlife
ATTACH;FMTTYPE=image/jpeg:https://bevmain.org/wp-content/uploads/2023/04/backbeatlogo.jpg
END:VEVENT
BEGIN:VEVENT
DTSTART;TZID=America/New_York:20260820T190000
DTEND;TZID=America/New_York:20260820T210000
DTSTAMP:20260421T131501
CREATED:20230309T230135Z
LAST-MODIFIED:20230309T230135Z
UID:10016427-1787252400-1787259600@bevmain.org
SUMMARY:Third Thursday Trivia
DESCRIPTION:Hone your skills & win a giftcard & a Coastal Mass Tulip Glass! Cheers and may the odds be ever in your favor!
URL:https://bevmain.org/event/third-thursday-trivia/2026-08-20/
LOCATION:Coastal Mass Brewing\, 95 Rantoul Street\, Beverly\, MA\, 01915\, United States
CATEGORIES:Beer/Wine,Community Events,Free,Nightlife
ATTACH;FMTTYPE=image/jpeg:https://bevmain.org/wp-content/uploads/2023/03/TriviaCover1.19-6.18.jpg
GEO:42.5448066;-70.8843239
X-APPLE-STRUCTURED-LOCATION;VALUE=URI;X-ADDRESS=Coastal Mass Brewing 95 Rantoul Street Beverly MA 01915 United States;X-APPLE-RADIUS=500;X-TITLE=95 Rantoul Street:geo:-70.8843239,42.5448066
END:VEVENT
BEGIN:VEVENT
DTSTART;TZID=America/New_York:20260824T170000
DTEND;TZID=America/New_York:20260824T190000
DTSTAMP:20260421T131501
CREATED:20230314T150712Z
LAST-MODIFIED:20230314T150712Z
UID:10017408-1787590800-1787598000@bevmain.org
SUMMARY:Backbeat Street Fleet Run Club
DESCRIPTION:Run Club meets every Monday from 5pm to 7pm with groups going out at 6pm. All walkers and runners welcome. Earn prizes each week!
URL:https://bevmain.org/event/backbeat-street-fleet-run-club/2026-08-24/
LOCATION:Backbeat Brewing\, 31A Park Street\, Beverly\, MA\, 01915\, United States
CATEGORIES:Beer/Wine,Community Events,Free,Outdoor
ATTACH;FMTTYPE=image/jpeg:https://bevmain.org/wp-content/uploads/2023/03/backbeatrunclub.jpg
GEO:42.5476788;-70.8846903
X-APPLE-STRUCTURED-LOCATION;VALUE=URI;X-ADDRESS=Backbeat Brewing 31A Park Street Beverly MA 01915 United States;X-APPLE-RADIUS=500;X-TITLE=31A Park Street:geo:-70.8846903,42.5476788
END:VEVENT
BEGIN:VEVENT
DTSTART;TZID=America/New_York:20260826T190000
DTEND;TZID=America/New_York:20260826T210000
DTSTAMP:20260421T131501
CREATED:20230417T144418Z
LAST-MODIFIED:20230417T144436Z
UID:10018019-1787770800-1787778000@bevmain.org
SUMMARY:Trivia Night at Backbeat Brewing
DESCRIPTION:Wednesday at 6:45pm is Trivia Night at Backbeat Brewing Company!
URL:https://bevmain.org/event/trivia-night-at-backbeat-brewing/2026-08-26/
LOCATION:MA
CATEGORIES:Beer/Wine,Food,Nightlife
ATTACH;FMTTYPE=image/jpeg:https://bevmain.org/wp-content/uploads/2023/04/backbeatlogo.jpg
END:VEVENT
BEGIN:VEVENT
DTSTART;TZID=America/New_York:20260831T170000
DTEND;TZID=America/New_York:20260831T190000
DTSTAMP:20260421T131501
CREATED:20230314T150712Z
LAST-MODIFIED:20230314T150712Z
UID:10017409-1788195600-1788202800@bevmain.org
SUMMARY:Backbeat Street Fleet Run Club
DESCRIPTION:Run Club meets every Monday from 5pm to 7pm with groups going out at 6pm. All walkers and runners welcome. Earn prizes each week!
URL:https://bevmain.org/event/backbeat-street-fleet-run-club/2026-08-31/
LOCATION:Backbeat Brewing\, 31A Park Street\, Beverly\, MA\, 01915\, United States
CATEGORIES:Beer/Wine,Community Events,Free,Outdoor
ATTACH;FMTTYPE=image/jpeg:https://bevmain.org/wp-content/uploads/2023/03/backbeatrunclub.jpg
GEO:42.5476788;-70.8846903
X-APPLE-STRUCTURED-LOCATION;VALUE=URI;X-ADDRESS=Backbeat Brewing 31A Park Street Beverly MA 01915 United States;X-APPLE-RADIUS=500;X-TITLE=31A Park Street:geo:-70.8846903,42.5476788
END:VEVENT
END:VCALENDAR