BEGIN:VCALENDAR
VERSION:2.0
PRODID:-//Beverly Main Streets - ECPv6.15.20//NONSGML v1.0//EN
CALSCALE:GREGORIAN
METHOD:PUBLISH
X-WR-CALNAME:Beverly Main Streets
X-ORIGINAL-URL:https://bevmain.org
X-WR-CALDESC:Events for Beverly Main Streets
REFRESH-INTERVAL;VALUE=DURATION:PT1H
X-Robots-Tag:noindex
X-PUBLISHED-TTL:PT1H
BEGIN:VTIMEZONE
TZID:America/New_York
BEGIN:DAYLIGHT
TZOFFSETFROM:-0500
TZOFFSETTO:-0400
TZNAME:EDT
DTSTART:20250309T070000
END:DAYLIGHT
BEGIN:STANDARD
TZOFFSETFROM:-0400
TZOFFSETTO:-0500
TZNAME:EST
DTSTART:20251102T060000
END:STANDARD
BEGIN:DAYLIGHT
TZOFFSETFROM:-0500
TZOFFSETTO:-0400
TZNAME:EDT
DTSTART:20260308T070000
END:DAYLIGHT
BEGIN:STANDARD
TZOFFSETFROM:-0400
TZOFFSETTO:-0500
TZNAME:EST
DTSTART:20261101T060000
END:STANDARD
BEGIN:DAYLIGHT
TZOFFSETFROM:-0500
TZOFFSETTO:-0400
TZNAME:EDT
DTSTART:20270314T070000
END:DAYLIGHT
BEGIN:STANDARD
TZOFFSETFROM:-0400
TZOFFSETTO:-0500
TZNAME:EST
DTSTART:20271107T060000
END:STANDARD
BEGIN:DAYLIGHT
TZOFFSETFROM:-0500
TZOFFSETTO:-0400
TZNAME:EDT
DTSTART:20280312T070000
END:DAYLIGHT
BEGIN:STANDARD
TZOFFSETFROM:-0400
TZOFFSETTO:-0500
TZNAME:EST
DTSTART:20281105T060000
END:STANDARD
END:VTIMEZONE
BEGIN:VEVENT
DTSTART;TZID=America/New_York:20260720T140000
DTEND;TZID=America/New_York:20260720T210000
DTSTAMP:20260422T160815
CREATED:20260422T133258Z
LAST-MODIFIED:20260422T133258Z
UID:10038945-1784556000-1784581200@bevmain.org
SUMMARY:Burger & Beverage
DESCRIPTION:MONDAY BURGER NIGHT\nKick off the week at The Pickled Onion!\nEnjoy an 8oz cheeseburger & hand-cut fries with your choice of:\nMichelob Ultra\, Bud Light\, PBR\, or a non-alcoholic beverage\nNo need to cook — we’ve got you covered.
URL:https://bevmain.org/event/burger-beverage/2026-07-20/
LOCATION:The Pickled Onion\, 355 rantoul st\, Beverly\, 01915\, United States
ATTACH;FMTTYPE=image/jpeg:https://bevmain.org/wp-content/uploads/2026/04/IMG_7283.jpeg
GEO:42.5522933;-70.8824043
X-APPLE-STRUCTURED-LOCATION;VALUE=URI;X-ADDRESS=The Pickled Onion 355 rantoul st Beverly 01915 United States;X-APPLE-RADIUS=500;X-TITLE=355 rantoul st:geo:-70.8824043,42.5522933
END:VEVENT
BEGIN:VEVENT
DTSTART;TZID=America/New_York:20260727T140000
DTEND;TZID=America/New_York:20260727T210000
DTSTAMP:20260422T160815
CREATED:20260422T133258Z
LAST-MODIFIED:20260422T133258Z
UID:10038946-1785160800-1785186000@bevmain.org
SUMMARY:Burger & Beverage
DESCRIPTION:MONDAY BURGER NIGHT\nKick off the week at The Pickled Onion!\nEnjoy an 8oz cheeseburger & hand-cut fries with your choice of:\nMichelob Ultra\, Bud Light\, PBR\, or a non-alcoholic beverage\nNo need to cook — we’ve got you covered.
URL:https://bevmain.org/event/burger-beverage/2026-07-27/
LOCATION:The Pickled Onion\, 355 rantoul st\, Beverly\, 01915\, United States
ATTACH;FMTTYPE=image/jpeg:https://bevmain.org/wp-content/uploads/2026/04/IMG_7283.jpeg
GEO:42.5522933;-70.8824043
X-APPLE-STRUCTURED-LOCATION;VALUE=URI;X-ADDRESS=The Pickled Onion 355 rantoul st Beverly 01915 United States;X-APPLE-RADIUS=500;X-TITLE=355 rantoul st:geo:-70.8824043,42.5522933
END:VEVENT
BEGIN:VEVENT
DTSTART;TZID=America/New_York:20260803T140000
DTEND;TZID=America/New_York:20260803T210000
DTSTAMP:20260422T160815
CREATED:20260422T133258Z
LAST-MODIFIED:20260422T133258Z
UID:10038947-1785765600-1785790800@bevmain.org
SUMMARY:Burger & Beverage
DESCRIPTION:MONDAY BURGER NIGHT\nKick off the week at The Pickled Onion!\nEnjoy an 8oz cheeseburger & hand-cut fries with your choice of:\nMichelob Ultra\, Bud Light\, PBR\, or a non-alcoholic beverage\nNo need to cook — we’ve got you covered.
URL:https://bevmain.org/event/burger-beverage/2026-08-03/
LOCATION:The Pickled Onion\, 355 rantoul st\, Beverly\, 01915\, United States
ATTACH;FMTTYPE=image/jpeg:https://bevmain.org/wp-content/uploads/2026/04/IMG_7283.jpeg
GEO:42.5522933;-70.8824043
X-APPLE-STRUCTURED-LOCATION;VALUE=URI;X-ADDRESS=The Pickled Onion 355 rantoul st Beverly 01915 United States;X-APPLE-RADIUS=500;X-TITLE=355 rantoul st:geo:-70.8824043,42.5522933
END:VEVENT
BEGIN:VEVENT
DTSTART;TZID=America/New_York:20260810T140000
DTEND;TZID=America/New_York:20260810T210000
DTSTAMP:20260422T160815
CREATED:20260422T133258Z
LAST-MODIFIED:20260422T133258Z
UID:10038948-1786370400-1786395600@bevmain.org
SUMMARY:Burger & Beverage
DESCRIPTION:MONDAY BURGER NIGHT\nKick off the week at The Pickled Onion!\nEnjoy an 8oz cheeseburger & hand-cut fries with your choice of:\nMichelob Ultra\, Bud Light\, PBR\, or a non-alcoholic beverage\nNo need to cook — we’ve got you covered.
URL:https://bevmain.org/event/burger-beverage/2026-08-10/
LOCATION:The Pickled Onion\, 355 rantoul st\, Beverly\, 01915\, United States
ATTACH;FMTTYPE=image/jpeg:https://bevmain.org/wp-content/uploads/2026/04/IMG_7283.jpeg
GEO:42.5522933;-70.8824043
X-APPLE-STRUCTURED-LOCATION;VALUE=URI;X-ADDRESS=The Pickled Onion 355 rantoul st Beverly 01915 United States;X-APPLE-RADIUS=500;X-TITLE=355 rantoul st:geo:-70.8824043,42.5522933
END:VEVENT
BEGIN:VEVENT
DTSTART;TZID=America/New_York:20260817T140000
DTEND;TZID=America/New_York:20260817T210000
DTSTAMP:20260422T160815
CREATED:20260422T133258Z
LAST-MODIFIED:20260422T133258Z
UID:10038949-1786975200-1787000400@bevmain.org
SUMMARY:Burger & Beverage
DESCRIPTION:MONDAY BURGER NIGHT\nKick off the week at The Pickled Onion!\nEnjoy an 8oz cheeseburger & hand-cut fries with your choice of:\nMichelob Ultra\, Bud Light\, PBR\, or a non-alcoholic beverage\nNo need to cook — we’ve got you covered.
URL:https://bevmain.org/event/burger-beverage/2026-08-17/
LOCATION:The Pickled Onion\, 355 rantoul st\, Beverly\, 01915\, United States
ATTACH;FMTTYPE=image/jpeg:https://bevmain.org/wp-content/uploads/2026/04/IMG_7283.jpeg
GEO:42.5522933;-70.8824043
X-APPLE-STRUCTURED-LOCATION;VALUE=URI;X-ADDRESS=The Pickled Onion 355 rantoul st Beverly 01915 United States;X-APPLE-RADIUS=500;X-TITLE=355 rantoul st:geo:-70.8824043,42.5522933
END:VEVENT
BEGIN:VEVENT
DTSTART;TZID=America/New_York:20260824T140000
DTEND;TZID=America/New_York:20260824T210000
DTSTAMP:20260422T160815
CREATED:20260422T133258Z
LAST-MODIFIED:20260422T133258Z
UID:10038950-1787580000-1787605200@bevmain.org
SUMMARY:Burger & Beverage
DESCRIPTION:MONDAY BURGER NIGHT\nKick off the week at The Pickled Onion!\nEnjoy an 8oz cheeseburger & hand-cut fries with your choice of:\nMichelob Ultra\, Bud Light\, PBR\, or a non-alcoholic beverage\nNo need to cook — we’ve got you covered.
URL:https://bevmain.org/event/burger-beverage/2026-08-24/
LOCATION:The Pickled Onion\, 355 rantoul st\, Beverly\, 01915\, United States
ATTACH;FMTTYPE=image/jpeg:https://bevmain.org/wp-content/uploads/2026/04/IMG_7283.jpeg
GEO:42.5522933;-70.8824043
X-APPLE-STRUCTURED-LOCATION;VALUE=URI;X-ADDRESS=The Pickled Onion 355 rantoul st Beverly 01915 United States;X-APPLE-RADIUS=500;X-TITLE=355 rantoul st:geo:-70.8824043,42.5522933
END:VEVENT
BEGIN:VEVENT
DTSTART;TZID=America/New_York:20260831T140000
DTEND;TZID=America/New_York:20260831T210000
DTSTAMP:20260422T160815
CREATED:20260422T133258Z
LAST-MODIFIED:20260422T133258Z
UID:10038951-1788184800-1788210000@bevmain.org
SUMMARY:Burger & Beverage
DESCRIPTION:MONDAY BURGER NIGHT\nKick off the week at The Pickled Onion!\nEnjoy an 8oz cheeseburger & hand-cut fries with your choice of:\nMichelob Ultra\, Bud Light\, PBR\, or a non-alcoholic beverage\nNo need to cook — we’ve got you covered.
URL:https://bevmain.org/event/burger-beverage/2026-08-31/
LOCATION:The Pickled Onion\, 355 rantoul st\, Beverly\, 01915\, United States
ATTACH;FMTTYPE=image/jpeg:https://bevmain.org/wp-content/uploads/2026/04/IMG_7283.jpeg
GEO:42.5522933;-70.8824043
X-APPLE-STRUCTURED-LOCATION;VALUE=URI;X-ADDRESS=The Pickled Onion 355 rantoul st Beverly 01915 United States;X-APPLE-RADIUS=500;X-TITLE=355 rantoul st:geo:-70.8824043,42.5522933
END:VEVENT
BEGIN:VEVENT
DTSTART;TZID=America/New_York:20260907T140000
DTEND;TZID=America/New_York:20260907T210000
DTSTAMP:20260422T160815
CREATED:20260422T133258Z
LAST-MODIFIED:20260422T133258Z
UID:10038952-1788789600-1788814800@bevmain.org
SUMMARY:Burger & Beverage
DESCRIPTION:MONDAY BURGER NIGHT\nKick off the week at The Pickled Onion!\nEnjoy an 8oz cheeseburger & hand-cut fries with your choice of:\nMichelob Ultra\, Bud Light\, PBR\, or a non-alcoholic beverage\nNo need to cook — we’ve got you covered.
URL:https://bevmain.org/event/burger-beverage/2026-09-07/
LOCATION:The Pickled Onion\, 355 rantoul st\, Beverly\, 01915\, United States
ATTACH;FMTTYPE=image/jpeg:https://bevmain.org/wp-content/uploads/2026/04/IMG_7283.jpeg
GEO:42.5522933;-70.8824043
X-APPLE-STRUCTURED-LOCATION;VALUE=URI;X-ADDRESS=The Pickled Onion 355 rantoul st Beverly 01915 United States;X-APPLE-RADIUS=500;X-TITLE=355 rantoul st:geo:-70.8824043,42.5522933
END:VEVENT
BEGIN:VEVENT
DTSTART;TZID=America/New_York:20260914T140000
DTEND;TZID=America/New_York:20260914T210000
DTSTAMP:20260422T160815
CREATED:20260422T133258Z
LAST-MODIFIED:20260422T133258Z
UID:10038953-1789394400-1789419600@bevmain.org
SUMMARY:Burger & Beverage
DESCRIPTION:MONDAY BURGER NIGHT\nKick off the week at The Pickled Onion!\nEnjoy an 8oz cheeseburger & hand-cut fries with your choice of:\nMichelob Ultra\, Bud Light\, PBR\, or a non-alcoholic beverage\nNo need to cook — we’ve got you covered.
URL:https://bevmain.org/event/burger-beverage/2026-09-14/
LOCATION:The Pickled Onion\, 355 rantoul st\, Beverly\, 01915\, United States
ATTACH;FMTTYPE=image/jpeg:https://bevmain.org/wp-content/uploads/2026/04/IMG_7283.jpeg
GEO:42.5522933;-70.8824043
X-APPLE-STRUCTURED-LOCATION;VALUE=URI;X-ADDRESS=The Pickled Onion 355 rantoul st Beverly 01915 United States;X-APPLE-RADIUS=500;X-TITLE=355 rantoul st:geo:-70.8824043,42.5522933
END:VEVENT
BEGIN:VEVENT
DTSTART;TZID=America/New_York:20260921T140000
DTEND;TZID=America/New_York:20260921T210000
DTSTAMP:20260422T160815
CREATED:20260422T133258Z
LAST-MODIFIED:20260422T133258Z
UID:10038954-1789999200-1790024400@bevmain.org
SUMMARY:Burger & Beverage
DESCRIPTION:MONDAY BURGER NIGHT\nKick off the week at The Pickled Onion!\nEnjoy an 8oz cheeseburger & hand-cut fries with your choice of:\nMichelob Ultra\, Bud Light\, PBR\, or a non-alcoholic beverage\nNo need to cook — we’ve got you covered.
URL:https://bevmain.org/event/burger-beverage/2026-09-21/
LOCATION:The Pickled Onion\, 355 rantoul st\, Beverly\, 01915\, United States
ATTACH;FMTTYPE=image/jpeg:https://bevmain.org/wp-content/uploads/2026/04/IMG_7283.jpeg
GEO:42.5522933;-70.8824043
X-APPLE-STRUCTURED-LOCATION;VALUE=URI;X-ADDRESS=The Pickled Onion 355 rantoul st Beverly 01915 United States;X-APPLE-RADIUS=500;X-TITLE=355 rantoul st:geo:-70.8824043,42.5522933
END:VEVENT
BEGIN:VEVENT
DTSTART;TZID=America/New_York:20260928T140000
DTEND;TZID=America/New_York:20260928T210000
DTSTAMP:20260422T160815
CREATED:20260422T133258Z
LAST-MODIFIED:20260422T133258Z
UID:10038955-1790604000-1790629200@bevmain.org
SUMMARY:Burger & Beverage
DESCRIPTION:MONDAY BURGER NIGHT\nKick off the week at The Pickled Onion!\nEnjoy an 8oz cheeseburger & hand-cut fries with your choice of:\nMichelob Ultra\, Bud Light\, PBR\, or a non-alcoholic beverage\nNo need to cook — we’ve got you covered.
URL:https://bevmain.org/event/burger-beverage/2026-09-28/
LOCATION:The Pickled Onion\, 355 rantoul st\, Beverly\, 01915\, United States
ATTACH;FMTTYPE=image/jpeg:https://bevmain.org/wp-content/uploads/2026/04/IMG_7283.jpeg
GEO:42.5522933;-70.8824043
X-APPLE-STRUCTURED-LOCATION;VALUE=URI;X-ADDRESS=The Pickled Onion 355 rantoul st Beverly 01915 United States;X-APPLE-RADIUS=500;X-TITLE=355 rantoul st:geo:-70.8824043,42.5522933
END:VEVENT
BEGIN:VEVENT
DTSTART;TZID=America/New_York:20261005T140000
DTEND;TZID=America/New_York:20261005T210000
DTSTAMP:20260422T160815
CREATED:20260422T133258Z
LAST-MODIFIED:20260422T133258Z
UID:10038956-1791208800-1791234000@bevmain.org
SUMMARY:Burger & Beverage
DESCRIPTION:MONDAY BURGER NIGHT\nKick off the week at The Pickled Onion!\nEnjoy an 8oz cheeseburger & hand-cut fries with your choice of:\nMichelob Ultra\, Bud Light\, PBR\, or a non-alcoholic beverage\nNo need to cook — we’ve got you covered.
URL:https://bevmain.org/event/burger-beverage/2026-10-05/
LOCATION:The Pickled Onion\, 355 rantoul st\, Beverly\, 01915\, United States
ATTACH;FMTTYPE=image/jpeg:https://bevmain.org/wp-content/uploads/2026/04/IMG_7283.jpeg
GEO:42.5522933;-70.8824043
X-APPLE-STRUCTURED-LOCATION;VALUE=URI;X-ADDRESS=The Pickled Onion 355 rantoul st Beverly 01915 United States;X-APPLE-RADIUS=500;X-TITLE=355 rantoul st:geo:-70.8824043,42.5522933
END:VEVENT
BEGIN:VEVENT
DTSTART;TZID=America/New_York:20261012T140000
DTEND;TZID=America/New_York:20261012T210000
DTSTAMP:20260422T160815
CREATED:20260422T133258Z
LAST-MODIFIED:20260422T133258Z
UID:10038957-1791813600-1791838800@bevmain.org
SUMMARY:Burger & Beverage
DESCRIPTION:MONDAY BURGER NIGHT\nKick off the week at The Pickled Onion!\nEnjoy an 8oz cheeseburger & hand-cut fries with your choice of:\nMichelob Ultra\, Bud Light\, PBR\, or a non-alcoholic beverage\nNo need to cook — we’ve got you covered.
URL:https://bevmain.org/event/burger-beverage/2026-10-12/
LOCATION:The Pickled Onion\, 355 rantoul st\, Beverly\, 01915\, United States
ATTACH;FMTTYPE=image/jpeg:https://bevmain.org/wp-content/uploads/2026/04/IMG_7283.jpeg
GEO:42.5522933;-70.8824043
X-APPLE-STRUCTURED-LOCATION;VALUE=URI;X-ADDRESS=The Pickled Onion 355 rantoul st Beverly 01915 United States;X-APPLE-RADIUS=500;X-TITLE=355 rantoul st:geo:-70.8824043,42.5522933
END:VEVENT
BEGIN:VEVENT
DTSTART;TZID=America/New_York:20261019T140000
DTEND;TZID=America/New_York:20261019T210000
DTSTAMP:20260422T160815
CREATED:20260422T133258Z
LAST-MODIFIED:20260422T133258Z
UID:10038958-1792418400-1792443600@bevmain.org
SUMMARY:Burger & Beverage
DESCRIPTION:MONDAY BURGER NIGHT\nKick off the week at The Pickled Onion!\nEnjoy an 8oz cheeseburger & hand-cut fries with your choice of:\nMichelob Ultra\, Bud Light\, PBR\, or a non-alcoholic beverage\nNo need to cook — we’ve got you covered.
URL:https://bevmain.org/event/burger-beverage/2026-10-19/
LOCATION:The Pickled Onion\, 355 rantoul st\, Beverly\, 01915\, United States
ATTACH;FMTTYPE=image/jpeg:https://bevmain.org/wp-content/uploads/2026/04/IMG_7283.jpeg
GEO:42.5522933;-70.8824043
X-APPLE-STRUCTURED-LOCATION;VALUE=URI;X-ADDRESS=The Pickled Onion 355 rantoul st Beverly 01915 United States;X-APPLE-RADIUS=500;X-TITLE=355 rantoul st:geo:-70.8824043,42.5522933
END:VEVENT
BEGIN:VEVENT
DTSTART;TZID=America/New_York:20261026T140000
DTEND;TZID=America/New_York:20261026T210000
DTSTAMP:20260422T160815
CREATED:20260422T133258Z
LAST-MODIFIED:20260422T133258Z
UID:10038959-1793023200-1793048400@bevmain.org
SUMMARY:Burger & Beverage
DESCRIPTION:MONDAY BURGER NIGHT\nKick off the week at The Pickled Onion!\nEnjoy an 8oz cheeseburger & hand-cut fries with your choice of:\nMichelob Ultra\, Bud Light\, PBR\, or a non-alcoholic beverage\nNo need to cook — we’ve got you covered.
URL:https://bevmain.org/event/burger-beverage/2026-10-26/
LOCATION:The Pickled Onion\, 355 rantoul st\, Beverly\, 01915\, United States
ATTACH;FMTTYPE=image/jpeg:https://bevmain.org/wp-content/uploads/2026/04/IMG_7283.jpeg
GEO:42.5522933;-70.8824043
X-APPLE-STRUCTURED-LOCATION;VALUE=URI;X-ADDRESS=The Pickled Onion 355 rantoul st Beverly 01915 United States;X-APPLE-RADIUS=500;X-TITLE=355 rantoul st:geo:-70.8824043,42.5522933
END:VEVENT
BEGIN:VEVENT
DTSTART;TZID=America/New_York:20261102T140000
DTEND;TZID=America/New_York:20261102T210000
DTSTAMP:20260422T160815
CREATED:20260422T133258Z
LAST-MODIFIED:20260422T133258Z
UID:10038960-1793628000-1793653200@bevmain.org
SUMMARY:Burger & Beverage
DESCRIPTION:MONDAY BURGER NIGHT\nKick off the week at The Pickled Onion!\nEnjoy an 8oz cheeseburger & hand-cut fries with your choice of:\nMichelob Ultra\, Bud Light\, PBR\, or a non-alcoholic beverage\nNo need to cook — we’ve got you covered.
URL:https://bevmain.org/event/burger-beverage/2026-11-02/
LOCATION:The Pickled Onion\, 355 rantoul st\, Beverly\, 01915\, United States
ATTACH;FMTTYPE=image/jpeg:https://bevmain.org/wp-content/uploads/2026/04/IMG_7283.jpeg
GEO:42.5522933;-70.8824043
X-APPLE-STRUCTURED-LOCATION;VALUE=URI;X-ADDRESS=The Pickled Onion 355 rantoul st Beverly 01915 United States;X-APPLE-RADIUS=500;X-TITLE=355 rantoul st:geo:-70.8824043,42.5522933
END:VEVENT
BEGIN:VEVENT
DTSTART;TZID=America/New_York:20261109T140000
DTEND;TZID=America/New_York:20261109T210000
DTSTAMP:20260422T160815
CREATED:20260422T133258Z
LAST-MODIFIED:20260422T133258Z
UID:10038961-1794232800-1794258000@bevmain.org
SUMMARY:Burger & Beverage
DESCRIPTION:MONDAY BURGER NIGHT\nKick off the week at The Pickled Onion!\nEnjoy an 8oz cheeseburger & hand-cut fries with your choice of:\nMichelob Ultra\, Bud Light\, PBR\, or a non-alcoholic beverage\nNo need to cook — we’ve got you covered.
URL:https://bevmain.org/event/burger-beverage/2026-11-09/
LOCATION:The Pickled Onion\, 355 rantoul st\, Beverly\, 01915\, United States
ATTACH;FMTTYPE=image/jpeg:https://bevmain.org/wp-content/uploads/2026/04/IMG_7283.jpeg
GEO:42.5522933;-70.8824043
X-APPLE-STRUCTURED-LOCATION;VALUE=URI;X-ADDRESS=The Pickled Onion 355 rantoul st Beverly 01915 United States;X-APPLE-RADIUS=500;X-TITLE=355 rantoul st:geo:-70.8824043,42.5522933
END:VEVENT
BEGIN:VEVENT
DTSTART;TZID=America/New_York:20261116T140000
DTEND;TZID=America/New_York:20261116T210000
DTSTAMP:20260422T160815
CREATED:20260422T133258Z
LAST-MODIFIED:20260422T133258Z
UID:10038962-1794837600-1794862800@bevmain.org
SUMMARY:Burger & Beverage
DESCRIPTION:MONDAY BURGER NIGHT\nKick off the week at The Pickled Onion!\nEnjoy an 8oz cheeseburger & hand-cut fries with your choice of:\nMichelob Ultra\, Bud Light\, PBR\, or a non-alcoholic beverage\nNo need to cook — we’ve got you covered.
URL:https://bevmain.org/event/burger-beverage/2026-11-16/
LOCATION:The Pickled Onion\, 355 rantoul st\, Beverly\, 01915\, United States
ATTACH;FMTTYPE=image/jpeg:https://bevmain.org/wp-content/uploads/2026/04/IMG_7283.jpeg
GEO:42.5522933;-70.8824043
X-APPLE-STRUCTURED-LOCATION;VALUE=URI;X-ADDRESS=The Pickled Onion 355 rantoul st Beverly 01915 United States;X-APPLE-RADIUS=500;X-TITLE=355 rantoul st:geo:-70.8824043,42.5522933
END:VEVENT
BEGIN:VEVENT
DTSTART;TZID=America/New_York:20261123T140000
DTEND;TZID=America/New_York:20261123T210000
DTSTAMP:20260422T160815
CREATED:20260422T133258Z
LAST-MODIFIED:20260422T133258Z
UID:10038963-1795442400-1795467600@bevmain.org
SUMMARY:Burger & Beverage
DESCRIPTION:MONDAY BURGER NIGHT\nKick off the week at The Pickled Onion!\nEnjoy an 8oz cheeseburger & hand-cut fries with your choice of:\nMichelob Ultra\, Bud Light\, PBR\, or a non-alcoholic beverage\nNo need to cook — we’ve got you covered.
URL:https://bevmain.org/event/burger-beverage/2026-11-23/
LOCATION:The Pickled Onion\, 355 rantoul st\, Beverly\, 01915\, United States
ATTACH;FMTTYPE=image/jpeg:https://bevmain.org/wp-content/uploads/2026/04/IMG_7283.jpeg
GEO:42.5522933;-70.8824043
X-APPLE-STRUCTURED-LOCATION;VALUE=URI;X-ADDRESS=The Pickled Onion 355 rantoul st Beverly 01915 United States;X-APPLE-RADIUS=500;X-TITLE=355 rantoul st:geo:-70.8824043,42.5522933
END:VEVENT
BEGIN:VEVENT
DTSTART;TZID=America/New_York:20261130T140000
DTEND;TZID=America/New_York:20261130T210000
DTSTAMP:20260422T160815
CREATED:20260422T133258Z
LAST-MODIFIED:20260422T133258Z
UID:10038964-1796047200-1796072400@bevmain.org
SUMMARY:Burger & Beverage
DESCRIPTION:MONDAY BURGER NIGHT\nKick off the week at The Pickled Onion!\nEnjoy an 8oz cheeseburger & hand-cut fries with your choice of:\nMichelob Ultra\, Bud Light\, PBR\, or a non-alcoholic beverage\nNo need to cook — we’ve got you covered.
URL:https://bevmain.org/event/burger-beverage/2026-11-30/
LOCATION:The Pickled Onion\, 355 rantoul st\, Beverly\, 01915\, United States
ATTACH;FMTTYPE=image/jpeg:https://bevmain.org/wp-content/uploads/2026/04/IMG_7283.jpeg
GEO:42.5522933;-70.8824043
X-APPLE-STRUCTURED-LOCATION;VALUE=URI;X-ADDRESS=The Pickled Onion 355 rantoul st Beverly 01915 United States;X-APPLE-RADIUS=500;X-TITLE=355 rantoul st:geo:-70.8824043,42.5522933
END:VEVENT
BEGIN:VEVENT
DTSTART;TZID=America/New_York:20261207T140000
DTEND;TZID=America/New_York:20261207T210000
DTSTAMP:20260422T160815
CREATED:20260422T133258Z
LAST-MODIFIED:20260422T133258Z
UID:10038965-1796652000-1796677200@bevmain.org
SUMMARY:Burger & Beverage
DESCRIPTION:MONDAY BURGER NIGHT\nKick off the week at The Pickled Onion!\nEnjoy an 8oz cheeseburger & hand-cut fries with your choice of:\nMichelob Ultra\, Bud Light\, PBR\, or a non-alcoholic beverage\nNo need to cook — we’ve got you covered.
URL:https://bevmain.org/event/burger-beverage/2026-12-07/
LOCATION:The Pickled Onion\, 355 rantoul st\, Beverly\, 01915\, United States
ATTACH;FMTTYPE=image/jpeg:https://bevmain.org/wp-content/uploads/2026/04/IMG_7283.jpeg
GEO:42.5522933;-70.8824043
X-APPLE-STRUCTURED-LOCATION;VALUE=URI;X-ADDRESS=The Pickled Onion 355 rantoul st Beverly 01915 United States;X-APPLE-RADIUS=500;X-TITLE=355 rantoul st:geo:-70.8824043,42.5522933
END:VEVENT
BEGIN:VEVENT
DTSTART;TZID=America/New_York:20261214T140000
DTEND;TZID=America/New_York:20261214T210000
DTSTAMP:20260422T160815
CREATED:20260422T133258Z
LAST-MODIFIED:20260422T133258Z
UID:10038966-1797256800-1797282000@bevmain.org
SUMMARY:Burger & Beverage
DESCRIPTION:MONDAY BURGER NIGHT\nKick off the week at The Pickled Onion!\nEnjoy an 8oz cheeseburger & hand-cut fries with your choice of:\nMichelob Ultra\, Bud Light\, PBR\, or a non-alcoholic beverage\nNo need to cook — we’ve got you covered.
URL:https://bevmain.org/event/burger-beverage/2026-12-14/
LOCATION:The Pickled Onion\, 355 rantoul st\, Beverly\, 01915\, United States
ATTACH;FMTTYPE=image/jpeg:https://bevmain.org/wp-content/uploads/2026/04/IMG_7283.jpeg
GEO:42.5522933;-70.8824043
X-APPLE-STRUCTURED-LOCATION;VALUE=URI;X-ADDRESS=The Pickled Onion 355 rantoul st Beverly 01915 United States;X-APPLE-RADIUS=500;X-TITLE=355 rantoul st:geo:-70.8824043,42.5522933
END:VEVENT
BEGIN:VEVENT
DTSTART;TZID=America/New_York:20261221T140000
DTEND;TZID=America/New_York:20261221T210000
DTSTAMP:20260422T160815
CREATED:20260422T133258Z
LAST-MODIFIED:20260422T133258Z
UID:10038967-1797861600-1797886800@bevmain.org
SUMMARY:Burger & Beverage
DESCRIPTION:MONDAY BURGER NIGHT\nKick off the week at The Pickled Onion!\nEnjoy an 8oz cheeseburger & hand-cut fries with your choice of:\nMichelob Ultra\, Bud Light\, PBR\, or a non-alcoholic beverage\nNo need to cook — we’ve got you covered.
URL:https://bevmain.org/event/burger-beverage/2026-12-21/
LOCATION:The Pickled Onion\, 355 rantoul st\, Beverly\, 01915\, United States
ATTACH;FMTTYPE=image/jpeg:https://bevmain.org/wp-content/uploads/2026/04/IMG_7283.jpeg
GEO:42.5522933;-70.8824043
X-APPLE-STRUCTURED-LOCATION;VALUE=URI;X-ADDRESS=The Pickled Onion 355 rantoul st Beverly 01915 United States;X-APPLE-RADIUS=500;X-TITLE=355 rantoul st:geo:-70.8824043,42.5522933
END:VEVENT
BEGIN:VEVENT
DTSTART;TZID=America/New_York:20261228T140000
DTEND;TZID=America/New_York:20261228T210000
DTSTAMP:20260422T160815
CREATED:20260422T133258Z
LAST-MODIFIED:20260422T133258Z
UID:10038968-1798466400-1798491600@bevmain.org
SUMMARY:Burger & Beverage
DESCRIPTION:MONDAY BURGER NIGHT\nKick off the week at The Pickled Onion!\nEnjoy an 8oz cheeseburger & hand-cut fries with your choice of:\nMichelob Ultra\, Bud Light\, PBR\, or a non-alcoholic beverage\nNo need to cook — we’ve got you covered.
URL:https://bevmain.org/event/burger-beverage/2026-12-28/
LOCATION:The Pickled Onion\, 355 rantoul st\, Beverly\, 01915\, United States
ATTACH;FMTTYPE=image/jpeg:https://bevmain.org/wp-content/uploads/2026/04/IMG_7283.jpeg
GEO:42.5522933;-70.8824043
X-APPLE-STRUCTURED-LOCATION;VALUE=URI;X-ADDRESS=The Pickled Onion 355 rantoul st Beverly 01915 United States;X-APPLE-RADIUS=500;X-TITLE=355 rantoul st:geo:-70.8824043,42.5522933
END:VEVENT
BEGIN:VEVENT
DTSTART;TZID=America/New_York:20270104T140000
DTEND;TZID=America/New_York:20270104T210000
DTSTAMP:20260422T160815
CREATED:20260422T133258Z
LAST-MODIFIED:20260422T133258Z
UID:10038969-1799071200-1799096400@bevmain.org
SUMMARY:Burger & Beverage
DESCRIPTION:MONDAY BURGER NIGHT\nKick off the week at The Pickled Onion!\nEnjoy an 8oz cheeseburger & hand-cut fries with your choice of:\nMichelob Ultra\, Bud Light\, PBR\, or a non-alcoholic beverage\nNo need to cook — we’ve got you covered.
URL:https://bevmain.org/event/burger-beverage/2027-01-04/
LOCATION:The Pickled Onion\, 355 rantoul st\, Beverly\, 01915\, United States
ATTACH;FMTTYPE=image/jpeg:https://bevmain.org/wp-content/uploads/2026/04/IMG_7283.jpeg
GEO:42.5522933;-70.8824043
X-APPLE-STRUCTURED-LOCATION;VALUE=URI;X-ADDRESS=The Pickled Onion 355 rantoul st Beverly 01915 United States;X-APPLE-RADIUS=500;X-TITLE=355 rantoul st:geo:-70.8824043,42.5522933
END:VEVENT
BEGIN:VEVENT
DTSTART;TZID=America/New_York:20270111T140000
DTEND;TZID=America/New_York:20270111T210000
DTSTAMP:20260422T160815
CREATED:20260422T133258Z
LAST-MODIFIED:20260422T133258Z
UID:10038970-1799676000-1799701200@bevmain.org
SUMMARY:Burger & Beverage
DESCRIPTION:MONDAY BURGER NIGHT\nKick off the week at The Pickled Onion!\nEnjoy an 8oz cheeseburger & hand-cut fries with your choice of:\nMichelob Ultra\, Bud Light\, PBR\, or a non-alcoholic beverage\nNo need to cook — we’ve got you covered.
URL:https://bevmain.org/event/burger-beverage/2027-01-11/
LOCATION:The Pickled Onion\, 355 rantoul st\, Beverly\, 01915\, United States
ATTACH;FMTTYPE=image/jpeg:https://bevmain.org/wp-content/uploads/2026/04/IMG_7283.jpeg
GEO:42.5522933;-70.8824043
X-APPLE-STRUCTURED-LOCATION;VALUE=URI;X-ADDRESS=The Pickled Onion 355 rantoul st Beverly 01915 United States;X-APPLE-RADIUS=500;X-TITLE=355 rantoul st:geo:-70.8824043,42.5522933
END:VEVENT
BEGIN:VEVENT
DTSTART;TZID=America/New_York:20270118T140000
DTEND;TZID=America/New_York:20270118T210000
DTSTAMP:20260422T160815
CREATED:20260422T133258Z
LAST-MODIFIED:20260422T133258Z
UID:10038971-1800280800-1800306000@bevmain.org
SUMMARY:Burger & Beverage
DESCRIPTION:MONDAY BURGER NIGHT\nKick off the week at The Pickled Onion!\nEnjoy an 8oz cheeseburger & hand-cut fries with your choice of:\nMichelob Ultra\, Bud Light\, PBR\, or a non-alcoholic beverage\nNo need to cook — we’ve got you covered.
URL:https://bevmain.org/event/burger-beverage/2027-01-18/
LOCATION:The Pickled Onion\, 355 rantoul st\, Beverly\, 01915\, United States
ATTACH;FMTTYPE=image/jpeg:https://bevmain.org/wp-content/uploads/2026/04/IMG_7283.jpeg
GEO:42.5522933;-70.8824043
X-APPLE-STRUCTURED-LOCATION;VALUE=URI;X-ADDRESS=The Pickled Onion 355 rantoul st Beverly 01915 United States;X-APPLE-RADIUS=500;X-TITLE=355 rantoul st:geo:-70.8824043,42.5522933
END:VEVENT
BEGIN:VEVENT
DTSTART;TZID=America/New_York:20270125T140000
DTEND;TZID=America/New_York:20270125T210000
DTSTAMP:20260422T160815
CREATED:20260422T133258Z
LAST-MODIFIED:20260422T133258Z
UID:10038972-1800885600-1800910800@bevmain.org
SUMMARY:Burger & Beverage
DESCRIPTION:MONDAY BURGER NIGHT\nKick off the week at The Pickled Onion!\nEnjoy an 8oz cheeseburger & hand-cut fries with your choice of:\nMichelob Ultra\, Bud Light\, PBR\, or a non-alcoholic beverage\nNo need to cook — we’ve got you covered.
URL:https://bevmain.org/event/burger-beverage/2027-01-25/
LOCATION:The Pickled Onion\, 355 rantoul st\, Beverly\, 01915\, United States
ATTACH;FMTTYPE=image/jpeg:https://bevmain.org/wp-content/uploads/2026/04/IMG_7283.jpeg
GEO:42.5522933;-70.8824043
X-APPLE-STRUCTURED-LOCATION;VALUE=URI;X-ADDRESS=The Pickled Onion 355 rantoul st Beverly 01915 United States;X-APPLE-RADIUS=500;X-TITLE=355 rantoul st:geo:-70.8824043,42.5522933
END:VEVENT
BEGIN:VEVENT
DTSTART;TZID=America/New_York:20270201T140000
DTEND;TZID=America/New_York:20270201T210000
DTSTAMP:20260422T160816
CREATED:20260422T133258Z
LAST-MODIFIED:20260422T133258Z
UID:10038973-1801490400-1801515600@bevmain.org
SUMMARY:Burger & Beverage
DESCRIPTION:MONDAY BURGER NIGHT\nKick off the week at The Pickled Onion!\nEnjoy an 8oz cheeseburger & hand-cut fries with your choice of:\nMichelob Ultra\, Bud Light\, PBR\, or a non-alcoholic beverage\nNo need to cook — we’ve got you covered.
URL:https://bevmain.org/event/burger-beverage/2027-02-01/
LOCATION:The Pickled Onion\, 355 rantoul st\, Beverly\, 01915\, United States
ATTACH;FMTTYPE=image/jpeg:https://bevmain.org/wp-content/uploads/2026/04/IMG_7283.jpeg
GEO:42.5522933;-70.8824043
X-APPLE-STRUCTURED-LOCATION;VALUE=URI;X-ADDRESS=The Pickled Onion 355 rantoul st Beverly 01915 United States;X-APPLE-RADIUS=500;X-TITLE=355 rantoul st:geo:-70.8824043,42.5522933
END:VEVENT
BEGIN:VEVENT
DTSTART;TZID=America/New_York:20270208T140000
DTEND;TZID=America/New_York:20270208T210000
DTSTAMP:20260422T160816
CREATED:20260422T133258Z
LAST-MODIFIED:20260422T133258Z
UID:10038974-1802095200-1802120400@bevmain.org
SUMMARY:Burger & Beverage
DESCRIPTION:MONDAY BURGER NIGHT\nKick off the week at The Pickled Onion!\nEnjoy an 8oz cheeseburger & hand-cut fries with your choice of:\nMichelob Ultra\, Bud Light\, PBR\, or a non-alcoholic beverage\nNo need to cook — we’ve got you covered.
URL:https://bevmain.org/event/burger-beverage/2027-02-08/
LOCATION:The Pickled Onion\, 355 rantoul st\, Beverly\, 01915\, United States
ATTACH;FMTTYPE=image/jpeg:https://bevmain.org/wp-content/uploads/2026/04/IMG_7283.jpeg
GEO:42.5522933;-70.8824043
X-APPLE-STRUCTURED-LOCATION;VALUE=URI;X-ADDRESS=The Pickled Onion 355 rantoul st Beverly 01915 United States;X-APPLE-RADIUS=500;X-TITLE=355 rantoul st:geo:-70.8824043,42.5522933
END:VEVENT
END:VCALENDAR