BEGIN:VCALENDAR
VERSION:2.0
PRODID:-//Beverly Main Streets - ECPv6.15.20//NONSGML v1.0//EN
CALSCALE:GREGORIAN
METHOD:PUBLISH
X-ORIGINAL-URL:https://bevmain.org
X-WR-CALDESC:Events for Beverly Main Streets
REFRESH-INTERVAL;VALUE=DURATION:PT1H
X-Robots-Tag:noindex
X-PUBLISHED-TTL:PT1H
BEGIN:VTIMEZONE
TZID:America/New_York
BEGIN:DAYLIGHT
TZOFFSETFROM:-0500
TZOFFSETTO:-0400
TZNAME:EDT
DTSTART:20260308T070000
END:DAYLIGHT
BEGIN:STANDARD
TZOFFSETFROM:-0400
TZOFFSETTO:-0500
TZNAME:EST
DTSTART:20261101T060000
END:STANDARD
BEGIN:DAYLIGHT
TZOFFSETFROM:-0500
TZOFFSETTO:-0400
TZNAME:EDT
DTSTART:20270314T070000
END:DAYLIGHT
BEGIN:STANDARD
TZOFFSETFROM:-0400
TZOFFSETTO:-0500
TZNAME:EST
DTSTART:20271107T060000
END:STANDARD
BEGIN:DAYLIGHT
TZOFFSETFROM:-0500
TZOFFSETTO:-0400
TZNAME:EDT
DTSTART:20280312T070000
END:DAYLIGHT
BEGIN:STANDARD
TZOFFSETFROM:-0400
TZOFFSETTO:-0500
TZNAME:EST
DTSTART:20281105T060000
END:STANDARD
BEGIN:DAYLIGHT
TZOFFSETFROM:-0500
TZOFFSETTO:-0400
TZNAME:EDT
DTSTART:20290311T070000
END:DAYLIGHT
BEGIN:STANDARD
TZOFFSETFROM:-0400
TZOFFSETTO:-0500
TZNAME:EST
DTSTART:20291104T060000
END:STANDARD
END:VTIMEZONE
BEGIN:VEVENT
DTSTART;TZID=America/New_York:20270621T140000
DTEND;TZID=America/New_York:20270621T210000
DTSTAMP:20260422T213904
CREATED:20260422T133258Z
LAST-MODIFIED:20260422T133258Z
UID:10038993-1813586400-1813611600@bevmain.org
SUMMARY:Burger & Beverage
DESCRIPTION:MONDAY BURGER NIGHT\nKick off the week at The Pickled Onion!\nEnjoy an 8oz cheeseburger & hand-cut fries with your choice of:\nMichelob Ultra\, Bud Light\, PBR\, or a non-alcoholic beverage\nNo need to cook — we’ve got you covered.
URL:https://bevmain.org/event/burger-beverage/2027-06-21/
LOCATION:The Pickled Onion\, 355 rantoul st\, Beverly\, 01915\, United States
ATTACH;FMTTYPE=image/jpeg:https://bevmain.org/wp-content/uploads/2026/04/IMG_7283.jpeg
GEO:42.5522933;-70.8824043
X-APPLE-STRUCTURED-LOCATION;VALUE=URI;X-ADDRESS=The Pickled Onion 355 rantoul st Beverly 01915 United States;X-APPLE-RADIUS=500;X-TITLE=355 rantoul st:geo:-70.8824043,42.5522933
END:VEVENT
BEGIN:VEVENT
DTSTART;TZID=America/New_York:20270628T140000
DTEND;TZID=America/New_York:20270628T210000
DTSTAMP:20260422T213904
CREATED:20260422T133258Z
LAST-MODIFIED:20260422T133258Z
UID:10038994-1814191200-1814216400@bevmain.org
SUMMARY:Burger & Beverage
DESCRIPTION:MONDAY BURGER NIGHT\nKick off the week at The Pickled Onion!\nEnjoy an 8oz cheeseburger & hand-cut fries with your choice of:\nMichelob Ultra\, Bud Light\, PBR\, or a non-alcoholic beverage\nNo need to cook — we’ve got you covered.
URL:https://bevmain.org/event/burger-beverage/2027-06-28/
LOCATION:The Pickled Onion\, 355 rantoul st\, Beverly\, 01915\, United States
ATTACH;FMTTYPE=image/jpeg:https://bevmain.org/wp-content/uploads/2026/04/IMG_7283.jpeg
GEO:42.5522933;-70.8824043
X-APPLE-STRUCTURED-LOCATION;VALUE=URI;X-ADDRESS=The Pickled Onion 355 rantoul st Beverly 01915 United States;X-APPLE-RADIUS=500;X-TITLE=355 rantoul st:geo:-70.8824043,42.5522933
END:VEVENT
BEGIN:VEVENT
DTSTART;TZID=America/New_York:20270705T140000
DTEND;TZID=America/New_York:20270705T210000
DTSTAMP:20260422T213904
CREATED:20260422T133258Z
LAST-MODIFIED:20260422T133258Z
UID:10038995-1814796000-1814821200@bevmain.org
SUMMARY:Burger & Beverage
DESCRIPTION:MONDAY BURGER NIGHT\nKick off the week at The Pickled Onion!\nEnjoy an 8oz cheeseburger & hand-cut fries with your choice of:\nMichelob Ultra\, Bud Light\, PBR\, or a non-alcoholic beverage\nNo need to cook — we’ve got you covered.
URL:https://bevmain.org/event/burger-beverage/2027-07-05/
LOCATION:The Pickled Onion\, 355 rantoul st\, Beverly\, 01915\, United States
ATTACH;FMTTYPE=image/jpeg:https://bevmain.org/wp-content/uploads/2026/04/IMG_7283.jpeg
GEO:42.5522933;-70.8824043
X-APPLE-STRUCTURED-LOCATION;VALUE=URI;X-ADDRESS=The Pickled Onion 355 rantoul st Beverly 01915 United States;X-APPLE-RADIUS=500;X-TITLE=355 rantoul st:geo:-70.8824043,42.5522933
END:VEVENT
BEGIN:VEVENT
DTSTART;TZID=America/New_York:20270712T140000
DTEND;TZID=America/New_York:20270712T210000
DTSTAMP:20260422T213904
CREATED:20260422T133258Z
LAST-MODIFIED:20260422T133258Z
UID:10038996-1815400800-1815426000@bevmain.org
SUMMARY:Burger & Beverage
DESCRIPTION:MONDAY BURGER NIGHT\nKick off the week at The Pickled Onion!\nEnjoy an 8oz cheeseburger & hand-cut fries with your choice of:\nMichelob Ultra\, Bud Light\, PBR\, or a non-alcoholic beverage\nNo need to cook — we’ve got you covered.
URL:https://bevmain.org/event/burger-beverage/2027-07-12/
LOCATION:The Pickled Onion\, 355 rantoul st\, Beverly\, 01915\, United States
ATTACH;FMTTYPE=image/jpeg:https://bevmain.org/wp-content/uploads/2026/04/IMG_7283.jpeg
GEO:42.5522933;-70.8824043
X-APPLE-STRUCTURED-LOCATION;VALUE=URI;X-ADDRESS=The Pickled Onion 355 rantoul st Beverly 01915 United States;X-APPLE-RADIUS=500;X-TITLE=355 rantoul st:geo:-70.8824043,42.5522933
END:VEVENT
BEGIN:VEVENT
DTSTART;TZID=America/New_York:20270719T140000
DTEND;TZID=America/New_York:20270719T210000
DTSTAMP:20260422T213904
CREATED:20260422T133258Z
LAST-MODIFIED:20260422T133258Z
UID:10038997-1816005600-1816030800@bevmain.org
SUMMARY:Burger & Beverage
DESCRIPTION:MONDAY BURGER NIGHT\nKick off the week at The Pickled Onion!\nEnjoy an 8oz cheeseburger & hand-cut fries with your choice of:\nMichelob Ultra\, Bud Light\, PBR\, or a non-alcoholic beverage\nNo need to cook — we’ve got you covered.
URL:https://bevmain.org/event/burger-beverage/2027-07-19/
LOCATION:The Pickled Onion\, 355 rantoul st\, Beverly\, 01915\, United States
ATTACH;FMTTYPE=image/jpeg:https://bevmain.org/wp-content/uploads/2026/04/IMG_7283.jpeg
GEO:42.5522933;-70.8824043
X-APPLE-STRUCTURED-LOCATION;VALUE=URI;X-ADDRESS=The Pickled Onion 355 rantoul st Beverly 01915 United States;X-APPLE-RADIUS=500;X-TITLE=355 rantoul st:geo:-70.8824043,42.5522933
END:VEVENT
BEGIN:VEVENT
DTSTART;TZID=America/New_York:20270726T140000
DTEND;TZID=America/New_York:20270726T210000
DTSTAMP:20260422T213904
CREATED:20260422T133258Z
LAST-MODIFIED:20260422T133258Z
UID:10038998-1816610400-1816635600@bevmain.org
SUMMARY:Burger & Beverage
DESCRIPTION:MONDAY BURGER NIGHT\nKick off the week at The Pickled Onion!\nEnjoy an 8oz cheeseburger & hand-cut fries with your choice of:\nMichelob Ultra\, Bud Light\, PBR\, or a non-alcoholic beverage\nNo need to cook — we’ve got you covered.
URL:https://bevmain.org/event/burger-beverage/2027-07-26/
LOCATION:The Pickled Onion\, 355 rantoul st\, Beverly\, 01915\, United States
ATTACH;FMTTYPE=image/jpeg:https://bevmain.org/wp-content/uploads/2026/04/IMG_7283.jpeg
GEO:42.5522933;-70.8824043
X-APPLE-STRUCTURED-LOCATION;VALUE=URI;X-ADDRESS=The Pickled Onion 355 rantoul st Beverly 01915 United States;X-APPLE-RADIUS=500;X-TITLE=355 rantoul st:geo:-70.8824043,42.5522933
END:VEVENT
BEGIN:VEVENT
DTSTART;TZID=America/New_York:20270802T140000
DTEND;TZID=America/New_York:20270802T210000
DTSTAMP:20260422T213904
CREATED:20260422T133258Z
LAST-MODIFIED:20260422T133258Z
UID:10038999-1817215200-1817240400@bevmain.org
SUMMARY:Burger & Beverage
DESCRIPTION:MONDAY BURGER NIGHT\nKick off the week at The Pickled Onion!\nEnjoy an 8oz cheeseburger & hand-cut fries with your choice of:\nMichelob Ultra\, Bud Light\, PBR\, or a non-alcoholic beverage\nNo need to cook — we’ve got you covered.
URL:https://bevmain.org/event/burger-beverage/2027-08-02/
LOCATION:The Pickled Onion\, 355 rantoul st\, Beverly\, 01915\, United States
ATTACH;FMTTYPE=image/jpeg:https://bevmain.org/wp-content/uploads/2026/04/IMG_7283.jpeg
GEO:42.5522933;-70.8824043
X-APPLE-STRUCTURED-LOCATION;VALUE=URI;X-ADDRESS=The Pickled Onion 355 rantoul st Beverly 01915 United States;X-APPLE-RADIUS=500;X-TITLE=355 rantoul st:geo:-70.8824043,42.5522933
END:VEVENT
BEGIN:VEVENT
DTSTART;TZID=America/New_York:20270809T140000
DTEND;TZID=America/New_York:20270809T210000
DTSTAMP:20260422T213904
CREATED:20260422T133258Z
LAST-MODIFIED:20260422T133258Z
UID:10039000-1817820000-1817845200@bevmain.org
SUMMARY:Burger & Beverage
DESCRIPTION:MONDAY BURGER NIGHT\nKick off the week at The Pickled Onion!\nEnjoy an 8oz cheeseburger & hand-cut fries with your choice of:\nMichelob Ultra\, Bud Light\, PBR\, or a non-alcoholic beverage\nNo need to cook — we’ve got you covered.
URL:https://bevmain.org/event/burger-beverage/2027-08-09/
LOCATION:The Pickled Onion\, 355 rantoul st\, Beverly\, 01915\, United States
ATTACH;FMTTYPE=image/jpeg:https://bevmain.org/wp-content/uploads/2026/04/IMG_7283.jpeg
GEO:42.5522933;-70.8824043
X-APPLE-STRUCTURED-LOCATION;VALUE=URI;X-ADDRESS=The Pickled Onion 355 rantoul st Beverly 01915 United States;X-APPLE-RADIUS=500;X-TITLE=355 rantoul st:geo:-70.8824043,42.5522933
END:VEVENT
BEGIN:VEVENT
DTSTART;TZID=America/New_York:20270816T140000
DTEND;TZID=America/New_York:20270816T210000
DTSTAMP:20260422T213904
CREATED:20260422T133258Z
LAST-MODIFIED:20260422T133258Z
UID:10039001-1818424800-1818450000@bevmain.org
SUMMARY:Burger & Beverage
DESCRIPTION:MONDAY BURGER NIGHT\nKick off the week at The Pickled Onion!\nEnjoy an 8oz cheeseburger & hand-cut fries with your choice of:\nMichelob Ultra\, Bud Light\, PBR\, or a non-alcoholic beverage\nNo need to cook — we’ve got you covered.
URL:https://bevmain.org/event/burger-beverage/2027-08-16/
LOCATION:The Pickled Onion\, 355 rantoul st\, Beverly\, 01915\, United States
ATTACH;FMTTYPE=image/jpeg:https://bevmain.org/wp-content/uploads/2026/04/IMG_7283.jpeg
GEO:42.5522933;-70.8824043
X-APPLE-STRUCTURED-LOCATION;VALUE=URI;X-ADDRESS=The Pickled Onion 355 rantoul st Beverly 01915 United States;X-APPLE-RADIUS=500;X-TITLE=355 rantoul st:geo:-70.8824043,42.5522933
END:VEVENT
BEGIN:VEVENT
DTSTART;TZID=America/New_York:20270823T140000
DTEND;TZID=America/New_York:20270823T210000
DTSTAMP:20260422T213904
CREATED:20260422T133258Z
LAST-MODIFIED:20260422T133258Z
UID:10039002-1819029600-1819054800@bevmain.org
SUMMARY:Burger & Beverage
DESCRIPTION:MONDAY BURGER NIGHT\nKick off the week at The Pickled Onion!\nEnjoy an 8oz cheeseburger & hand-cut fries with your choice of:\nMichelob Ultra\, Bud Light\, PBR\, or a non-alcoholic beverage\nNo need to cook — we’ve got you covered.
URL:https://bevmain.org/event/burger-beverage/2027-08-23/
LOCATION:The Pickled Onion\, 355 rantoul st\, Beverly\, 01915\, United States
ATTACH;FMTTYPE=image/jpeg:https://bevmain.org/wp-content/uploads/2026/04/IMG_7283.jpeg
GEO:42.5522933;-70.8824043
X-APPLE-STRUCTURED-LOCATION;VALUE=URI;X-ADDRESS=The Pickled Onion 355 rantoul st Beverly 01915 United States;X-APPLE-RADIUS=500;X-TITLE=355 rantoul st:geo:-70.8824043,42.5522933
END:VEVENT
BEGIN:VEVENT
DTSTART;TZID=America/New_York:20270830T140000
DTEND;TZID=America/New_York:20270830T210000
DTSTAMP:20260422T213904
CREATED:20260422T133258Z
LAST-MODIFIED:20260422T133258Z
UID:10039003-1819634400-1819659600@bevmain.org
SUMMARY:Burger & Beverage
DESCRIPTION:MONDAY BURGER NIGHT\nKick off the week at The Pickled Onion!\nEnjoy an 8oz cheeseburger & hand-cut fries with your choice of:\nMichelob Ultra\, Bud Light\, PBR\, or a non-alcoholic beverage\nNo need to cook — we’ve got you covered.
URL:https://bevmain.org/event/burger-beverage/2027-08-30/
LOCATION:The Pickled Onion\, 355 rantoul st\, Beverly\, 01915\, United States
ATTACH;FMTTYPE=image/jpeg:https://bevmain.org/wp-content/uploads/2026/04/IMG_7283.jpeg
GEO:42.5522933;-70.8824043
X-APPLE-STRUCTURED-LOCATION;VALUE=URI;X-ADDRESS=The Pickled Onion 355 rantoul st Beverly 01915 United States;X-APPLE-RADIUS=500;X-TITLE=355 rantoul st:geo:-70.8824043,42.5522933
END:VEVENT
BEGIN:VEVENT
DTSTART;TZID=America/New_York:20270906T140000
DTEND;TZID=America/New_York:20270906T210000
DTSTAMP:20260422T213904
CREATED:20260422T133258Z
LAST-MODIFIED:20260422T133258Z
UID:10039004-1820239200-1820264400@bevmain.org
SUMMARY:Burger & Beverage
DESCRIPTION:MONDAY BURGER NIGHT\nKick off the week at The Pickled Onion!\nEnjoy an 8oz cheeseburger & hand-cut fries with your choice of:\nMichelob Ultra\, Bud Light\, PBR\, or a non-alcoholic beverage\nNo need to cook — we’ve got you covered.
URL:https://bevmain.org/event/burger-beverage/2027-09-06/
LOCATION:The Pickled Onion\, 355 rantoul st\, Beverly\, 01915\, United States
ATTACH;FMTTYPE=image/jpeg:https://bevmain.org/wp-content/uploads/2026/04/IMG_7283.jpeg
GEO:42.5522933;-70.8824043
X-APPLE-STRUCTURED-LOCATION;VALUE=URI;X-ADDRESS=The Pickled Onion 355 rantoul st Beverly 01915 United States;X-APPLE-RADIUS=500;X-TITLE=355 rantoul st:geo:-70.8824043,42.5522933
END:VEVENT
BEGIN:VEVENT
DTSTART;TZID=America/New_York:20270913T140000
DTEND;TZID=America/New_York:20270913T210000
DTSTAMP:20260422T213904
CREATED:20260422T133258Z
LAST-MODIFIED:20260422T133258Z
UID:10039005-1820844000-1820869200@bevmain.org
SUMMARY:Burger & Beverage
DESCRIPTION:MONDAY BURGER NIGHT\nKick off the week at The Pickled Onion!\nEnjoy an 8oz cheeseburger & hand-cut fries with your choice of:\nMichelob Ultra\, Bud Light\, PBR\, or a non-alcoholic beverage\nNo need to cook — we’ve got you covered.
URL:https://bevmain.org/event/burger-beverage/2027-09-13/
LOCATION:The Pickled Onion\, 355 rantoul st\, Beverly\, 01915\, United States
ATTACH;FMTTYPE=image/jpeg:https://bevmain.org/wp-content/uploads/2026/04/IMG_7283.jpeg
GEO:42.5522933;-70.8824043
X-APPLE-STRUCTURED-LOCATION;VALUE=URI;X-ADDRESS=The Pickled Onion 355 rantoul st Beverly 01915 United States;X-APPLE-RADIUS=500;X-TITLE=355 rantoul st:geo:-70.8824043,42.5522933
END:VEVENT
BEGIN:VEVENT
DTSTART;TZID=America/New_York:20270920T140000
DTEND;TZID=America/New_York:20270920T210000
DTSTAMP:20260422T213904
CREATED:20260422T133258Z
LAST-MODIFIED:20260422T133258Z
UID:10039006-1821448800-1821474000@bevmain.org
SUMMARY:Burger & Beverage
DESCRIPTION:MONDAY BURGER NIGHT\nKick off the week at The Pickled Onion!\nEnjoy an 8oz cheeseburger & hand-cut fries with your choice of:\nMichelob Ultra\, Bud Light\, PBR\, or a non-alcoholic beverage\nNo need to cook — we’ve got you covered.
URL:https://bevmain.org/event/burger-beverage/2027-09-20/
LOCATION:The Pickled Onion\, 355 rantoul st\, Beverly\, 01915\, United States
ATTACH;FMTTYPE=image/jpeg:https://bevmain.org/wp-content/uploads/2026/04/IMG_7283.jpeg
GEO:42.5522933;-70.8824043
X-APPLE-STRUCTURED-LOCATION;VALUE=URI;X-ADDRESS=The Pickled Onion 355 rantoul st Beverly 01915 United States;X-APPLE-RADIUS=500;X-TITLE=355 rantoul st:geo:-70.8824043,42.5522933
END:VEVENT
BEGIN:VEVENT
DTSTART;TZID=America/New_York:20270927T140000
DTEND;TZID=America/New_York:20270927T210000
DTSTAMP:20260422T213904
CREATED:20260422T133258Z
LAST-MODIFIED:20260422T133258Z
UID:10039007-1822053600-1822078800@bevmain.org
SUMMARY:Burger & Beverage
DESCRIPTION:MONDAY BURGER NIGHT\nKick off the week at The Pickled Onion!\nEnjoy an 8oz cheeseburger & hand-cut fries with your choice of:\nMichelob Ultra\, Bud Light\, PBR\, or a non-alcoholic beverage\nNo need to cook — we’ve got you covered.
URL:https://bevmain.org/event/burger-beverage/2027-09-27/
LOCATION:The Pickled Onion\, 355 rantoul st\, Beverly\, 01915\, United States
ATTACH;FMTTYPE=image/jpeg:https://bevmain.org/wp-content/uploads/2026/04/IMG_7283.jpeg
GEO:42.5522933;-70.8824043
X-APPLE-STRUCTURED-LOCATION;VALUE=URI;X-ADDRESS=The Pickled Onion 355 rantoul st Beverly 01915 United States;X-APPLE-RADIUS=500;X-TITLE=355 rantoul st:geo:-70.8824043,42.5522933
END:VEVENT
BEGIN:VEVENT
DTSTART;TZID=America/New_York:20271004T140000
DTEND;TZID=America/New_York:20271004T210000
DTSTAMP:20260422T213904
CREATED:20260422T133258Z
LAST-MODIFIED:20260422T133258Z
UID:10039008-1822658400-1822683600@bevmain.org
SUMMARY:Burger & Beverage
DESCRIPTION:MONDAY BURGER NIGHT\nKick off the week at The Pickled Onion!\nEnjoy an 8oz cheeseburger & hand-cut fries with your choice of:\nMichelob Ultra\, Bud Light\, PBR\, or a non-alcoholic beverage\nNo need to cook — we’ve got you covered.
URL:https://bevmain.org/event/burger-beverage/2027-10-04/
LOCATION:The Pickled Onion\, 355 rantoul st\, Beverly\, 01915\, United States
ATTACH;FMTTYPE=image/jpeg:https://bevmain.org/wp-content/uploads/2026/04/IMG_7283.jpeg
GEO:42.5522933;-70.8824043
X-APPLE-STRUCTURED-LOCATION;VALUE=URI;X-ADDRESS=The Pickled Onion 355 rantoul st Beverly 01915 United States;X-APPLE-RADIUS=500;X-TITLE=355 rantoul st:geo:-70.8824043,42.5522933
END:VEVENT
BEGIN:VEVENT
DTSTART;TZID=America/New_York:20271011T140000
DTEND;TZID=America/New_York:20271011T210000
DTSTAMP:20260422T213904
CREATED:20260422T133258Z
LAST-MODIFIED:20260422T133258Z
UID:10039009-1823263200-1823288400@bevmain.org
SUMMARY:Burger & Beverage
DESCRIPTION:MONDAY BURGER NIGHT\nKick off the week at The Pickled Onion!\nEnjoy an 8oz cheeseburger & hand-cut fries with your choice of:\nMichelob Ultra\, Bud Light\, PBR\, or a non-alcoholic beverage\nNo need to cook — we’ve got you covered.
URL:https://bevmain.org/event/burger-beverage/2027-10-11/
LOCATION:The Pickled Onion\, 355 rantoul st\, Beverly\, 01915\, United States
ATTACH;FMTTYPE=image/jpeg:https://bevmain.org/wp-content/uploads/2026/04/IMG_7283.jpeg
GEO:42.5522933;-70.8824043
X-APPLE-STRUCTURED-LOCATION;VALUE=URI;X-ADDRESS=The Pickled Onion 355 rantoul st Beverly 01915 United States;X-APPLE-RADIUS=500;X-TITLE=355 rantoul st:geo:-70.8824043,42.5522933
END:VEVENT
BEGIN:VEVENT
DTSTART;TZID=America/New_York:20271018T140000
DTEND;TZID=America/New_York:20271018T210000
DTSTAMP:20260422T213904
CREATED:20260422T133258Z
LAST-MODIFIED:20260422T133258Z
UID:10039010-1823868000-1823893200@bevmain.org
SUMMARY:Burger & Beverage
DESCRIPTION:MONDAY BURGER NIGHT\nKick off the week at The Pickled Onion!\nEnjoy an 8oz cheeseburger & hand-cut fries with your choice of:\nMichelob Ultra\, Bud Light\, PBR\, or a non-alcoholic beverage\nNo need to cook — we’ve got you covered.
URL:https://bevmain.org/event/burger-beverage/2027-10-18/
LOCATION:The Pickled Onion\, 355 rantoul st\, Beverly\, 01915\, United States
ATTACH;FMTTYPE=image/jpeg:https://bevmain.org/wp-content/uploads/2026/04/IMG_7283.jpeg
GEO:42.5522933;-70.8824043
X-APPLE-STRUCTURED-LOCATION;VALUE=URI;X-ADDRESS=The Pickled Onion 355 rantoul st Beverly 01915 United States;X-APPLE-RADIUS=500;X-TITLE=355 rantoul st:geo:-70.8824043,42.5522933
END:VEVENT
BEGIN:VEVENT
DTSTART;TZID=America/New_York:20271025T140000
DTEND;TZID=America/New_York:20271025T210000
DTSTAMP:20260422T213904
CREATED:20260422T133258Z
LAST-MODIFIED:20260422T133258Z
UID:10039011-1824472800-1824498000@bevmain.org
SUMMARY:Burger & Beverage
DESCRIPTION:MONDAY BURGER NIGHT\nKick off the week at The Pickled Onion!\nEnjoy an 8oz cheeseburger & hand-cut fries with your choice of:\nMichelob Ultra\, Bud Light\, PBR\, or a non-alcoholic beverage\nNo need to cook — we’ve got you covered.
URL:https://bevmain.org/event/burger-beverage/2027-10-25/
LOCATION:The Pickled Onion\, 355 rantoul st\, Beverly\, 01915\, United States
ATTACH;FMTTYPE=image/jpeg:https://bevmain.org/wp-content/uploads/2026/04/IMG_7283.jpeg
GEO:42.5522933;-70.8824043
X-APPLE-STRUCTURED-LOCATION;VALUE=URI;X-ADDRESS=The Pickled Onion 355 rantoul st Beverly 01915 United States;X-APPLE-RADIUS=500;X-TITLE=355 rantoul st:geo:-70.8824043,42.5522933
END:VEVENT
BEGIN:VEVENT
DTSTART;TZID=America/New_York:20271101T140000
DTEND;TZID=America/New_York:20271101T210000
DTSTAMP:20260422T213904
CREATED:20260422T133258Z
LAST-MODIFIED:20260422T133258Z
UID:10039012-1825077600-1825102800@bevmain.org
SUMMARY:Burger & Beverage
DESCRIPTION:MONDAY BURGER NIGHT\nKick off the week at The Pickled Onion!\nEnjoy an 8oz cheeseburger & hand-cut fries with your choice of:\nMichelob Ultra\, Bud Light\, PBR\, or a non-alcoholic beverage\nNo need to cook — we’ve got you covered.
URL:https://bevmain.org/event/burger-beverage/2027-11-01/
LOCATION:The Pickled Onion\, 355 rantoul st\, Beverly\, 01915\, United States
ATTACH;FMTTYPE=image/jpeg:https://bevmain.org/wp-content/uploads/2026/04/IMG_7283.jpeg
GEO:42.5522933;-70.8824043
X-APPLE-STRUCTURED-LOCATION;VALUE=URI;X-ADDRESS=The Pickled Onion 355 rantoul st Beverly 01915 United States;X-APPLE-RADIUS=500;X-TITLE=355 rantoul st:geo:-70.8824043,42.5522933
END:VEVENT
BEGIN:VEVENT
DTSTART;TZID=America/New_York:20271108T140000
DTEND;TZID=America/New_York:20271108T210000
DTSTAMP:20260422T213904
CREATED:20260422T133258Z
LAST-MODIFIED:20260422T133258Z
UID:10039013-1825682400-1825707600@bevmain.org
SUMMARY:Burger & Beverage
DESCRIPTION:MONDAY BURGER NIGHT\nKick off the week at The Pickled Onion!\nEnjoy an 8oz cheeseburger & hand-cut fries with your choice of:\nMichelob Ultra\, Bud Light\, PBR\, or a non-alcoholic beverage\nNo need to cook — we’ve got you covered.
URL:https://bevmain.org/event/burger-beverage/2027-11-08/
LOCATION:The Pickled Onion\, 355 rantoul st\, Beverly\, 01915\, United States
ATTACH;FMTTYPE=image/jpeg:https://bevmain.org/wp-content/uploads/2026/04/IMG_7283.jpeg
GEO:42.5522933;-70.8824043
X-APPLE-STRUCTURED-LOCATION;VALUE=URI;X-ADDRESS=The Pickled Onion 355 rantoul st Beverly 01915 United States;X-APPLE-RADIUS=500;X-TITLE=355 rantoul st:geo:-70.8824043,42.5522933
END:VEVENT
BEGIN:VEVENT
DTSTART;TZID=America/New_York:20271115T140000
DTEND;TZID=America/New_York:20271115T210000
DTSTAMP:20260422T213904
CREATED:20260422T133258Z
LAST-MODIFIED:20260422T133258Z
UID:10039014-1826287200-1826312400@bevmain.org
SUMMARY:Burger & Beverage
DESCRIPTION:MONDAY BURGER NIGHT\nKick off the week at The Pickled Onion!\nEnjoy an 8oz cheeseburger & hand-cut fries with your choice of:\nMichelob Ultra\, Bud Light\, PBR\, or a non-alcoholic beverage\nNo need to cook — we’ve got you covered.
URL:https://bevmain.org/event/burger-beverage/2027-11-15/
LOCATION:The Pickled Onion\, 355 rantoul st\, Beverly\, 01915\, United States
ATTACH;FMTTYPE=image/jpeg:https://bevmain.org/wp-content/uploads/2026/04/IMG_7283.jpeg
GEO:42.5522933;-70.8824043
X-APPLE-STRUCTURED-LOCATION;VALUE=URI;X-ADDRESS=The Pickled Onion 355 rantoul st Beverly 01915 United States;X-APPLE-RADIUS=500;X-TITLE=355 rantoul st:geo:-70.8824043,42.5522933
END:VEVENT
BEGIN:VEVENT
DTSTART;TZID=America/New_York:20271122T140000
DTEND;TZID=America/New_York:20271122T210000
DTSTAMP:20260422T213904
CREATED:20260422T133258Z
LAST-MODIFIED:20260422T133258Z
UID:10039015-1826892000-1826917200@bevmain.org
SUMMARY:Burger & Beverage
DESCRIPTION:MONDAY BURGER NIGHT\nKick off the week at The Pickled Onion!\nEnjoy an 8oz cheeseburger & hand-cut fries with your choice of:\nMichelob Ultra\, Bud Light\, PBR\, or a non-alcoholic beverage\nNo need to cook — we’ve got you covered.
URL:https://bevmain.org/event/burger-beverage/2027-11-22/
LOCATION:The Pickled Onion\, 355 rantoul st\, Beverly\, 01915\, United States
ATTACH;FMTTYPE=image/jpeg:https://bevmain.org/wp-content/uploads/2026/04/IMG_7283.jpeg
GEO:42.5522933;-70.8824043
X-APPLE-STRUCTURED-LOCATION;VALUE=URI;X-ADDRESS=The Pickled Onion 355 rantoul st Beverly 01915 United States;X-APPLE-RADIUS=500;X-TITLE=355 rantoul st:geo:-70.8824043,42.5522933
END:VEVENT
BEGIN:VEVENT
DTSTART;TZID=America/New_York:20271129T140000
DTEND;TZID=America/New_York:20271129T210000
DTSTAMP:20260422T213904
CREATED:20260422T133258Z
LAST-MODIFIED:20260422T133258Z
UID:10039016-1827496800-1827522000@bevmain.org
SUMMARY:Burger & Beverage
DESCRIPTION:MONDAY BURGER NIGHT\nKick off the week at The Pickled Onion!\nEnjoy an 8oz cheeseburger & hand-cut fries with your choice of:\nMichelob Ultra\, Bud Light\, PBR\, or a non-alcoholic beverage\nNo need to cook — we’ve got you covered.
URL:https://bevmain.org/event/burger-beverage/2027-11-29/
LOCATION:The Pickled Onion\, 355 rantoul st\, Beverly\, 01915\, United States
ATTACH;FMTTYPE=image/jpeg:https://bevmain.org/wp-content/uploads/2026/04/IMG_7283.jpeg
GEO:42.5522933;-70.8824043
X-APPLE-STRUCTURED-LOCATION;VALUE=URI;X-ADDRESS=The Pickled Onion 355 rantoul st Beverly 01915 United States;X-APPLE-RADIUS=500;X-TITLE=355 rantoul st:geo:-70.8824043,42.5522933
END:VEVENT
BEGIN:VEVENT
DTSTART;TZID=America/New_York:20271206T140000
DTEND;TZID=America/New_York:20271206T210000
DTSTAMP:20260422T213904
CREATED:20260422T133258Z
LAST-MODIFIED:20260422T133258Z
UID:10039017-1828101600-1828126800@bevmain.org
SUMMARY:Burger & Beverage
DESCRIPTION:MONDAY BURGER NIGHT\nKick off the week at The Pickled Onion!\nEnjoy an 8oz cheeseburger & hand-cut fries with your choice of:\nMichelob Ultra\, Bud Light\, PBR\, or a non-alcoholic beverage\nNo need to cook — we’ve got you covered.
URL:https://bevmain.org/event/burger-beverage/2027-12-06/
LOCATION:The Pickled Onion\, 355 rantoul st\, Beverly\, 01915\, United States
ATTACH;FMTTYPE=image/jpeg:https://bevmain.org/wp-content/uploads/2026/04/IMG_7283.jpeg
GEO:42.5522933;-70.8824043
X-APPLE-STRUCTURED-LOCATION;VALUE=URI;X-ADDRESS=The Pickled Onion 355 rantoul st Beverly 01915 United States;X-APPLE-RADIUS=500;X-TITLE=355 rantoul st:geo:-70.8824043,42.5522933
END:VEVENT
BEGIN:VEVENT
DTSTART;TZID=America/New_York:20271213T140000
DTEND;TZID=America/New_York:20271213T210000
DTSTAMP:20260422T213904
CREATED:20260422T133258Z
LAST-MODIFIED:20260422T133258Z
UID:10039018-1828706400-1828731600@bevmain.org
SUMMARY:Burger & Beverage
DESCRIPTION:MONDAY BURGER NIGHT\nKick off the week at The Pickled Onion!\nEnjoy an 8oz cheeseburger & hand-cut fries with your choice of:\nMichelob Ultra\, Bud Light\, PBR\, or a non-alcoholic beverage\nNo need to cook — we’ve got you covered.
URL:https://bevmain.org/event/burger-beverage/2027-12-13/
LOCATION:The Pickled Onion\, 355 rantoul st\, Beverly\, 01915\, United States
ATTACH;FMTTYPE=image/jpeg:https://bevmain.org/wp-content/uploads/2026/04/IMG_7283.jpeg
GEO:42.5522933;-70.8824043
X-APPLE-STRUCTURED-LOCATION;VALUE=URI;X-ADDRESS=The Pickled Onion 355 rantoul st Beverly 01915 United States;X-APPLE-RADIUS=500;X-TITLE=355 rantoul st:geo:-70.8824043,42.5522933
END:VEVENT
BEGIN:VEVENT
DTSTART;TZID=America/New_York:20271220T140000
DTEND;TZID=America/New_York:20271220T210000
DTSTAMP:20260422T213904
CREATED:20260422T133258Z
LAST-MODIFIED:20260422T133258Z
UID:10039019-1829311200-1829336400@bevmain.org
SUMMARY:Burger & Beverage
DESCRIPTION:MONDAY BURGER NIGHT\nKick off the week at The Pickled Onion!\nEnjoy an 8oz cheeseburger & hand-cut fries with your choice of:\nMichelob Ultra\, Bud Light\, PBR\, or a non-alcoholic beverage\nNo need to cook — we’ve got you covered.
URL:https://bevmain.org/event/burger-beverage/2027-12-20/
LOCATION:The Pickled Onion\, 355 rantoul st\, Beverly\, 01915\, United States
ATTACH;FMTTYPE=image/jpeg:https://bevmain.org/wp-content/uploads/2026/04/IMG_7283.jpeg
GEO:42.5522933;-70.8824043
X-APPLE-STRUCTURED-LOCATION;VALUE=URI;X-ADDRESS=The Pickled Onion 355 rantoul st Beverly 01915 United States;X-APPLE-RADIUS=500;X-TITLE=355 rantoul st:geo:-70.8824043,42.5522933
END:VEVENT
BEGIN:VEVENT
DTSTART;TZID=America/New_York:20271227T140000
DTEND;TZID=America/New_York:20271227T210000
DTSTAMP:20260422T213904
CREATED:20260422T133258Z
LAST-MODIFIED:20260422T133258Z
UID:10039020-1829916000-1829941200@bevmain.org
SUMMARY:Burger & Beverage
DESCRIPTION:MONDAY BURGER NIGHT\nKick off the week at The Pickled Onion!\nEnjoy an 8oz cheeseburger & hand-cut fries with your choice of:\nMichelob Ultra\, Bud Light\, PBR\, or a non-alcoholic beverage\nNo need to cook — we’ve got you covered.
URL:https://bevmain.org/event/burger-beverage/2027-12-27/
LOCATION:The Pickled Onion\, 355 rantoul st\, Beverly\, 01915\, United States
ATTACH;FMTTYPE=image/jpeg:https://bevmain.org/wp-content/uploads/2026/04/IMG_7283.jpeg
GEO:42.5522933;-70.8824043
X-APPLE-STRUCTURED-LOCATION;VALUE=URI;X-ADDRESS=The Pickled Onion 355 rantoul st Beverly 01915 United States;X-APPLE-RADIUS=500;X-TITLE=355 rantoul st:geo:-70.8824043,42.5522933
END:VEVENT
BEGIN:VEVENT
DTSTART;TZID=America/New_York:20280103T140000
DTEND;TZID=America/New_York:20280103T210000
DTSTAMP:20260422T213904
CREATED:20260422T133258Z
LAST-MODIFIED:20260422T133258Z
UID:10039021-1830520800-1830546000@bevmain.org
SUMMARY:Burger & Beverage
DESCRIPTION:MONDAY BURGER NIGHT\nKick off the week at The Pickled Onion!\nEnjoy an 8oz cheeseburger & hand-cut fries with your choice of:\nMichelob Ultra\, Bud Light\, PBR\, or a non-alcoholic beverage\nNo need to cook — we’ve got you covered.
URL:https://bevmain.org/event/burger-beverage/2028-01-03/
LOCATION:The Pickled Onion\, 355 rantoul st\, Beverly\, 01915\, United States
ATTACH;FMTTYPE=image/jpeg:https://bevmain.org/wp-content/uploads/2026/04/IMG_7283.jpeg
GEO:42.5522933;-70.8824043
X-APPLE-STRUCTURED-LOCATION;VALUE=URI;X-ADDRESS=The Pickled Onion 355 rantoul st Beverly 01915 United States;X-APPLE-RADIUS=500;X-TITLE=355 rantoul st:geo:-70.8824043,42.5522933
END:VEVENT
BEGIN:VEVENT
DTSTART;TZID=America/New_York:20280110T140000
DTEND;TZID=America/New_York:20280110T210000
DTSTAMP:20260422T213904
CREATED:20260422T133258Z
LAST-MODIFIED:20260422T133258Z
UID:10039022-1831125600-1831150800@bevmain.org
SUMMARY:Burger & Beverage
DESCRIPTION:MONDAY BURGER NIGHT\nKick off the week at The Pickled Onion!\nEnjoy an 8oz cheeseburger & hand-cut fries with your choice of:\nMichelob Ultra\, Bud Light\, PBR\, or a non-alcoholic beverage\nNo need to cook — we’ve got you covered.
URL:https://bevmain.org/event/burger-beverage/2028-01-10/
LOCATION:The Pickled Onion\, 355 rantoul st\, Beverly\, 01915\, United States
ATTACH;FMTTYPE=image/jpeg:https://bevmain.org/wp-content/uploads/2026/04/IMG_7283.jpeg
GEO:42.5522933;-70.8824043
X-APPLE-STRUCTURED-LOCATION;VALUE=URI;X-ADDRESS=The Pickled Onion 355 rantoul st Beverly 01915 United States;X-APPLE-RADIUS=500;X-TITLE=355 rantoul st:geo:-70.8824043,42.5522933
END:VEVENT
END:VCALENDAR