BEGIN:VCALENDAR
VERSION:2.0
PRODID:-//Beverly Main Streets - ECPv6.15.20//NONSGML v1.0//EN
CALSCALE:GREGORIAN
METHOD:PUBLISH
X-ORIGINAL-URL:https://bevmain.org
X-WR-CALDESC:Events for Beverly Main Streets
REFRESH-INTERVAL;VALUE=DURATION:PT1H
X-Robots-Tag:noindex
X-PUBLISHED-TTL:PT1H
BEGIN:VTIMEZONE
TZID:America/New_York
BEGIN:DAYLIGHT
TZOFFSETFROM:-0500
TZOFFSETTO:-0400
TZNAME:EDT
DTSTART:20260308T070000
END:DAYLIGHT
BEGIN:STANDARD
TZOFFSETFROM:-0400
TZOFFSETTO:-0500
TZNAME:EST
DTSTART:20261101T060000
END:STANDARD
BEGIN:DAYLIGHT
TZOFFSETFROM:-0500
TZOFFSETTO:-0400
TZNAME:EDT
DTSTART:20270314T070000
END:DAYLIGHT
BEGIN:STANDARD
TZOFFSETFROM:-0400
TZOFFSETTO:-0500
TZNAME:EST
DTSTART:20271107T060000
END:STANDARD
BEGIN:DAYLIGHT
TZOFFSETFROM:-0500
TZOFFSETTO:-0400
TZNAME:EDT
DTSTART:20280312T070000
END:DAYLIGHT
BEGIN:STANDARD
TZOFFSETFROM:-0400
TZOFFSETTO:-0500
TZNAME:EST
DTSTART:20281105T060000
END:STANDARD
END:VTIMEZONE
BEGIN:VEVENT
DTSTART;TZID=America/New_York:20270621T200000
DTEND;TZID=America/New_York:20270621T230000
DTSTAMP:20260422T023413
CREATED:20230628T150156Z
LAST-MODIFIED:20231108T191914Z
UID:10019405-1813608000-1813618800@bevmain.org
SUMMARY:Open Mic at Indo
DESCRIPTION:Hosted by Bob Kramer & Nick Consone!
URL:https://bevmain.org/event/open-mic-at-indo/2027-06-21/
LOCATION:The Indo\, 298 Cabot Street\, Beverly\, MA\, 01915\, United States
CATEGORIES:Beer/Wine,Comedy,Food,Nightlife
ATTACH;FMTTYPE=image/jpeg:https://bevmain.org/wp-content/uploads/2023/06/IndoOpenMic.jpg
GEO:42.5521772;-70.8790122
X-APPLE-STRUCTURED-LOCATION;VALUE=URI;X-ADDRESS=The Indo 298 Cabot Street Beverly MA 01915 United States;X-APPLE-RADIUS=500;X-TITLE=298 Cabot Street:geo:-70.8790122,42.5521772
END:VEVENT
BEGIN:VEVENT
DTSTART;TZID=America/New_York:20270622T200000
DTEND;TZID=America/New_York:20270622T220000
DTSTAMP:20260422T023413
CREATED:20230628T145939Z
LAST-MODIFIED:20230628T145939Z
UID:10019144-1813694400-1813701600@bevmain.org
SUMMARY:Geeks Who Drink Trivia at Indo
DESCRIPTION:Quizzes cover everything from Hungary to The Hunger Games\, from science to sports\, from the Billboard Hot 100 to Better Call Saul. \nEach quiz consists of seven rounds of eight questions each\, in a variety of formats\, including audio and visual rounds. \nTeams can be up to six players\, and winning teams get Indo gift certificates!
URL:https://bevmain.org/event/geeks-who-drink-trivia-at-indo/2027-06-22/
LOCATION:The Indo\, 298 Cabot Street\, Beverly\, MA\, 01915\, United States
CATEGORIES:Beer/Wine,Food,Nightlife
ATTACH;FMTTYPE=image/jpeg:https://bevmain.org/wp-content/uploads/2023/06/geekswhodrinkIndo.jpg
GEO:42.5521772;-70.8790122
X-APPLE-STRUCTURED-LOCATION;VALUE=URI;X-ADDRESS=The Indo 298 Cabot Street Beverly MA 01915 United States;X-APPLE-RADIUS=500;X-TITLE=298 Cabot Street:geo:-70.8790122,42.5521772
END:VEVENT
BEGIN:VEVENT
DTSTART;TZID=America/New_York:20270628T200000
DTEND;TZID=America/New_York:20270628T230000
DTSTAMP:20260422T023413
CREATED:20230628T150156Z
LAST-MODIFIED:20231108T191914Z
UID:10019406-1814212800-1814223600@bevmain.org
SUMMARY:Open Mic at Indo
DESCRIPTION:Hosted by Bob Kramer & Nick Consone!
URL:https://bevmain.org/event/open-mic-at-indo/2027-06-28/
LOCATION:The Indo\, 298 Cabot Street\, Beverly\, MA\, 01915\, United States
CATEGORIES:Beer/Wine,Comedy,Food,Nightlife
ATTACH;FMTTYPE=image/jpeg:https://bevmain.org/wp-content/uploads/2023/06/IndoOpenMic.jpg
GEO:42.5521772;-70.8790122
X-APPLE-STRUCTURED-LOCATION;VALUE=URI;X-ADDRESS=The Indo 298 Cabot Street Beverly MA 01915 United States;X-APPLE-RADIUS=500;X-TITLE=298 Cabot Street:geo:-70.8790122,42.5521772
END:VEVENT
BEGIN:VEVENT
DTSTART;TZID=America/New_York:20270629T200000
DTEND;TZID=America/New_York:20270629T220000
DTSTAMP:20260422T023413
CREATED:20230628T145939Z
LAST-MODIFIED:20230628T145939Z
UID:10019145-1814299200-1814306400@bevmain.org
SUMMARY:Geeks Who Drink Trivia at Indo
DESCRIPTION:Quizzes cover everything from Hungary to The Hunger Games\, from science to sports\, from the Billboard Hot 100 to Better Call Saul. \nEach quiz consists of seven rounds of eight questions each\, in a variety of formats\, including audio and visual rounds. \nTeams can be up to six players\, and winning teams get Indo gift certificates!
URL:https://bevmain.org/event/geeks-who-drink-trivia-at-indo/2027-06-29/
LOCATION:The Indo\, 298 Cabot Street\, Beverly\, MA\, 01915\, United States
CATEGORIES:Beer/Wine,Food,Nightlife
ATTACH;FMTTYPE=image/jpeg:https://bevmain.org/wp-content/uploads/2023/06/geekswhodrinkIndo.jpg
GEO:42.5521772;-70.8790122
X-APPLE-STRUCTURED-LOCATION;VALUE=URI;X-ADDRESS=The Indo 298 Cabot Street Beverly MA 01915 United States;X-APPLE-RADIUS=500;X-TITLE=298 Cabot Street:geo:-70.8790122,42.5521772
END:VEVENT
BEGIN:VEVENT
DTSTART;TZID=America/New_York:20270705T200000
DTEND;TZID=America/New_York:20270705T230000
DTSTAMP:20260422T023413
CREATED:20230628T150156Z
LAST-MODIFIED:20231108T191914Z
UID:10019407-1814817600-1814828400@bevmain.org
SUMMARY:Open Mic at Indo
DESCRIPTION:Hosted by Bob Kramer & Nick Consone!
URL:https://bevmain.org/event/open-mic-at-indo/2027-07-05/
LOCATION:The Indo\, 298 Cabot Street\, Beverly\, MA\, 01915\, United States
CATEGORIES:Beer/Wine,Comedy,Food,Nightlife
ATTACH;FMTTYPE=image/jpeg:https://bevmain.org/wp-content/uploads/2023/06/IndoOpenMic.jpg
GEO:42.5521772;-70.8790122
X-APPLE-STRUCTURED-LOCATION;VALUE=URI;X-ADDRESS=The Indo 298 Cabot Street Beverly MA 01915 United States;X-APPLE-RADIUS=500;X-TITLE=298 Cabot Street:geo:-70.8790122,42.5521772
END:VEVENT
BEGIN:VEVENT
DTSTART;TZID=America/New_York:20270706T200000
DTEND;TZID=America/New_York:20270706T220000
DTSTAMP:20260422T023413
CREATED:20230628T145939Z
LAST-MODIFIED:20230628T145939Z
UID:10019146-1814904000-1814911200@bevmain.org
SUMMARY:Geeks Who Drink Trivia at Indo
DESCRIPTION:Quizzes cover everything from Hungary to The Hunger Games\, from science to sports\, from the Billboard Hot 100 to Better Call Saul. \nEach quiz consists of seven rounds of eight questions each\, in a variety of formats\, including audio and visual rounds. \nTeams can be up to six players\, and winning teams get Indo gift certificates!
URL:https://bevmain.org/event/geeks-who-drink-trivia-at-indo/2027-07-06/
LOCATION:The Indo\, 298 Cabot Street\, Beverly\, MA\, 01915\, United States
CATEGORIES:Beer/Wine,Food,Nightlife
ATTACH;FMTTYPE=image/jpeg:https://bevmain.org/wp-content/uploads/2023/06/geekswhodrinkIndo.jpg
GEO:42.5521772;-70.8790122
X-APPLE-STRUCTURED-LOCATION;VALUE=URI;X-ADDRESS=The Indo 298 Cabot Street Beverly MA 01915 United States;X-APPLE-RADIUS=500;X-TITLE=298 Cabot Street:geo:-70.8790122,42.5521772
END:VEVENT
BEGIN:VEVENT
DTSTART;TZID=America/New_York:20270712T200000
DTEND;TZID=America/New_York:20270712T230000
DTSTAMP:20260422T023413
CREATED:20230628T150156Z
LAST-MODIFIED:20231108T191914Z
UID:10019408-1815422400-1815433200@bevmain.org
SUMMARY:Open Mic at Indo
DESCRIPTION:Hosted by Bob Kramer & Nick Consone!
URL:https://bevmain.org/event/open-mic-at-indo/2027-07-12/
LOCATION:The Indo\, 298 Cabot Street\, Beverly\, MA\, 01915\, United States
CATEGORIES:Beer/Wine,Comedy,Food,Nightlife
ATTACH;FMTTYPE=image/jpeg:https://bevmain.org/wp-content/uploads/2023/06/IndoOpenMic.jpg
GEO:42.5521772;-70.8790122
X-APPLE-STRUCTURED-LOCATION;VALUE=URI;X-ADDRESS=The Indo 298 Cabot Street Beverly MA 01915 United States;X-APPLE-RADIUS=500;X-TITLE=298 Cabot Street:geo:-70.8790122,42.5521772
END:VEVENT
BEGIN:VEVENT
DTSTART;TZID=America/New_York:20270713T200000
DTEND;TZID=America/New_York:20270713T220000
DTSTAMP:20260422T023413
CREATED:20230628T145939Z
LAST-MODIFIED:20230628T145939Z
UID:10019147-1815508800-1815516000@bevmain.org
SUMMARY:Geeks Who Drink Trivia at Indo
DESCRIPTION:Quizzes cover everything from Hungary to The Hunger Games\, from science to sports\, from the Billboard Hot 100 to Better Call Saul. \nEach quiz consists of seven rounds of eight questions each\, in a variety of formats\, including audio and visual rounds. \nTeams can be up to six players\, and winning teams get Indo gift certificates!
URL:https://bevmain.org/event/geeks-who-drink-trivia-at-indo/2027-07-13/
LOCATION:The Indo\, 298 Cabot Street\, Beverly\, MA\, 01915\, United States
CATEGORIES:Beer/Wine,Food,Nightlife
ATTACH;FMTTYPE=image/jpeg:https://bevmain.org/wp-content/uploads/2023/06/geekswhodrinkIndo.jpg
GEO:42.5521772;-70.8790122
X-APPLE-STRUCTURED-LOCATION;VALUE=URI;X-ADDRESS=The Indo 298 Cabot Street Beverly MA 01915 United States;X-APPLE-RADIUS=500;X-TITLE=298 Cabot Street:geo:-70.8790122,42.5521772
END:VEVENT
BEGIN:VEVENT
DTSTART;TZID=America/New_York:20270719T200000
DTEND;TZID=America/New_York:20270719T230000
DTSTAMP:20260422T023413
CREATED:20230628T150156Z
LAST-MODIFIED:20231108T191914Z
UID:10019409-1816027200-1816038000@bevmain.org
SUMMARY:Open Mic at Indo
DESCRIPTION:Hosted by Bob Kramer & Nick Consone!
URL:https://bevmain.org/event/open-mic-at-indo/2027-07-19/
LOCATION:The Indo\, 298 Cabot Street\, Beverly\, MA\, 01915\, United States
CATEGORIES:Beer/Wine,Comedy,Food,Nightlife
ATTACH;FMTTYPE=image/jpeg:https://bevmain.org/wp-content/uploads/2023/06/IndoOpenMic.jpg
GEO:42.5521772;-70.8790122
X-APPLE-STRUCTURED-LOCATION;VALUE=URI;X-ADDRESS=The Indo 298 Cabot Street Beverly MA 01915 United States;X-APPLE-RADIUS=500;X-TITLE=298 Cabot Street:geo:-70.8790122,42.5521772
END:VEVENT
BEGIN:VEVENT
DTSTART;TZID=America/New_York:20270720T200000
DTEND;TZID=America/New_York:20270720T220000
DTSTAMP:20260422T023413
CREATED:20230628T145939Z
LAST-MODIFIED:20230628T145939Z
UID:10019148-1816113600-1816120800@bevmain.org
SUMMARY:Geeks Who Drink Trivia at Indo
DESCRIPTION:Quizzes cover everything from Hungary to The Hunger Games\, from science to sports\, from the Billboard Hot 100 to Better Call Saul. \nEach quiz consists of seven rounds of eight questions each\, in a variety of formats\, including audio and visual rounds. \nTeams can be up to six players\, and winning teams get Indo gift certificates!
URL:https://bevmain.org/event/geeks-who-drink-trivia-at-indo/2027-07-20/
LOCATION:The Indo\, 298 Cabot Street\, Beverly\, MA\, 01915\, United States
CATEGORIES:Beer/Wine,Food,Nightlife
ATTACH;FMTTYPE=image/jpeg:https://bevmain.org/wp-content/uploads/2023/06/geekswhodrinkIndo.jpg
GEO:42.5521772;-70.8790122
X-APPLE-STRUCTURED-LOCATION;VALUE=URI;X-ADDRESS=The Indo 298 Cabot Street Beverly MA 01915 United States;X-APPLE-RADIUS=500;X-TITLE=298 Cabot Street:geo:-70.8790122,42.5521772
END:VEVENT
BEGIN:VEVENT
DTSTART;TZID=America/New_York:20270726T200000
DTEND;TZID=America/New_York:20270726T230000
DTSTAMP:20260422T023413
CREATED:20230628T150156Z
LAST-MODIFIED:20231108T191914Z
UID:10019410-1816632000-1816642800@bevmain.org
SUMMARY:Open Mic at Indo
DESCRIPTION:Hosted by Bob Kramer & Nick Consone!
URL:https://bevmain.org/event/open-mic-at-indo/2027-07-26/
LOCATION:The Indo\, 298 Cabot Street\, Beverly\, MA\, 01915\, United States
CATEGORIES:Beer/Wine,Comedy,Food,Nightlife
ATTACH;FMTTYPE=image/jpeg:https://bevmain.org/wp-content/uploads/2023/06/IndoOpenMic.jpg
GEO:42.5521772;-70.8790122
X-APPLE-STRUCTURED-LOCATION;VALUE=URI;X-ADDRESS=The Indo 298 Cabot Street Beverly MA 01915 United States;X-APPLE-RADIUS=500;X-TITLE=298 Cabot Street:geo:-70.8790122,42.5521772
END:VEVENT
BEGIN:VEVENT
DTSTART;TZID=America/New_York:20270727T200000
DTEND;TZID=America/New_York:20270727T220000
DTSTAMP:20260422T023413
CREATED:20230628T145939Z
LAST-MODIFIED:20230628T145939Z
UID:10019149-1816718400-1816725600@bevmain.org
SUMMARY:Geeks Who Drink Trivia at Indo
DESCRIPTION:Quizzes cover everything from Hungary to The Hunger Games\, from science to sports\, from the Billboard Hot 100 to Better Call Saul. \nEach quiz consists of seven rounds of eight questions each\, in a variety of formats\, including audio and visual rounds. \nTeams can be up to six players\, and winning teams get Indo gift certificates!
URL:https://bevmain.org/event/geeks-who-drink-trivia-at-indo/2027-07-27/
LOCATION:The Indo\, 298 Cabot Street\, Beverly\, MA\, 01915\, United States
CATEGORIES:Beer/Wine,Food,Nightlife
ATTACH;FMTTYPE=image/jpeg:https://bevmain.org/wp-content/uploads/2023/06/geekswhodrinkIndo.jpg
GEO:42.5521772;-70.8790122
X-APPLE-STRUCTURED-LOCATION;VALUE=URI;X-ADDRESS=The Indo 298 Cabot Street Beverly MA 01915 United States;X-APPLE-RADIUS=500;X-TITLE=298 Cabot Street:geo:-70.8790122,42.5521772
END:VEVENT
BEGIN:VEVENT
DTSTART;TZID=America/New_York:20270802T200000
DTEND;TZID=America/New_York:20270802T230000
DTSTAMP:20260422T023413
CREATED:20230628T150156Z
LAST-MODIFIED:20231108T191914Z
UID:10019411-1817236800-1817247600@bevmain.org
SUMMARY:Open Mic at Indo
DESCRIPTION:Hosted by Bob Kramer & Nick Consone!
URL:https://bevmain.org/event/open-mic-at-indo/2027-08-02/
LOCATION:The Indo\, 298 Cabot Street\, Beverly\, MA\, 01915\, United States
CATEGORIES:Beer/Wine,Comedy,Food,Nightlife
ATTACH;FMTTYPE=image/jpeg:https://bevmain.org/wp-content/uploads/2023/06/IndoOpenMic.jpg
GEO:42.5521772;-70.8790122
X-APPLE-STRUCTURED-LOCATION;VALUE=URI;X-ADDRESS=The Indo 298 Cabot Street Beverly MA 01915 United States;X-APPLE-RADIUS=500;X-TITLE=298 Cabot Street:geo:-70.8790122,42.5521772
END:VEVENT
BEGIN:VEVENT
DTSTART;TZID=America/New_York:20270803T200000
DTEND;TZID=America/New_York:20270803T220000
DTSTAMP:20260422T023413
CREATED:20230628T145939Z
LAST-MODIFIED:20230628T145939Z
UID:10019150-1817323200-1817330400@bevmain.org
SUMMARY:Geeks Who Drink Trivia at Indo
DESCRIPTION:Quizzes cover everything from Hungary to The Hunger Games\, from science to sports\, from the Billboard Hot 100 to Better Call Saul. \nEach quiz consists of seven rounds of eight questions each\, in a variety of formats\, including audio and visual rounds. \nTeams can be up to six players\, and winning teams get Indo gift certificates!
URL:https://bevmain.org/event/geeks-who-drink-trivia-at-indo/2027-08-03/
LOCATION:The Indo\, 298 Cabot Street\, Beverly\, MA\, 01915\, United States
CATEGORIES:Beer/Wine,Food,Nightlife
ATTACH;FMTTYPE=image/jpeg:https://bevmain.org/wp-content/uploads/2023/06/geekswhodrinkIndo.jpg
GEO:42.5521772;-70.8790122
X-APPLE-STRUCTURED-LOCATION;VALUE=URI;X-ADDRESS=The Indo 298 Cabot Street Beverly MA 01915 United States;X-APPLE-RADIUS=500;X-TITLE=298 Cabot Street:geo:-70.8790122,42.5521772
END:VEVENT
BEGIN:VEVENT
DTSTART;TZID=America/New_York:20270809T200000
DTEND;TZID=America/New_York:20270809T230000
DTSTAMP:20260422T023413
CREATED:20230628T150156Z
LAST-MODIFIED:20231108T191914Z
UID:10019412-1817841600-1817852400@bevmain.org
SUMMARY:Open Mic at Indo
DESCRIPTION:Hosted by Bob Kramer & Nick Consone!
URL:https://bevmain.org/event/open-mic-at-indo/2027-08-09/
LOCATION:The Indo\, 298 Cabot Street\, Beverly\, MA\, 01915\, United States
CATEGORIES:Beer/Wine,Comedy,Food,Nightlife
ATTACH;FMTTYPE=image/jpeg:https://bevmain.org/wp-content/uploads/2023/06/IndoOpenMic.jpg
GEO:42.5521772;-70.8790122
X-APPLE-STRUCTURED-LOCATION;VALUE=URI;X-ADDRESS=The Indo 298 Cabot Street Beverly MA 01915 United States;X-APPLE-RADIUS=500;X-TITLE=298 Cabot Street:geo:-70.8790122,42.5521772
END:VEVENT
BEGIN:VEVENT
DTSTART;TZID=America/New_York:20270810T200000
DTEND;TZID=America/New_York:20270810T220000
DTSTAMP:20260422T023413
CREATED:20230628T145939Z
LAST-MODIFIED:20230628T145939Z
UID:10019151-1817928000-1817935200@bevmain.org
SUMMARY:Geeks Who Drink Trivia at Indo
DESCRIPTION:Quizzes cover everything from Hungary to The Hunger Games\, from science to sports\, from the Billboard Hot 100 to Better Call Saul. \nEach quiz consists of seven rounds of eight questions each\, in a variety of formats\, including audio and visual rounds. \nTeams can be up to six players\, and winning teams get Indo gift certificates!
URL:https://bevmain.org/event/geeks-who-drink-trivia-at-indo/2027-08-10/
LOCATION:The Indo\, 298 Cabot Street\, Beverly\, MA\, 01915\, United States
CATEGORIES:Beer/Wine,Food,Nightlife
ATTACH;FMTTYPE=image/jpeg:https://bevmain.org/wp-content/uploads/2023/06/geekswhodrinkIndo.jpg
GEO:42.5521772;-70.8790122
X-APPLE-STRUCTURED-LOCATION;VALUE=URI;X-ADDRESS=The Indo 298 Cabot Street Beverly MA 01915 United States;X-APPLE-RADIUS=500;X-TITLE=298 Cabot Street:geo:-70.8790122,42.5521772
END:VEVENT
BEGIN:VEVENT
DTSTART;TZID=America/New_York:20270816T200000
DTEND;TZID=America/New_York:20270816T230000
DTSTAMP:20260422T023413
CREATED:20230628T150156Z
LAST-MODIFIED:20231108T191914Z
UID:10019413-1818446400-1818457200@bevmain.org
SUMMARY:Open Mic at Indo
DESCRIPTION:Hosted by Bob Kramer & Nick Consone!
URL:https://bevmain.org/event/open-mic-at-indo/2027-08-16/
LOCATION:The Indo\, 298 Cabot Street\, Beverly\, MA\, 01915\, United States
CATEGORIES:Beer/Wine,Comedy,Food,Nightlife
ATTACH;FMTTYPE=image/jpeg:https://bevmain.org/wp-content/uploads/2023/06/IndoOpenMic.jpg
GEO:42.5521772;-70.8790122
X-APPLE-STRUCTURED-LOCATION;VALUE=URI;X-ADDRESS=The Indo 298 Cabot Street Beverly MA 01915 United States;X-APPLE-RADIUS=500;X-TITLE=298 Cabot Street:geo:-70.8790122,42.5521772
END:VEVENT
BEGIN:VEVENT
DTSTART;TZID=America/New_York:20270817T200000
DTEND;TZID=America/New_York:20270817T220000
DTSTAMP:20260422T023413
CREATED:20230628T145939Z
LAST-MODIFIED:20230628T145939Z
UID:10019152-1818532800-1818540000@bevmain.org
SUMMARY:Geeks Who Drink Trivia at Indo
DESCRIPTION:Quizzes cover everything from Hungary to The Hunger Games\, from science to sports\, from the Billboard Hot 100 to Better Call Saul. \nEach quiz consists of seven rounds of eight questions each\, in a variety of formats\, including audio and visual rounds. \nTeams can be up to six players\, and winning teams get Indo gift certificates!
URL:https://bevmain.org/event/geeks-who-drink-trivia-at-indo/2027-08-17/
LOCATION:The Indo\, 298 Cabot Street\, Beverly\, MA\, 01915\, United States
CATEGORIES:Beer/Wine,Food,Nightlife
ATTACH;FMTTYPE=image/jpeg:https://bevmain.org/wp-content/uploads/2023/06/geekswhodrinkIndo.jpg
GEO:42.5521772;-70.8790122
X-APPLE-STRUCTURED-LOCATION;VALUE=URI;X-ADDRESS=The Indo 298 Cabot Street Beverly MA 01915 United States;X-APPLE-RADIUS=500;X-TITLE=298 Cabot Street:geo:-70.8790122,42.5521772
END:VEVENT
BEGIN:VEVENT
DTSTART;TZID=America/New_York:20270823T200000
DTEND;TZID=America/New_York:20270823T230000
DTSTAMP:20260422T023413
CREATED:20230628T150156Z
LAST-MODIFIED:20231108T191914Z
UID:10019414-1819051200-1819062000@bevmain.org
SUMMARY:Open Mic at Indo
DESCRIPTION:Hosted by Bob Kramer & Nick Consone!
URL:https://bevmain.org/event/open-mic-at-indo/2027-08-23/
LOCATION:The Indo\, 298 Cabot Street\, Beverly\, MA\, 01915\, United States
CATEGORIES:Beer/Wine,Comedy,Food,Nightlife
ATTACH;FMTTYPE=image/jpeg:https://bevmain.org/wp-content/uploads/2023/06/IndoOpenMic.jpg
GEO:42.5521772;-70.8790122
X-APPLE-STRUCTURED-LOCATION;VALUE=URI;X-ADDRESS=The Indo 298 Cabot Street Beverly MA 01915 United States;X-APPLE-RADIUS=500;X-TITLE=298 Cabot Street:geo:-70.8790122,42.5521772
END:VEVENT
BEGIN:VEVENT
DTSTART;TZID=America/New_York:20270824T200000
DTEND;TZID=America/New_York:20270824T220000
DTSTAMP:20260422T023413
CREATED:20230628T145939Z
LAST-MODIFIED:20230628T145939Z
UID:10019153-1819137600-1819144800@bevmain.org
SUMMARY:Geeks Who Drink Trivia at Indo
DESCRIPTION:Quizzes cover everything from Hungary to The Hunger Games\, from science to sports\, from the Billboard Hot 100 to Better Call Saul. \nEach quiz consists of seven rounds of eight questions each\, in a variety of formats\, including audio and visual rounds. \nTeams can be up to six players\, and winning teams get Indo gift certificates!
URL:https://bevmain.org/event/geeks-who-drink-trivia-at-indo/2027-08-24/
LOCATION:The Indo\, 298 Cabot Street\, Beverly\, MA\, 01915\, United States
CATEGORIES:Beer/Wine,Food,Nightlife
ATTACH;FMTTYPE=image/jpeg:https://bevmain.org/wp-content/uploads/2023/06/geekswhodrinkIndo.jpg
GEO:42.5521772;-70.8790122
X-APPLE-STRUCTURED-LOCATION;VALUE=URI;X-ADDRESS=The Indo 298 Cabot Street Beverly MA 01915 United States;X-APPLE-RADIUS=500;X-TITLE=298 Cabot Street:geo:-70.8790122,42.5521772
END:VEVENT
BEGIN:VEVENT
DTSTART;TZID=America/New_York:20270830T200000
DTEND;TZID=America/New_York:20270830T230000
DTSTAMP:20260422T023413
CREATED:20230628T150156Z
LAST-MODIFIED:20231108T191914Z
UID:10019415-1819656000-1819666800@bevmain.org
SUMMARY:Open Mic at Indo
DESCRIPTION:Hosted by Bob Kramer & Nick Consone!
URL:https://bevmain.org/event/open-mic-at-indo/2027-08-30/
LOCATION:The Indo\, 298 Cabot Street\, Beverly\, MA\, 01915\, United States
CATEGORIES:Beer/Wine,Comedy,Food,Nightlife
ATTACH;FMTTYPE=image/jpeg:https://bevmain.org/wp-content/uploads/2023/06/IndoOpenMic.jpg
GEO:42.5521772;-70.8790122
X-APPLE-STRUCTURED-LOCATION;VALUE=URI;X-ADDRESS=The Indo 298 Cabot Street Beverly MA 01915 United States;X-APPLE-RADIUS=500;X-TITLE=298 Cabot Street:geo:-70.8790122,42.5521772
END:VEVENT
BEGIN:VEVENT
DTSTART;TZID=America/New_York:20270831T200000
DTEND;TZID=America/New_York:20270831T220000
DTSTAMP:20260422T023413
CREATED:20230628T145939Z
LAST-MODIFIED:20230628T145939Z
UID:10019154-1819742400-1819749600@bevmain.org
SUMMARY:Geeks Who Drink Trivia at Indo
DESCRIPTION:Quizzes cover everything from Hungary to The Hunger Games\, from science to sports\, from the Billboard Hot 100 to Better Call Saul. \nEach quiz consists of seven rounds of eight questions each\, in a variety of formats\, including audio and visual rounds. \nTeams can be up to six players\, and winning teams get Indo gift certificates!
URL:https://bevmain.org/event/geeks-who-drink-trivia-at-indo/2027-08-31/
LOCATION:The Indo\, 298 Cabot Street\, Beverly\, MA\, 01915\, United States
CATEGORIES:Beer/Wine,Food,Nightlife
ATTACH;FMTTYPE=image/jpeg:https://bevmain.org/wp-content/uploads/2023/06/geekswhodrinkIndo.jpg
GEO:42.5521772;-70.8790122
X-APPLE-STRUCTURED-LOCATION;VALUE=URI;X-ADDRESS=The Indo 298 Cabot Street Beverly MA 01915 United States;X-APPLE-RADIUS=500;X-TITLE=298 Cabot Street:geo:-70.8790122,42.5521772
END:VEVENT
BEGIN:VEVENT
DTSTART;TZID=America/New_York:20270906T200000
DTEND;TZID=America/New_York:20270906T230000
DTSTAMP:20260422T023413
CREATED:20230628T150156Z
LAST-MODIFIED:20231108T191914Z
UID:10019416-1820260800-1820271600@bevmain.org
SUMMARY:Open Mic at Indo
DESCRIPTION:Hosted by Bob Kramer & Nick Consone!
URL:https://bevmain.org/event/open-mic-at-indo/2027-09-06/
LOCATION:The Indo\, 298 Cabot Street\, Beverly\, MA\, 01915\, United States
CATEGORIES:Beer/Wine,Comedy,Food,Nightlife
ATTACH;FMTTYPE=image/jpeg:https://bevmain.org/wp-content/uploads/2023/06/IndoOpenMic.jpg
GEO:42.5521772;-70.8790122
X-APPLE-STRUCTURED-LOCATION;VALUE=URI;X-ADDRESS=The Indo 298 Cabot Street Beverly MA 01915 United States;X-APPLE-RADIUS=500;X-TITLE=298 Cabot Street:geo:-70.8790122,42.5521772
END:VEVENT
BEGIN:VEVENT
DTSTART;TZID=America/New_York:20270907T200000
DTEND;TZID=America/New_York:20270907T220000
DTSTAMP:20260422T023413
CREATED:20230628T145939Z
LAST-MODIFIED:20230628T145939Z
UID:10019155-1820347200-1820354400@bevmain.org
SUMMARY:Geeks Who Drink Trivia at Indo
DESCRIPTION:Quizzes cover everything from Hungary to The Hunger Games\, from science to sports\, from the Billboard Hot 100 to Better Call Saul. \nEach quiz consists of seven rounds of eight questions each\, in a variety of formats\, including audio and visual rounds. \nTeams can be up to six players\, and winning teams get Indo gift certificates!
URL:https://bevmain.org/event/geeks-who-drink-trivia-at-indo/2027-09-07/
LOCATION:The Indo\, 298 Cabot Street\, Beverly\, MA\, 01915\, United States
CATEGORIES:Beer/Wine,Food,Nightlife
ATTACH;FMTTYPE=image/jpeg:https://bevmain.org/wp-content/uploads/2023/06/geekswhodrinkIndo.jpg
GEO:42.5521772;-70.8790122
X-APPLE-STRUCTURED-LOCATION;VALUE=URI;X-ADDRESS=The Indo 298 Cabot Street Beverly MA 01915 United States;X-APPLE-RADIUS=500;X-TITLE=298 Cabot Street:geo:-70.8790122,42.5521772
END:VEVENT
BEGIN:VEVENT
DTSTART;TZID=America/New_York:20270913T200000
DTEND;TZID=America/New_York:20270913T230000
DTSTAMP:20260422T023413
CREATED:20230628T150156Z
LAST-MODIFIED:20231108T191914Z
UID:10019417-1820865600-1820876400@bevmain.org
SUMMARY:Open Mic at Indo
DESCRIPTION:Hosted by Bob Kramer & Nick Consone!
URL:https://bevmain.org/event/open-mic-at-indo/2027-09-13/
LOCATION:The Indo\, 298 Cabot Street\, Beverly\, MA\, 01915\, United States
CATEGORIES:Beer/Wine,Comedy,Food,Nightlife
ATTACH;FMTTYPE=image/jpeg:https://bevmain.org/wp-content/uploads/2023/06/IndoOpenMic.jpg
GEO:42.5521772;-70.8790122
X-APPLE-STRUCTURED-LOCATION;VALUE=URI;X-ADDRESS=The Indo 298 Cabot Street Beverly MA 01915 United States;X-APPLE-RADIUS=500;X-TITLE=298 Cabot Street:geo:-70.8790122,42.5521772
END:VEVENT
BEGIN:VEVENT
DTSTART;TZID=America/New_York:20270914T200000
DTEND;TZID=America/New_York:20270914T220000
DTSTAMP:20260422T023413
CREATED:20230628T145939Z
LAST-MODIFIED:20230628T145939Z
UID:10019156-1820952000-1820959200@bevmain.org
SUMMARY:Geeks Who Drink Trivia at Indo
DESCRIPTION:Quizzes cover everything from Hungary to The Hunger Games\, from science to sports\, from the Billboard Hot 100 to Better Call Saul. \nEach quiz consists of seven rounds of eight questions each\, in a variety of formats\, including audio and visual rounds. \nTeams can be up to six players\, and winning teams get Indo gift certificates!
URL:https://bevmain.org/event/geeks-who-drink-trivia-at-indo/2027-09-14/
LOCATION:The Indo\, 298 Cabot Street\, Beverly\, MA\, 01915\, United States
CATEGORIES:Beer/Wine,Food,Nightlife
ATTACH;FMTTYPE=image/jpeg:https://bevmain.org/wp-content/uploads/2023/06/geekswhodrinkIndo.jpg
GEO:42.5521772;-70.8790122
X-APPLE-STRUCTURED-LOCATION;VALUE=URI;X-ADDRESS=The Indo 298 Cabot Street Beverly MA 01915 United States;X-APPLE-RADIUS=500;X-TITLE=298 Cabot Street:geo:-70.8790122,42.5521772
END:VEVENT
BEGIN:VEVENT
DTSTART;TZID=America/New_York:20270920T200000
DTEND;TZID=America/New_York:20270920T230000
DTSTAMP:20260422T023413
CREATED:20230628T150156Z
LAST-MODIFIED:20231108T191914Z
UID:10019418-1821470400-1821481200@bevmain.org
SUMMARY:Open Mic at Indo
DESCRIPTION:Hosted by Bob Kramer & Nick Consone!
URL:https://bevmain.org/event/open-mic-at-indo/2027-09-20/
LOCATION:The Indo\, 298 Cabot Street\, Beverly\, MA\, 01915\, United States
CATEGORIES:Beer/Wine,Comedy,Food,Nightlife
ATTACH;FMTTYPE=image/jpeg:https://bevmain.org/wp-content/uploads/2023/06/IndoOpenMic.jpg
GEO:42.5521772;-70.8790122
X-APPLE-STRUCTURED-LOCATION;VALUE=URI;X-ADDRESS=The Indo 298 Cabot Street Beverly MA 01915 United States;X-APPLE-RADIUS=500;X-TITLE=298 Cabot Street:geo:-70.8790122,42.5521772
END:VEVENT
BEGIN:VEVENT
DTSTART;TZID=America/New_York:20270921T200000
DTEND;TZID=America/New_York:20270921T220000
DTSTAMP:20260422T023413
CREATED:20230628T145939Z
LAST-MODIFIED:20230628T145939Z
UID:10019157-1821556800-1821564000@bevmain.org
SUMMARY:Geeks Who Drink Trivia at Indo
DESCRIPTION:Quizzes cover everything from Hungary to The Hunger Games\, from science to sports\, from the Billboard Hot 100 to Better Call Saul. \nEach quiz consists of seven rounds of eight questions each\, in a variety of formats\, including audio and visual rounds. \nTeams can be up to six players\, and winning teams get Indo gift certificates!
URL:https://bevmain.org/event/geeks-who-drink-trivia-at-indo/2027-09-21/
LOCATION:The Indo\, 298 Cabot Street\, Beverly\, MA\, 01915\, United States
CATEGORIES:Beer/Wine,Food,Nightlife
ATTACH;FMTTYPE=image/jpeg:https://bevmain.org/wp-content/uploads/2023/06/geekswhodrinkIndo.jpg
GEO:42.5521772;-70.8790122
X-APPLE-STRUCTURED-LOCATION;VALUE=URI;X-ADDRESS=The Indo 298 Cabot Street Beverly MA 01915 United States;X-APPLE-RADIUS=500;X-TITLE=298 Cabot Street:geo:-70.8790122,42.5521772
END:VEVENT
BEGIN:VEVENT
DTSTART;TZID=America/New_York:20270927T200000
DTEND;TZID=America/New_York:20270927T230000
DTSTAMP:20260422T023413
CREATED:20230628T150156Z
LAST-MODIFIED:20231108T191914Z
UID:10019419-1822075200-1822086000@bevmain.org
SUMMARY:Open Mic at Indo
DESCRIPTION:Hosted by Bob Kramer & Nick Consone!
URL:https://bevmain.org/event/open-mic-at-indo/2027-09-27/
LOCATION:The Indo\, 298 Cabot Street\, Beverly\, MA\, 01915\, United States
CATEGORIES:Beer/Wine,Comedy,Food,Nightlife
ATTACH;FMTTYPE=image/jpeg:https://bevmain.org/wp-content/uploads/2023/06/IndoOpenMic.jpg
GEO:42.5521772;-70.8790122
X-APPLE-STRUCTURED-LOCATION;VALUE=URI;X-ADDRESS=The Indo 298 Cabot Street Beverly MA 01915 United States;X-APPLE-RADIUS=500;X-TITLE=298 Cabot Street:geo:-70.8790122,42.5521772
END:VEVENT
BEGIN:VEVENT
DTSTART;TZID=America/New_York:20270928T200000
DTEND;TZID=America/New_York:20270928T220000
DTSTAMP:20260422T023413
CREATED:20230628T145939Z
LAST-MODIFIED:20230628T145939Z
UID:10019158-1822161600-1822168800@bevmain.org
SUMMARY:Geeks Who Drink Trivia at Indo
DESCRIPTION:Quizzes cover everything from Hungary to The Hunger Games\, from science to sports\, from the Billboard Hot 100 to Better Call Saul. \nEach quiz consists of seven rounds of eight questions each\, in a variety of formats\, including audio and visual rounds. \nTeams can be up to six players\, and winning teams get Indo gift certificates!
URL:https://bevmain.org/event/geeks-who-drink-trivia-at-indo/2027-09-28/
LOCATION:The Indo\, 298 Cabot Street\, Beverly\, MA\, 01915\, United States
CATEGORIES:Beer/Wine,Food,Nightlife
ATTACH;FMTTYPE=image/jpeg:https://bevmain.org/wp-content/uploads/2023/06/geekswhodrinkIndo.jpg
GEO:42.5521772;-70.8790122
X-APPLE-STRUCTURED-LOCATION;VALUE=URI;X-ADDRESS=The Indo 298 Cabot Street Beverly MA 01915 United States;X-APPLE-RADIUS=500;X-TITLE=298 Cabot Street:geo:-70.8790122,42.5521772
END:VEVENT
END:VCALENDAR