BEGIN:VCALENDAR
VERSION:2.0
PRODID:-//Beverly Main Streets - ECPv6.15.20//NONSGML v1.0//EN
CALSCALE:GREGORIAN
METHOD:PUBLISH
X-WR-CALNAME:Beverly Main Streets
X-ORIGINAL-URL:https://bevmain.org
X-WR-CALDESC:Events for Beverly Main Streets
REFRESH-INTERVAL;VALUE=DURATION:PT1H
X-Robots-Tag:noindex
X-PUBLISHED-TTL:PT1H
BEGIN:VTIMEZONE
TZID:America/New_York
BEGIN:DAYLIGHT
TZOFFSETFROM:-0500
TZOFFSETTO:-0400
TZNAME:EDT
DTSTART:20250309T070000
END:DAYLIGHT
BEGIN:STANDARD
TZOFFSETFROM:-0400
TZOFFSETTO:-0500
TZNAME:EST
DTSTART:20251102T060000
END:STANDARD
BEGIN:DAYLIGHT
TZOFFSETFROM:-0500
TZOFFSETTO:-0400
TZNAME:EDT
DTSTART:20260308T070000
END:DAYLIGHT
BEGIN:STANDARD
TZOFFSETFROM:-0400
TZOFFSETTO:-0500
TZNAME:EST
DTSTART:20261101T060000
END:STANDARD
BEGIN:DAYLIGHT
TZOFFSETFROM:-0500
TZOFFSETTO:-0400
TZNAME:EDT
DTSTART:20270314T070000
END:DAYLIGHT
BEGIN:STANDARD
TZOFFSETFROM:-0400
TZOFFSETTO:-0500
TZNAME:EST
DTSTART:20271107T060000
END:STANDARD
END:VTIMEZONE
BEGIN:VEVENT
DTSTART;TZID=America/New_York:20260430T193000
DTEND;TZID=America/New_York:20260501T213000
DTSTAMP:20260422T122132
CREATED:20250910T175542Z
LAST-MODIFIED:20250910T175542Z
UID:10035884-1777577400-1777671000@bevmain.org
SUMMARY:Scottish Country Dancing
DESCRIPTION:All are invited to hop\, skip and jump with us to invigorating music with welcoming people. Please wear soft-soled shoes. We will show you the moves. Contact MaryEllen: weebluets@rscdsboston.org to reserve your spot in the class.
URL:https://bevmain.org/event/scottish-country-dancing/2026-04-30/
LOCATION:Wonder Yoga\, 240 Rantoul St\, Beverly\, 01915\, United States
CATEGORIES:Dance
ATTACH;FMTTYPE=image/jpeg:https://bevmain.org/wp-content/uploads/2025/09/2-1.jpg
ORGANIZER;CN="Royal Scottish Country Dance Society Boston Branch":MAILTO:weebluets@rscdsboston.org
GEO:42.549606;-70.8838342
X-APPLE-STRUCTURED-LOCATION;VALUE=URI;X-ADDRESS=Wonder Yoga 240 Rantoul St Beverly 01915 United States;X-APPLE-RADIUS=500;X-TITLE=240 Rantoul St:geo:-70.8838342,42.549606
END:VEVENT
BEGIN:VEVENT
DTSTART;TZID=America/New_York:20260501T190000
DTEND;TZID=America/New_York:20260501T220000
DTSTAMP:20260422T122132
CREATED:20260320T134155Z
LAST-MODIFIED:20260320T134155Z
UID:10038362-1777662000-1777672800@bevmain.org
SUMMARY:Froggy & The Friendship with Special Guests
DESCRIPTION:A musical freak show of frog-like proportions!
URL:https://bevmain.org/event/froggy-the-friendship-with-special-guests/
LOCATION:Off Cabot Comedy & Events\, 9 Wallis Street\, Beverly\, 01915\, United States
CATEGORIES:Music/Concert
ATTACH;FMTTYPE=image/jpeg:https://bevmain.org/wp-content/uploads/2026/03/Froggy-Poster.jpg
ORGANIZER;CN="Off Cabot Comedy &amp%3B Events":MAILTO:info@thecabot.org
GEO:42.5481285;-70.8794388
X-APPLE-STRUCTURED-LOCATION;VALUE=URI;X-ADDRESS=Off Cabot Comedy & Events 9 Wallis Street Beverly 01915 United States;X-APPLE-RADIUS=500;X-TITLE=9 Wallis Street:geo:-70.8794388,42.5481285
END:VEVENT
BEGIN:VEVENT
DTSTART;TZID=America/New_York:20260502T140000
DTEND;TZID=America/New_York:20260502T153000
DTSTAMP:20260422T122132
CREATED:20260209T185619Z
LAST-MODIFIED:20260209T185619Z
UID:10038030-1777730400-1777735800@bevmain.org
SUMMARY:Endicott Singers present POPS - Love Songs
DESCRIPTION:The Endicott Singers’ Pops tradition continues: the students in the choir choose the theme and music by vote – and this year Love won! With songs for the full chorus and chamber choirs\, plus featured solos and small groups\, this show features a live combo of student and professional instrumentalists. Audiences will enjoy the wide variety of music about love with great coffee and treats in our black box theater transformed into a music club for the night. Directed by Professor Becca Kenneally.
URL:https://bevmain.org/event/endicott-singers-present-pops-love-songs/2026-05-02/
LOCATION:Tia’s Black Box\, 406 Hale St\, Beverly\, 01915\, United States
CATEGORIES:Community Events,Music/Concert
ATTACH;FMTTYPE=image/jpeg:https://bevmain.org/wp-content/uploads/2026/02/Endicott-Singers-Publicity-Photos-1-scaled.jpg
GEO:42.5526096;-70.8395131
X-APPLE-STRUCTURED-LOCATION;VALUE=URI;X-ADDRESS=Tia’s Black Box 406 Hale St Beverly 01915 United States;X-APPLE-RADIUS=500;X-TITLE=406 Hale St:geo:-70.8395131,42.5526096
END:VEVENT
BEGIN:VEVENT
DTSTART;TZID=America/New_York:20260502T200000
DTEND;TZID=America/New_York:20260502T230000
DTSTAMP:20260422T122132
CREATED:20260320T134210Z
LAST-MODIFIED:20260320T134210Z
UID:10038363-1777752000-1777762800@bevmain.org
SUMMARY:Morgan Myles
DESCRIPTION:Morgan Myles is a powerhouse Americana and country singer-songwriter whose five-octave vocals and fearless honesty have made her one of Nashville’s most compelling rising artists.
URL:https://bevmain.org/event/morgan-myles/
LOCATION:Off Cabot Comedy & Events\, 9 Wallis Street\, Beverly\, 01915\, United States
CATEGORIES:Music/Concert
ATTACH;FMTTYPE=image/jpeg:https://bevmain.org/wp-content/uploads/2026/03/Morgan-Myles-scaled.jpg
ORGANIZER;CN="Off Cabot Comedy &amp%3B Events":MAILTO:info@thecabot.org
GEO:42.5481285;-70.8794388
X-APPLE-STRUCTURED-LOCATION;VALUE=URI;X-ADDRESS=Off Cabot Comedy & Events 9 Wallis Street Beverly 01915 United States;X-APPLE-RADIUS=500;X-TITLE=9 Wallis Street:geo:-70.8794388,42.5481285
END:VEVENT
BEGIN:VEVENT
DTSTART;TZID=America/New_York:20260507T193000
DTEND;TZID=America/New_York:20260508T213000
DTSTAMP:20260422T122132
CREATED:20250910T175542Z
LAST-MODIFIED:20250910T175542Z
UID:10035885-1778182200-1778275800@bevmain.org
SUMMARY:Scottish Country Dancing
DESCRIPTION:All are invited to hop\, skip and jump with us to invigorating music with welcoming people. Please wear soft-soled shoes. We will show you the moves. Contact MaryEllen: weebluets@rscdsboston.org to reserve your spot in the class.
URL:https://bevmain.org/event/scottish-country-dancing/2026-05-07/
LOCATION:Wonder Yoga\, 240 Rantoul St\, Beverly\, 01915\, United States
CATEGORIES:Dance
ATTACH;FMTTYPE=image/jpeg:https://bevmain.org/wp-content/uploads/2025/09/2-1.jpg
ORGANIZER;CN="Royal Scottish Country Dance Society Boston Branch":MAILTO:weebluets@rscdsboston.org
GEO:42.549606;-70.8838342
X-APPLE-STRUCTURED-LOCATION;VALUE=URI;X-ADDRESS=Wonder Yoga 240 Rantoul St Beverly 01915 United States;X-APPLE-RADIUS=500;X-TITLE=240 Rantoul St:geo:-70.8838342,42.549606
END:VEVENT
BEGIN:VEVENT
DTSTART;TZID=America/New_York:20260509T200000
DTEND;TZID=America/New_York:20260509T220000
DTSTAMP:20260422T122132
CREATED:20260223T143853Z
LAST-MODIFIED:20260223T143853Z
UID:10038041-1778356800-1778364000@bevmain.org
SUMMARY:Johnny Cash + The Ultimate Creedence Clearwater Revival Experience
DESCRIPTION:Prepare for an exhilarating tribute concert honoring two iconic musical legends. Award-winning artist Robert Black and his band will take you on a journey celebrating the timeless legacies of Johnny Cash and Creedence Clearwater Revival. \nFeel the electrifying energy as Robert Black delivers a captivating performance of Johnny Cash’s classics like “I Got Stripes\,” “Cry Cry Cry\,” “A Thing Called Love\,” and other iconic hits. And experience the spirit and sound of Creedence Clearwater Revival as Robert Black and his band\, Sweet Hitch-Hiker faithfully recreate CCR’s greatest hits\, including “Sweet Hitch-Hiker\,” “Have You Ever Seen the Rain\,” “I Put a Spell On You\,” and more. \nRobert Black’s authentic portrayal of Johnny Cash and John Fogerty\, combined with his exceptional vocal talent\, stage presence\, and costuming\, promises an evening filled with pure entertainment. Join us for a night filled with nostalgia and musical brilliance as we pay homage to these legendary artists.
URL:https://bevmain.org/event/johnny-cash-the-ultimate-creedence-clearwater-revival-experience-2/
LOCATION:Larcom Theatre\, 13 Wallis Street\, Beverly\, MA\, 01915\, United States
CATEGORIES:Music/Concert
ATTACH;FMTTYPE=image/jpeg:https://bevmain.org/wp-content/uploads/2026/02/Cash-and-CCR-website-pic.jpg
ORGANIZER;CN="Larcom Theatre":MAILTO:info@thelarcom.org
GEO:42.5481828;-70.8797175
X-APPLE-STRUCTURED-LOCATION;VALUE=URI;X-ADDRESS=Larcom Theatre 13 Wallis Street Beverly MA 01915 United States;X-APPLE-RADIUS=500;X-TITLE=13 Wallis Street:geo:-70.8797175,42.5481828
END:VEVENT
BEGIN:VEVENT
DTSTART;TZID=America/New_York:20260514T193000
DTEND;TZID=America/New_York:20260515T213000
DTSTAMP:20260422T122132
CREATED:20250910T175542Z
LAST-MODIFIED:20250910T175542Z
UID:10035886-1778787000-1778880600@bevmain.org
SUMMARY:Scottish Country Dancing
DESCRIPTION:All are invited to hop\, skip and jump with us to invigorating music with welcoming people. Please wear soft-soled shoes. We will show you the moves. Contact MaryEllen: weebluets@rscdsboston.org to reserve your spot in the class.
URL:https://bevmain.org/event/scottish-country-dancing/2026-05-14/
LOCATION:Wonder Yoga\, 240 Rantoul St\, Beverly\, 01915\, United States
CATEGORIES:Dance
ATTACH;FMTTYPE=image/jpeg:https://bevmain.org/wp-content/uploads/2025/09/2-1.jpg
ORGANIZER;CN="Royal Scottish Country Dance Society Boston Branch":MAILTO:weebluets@rscdsboston.org
GEO:42.549606;-70.8838342
X-APPLE-STRUCTURED-LOCATION;VALUE=URI;X-ADDRESS=Wonder Yoga 240 Rantoul St Beverly 01915 United States;X-APPLE-RADIUS=500;X-TITLE=240 Rantoul St:geo:-70.8838342,42.549606
END:VEVENT
BEGIN:VEVENT
DTSTART;TZID=America/New_York:20260516T200000
DTEND;TZID=America/New_York:20260516T220000
DTSTAMP:20260422T122132
CREATED:20260223T143908Z
LAST-MODIFIED:20260223T143908Z
UID:10038042-1778961600-1778968800@bevmain.org
SUMMARY:The Eagles Experience
DESCRIPTION:The Eagles Experience aims to be the most authentic tribute show to the Eagles available today. With a one-to-one lineup that reflects the Eagles during their heyday in the late 1970s\, the members of the Eagles Experience each emulate their respective “Eagle”\, playing the correct instrument and singing the songs as sung by their protege. Every member of the Eagles Experience is dedicated to presenting their part as accurately as possible and will provide you with an ultimate “Eagles Experience” you will not soon forget. \nThis tribute band only plays songs written and recorded by the Eagles as a band\, from their biggest hits to hidden gems.
URL:https://bevmain.org/event/the-eagles-experience-9/
LOCATION:Larcom Theatre\, 13 Wallis Street\, Beverly\, MA\, 01915\, United States
CATEGORIES:Music/Concert
ATTACH;FMTTYPE=image/jpeg:https://bevmain.org/wp-content/uploads/2026/02/eagles-facebook-cover.jpg
ORGANIZER;CN="Larcom Theatre":MAILTO:info@thelarcom.org
GEO:42.5481828;-70.8797175
X-APPLE-STRUCTURED-LOCATION;VALUE=URI;X-ADDRESS=Larcom Theatre 13 Wallis Street Beverly MA 01915 United States;X-APPLE-RADIUS=500;X-TITLE=13 Wallis Street:geo:-70.8797175,42.5481828
END:VEVENT
BEGIN:VEVENT
DTSTART;TZID=America/New_York:20260521T193000
DTEND;TZID=America/New_York:20260522T213000
DTSTAMP:20260422T122132
CREATED:20250910T175542Z
LAST-MODIFIED:20250910T175542Z
UID:10035887-1779391800-1779485400@bevmain.org
SUMMARY:Scottish Country Dancing
DESCRIPTION:All are invited to hop\, skip and jump with us to invigorating music with welcoming people. Please wear soft-soled shoes. We will show you the moves. Contact MaryEllen: weebluets@rscdsboston.org to reserve your spot in the class.
URL:https://bevmain.org/event/scottish-country-dancing/2026-05-21/
LOCATION:Wonder Yoga\, 240 Rantoul St\, Beverly\, 01915\, United States
CATEGORIES:Dance
ATTACH;FMTTYPE=image/jpeg:https://bevmain.org/wp-content/uploads/2025/09/2-1.jpg
ORGANIZER;CN="Royal Scottish Country Dance Society Boston Branch":MAILTO:weebluets@rscdsboston.org
GEO:42.549606;-70.8838342
X-APPLE-STRUCTURED-LOCATION;VALUE=URI;X-ADDRESS=Wonder Yoga 240 Rantoul St Beverly 01915 United States;X-APPLE-RADIUS=500;X-TITLE=240 Rantoul St:geo:-70.8838342,42.549606
END:VEVENT
BEGIN:VEVENT
DTSTART;TZID=America/New_York:20260528T193000
DTEND;TZID=America/New_York:20260529T213000
DTSTAMP:20260422T122132
CREATED:20250910T175542Z
LAST-MODIFIED:20250910T175542Z
UID:10035888-1779996600-1780090200@bevmain.org
SUMMARY:Scottish Country Dancing
DESCRIPTION:All are invited to hop\, skip and jump with us to invigorating music with welcoming people. Please wear soft-soled shoes. We will show you the moves. Contact MaryEllen: weebluets@rscdsboston.org to reserve your spot in the class.
URL:https://bevmain.org/event/scottish-country-dancing/2026-05-28/
LOCATION:Wonder Yoga\, 240 Rantoul St\, Beverly\, 01915\, United States
CATEGORIES:Dance
ATTACH;FMTTYPE=image/jpeg:https://bevmain.org/wp-content/uploads/2025/09/2-1.jpg
ORGANIZER;CN="Royal Scottish Country Dance Society Boston Branch":MAILTO:weebluets@rscdsboston.org
GEO:42.549606;-70.8838342
X-APPLE-STRUCTURED-LOCATION;VALUE=URI;X-ADDRESS=Wonder Yoga 240 Rantoul St Beverly 01915 United States;X-APPLE-RADIUS=500;X-TITLE=240 Rantoul St:geo:-70.8838342,42.549606
END:VEVENT
BEGIN:VEVENT
DTSTART;TZID=America/New_York:20260530T200000
DTEND;TZID=America/New_York:20260530T220000
DTSTAMP:20260422T122132
CREATED:20260323T133725Z
LAST-MODIFIED:20260323T133725Z
UID:10038366-1780171200-1780178400@bevmain.org
SUMMARY:Tribute to Elvis: The Legend Lives On
DESCRIPTION:Join us for an exhilarating celebration honoring the timeless legacy of Elvis Presley\, featuring the incredible Robert Black—an Award-Winning Tribute Artist renowned for his captivating performances across the nation. \nEmbark on a journey through the Best of Elvis\, where iconic hits from “Can’t Help Falling in Love” to “Jailhouse Rock\,” “Hound Dog\,” “Love Me Tender\,” and more chart-topping classics will transport you to an unforgettable era. \nRobert Black’s remarkable emulation and magnetic stage presence\, coupled with his exceptional vocal prowess\, breathe life back into the essence of Elvis. Brace yourself for an evening brimming with nostalgia-inducing melodies and the undeniable spirit of the King! Don’t miss out on this remarkable tribute to the King of Rock ‘n’ Roll.
URL:https://bevmain.org/event/tribute-to-elvis-the-legend-lives-on/
LOCATION:Larcom Theatre\, 13 Wallis Street\, Beverly\, MA\, 01915\, United States
CATEGORIES:Music/Concert
ATTACH;FMTTYPE=image/jpeg:https://bevmain.org/wp-content/uploads/2026/03/Elvis-FB-event920-x-1080-px.jpg
ORGANIZER;CN="Larcom Theatre":MAILTO:info@thelarcom.org
GEO:42.5481828;-70.8797175
X-APPLE-STRUCTURED-LOCATION;VALUE=URI;X-ADDRESS=Larcom Theatre 13 Wallis Street Beverly MA 01915 United States;X-APPLE-RADIUS=500;X-TITLE=13 Wallis Street:geo:-70.8797175,42.5481828
END:VEVENT
END:VCALENDAR