BEGIN:VCALENDAR
VERSION:2.0
PRODID:-//Beverly Main Streets - ECPv6.15.20//NONSGML v1.0//EN
CALSCALE:GREGORIAN
METHOD:PUBLISH
X-WR-CALNAME:Beverly Main Streets
X-ORIGINAL-URL:https://bevmain.org
X-WR-CALDESC:Events for Beverly Main Streets
REFRESH-INTERVAL;VALUE=DURATION:PT1H
X-Robots-Tag:noindex
X-PUBLISHED-TTL:PT1H
BEGIN:VTIMEZONE
TZID:America/New_York
BEGIN:DAYLIGHT
TZOFFSETFROM:-0500
TZOFFSETTO:-0400
TZNAME:EDT
DTSTART:20240310T070000
END:DAYLIGHT
BEGIN:STANDARD
TZOFFSETFROM:-0400
TZOFFSETTO:-0500
TZNAME:EST
DTSTART:20241103T060000
END:STANDARD
BEGIN:DAYLIGHT
TZOFFSETFROM:-0500
TZOFFSETTO:-0400
TZNAME:EDT
DTSTART:20250309T070000
END:DAYLIGHT
BEGIN:STANDARD
TZOFFSETFROM:-0400
TZOFFSETTO:-0500
TZNAME:EST
DTSTART:20251102T060000
END:STANDARD
BEGIN:DAYLIGHT
TZOFFSETFROM:-0500
TZOFFSETTO:-0400
TZNAME:EDT
DTSTART:20260308T070000
END:DAYLIGHT
BEGIN:STANDARD
TZOFFSETFROM:-0400
TZOFFSETTO:-0500
TZNAME:EST
DTSTART:20261101T060000
END:STANDARD
END:VTIMEZONE
BEGIN:VEVENT
DTSTART;TZID=America/New_York:20250602T200000
DTEND;TZID=America/New_York:20250602T230000
DTSTAMP:20260423T190422
CREATED:20230628T150156Z
LAST-MODIFIED:20231108T191914Z
UID:10019298-1748894400-1748905200@bevmain.org
SUMMARY:Open Mic at Indo
DESCRIPTION:Hosted by Bob Kramer & Nick Consone!
URL:https://bevmain.org/event/open-mic-at-indo/2025-06-02/
LOCATION:The Indo\, 298 Cabot Street\, Beverly\, MA\, 01915\, United States
CATEGORIES:Beer/Wine,Comedy,Food,Nightlife
ATTACH;FMTTYPE=image/jpeg:https://bevmain.org/wp-content/uploads/2023/06/IndoOpenMic.jpg
GEO:42.5521772;-70.8790122
X-APPLE-STRUCTURED-LOCATION;VALUE=URI;X-ADDRESS=The Indo 298 Cabot Street Beverly MA 01915 United States;X-APPLE-RADIUS=500;X-TITLE=298 Cabot Street:geo:-70.8790122,42.5521772
END:VEVENT
BEGIN:VEVENT
DTSTART;TZID=America/New_York:20250603T210000
DTEND;TZID=America/New_York:20250604T010000
DTSTAMP:20260423T190422
CREATED:20230307T192014Z
LAST-MODIFIED:20230307T193159Z
UID:10015708-1748984400-1748998800@bevmain.org
SUMMARY:Trivia Tuesday
DESCRIPTION:Tuesday night trivia at the Pickled Onion\n355 Rantoul Street
URL:https://bevmain.org/event/trivia-tuesday-3/2025-06-03/
LOCATION:MA
CATEGORIES:Beer/Wine,Free,Music/Concert,Nightlife
ATTACH;FMTTYPE=image/jpeg:https://bevmain.org/wp-content/uploads/2023/03/pickledoniontriviaUSE.jpg
END:VEVENT
BEGIN:VEVENT
DTSTART;TZID=America/New_York:20250609T200000
DTEND;TZID=America/New_York:20250609T230000
DTSTAMP:20260423T190422
CREATED:20230628T150156Z
LAST-MODIFIED:20231108T191914Z
UID:10019299-1749499200-1749510000@bevmain.org
SUMMARY:Open Mic at Indo
DESCRIPTION:Hosted by Bob Kramer & Nick Consone!
URL:https://bevmain.org/event/open-mic-at-indo/2025-06-09/
LOCATION:The Indo\, 298 Cabot Street\, Beverly\, MA\, 01915\, United States
CATEGORIES:Beer/Wine,Comedy,Food,Nightlife
ATTACH;FMTTYPE=image/jpeg:https://bevmain.org/wp-content/uploads/2023/06/IndoOpenMic.jpg
GEO:42.5521772;-70.8790122
X-APPLE-STRUCTURED-LOCATION;VALUE=URI;X-ADDRESS=The Indo 298 Cabot Street Beverly MA 01915 United States;X-APPLE-RADIUS=500;X-TITLE=298 Cabot Street:geo:-70.8790122,42.5521772
END:VEVENT
BEGIN:VEVENT
DTSTART;TZID=America/New_York:20250610T210000
DTEND;TZID=America/New_York:20250611T010000
DTSTAMP:20260423T190422
CREATED:20230307T192014Z
LAST-MODIFIED:20230307T193159Z
UID:10015709-1749589200-1749603600@bevmain.org
SUMMARY:Trivia Tuesday
DESCRIPTION:Tuesday night trivia at the Pickled Onion\n355 Rantoul Street
URL:https://bevmain.org/event/trivia-tuesday-3/2025-06-10/
LOCATION:MA
CATEGORIES:Beer/Wine,Free,Music/Concert,Nightlife
ATTACH;FMTTYPE=image/jpeg:https://bevmain.org/wp-content/uploads/2023/03/pickledoniontriviaUSE.jpg
END:VEVENT
BEGIN:VEVENT
DTSTART;TZID=America/New_York:20250616T200000
DTEND;TZID=America/New_York:20250616T230000
DTSTAMP:20260423T190422
CREATED:20230628T150156Z
LAST-MODIFIED:20231108T191914Z
UID:10019300-1750104000-1750114800@bevmain.org
SUMMARY:Open Mic at Indo
DESCRIPTION:Hosted by Bob Kramer & Nick Consone!
URL:https://bevmain.org/event/open-mic-at-indo/2025-06-16/
LOCATION:The Indo\, 298 Cabot Street\, Beverly\, MA\, 01915\, United States
CATEGORIES:Beer/Wine,Comedy,Food,Nightlife
ATTACH;FMTTYPE=image/jpeg:https://bevmain.org/wp-content/uploads/2023/06/IndoOpenMic.jpg
GEO:42.5521772;-70.8790122
X-APPLE-STRUCTURED-LOCATION;VALUE=URI;X-ADDRESS=The Indo 298 Cabot Street Beverly MA 01915 United States;X-APPLE-RADIUS=500;X-TITLE=298 Cabot Street:geo:-70.8790122,42.5521772
END:VEVENT
BEGIN:VEVENT
DTSTART;TZID=America/New_York:20250617T210000
DTEND;TZID=America/New_York:20250618T010000
DTSTAMP:20260423T190422
CREATED:20230307T192014Z
LAST-MODIFIED:20230307T193159Z
UID:10015710-1750194000-1750208400@bevmain.org
SUMMARY:Trivia Tuesday
DESCRIPTION:Tuesday night trivia at the Pickled Onion\n355 Rantoul Street
URL:https://bevmain.org/event/trivia-tuesday-3/2025-06-17/
LOCATION:MA
CATEGORIES:Beer/Wine,Free,Music/Concert,Nightlife
ATTACH;FMTTYPE=image/jpeg:https://bevmain.org/wp-content/uploads/2023/03/pickledoniontriviaUSE.jpg
END:VEVENT
BEGIN:VEVENT
DTSTART;TZID=America/New_York:20250623T200000
DTEND;TZID=America/New_York:20250623T230000
DTSTAMP:20260423T190422
CREATED:20230628T150156Z
LAST-MODIFIED:20231108T191914Z
UID:10019301-1750708800-1750719600@bevmain.org
SUMMARY:Open Mic at Indo
DESCRIPTION:Hosted by Bob Kramer & Nick Consone!
URL:https://bevmain.org/event/open-mic-at-indo/2025-06-23/
LOCATION:The Indo\, 298 Cabot Street\, Beverly\, MA\, 01915\, United States
CATEGORIES:Beer/Wine,Comedy,Food,Nightlife
ATTACH;FMTTYPE=image/jpeg:https://bevmain.org/wp-content/uploads/2023/06/IndoOpenMic.jpg
GEO:42.5521772;-70.8790122
X-APPLE-STRUCTURED-LOCATION;VALUE=URI;X-ADDRESS=The Indo 298 Cabot Street Beverly MA 01915 United States;X-APPLE-RADIUS=500;X-TITLE=298 Cabot Street:geo:-70.8790122,42.5521772
END:VEVENT
BEGIN:VEVENT
DTSTART;TZID=America/New_York:20250624T210000
DTEND;TZID=America/New_York:20250625T010000
DTSTAMP:20260423T190422
CREATED:20230307T192014Z
LAST-MODIFIED:20230307T193159Z
UID:10015711-1750798800-1750813200@bevmain.org
SUMMARY:Trivia Tuesday
DESCRIPTION:Tuesday night trivia at the Pickled Onion\n355 Rantoul Street
URL:https://bevmain.org/event/trivia-tuesday-3/2025-06-24/
LOCATION:MA
CATEGORIES:Beer/Wine,Free,Music/Concert,Nightlife
ATTACH;FMTTYPE=image/jpeg:https://bevmain.org/wp-content/uploads/2023/03/pickledoniontriviaUSE.jpg
END:VEVENT
BEGIN:VEVENT
DTSTART;TZID=America/New_York:20250626T200000
DTEND;TZID=America/New_York:20250626T223000
DTSTAMP:20260423T190422
CREATED:20230424T165615Z
LAST-MODIFIED:20230424T165615Z
UID:10018132-1750968000-1750977000@bevmain.org
SUMMARY:Open Mic at Off Cabot
DESCRIPTION:Off Cabot Open Mic Night on the last Thursday of every month! \nThis show-and-go open mic will serve as one of the best places in New England to hone your comedic craft and showcase your talent in front of The Cabot Theater and John Tobin Presents teams! The list and the house will fill up quickly so get there early! \n8-10:30pm\nFree Admission!\n4-minute spots\nList available at 7:30pm \nSHOW UP — SIGN UP — GO UP!
URL:https://bevmain.org/event/open-mic-at-off-cabot/2025-06-26/
LOCATION:MA
CATEGORIES:Beer/Wine,Comedy,Free,Nightlife
ATTACH;FMTTYPE=image/jpeg:https://bevmain.org/wp-content/uploads/2023/04/open-mic.jpg
END:VEVENT
BEGIN:VEVENT
DTSTART;TZID=America/New_York:20250630T200000
DTEND;TZID=America/New_York:20250630T230000
DTSTAMP:20260423T190422
CREATED:20230628T150156Z
LAST-MODIFIED:20231108T191914Z
UID:10019302-1751313600-1751324400@bevmain.org
SUMMARY:Open Mic at Indo
DESCRIPTION:Hosted by Bob Kramer & Nick Consone!
URL:https://bevmain.org/event/open-mic-at-indo/2025-06-30/
LOCATION:The Indo\, 298 Cabot Street\, Beverly\, MA\, 01915\, United States
CATEGORIES:Beer/Wine,Comedy,Food,Nightlife
ATTACH;FMTTYPE=image/jpeg:https://bevmain.org/wp-content/uploads/2023/06/IndoOpenMic.jpg
GEO:42.5521772;-70.8790122
X-APPLE-STRUCTURED-LOCATION;VALUE=URI;X-ADDRESS=The Indo 298 Cabot Street Beverly MA 01915 United States;X-APPLE-RADIUS=500;X-TITLE=298 Cabot Street:geo:-70.8790122,42.5521772
END:VEVENT
END:VCALENDAR