BEGIN:VCALENDAR
VERSION:2.0
PRODID:-//Beverly Main Streets - ECPv6.15.20//NONSGML v1.0//EN
CALSCALE:GREGORIAN
METHOD:PUBLISH
X-WR-CALNAME:Beverly Main Streets
X-ORIGINAL-URL:https://bevmain.org
X-WR-CALDESC:Events for Beverly Main Streets
REFRESH-INTERVAL;VALUE=DURATION:PT1H
X-Robots-Tag:noindex
X-PUBLISHED-TTL:PT1H
BEGIN:VTIMEZONE
TZID:America/New_York
BEGIN:DAYLIGHT
TZOFFSETFROM:-0500
TZOFFSETTO:-0400
TZNAME:EDT
DTSTART:20240310T070000
END:DAYLIGHT
BEGIN:STANDARD
TZOFFSETFROM:-0400
TZOFFSETTO:-0500
TZNAME:EST
DTSTART:20241103T060000
END:STANDARD
BEGIN:DAYLIGHT
TZOFFSETFROM:-0500
TZOFFSETTO:-0400
TZNAME:EDT
DTSTART:20250309T070000
END:DAYLIGHT
BEGIN:STANDARD
TZOFFSETFROM:-0400
TZOFFSETTO:-0500
TZNAME:EST
DTSTART:20251102T060000
END:STANDARD
BEGIN:DAYLIGHT
TZOFFSETFROM:-0500
TZOFFSETTO:-0400
TZNAME:EDT
DTSTART:20260308T070000
END:DAYLIGHT
BEGIN:STANDARD
TZOFFSETFROM:-0400
TZOFFSETTO:-0500
TZNAME:EST
DTSTART:20261101T060000
END:STANDARD
END:VTIMEZONE
BEGIN:VEVENT
DTSTART;TZID=America/New_York:20250701T210000
DTEND;TZID=America/New_York:20250702T010000
DTSTAMP:20260423T174222
CREATED:20230307T192014Z
LAST-MODIFIED:20230307T193159Z
UID:10015712-1751403600-1751418000@bevmain.org
SUMMARY:Trivia Tuesday
DESCRIPTION:Tuesday night trivia at the Pickled Onion\n355 Rantoul Street
URL:https://bevmain.org/event/trivia-tuesday-3/2025-07-01/
LOCATION:MA
CATEGORIES:Beer/Wine,Free,Music/Concert,Nightlife
ATTACH;FMTTYPE=image/jpeg:https://bevmain.org/wp-content/uploads/2023/03/pickledoniontriviaUSE.jpg
END:VEVENT
BEGIN:VEVENT
DTSTART;TZID=America/New_York:20250707T200000
DTEND;TZID=America/New_York:20250707T230000
DTSTAMP:20260423T174222
CREATED:20230628T150156Z
LAST-MODIFIED:20231108T191914Z
UID:10019303-1751918400-1751929200@bevmain.org
SUMMARY:Open Mic at Indo
DESCRIPTION:Hosted by Bob Kramer & Nick Consone!
URL:https://bevmain.org/event/open-mic-at-indo/2025-07-07/
LOCATION:The Indo\, 298 Cabot Street\, Beverly\, MA\, 01915\, United States
CATEGORIES:Beer/Wine,Comedy,Food,Nightlife
ATTACH;FMTTYPE=image/jpeg:https://bevmain.org/wp-content/uploads/2023/06/IndoOpenMic.jpg
GEO:42.5521772;-70.8790122
X-APPLE-STRUCTURED-LOCATION;VALUE=URI;X-ADDRESS=The Indo 298 Cabot Street Beverly MA 01915 United States;X-APPLE-RADIUS=500;X-TITLE=298 Cabot Street:geo:-70.8790122,42.5521772
END:VEVENT
BEGIN:VEVENT
DTSTART;TZID=America/New_York:20250708T210000
DTEND;TZID=America/New_York:20250709T010000
DTSTAMP:20260423T174222
CREATED:20230307T192014Z
LAST-MODIFIED:20230307T193159Z
UID:10015713-1752008400-1752022800@bevmain.org
SUMMARY:Trivia Tuesday
DESCRIPTION:Tuesday night trivia at the Pickled Onion\n355 Rantoul Street
URL:https://bevmain.org/event/trivia-tuesday-3/2025-07-08/
LOCATION:MA
CATEGORIES:Beer/Wine,Free,Music/Concert,Nightlife
ATTACH;FMTTYPE=image/jpeg:https://bevmain.org/wp-content/uploads/2023/03/pickledoniontriviaUSE.jpg
END:VEVENT
BEGIN:VEVENT
DTSTART;TZID=America/New_York:20250714T200000
DTEND;TZID=America/New_York:20250714T230000
DTSTAMP:20260423T174222
CREATED:20230628T150156Z
LAST-MODIFIED:20231108T191914Z
UID:10019304-1752523200-1752534000@bevmain.org
SUMMARY:Open Mic at Indo
DESCRIPTION:Hosted by Bob Kramer & Nick Consone!
URL:https://bevmain.org/event/open-mic-at-indo/2025-07-14/
LOCATION:The Indo\, 298 Cabot Street\, Beverly\, MA\, 01915\, United States
CATEGORIES:Beer/Wine,Comedy,Food,Nightlife
ATTACH;FMTTYPE=image/jpeg:https://bevmain.org/wp-content/uploads/2023/06/IndoOpenMic.jpg
GEO:42.5521772;-70.8790122
X-APPLE-STRUCTURED-LOCATION;VALUE=URI;X-ADDRESS=The Indo 298 Cabot Street Beverly MA 01915 United States;X-APPLE-RADIUS=500;X-TITLE=298 Cabot Street:geo:-70.8790122,42.5521772
END:VEVENT
BEGIN:VEVENT
DTSTART;TZID=America/New_York:20250715T210000
DTEND;TZID=America/New_York:20250716T010000
DTSTAMP:20260423T174222
CREATED:20230307T192014Z
LAST-MODIFIED:20230307T193159Z
UID:10015714-1752613200-1752627600@bevmain.org
SUMMARY:Trivia Tuesday
DESCRIPTION:Tuesday night trivia at the Pickled Onion\n355 Rantoul Street
URL:https://bevmain.org/event/trivia-tuesday-3/2025-07-15/
LOCATION:MA
CATEGORIES:Beer/Wine,Free,Music/Concert,Nightlife
ATTACH;FMTTYPE=image/jpeg:https://bevmain.org/wp-content/uploads/2023/03/pickledoniontriviaUSE.jpg
END:VEVENT
BEGIN:VEVENT
DTSTART;TZID=America/New_York:20250721T200000
DTEND;TZID=America/New_York:20250721T230000
DTSTAMP:20260423T174222
CREATED:20230628T150156Z
LAST-MODIFIED:20231108T191914Z
UID:10019305-1753128000-1753138800@bevmain.org
SUMMARY:Open Mic at Indo
DESCRIPTION:Hosted by Bob Kramer & Nick Consone!
URL:https://bevmain.org/event/open-mic-at-indo/2025-07-21/
LOCATION:The Indo\, 298 Cabot Street\, Beverly\, MA\, 01915\, United States
CATEGORIES:Beer/Wine,Comedy,Food,Nightlife
ATTACH;FMTTYPE=image/jpeg:https://bevmain.org/wp-content/uploads/2023/06/IndoOpenMic.jpg
GEO:42.5521772;-70.8790122
X-APPLE-STRUCTURED-LOCATION;VALUE=URI;X-ADDRESS=The Indo 298 Cabot Street Beverly MA 01915 United States;X-APPLE-RADIUS=500;X-TITLE=298 Cabot Street:geo:-70.8790122,42.5521772
END:VEVENT
BEGIN:VEVENT
DTSTART;TZID=America/New_York:20250722T210000
DTEND;TZID=America/New_York:20250723T010000
DTSTAMP:20260423T174222
CREATED:20230307T192014Z
LAST-MODIFIED:20230307T193159Z
UID:10015715-1753218000-1753232400@bevmain.org
SUMMARY:Trivia Tuesday
DESCRIPTION:Tuesday night trivia at the Pickled Onion\n355 Rantoul Street
URL:https://bevmain.org/event/trivia-tuesday-3/2025-07-22/
LOCATION:MA
CATEGORIES:Beer/Wine,Free,Music/Concert,Nightlife
ATTACH;FMTTYPE=image/jpeg:https://bevmain.org/wp-content/uploads/2023/03/pickledoniontriviaUSE.jpg
END:VEVENT
BEGIN:VEVENT
DTSTART;TZID=America/New_York:20250724T200000
DTEND;TZID=America/New_York:20250724T223000
DTSTAMP:20260423T174222
CREATED:20230424T165615Z
LAST-MODIFIED:20230424T165615Z
UID:10018133-1753387200-1753396200@bevmain.org
SUMMARY:Open Mic at Off Cabot
DESCRIPTION:Off Cabot Open Mic Night on the last Thursday of every month! \nThis show-and-go open mic will serve as one of the best places in New England to hone your comedic craft and showcase your talent in front of The Cabot Theater and John Tobin Presents teams! The list and the house will fill up quickly so get there early! \n8-10:30pm\nFree Admission!\n4-minute spots\nList available at 7:30pm \nSHOW UP — SIGN UP — GO UP!
URL:https://bevmain.org/event/open-mic-at-off-cabot/2025-07-24/
LOCATION:MA
CATEGORIES:Beer/Wine,Comedy,Free,Nightlife
ATTACH;FMTTYPE=image/jpeg:https://bevmain.org/wp-content/uploads/2023/04/open-mic.jpg
END:VEVENT
BEGIN:VEVENT
DTSTART;TZID=America/New_York:20250728T200000
DTEND;TZID=America/New_York:20250728T230000
DTSTAMP:20260423T174222
CREATED:20230628T150156Z
LAST-MODIFIED:20231108T191914Z
UID:10019306-1753732800-1753743600@bevmain.org
SUMMARY:Open Mic at Indo
DESCRIPTION:Hosted by Bob Kramer & Nick Consone!
URL:https://bevmain.org/event/open-mic-at-indo/2025-07-28/
LOCATION:The Indo\, 298 Cabot Street\, Beverly\, MA\, 01915\, United States
CATEGORIES:Beer/Wine,Comedy,Food,Nightlife
ATTACH;FMTTYPE=image/jpeg:https://bevmain.org/wp-content/uploads/2023/06/IndoOpenMic.jpg
GEO:42.5521772;-70.8790122
X-APPLE-STRUCTURED-LOCATION;VALUE=URI;X-ADDRESS=The Indo 298 Cabot Street Beverly MA 01915 United States;X-APPLE-RADIUS=500;X-TITLE=298 Cabot Street:geo:-70.8790122,42.5521772
END:VEVENT
BEGIN:VEVENT
DTSTART;TZID=America/New_York:20250729T210000
DTEND;TZID=America/New_York:20250730T010000
DTSTAMP:20260423T174222
CREATED:20230307T192014Z
LAST-MODIFIED:20230307T193159Z
UID:10015716-1753822800-1753837200@bevmain.org
SUMMARY:Trivia Tuesday
DESCRIPTION:Tuesday night trivia at the Pickled Onion\n355 Rantoul Street
URL:https://bevmain.org/event/trivia-tuesday-3/2025-07-29/
LOCATION:MA
CATEGORIES:Beer/Wine,Free,Music/Concert,Nightlife
ATTACH;FMTTYPE=image/jpeg:https://bevmain.org/wp-content/uploads/2023/03/pickledoniontriviaUSE.jpg
END:VEVENT
END:VCALENDAR