BEGIN:VCALENDAR
VERSION:2.0
PRODID:-//Beverly Main Streets - ECPv6.15.20//NONSGML v1.0//EN
CALSCALE:GREGORIAN
METHOD:PUBLISH
X-WR-CALNAME:Beverly Main Streets
X-ORIGINAL-URL:https://bevmain.org
X-WR-CALDESC:Events for Beverly Main Streets
REFRESH-INTERVAL;VALUE=DURATION:PT1H
X-Robots-Tag:noindex
X-PUBLISHED-TTL:PT1H
BEGIN:VTIMEZONE
TZID:America/New_York
BEGIN:DAYLIGHT
TZOFFSETFROM:-0500
TZOFFSETTO:-0400
TZNAME:EDT
DTSTART:20250309T070000
END:DAYLIGHT
BEGIN:STANDARD
TZOFFSETFROM:-0400
TZOFFSETTO:-0500
TZNAME:EST
DTSTART:20251102T060000
END:STANDARD
BEGIN:DAYLIGHT
TZOFFSETFROM:-0500
TZOFFSETTO:-0400
TZNAME:EDT
DTSTART:20260308T070000
END:DAYLIGHT
BEGIN:STANDARD
TZOFFSETFROM:-0400
TZOFFSETTO:-0500
TZNAME:EST
DTSTART:20261101T060000
END:STANDARD
BEGIN:DAYLIGHT
TZOFFSETFROM:-0500
TZOFFSETTO:-0400
TZNAME:EDT
DTSTART:20270314T070000
END:DAYLIGHT
BEGIN:STANDARD
TZOFFSETFROM:-0400
TZOFFSETTO:-0500
TZNAME:EST
DTSTART:20271107T060000
END:STANDARD
END:VTIMEZONE
BEGIN:VEVENT
DTSTART;TZID=America/New_York:20260421T210000
DTEND;TZID=America/New_York:20260422T010000
DTSTAMP:20260421T105812
CREATED:20230307T192014Z
LAST-MODIFIED:20230307T193159Z
UID:10015754-1776805200-1776819600@bevmain.org
SUMMARY:Trivia Tuesday
DESCRIPTION:Tuesday night trivia at the Pickled Onion\n355 Rantoul Street
URL:https://bevmain.org/event/trivia-tuesday-3/2026-04-21/
CATEGORIES:Beer/Wine,Free,Music/Concert,Nightlife
ATTACH;FMTTYPE=image/jpeg:https://bevmain.org/wp-content/uploads/2023/03/pickledoniontriviaUSE.jpg
END:VEVENT
BEGIN:VEVENT
DTSTART;TZID=America/New_York:20260423T210000
DTEND;TZID=America/New_York:20260424T010000
DTSTAMP:20260421T105812
CREATED:20230307T180614Z
LAST-MODIFIED:20230307T194535Z
UID:10014978-1776978000-1776992400@bevmain.org
SUMMARY:Live DJ at the Pickled Onion
DESCRIPTION:Live DJ Night!
URL:https://bevmain.org/event/live-dj-at-the-pickled-onion/2026-04-23/
LOCATION:Pickled Onion\, 355 Rantoul Street\, Beverly\, MA\, 01915\, United States
CATEGORIES:Beer/Wine,Music/Concert,Nightlife
ATTACH;FMTTYPE=image/jpeg:https://bevmain.org/wp-content/uploads/2023/03/pickledonionDJ.jpg
GEO:42.5522933;-70.8824043
X-APPLE-STRUCTURED-LOCATION;VALUE=URI;X-ADDRESS=Pickled Onion 355 Rantoul Street Beverly MA 01915 United States;X-APPLE-RADIUS=500;X-TITLE=355 Rantoul Street:geo:-70.8824043,42.5522933
END:VEVENT
BEGIN:VEVENT
DTSTART;TZID=America/New_York:20260424T200000
DTEND;TZID=America/New_York:20260424T220000
DTSTAMP:20260421T105812
CREATED:20260320T132716Z
LAST-MODIFIED:20260320T132716Z
UID:10038359-1777060800-1777068000@bevmain.org
SUMMARY:Ellis Paul
DESCRIPTION:Ellis Paul doesn’t just write songs; he’s a guitar-carrying reporter who covers the human condition and details the hopes\, loves\, losses of those he observes\, turning their stories into luminous pieces of music that get under your skin and into your bloodstream.
URL:https://bevmain.org/event/ellis-paul/
LOCATION:Off Cabot Comedy & Events\, 9 Wallis Street\, Beverly\, 01915\, United States
CATEGORIES:Music/Concert
ATTACH;FMTTYPE=image/jpeg:https://bevmain.org/wp-content/uploads/2026/03/EP15jan2023JLHi-res-0345-20230310112451-scaled.jpg
ORGANIZER;CN="Off Cabot Comedy &amp%3B Events":MAILTO:info@thecabot.org
GEO:42.5481285;-70.8794388
X-APPLE-STRUCTURED-LOCATION;VALUE=URI;X-ADDRESS=Off Cabot Comedy & Events 9 Wallis Street Beverly 01915 United States;X-APPLE-RADIUS=500;X-TITLE=9 Wallis Street:geo:-70.8794388,42.5481285
END:VEVENT
BEGIN:VEVENT
DTSTART;TZID=America/New_York:20260424T200000
DTEND;TZID=America/New_York:20260424T220000
DTSTAMP:20260421T105812
CREATED:20260402T182806Z
LAST-MODIFIED:20260402T182806Z
UID:10038382-1777060800-1777068000@bevmain.org
SUMMARY:The Doo Wop Project
DESCRIPTION:A Brand New Show from America’s Premiere Doo Wop Group \nThe dynamic Broadway stars of The Doo Wop Project are on a mission to put Doo Wop on everyone’s playlist! With their smokin’ hot band\, they capture and deliver the classic sounds of the guys who\, back in the day\, harmonized with each other on stoops\, in the subway\, and on street corners\, and they have also created a unique\, exciting\, fun way to “Doowop-ify” today’s biggest hits – reimagining them as though they had been written during the Doo Wop era! Once you experience The Doo Wop Project live on stage\, you’ll see why everyone around the country calls them AMERICA’S PREMIERE DOO WOP GROUP. \nTheir brand new 90 minute show — “Echoes of the Street” — keeps the classic sounds of Doo Wop alive for audiences of all ages. You’ll hear Doo Wop classics like the Del Vikings’ “Whispering Bells”\, The Tymes’ “So Much in Love”\, The Marcels’ “Blue Moon”\, The Four Seasons’ “Sherry” and Motown’s “My Girl”. And you’ll fall in love with The Doo Wop Project’s Doowop-ified versions of contemporary songs by artists like Taylor Swift\, Pharell Williams\, and Daft Punk. \nThis show celebrates a music genre that has never lost its cool….while making it cool for generations to come. #SAVEDOOWOP
URL:https://bevmain.org/event/the-doo-wop-project/
LOCATION:The Cabot\, 286 Cabot Street\, Beverly\, MA\, 01915\, United States
CATEGORIES:Music/Concert
ATTACH;FMTTYPE=image/jpeg:https://bevmain.org/wp-content/uploads/2026/04/DWP_Echoes_VertCrop-scaled.jpg
GEO:42.5514727;-70.878838
X-APPLE-STRUCTURED-LOCATION;VALUE=URI;X-ADDRESS=The Cabot 286 Cabot Street Beverly MA 01915 United States;X-APPLE-RADIUS=500;X-TITLE=286 Cabot Street:geo:-70.878838,42.5514727
END:VEVENT
BEGIN:VEVENT
DTSTART;TZID=America/New_York:20260425T200000
DTEND;TZID=America/New_York:20260425T220000
DTSTAMP:20260421T105812
CREATED:20260320T133740Z
LAST-MODIFIED:20260320T133740Z
UID:10038360-1777147200-1777154400@bevmain.org
SUMMARY:Dub Apocalypse with special guest Juliet Hawkins
DESCRIPTION:Boston Based Dub Apocalypse has carved out their own place in the world of Reggae Music. Unapologetic purist fans of Roots and Dub\, but always pushing the musical limits into more prog and fusion directions live. Blending the bands influences in a unique style all their own.
URL:https://bevmain.org/event/dub-apocalypse-with-special-guest-juliet-hawkins/
LOCATION:Off Cabot Comedy & Events\, 9 Wallis Street\, Beverly\, 01915\, United States
CATEGORIES:Music/Concert
ATTACH;FMTTYPE=image/jpeg:https://bevmain.org/wp-content/uploads/2026/03/490101435_1303034331161517_2430902176820211704_n.jpg
ORGANIZER;CN="Off Cabot Comedy &amp%3B Events":MAILTO:info@thecabot.org
GEO:42.5481285;-70.8794388
X-APPLE-STRUCTURED-LOCATION;VALUE=URI;X-ADDRESS=Off Cabot Comedy & Events 9 Wallis Street Beverly 01915 United States;X-APPLE-RADIUS=500;X-TITLE=9 Wallis Street:geo:-70.8794388,42.5481285
END:VEVENT
BEGIN:VEVENT
DTSTART;TZID=America/New_York:20260425T200000
DTEND;TZID=America/New_York:20260425T220000
DTSTAMP:20260421T105812
CREATED:20260402T182730Z
LAST-MODIFIED:20260402T182730Z
UID:10038381-1777147200-1777154400@bevmain.org
SUMMARY:The Wailin’ Jennys
DESCRIPTION:The Wailin’ Jennys Are Nicky Mehta\, Ruth Moody And Heather Masse — Three Distinct Voices That Together Make An Achingly Perfect Vocal Sound. \nStarting as a happy accident of solo singer/songwriters getting together for a one-time-only performance at a tiny guitar shop in Winnipeg\, Manitoba\, The Wailin’ Jennys have grown over the years into one of today’s most beloved international folk acts. Founding members Moody and Mehta along with New York- based Masse continue to create some of the most exciting music on the folk-roots scene\, stepping up their musical game with each critically lauded recording\, and thrilling audiences with their renowned live performances.
URL:https://bevmain.org/event/the-wailin-jennys-2/
LOCATION:The Cabot\, 286 Cabot Street\, Beverly\, MA\, 01915\, United States
CATEGORIES:Music/Concert
ATTACH;FMTTYPE=image/jpeg:https://bevmain.org/wp-content/uploads/2026/04/DSCF2133-scaled.jpg
GEO:42.5514727;-70.878838
X-APPLE-STRUCTURED-LOCATION;VALUE=URI;X-ADDRESS=The Cabot 286 Cabot Street Beverly MA 01915 United States;X-APPLE-RADIUS=500;X-TITLE=286 Cabot Street:geo:-70.878838,42.5514727
END:VEVENT
BEGIN:VEVENT
DTSTART;TZID=America/New_York:20260426T110000
DTEND;TZID=America/New_York:20260426T120000
DTSTAMP:20260421T105812
CREATED:20260309T134902Z
LAST-MODIFIED:20260309T134902Z
UID:10038062-1777201200-1777204800@bevmain.org
SUMMARY:OmDrum Circle
DESCRIPTION:The OmDrum Circle is a fully facilitated instructional drum circle where we use the Drum as a tool for meditation and self-healing. A “judgment free” zone. African and Western styles of hand drumming. All ages and experience levels welcome. Bring a drum if you have one\, or rent one from us. \nDiscover the meditative and healing power of the Drum with OmDrum.
URL:https://bevmain.org/event/omdrum-circle/2026-04-26/
LOCATION:Wonder Yoga\, 240 Rantoul St\, Beverly\, 01915\, United States
CATEGORIES:Health & Wellness
ATTACH;FMTTYPE=image/jpeg:https://bevmain.org/wp-content/uploads/2026/03/OmDrumLogo.jpg
GEO:42.549606;-70.8838342
X-APPLE-STRUCTURED-LOCATION;VALUE=URI;X-ADDRESS=Wonder Yoga 240 Rantoul St Beverly 01915 United States;X-APPLE-RADIUS=500;X-TITLE=240 Rantoul St:geo:-70.8838342,42.549606
END:VEVENT
BEGIN:VEVENT
DTSTART;TZID=America/New_York:20260427T200000
DTEND;TZID=America/New_York:20260427T230000
DTSTAMP:20260421T105812
CREATED:20230628T150156Z
LAST-MODIFIED:20231108T191914Z
UID:10019345-1777320000-1777330800@bevmain.org
SUMMARY:Open Mic at Indo
DESCRIPTION:Hosted by Bob Kramer & Nick Consone!
URL:https://bevmain.org/event/open-mic-at-indo/2026-04-27/
LOCATION:The Indo\, 298 Cabot Street\, Beverly\, MA\, 01915\, United States
CATEGORIES:Beer/Wine,Comedy,Food,Nightlife
ATTACH;FMTTYPE=image/jpeg:https://bevmain.org/wp-content/uploads/2023/06/IndoOpenMic.jpg
GEO:42.5521772;-70.8790122
X-APPLE-STRUCTURED-LOCATION;VALUE=URI;X-ADDRESS=The Indo 298 Cabot Street Beverly MA 01915 United States;X-APPLE-RADIUS=500;X-TITLE=298 Cabot Street:geo:-70.8790122,42.5521772
END:VEVENT
BEGIN:VEVENT
DTSTART;TZID=America/New_York:20260428T210000
DTEND;TZID=America/New_York:20260429T010000
DTSTAMP:20260421T105812
CREATED:20230307T192014Z
LAST-MODIFIED:20230307T193159Z
UID:10015755-1777410000-1777424400@bevmain.org
SUMMARY:Trivia Tuesday
DESCRIPTION:Tuesday night trivia at the Pickled Onion\n355 Rantoul Street
URL:https://bevmain.org/event/trivia-tuesday-3/2026-04-28/
CATEGORIES:Beer/Wine,Free,Music/Concert,Nightlife
ATTACH;FMTTYPE=image/jpeg:https://bevmain.org/wp-content/uploads/2023/03/pickledoniontriviaUSE.jpg
END:VEVENT
BEGIN:VEVENT
DTSTART;TZID=America/New_York:20260430T210000
DTEND;TZID=America/New_York:20260501T010000
DTSTAMP:20260421T105812
CREATED:20230307T180614Z
LAST-MODIFIED:20230307T194535Z
UID:10014979-1777582800-1777597200@bevmain.org
SUMMARY:Live DJ at the Pickled Onion
DESCRIPTION:Live DJ Night!
URL:https://bevmain.org/event/live-dj-at-the-pickled-onion/2026-04-30/
LOCATION:Pickled Onion\, 355 Rantoul Street\, Beverly\, MA\, 01915\, United States
CATEGORIES:Beer/Wine,Music/Concert,Nightlife
ATTACH;FMTTYPE=image/jpeg:https://bevmain.org/wp-content/uploads/2023/03/pickledonionDJ.jpg
GEO:42.5522933;-70.8824043
X-APPLE-STRUCTURED-LOCATION;VALUE=URI;X-ADDRESS=Pickled Onion 355 Rantoul Street Beverly MA 01915 United States;X-APPLE-RADIUS=500;X-TITLE=355 Rantoul Street:geo:-70.8824043,42.5522933
END:VEVENT
BEGIN:VEVENT
DTSTART;TZID=America/New_York:20260501T190000
DTEND;TZID=America/New_York:20260501T220000
DTSTAMP:20260421T105812
CREATED:20260320T134155Z
LAST-MODIFIED:20260320T134155Z
UID:10038362-1777662000-1777672800@bevmain.org
SUMMARY:Froggy & The Friendship with Special Guests
DESCRIPTION:A musical freak show of frog-like proportions!
URL:https://bevmain.org/event/froggy-the-friendship-with-special-guests/
LOCATION:Off Cabot Comedy & Events\, 9 Wallis Street\, Beverly\, 01915\, United States
CATEGORIES:Music/Concert
ATTACH;FMTTYPE=image/jpeg:https://bevmain.org/wp-content/uploads/2026/03/Froggy-Poster.jpg
ORGANIZER;CN="Off Cabot Comedy &amp%3B Events":MAILTO:info@thecabot.org
GEO:42.5481285;-70.8794388
X-APPLE-STRUCTURED-LOCATION;VALUE=URI;X-ADDRESS=Off Cabot Comedy & Events 9 Wallis Street Beverly 01915 United States;X-APPLE-RADIUS=500;X-TITLE=9 Wallis Street:geo:-70.8794388,42.5481285
END:VEVENT
BEGIN:VEVENT
DTSTART;TZID=America/New_York:20260502T200000
DTEND;TZID=America/New_York:20260502T230000
DTSTAMP:20260421T105812
CREATED:20260320T134210Z
LAST-MODIFIED:20260320T134210Z
UID:10038363-1777752000-1777762800@bevmain.org
SUMMARY:Morgan Myles
DESCRIPTION:Morgan Myles is a powerhouse Americana and country singer-songwriter whose five-octave vocals and fearless honesty have made her one of Nashville’s most compelling rising artists.
URL:https://bevmain.org/event/morgan-myles/
LOCATION:Off Cabot Comedy & Events\, 9 Wallis Street\, Beverly\, 01915\, United States
CATEGORIES:Music/Concert
ATTACH;FMTTYPE=image/jpeg:https://bevmain.org/wp-content/uploads/2026/03/Morgan-Myles-scaled.jpg
ORGANIZER;CN="Off Cabot Comedy &amp%3B Events":MAILTO:info@thecabot.org
GEO:42.5481285;-70.8794388
X-APPLE-STRUCTURED-LOCATION;VALUE=URI;X-ADDRESS=Off Cabot Comedy & Events 9 Wallis Street Beverly 01915 United States;X-APPLE-RADIUS=500;X-TITLE=9 Wallis Street:geo:-70.8794388,42.5481285
END:VEVENT
BEGIN:VEVENT
DTSTART;TZID=America/New_York:20260503T110000
DTEND;TZID=America/New_York:20260503T120000
DTSTAMP:20260421T105812
CREATED:20260309T134902Z
LAST-MODIFIED:20260309T134902Z
UID:10038063-1777806000-1777809600@bevmain.org
SUMMARY:OmDrum Circle
DESCRIPTION:The OmDrum Circle is a fully facilitated instructional drum circle where we use the Drum as a tool for meditation and self-healing. A “judgment free” zone. African and Western styles of hand drumming. All ages and experience levels welcome. Bring a drum if you have one\, or rent one from us. \nDiscover the meditative and healing power of the Drum with OmDrum.
URL:https://bevmain.org/event/omdrum-circle/2026-05-03/
LOCATION:Wonder Yoga\, 240 Rantoul St\, Beverly\, 01915\, United States
CATEGORIES:Health & Wellness
ATTACH;FMTTYPE=image/jpeg:https://bevmain.org/wp-content/uploads/2026/03/OmDrumLogo.jpg
GEO:42.549606;-70.8838342
X-APPLE-STRUCTURED-LOCATION;VALUE=URI;X-ADDRESS=Wonder Yoga 240 Rantoul St Beverly 01915 United States;X-APPLE-RADIUS=500;X-TITLE=240 Rantoul St:geo:-70.8838342,42.549606
END:VEVENT
BEGIN:VEVENT
DTSTART;TZID=America/New_York:20260504T200000
DTEND;TZID=America/New_York:20260504T230000
DTSTAMP:20260421T105812
CREATED:20230628T150156Z
LAST-MODIFIED:20231108T191914Z
UID:10019346-1777924800-1777935600@bevmain.org
SUMMARY:Open Mic at Indo
DESCRIPTION:Hosted by Bob Kramer & Nick Consone!
URL:https://bevmain.org/event/open-mic-at-indo/2026-05-04/
LOCATION:The Indo\, 298 Cabot Street\, Beverly\, MA\, 01915\, United States
CATEGORIES:Beer/Wine,Comedy,Food,Nightlife
ATTACH;FMTTYPE=image/jpeg:https://bevmain.org/wp-content/uploads/2023/06/IndoOpenMic.jpg
GEO:42.5521772;-70.8790122
X-APPLE-STRUCTURED-LOCATION;VALUE=URI;X-ADDRESS=The Indo 298 Cabot Street Beverly MA 01915 United States;X-APPLE-RADIUS=500;X-TITLE=298 Cabot Street:geo:-70.8790122,42.5521772
END:VEVENT
BEGIN:VEVENT
DTSTART;TZID=America/New_York:20260505T210000
DTEND;TZID=America/New_York:20260506T010000
DTSTAMP:20260421T105812
CREATED:20230307T192014Z
LAST-MODIFIED:20230307T193159Z
UID:10015756-1778014800-1778029200@bevmain.org
SUMMARY:Trivia Tuesday
DESCRIPTION:Tuesday night trivia at the Pickled Onion\n355 Rantoul Street
URL:https://bevmain.org/event/trivia-tuesday-3/2026-05-05/
CATEGORIES:Beer/Wine,Free,Music/Concert,Nightlife
ATTACH;FMTTYPE=image/jpeg:https://bevmain.org/wp-content/uploads/2023/03/pickledoniontriviaUSE.jpg
END:VEVENT
BEGIN:VEVENT
DTSTART;TZID=America/New_York:20260507T210000
DTEND;TZID=America/New_York:20260508T010000
DTSTAMP:20260421T105812
CREATED:20230307T180614Z
LAST-MODIFIED:20230307T194535Z
UID:10014980-1778187600-1778202000@bevmain.org
SUMMARY:Live DJ at the Pickled Onion
DESCRIPTION:Live DJ Night!
URL:https://bevmain.org/event/live-dj-at-the-pickled-onion/2026-05-07/
LOCATION:Pickled Onion\, 355 Rantoul Street\, Beverly\, MA\, 01915\, United States
CATEGORIES:Beer/Wine,Music/Concert,Nightlife
ATTACH;FMTTYPE=image/jpeg:https://bevmain.org/wp-content/uploads/2023/03/pickledonionDJ.jpg
GEO:42.5522933;-70.8824043
X-APPLE-STRUCTURED-LOCATION;VALUE=URI;X-ADDRESS=Pickled Onion 355 Rantoul Street Beverly MA 01915 United States;X-APPLE-RADIUS=500;X-TITLE=355 Rantoul Street:geo:-70.8824043,42.5522933
END:VEVENT
BEGIN:VEVENT
DTSTART;TZID=America/New_York:20260510T110000
DTEND;TZID=America/New_York:20260510T120000
DTSTAMP:20260421T105812
CREATED:20260309T134902Z
LAST-MODIFIED:20260309T134902Z
UID:10038064-1778410800-1778414400@bevmain.org
SUMMARY:OmDrum Circle
DESCRIPTION:The OmDrum Circle is a fully facilitated instructional drum circle where we use the Drum as a tool for meditation and self-healing. A “judgment free” zone. African and Western styles of hand drumming. All ages and experience levels welcome. Bring a drum if you have one\, or rent one from us. \nDiscover the meditative and healing power of the Drum with OmDrum.
URL:https://bevmain.org/event/omdrum-circle/2026-05-10/
LOCATION:Wonder Yoga\, 240 Rantoul St\, Beverly\, 01915\, United States
CATEGORIES:Health & Wellness
ATTACH;FMTTYPE=image/jpeg:https://bevmain.org/wp-content/uploads/2026/03/OmDrumLogo.jpg
GEO:42.549606;-70.8838342
X-APPLE-STRUCTURED-LOCATION;VALUE=URI;X-ADDRESS=Wonder Yoga 240 Rantoul St Beverly 01915 United States;X-APPLE-RADIUS=500;X-TITLE=240 Rantoul St:geo:-70.8838342,42.549606
END:VEVENT
BEGIN:VEVENT
DTSTART;TZID=America/New_York:20260511T200000
DTEND;TZID=America/New_York:20260511T230000
DTSTAMP:20260421T105812
CREATED:20230628T150156Z
LAST-MODIFIED:20231108T191914Z
UID:10019347-1778529600-1778540400@bevmain.org
SUMMARY:Open Mic at Indo
DESCRIPTION:Hosted by Bob Kramer & Nick Consone!
URL:https://bevmain.org/event/open-mic-at-indo/2026-05-11/
LOCATION:The Indo\, 298 Cabot Street\, Beverly\, MA\, 01915\, United States
CATEGORIES:Beer/Wine,Comedy,Food,Nightlife
ATTACH;FMTTYPE=image/jpeg:https://bevmain.org/wp-content/uploads/2023/06/IndoOpenMic.jpg
GEO:42.5521772;-70.8790122
X-APPLE-STRUCTURED-LOCATION;VALUE=URI;X-ADDRESS=The Indo 298 Cabot Street Beverly MA 01915 United States;X-APPLE-RADIUS=500;X-TITLE=298 Cabot Street:geo:-70.8790122,42.5521772
END:VEVENT
BEGIN:VEVENT
DTSTART;TZID=America/New_York:20260512T210000
DTEND;TZID=America/New_York:20260513T010000
DTSTAMP:20260421T105812
CREATED:20230307T192014Z
LAST-MODIFIED:20230307T193159Z
UID:10015757-1778619600-1778634000@bevmain.org
SUMMARY:Trivia Tuesday
DESCRIPTION:Tuesday night trivia at the Pickled Onion\n355 Rantoul Street
URL:https://bevmain.org/event/trivia-tuesday-3/2026-05-12/
CATEGORIES:Beer/Wine,Free,Music/Concert,Nightlife
ATTACH;FMTTYPE=image/jpeg:https://bevmain.org/wp-content/uploads/2023/03/pickledoniontriviaUSE.jpg
END:VEVENT
BEGIN:VEVENT
DTSTART;TZID=America/New_York:20260514T210000
DTEND;TZID=America/New_York:20260515T010000
DTSTAMP:20260421T105812
CREATED:20230307T180614Z
LAST-MODIFIED:20230307T194535Z
UID:10014981-1778792400-1778806800@bevmain.org
SUMMARY:Live DJ at the Pickled Onion
DESCRIPTION:Live DJ Night!
URL:https://bevmain.org/event/live-dj-at-the-pickled-onion/2026-05-14/
LOCATION:Pickled Onion\, 355 Rantoul Street\, Beverly\, MA\, 01915\, United States
CATEGORIES:Beer/Wine,Music/Concert,Nightlife
ATTACH;FMTTYPE=image/jpeg:https://bevmain.org/wp-content/uploads/2023/03/pickledonionDJ.jpg
GEO:42.5522933;-70.8824043
X-APPLE-STRUCTURED-LOCATION;VALUE=URI;X-ADDRESS=Pickled Onion 355 Rantoul Street Beverly MA 01915 United States;X-APPLE-RADIUS=500;X-TITLE=355 Rantoul Street:geo:-70.8824043,42.5522933
END:VEVENT
BEGIN:VEVENT
DTSTART;TZID=America/New_York:20260517T110000
DTEND;TZID=America/New_York:20260517T120000
DTSTAMP:20260421T105812
CREATED:20260309T134902Z
LAST-MODIFIED:20260309T134902Z
UID:10038065-1779015600-1779019200@bevmain.org
SUMMARY:OmDrum Circle
DESCRIPTION:The OmDrum Circle is a fully facilitated instructional drum circle where we use the Drum as a tool for meditation and self-healing. A “judgment free” zone. African and Western styles of hand drumming. All ages and experience levels welcome. Bring a drum if you have one\, or rent one from us. \nDiscover the meditative and healing power of the Drum with OmDrum.
URL:https://bevmain.org/event/omdrum-circle/2026-05-17/
LOCATION:Wonder Yoga\, 240 Rantoul St\, Beverly\, 01915\, United States
CATEGORIES:Health & Wellness
ATTACH;FMTTYPE=image/jpeg:https://bevmain.org/wp-content/uploads/2026/03/OmDrumLogo.jpg
GEO:42.549606;-70.8838342
X-APPLE-STRUCTURED-LOCATION;VALUE=URI;X-ADDRESS=Wonder Yoga 240 Rantoul St Beverly 01915 United States;X-APPLE-RADIUS=500;X-TITLE=240 Rantoul St:geo:-70.8838342,42.549606
END:VEVENT
BEGIN:VEVENT
DTSTART;TZID=America/New_York:20260518T200000
DTEND;TZID=America/New_York:20260518T230000
DTSTAMP:20260421T105812
CREATED:20230628T150156Z
LAST-MODIFIED:20231108T191914Z
UID:10019348-1779134400-1779145200@bevmain.org
SUMMARY:Open Mic at Indo
DESCRIPTION:Hosted by Bob Kramer & Nick Consone!
URL:https://bevmain.org/event/open-mic-at-indo/2026-05-18/
LOCATION:The Indo\, 298 Cabot Street\, Beverly\, MA\, 01915\, United States
CATEGORIES:Beer/Wine,Comedy,Food,Nightlife
ATTACH;FMTTYPE=image/jpeg:https://bevmain.org/wp-content/uploads/2023/06/IndoOpenMic.jpg
GEO:42.5521772;-70.8790122
X-APPLE-STRUCTURED-LOCATION;VALUE=URI;X-ADDRESS=The Indo 298 Cabot Street Beverly MA 01915 United States;X-APPLE-RADIUS=500;X-TITLE=298 Cabot Street:geo:-70.8790122,42.5521772
END:VEVENT
BEGIN:VEVENT
DTSTART;TZID=America/New_York:20260519T210000
DTEND;TZID=America/New_York:20260520T010000
DTSTAMP:20260421T105812
CREATED:20230307T192014Z
LAST-MODIFIED:20230307T193159Z
UID:10015758-1779224400-1779238800@bevmain.org
SUMMARY:Trivia Tuesday
DESCRIPTION:Tuesday night trivia at the Pickled Onion\n355 Rantoul Street
URL:https://bevmain.org/event/trivia-tuesday-3/2026-05-19/
CATEGORIES:Beer/Wine,Free,Music/Concert,Nightlife
ATTACH;FMTTYPE=image/jpeg:https://bevmain.org/wp-content/uploads/2023/03/pickledoniontriviaUSE.jpg
END:VEVENT
BEGIN:VEVENT
DTSTART;TZID=America/New_York:20260521T210000
DTEND;TZID=America/New_York:20260522T010000
DTSTAMP:20260421T105812
CREATED:20230307T180614Z
LAST-MODIFIED:20230307T194535Z
UID:10014982-1779397200-1779411600@bevmain.org
SUMMARY:Live DJ at the Pickled Onion
DESCRIPTION:Live DJ Night!
URL:https://bevmain.org/event/live-dj-at-the-pickled-onion/2026-05-21/
LOCATION:Pickled Onion\, 355 Rantoul Street\, Beverly\, MA\, 01915\, United States
CATEGORIES:Beer/Wine,Music/Concert,Nightlife
ATTACH;FMTTYPE=image/jpeg:https://bevmain.org/wp-content/uploads/2023/03/pickledonionDJ.jpg
GEO:42.5522933;-70.8824043
X-APPLE-STRUCTURED-LOCATION;VALUE=URI;X-ADDRESS=Pickled Onion 355 Rantoul Street Beverly MA 01915 United States;X-APPLE-RADIUS=500;X-TITLE=355 Rantoul Street:geo:-70.8824043,42.5522933
END:VEVENT
BEGIN:VEVENT
DTSTART;TZID=America/New_York:20260524T110000
DTEND;TZID=America/New_York:20260524T120000
DTSTAMP:20260421T105812
CREATED:20260309T134902Z
LAST-MODIFIED:20260309T134902Z
UID:10038066-1779620400-1779624000@bevmain.org
SUMMARY:OmDrum Circle
DESCRIPTION:The OmDrum Circle is a fully facilitated instructional drum circle where we use the Drum as a tool for meditation and self-healing. A “judgment free” zone. African and Western styles of hand drumming. All ages and experience levels welcome. Bring a drum if you have one\, or rent one from us. \nDiscover the meditative and healing power of the Drum with OmDrum.
URL:https://bevmain.org/event/omdrum-circle/2026-05-24/
LOCATION:Wonder Yoga\, 240 Rantoul St\, Beverly\, 01915\, United States
CATEGORIES:Health & Wellness
ATTACH;FMTTYPE=image/jpeg:https://bevmain.org/wp-content/uploads/2026/03/OmDrumLogo.jpg
GEO:42.549606;-70.8838342
X-APPLE-STRUCTURED-LOCATION;VALUE=URI;X-ADDRESS=Wonder Yoga 240 Rantoul St Beverly 01915 United States;X-APPLE-RADIUS=500;X-TITLE=240 Rantoul St:geo:-70.8838342,42.549606
END:VEVENT
BEGIN:VEVENT
DTSTART;TZID=America/New_York:20260525T200000
DTEND;TZID=America/New_York:20260525T230000
DTSTAMP:20260421T105812
CREATED:20230628T150156Z
LAST-MODIFIED:20231108T191914Z
UID:10019349-1779739200-1779750000@bevmain.org
SUMMARY:Open Mic at Indo
DESCRIPTION:Hosted by Bob Kramer & Nick Consone!
URL:https://bevmain.org/event/open-mic-at-indo/2026-05-25/
LOCATION:The Indo\, 298 Cabot Street\, Beverly\, MA\, 01915\, United States
CATEGORIES:Beer/Wine,Comedy,Food,Nightlife
ATTACH;FMTTYPE=image/jpeg:https://bevmain.org/wp-content/uploads/2023/06/IndoOpenMic.jpg
GEO:42.5521772;-70.8790122
X-APPLE-STRUCTURED-LOCATION;VALUE=URI;X-ADDRESS=The Indo 298 Cabot Street Beverly MA 01915 United States;X-APPLE-RADIUS=500;X-TITLE=298 Cabot Street:geo:-70.8790122,42.5521772
END:VEVENT
BEGIN:VEVENT
DTSTART;TZID=America/New_York:20260526T210000
DTEND;TZID=America/New_York:20260527T010000
DTSTAMP:20260421T105812
CREATED:20230307T192014Z
LAST-MODIFIED:20230307T193159Z
UID:10015759-1779829200-1779843600@bevmain.org
SUMMARY:Trivia Tuesday
DESCRIPTION:Tuesday night trivia at the Pickled Onion\n355 Rantoul Street
URL:https://bevmain.org/event/trivia-tuesday-3/2026-05-26/
CATEGORIES:Beer/Wine,Free,Music/Concert,Nightlife
ATTACH;FMTTYPE=image/jpeg:https://bevmain.org/wp-content/uploads/2023/03/pickledoniontriviaUSE.jpg
END:VEVENT
BEGIN:VEVENT
DTSTART;TZID=America/New_York:20260528T210000
DTEND;TZID=America/New_York:20260529T010000
DTSTAMP:20260421T105812
CREATED:20230307T180614Z
LAST-MODIFIED:20230307T194535Z
UID:10014983-1780002000-1780016400@bevmain.org
SUMMARY:Live DJ at the Pickled Onion
DESCRIPTION:Live DJ Night!
URL:https://bevmain.org/event/live-dj-at-the-pickled-onion/2026-05-28/
LOCATION:Pickled Onion\, 355 Rantoul Street\, Beverly\, MA\, 01915\, United States
CATEGORIES:Beer/Wine,Music/Concert,Nightlife
ATTACH;FMTTYPE=image/jpeg:https://bevmain.org/wp-content/uploads/2023/03/pickledonionDJ.jpg
GEO:42.5522933;-70.8824043
X-APPLE-STRUCTURED-LOCATION;VALUE=URI;X-ADDRESS=Pickled Onion 355 Rantoul Street Beverly MA 01915 United States;X-APPLE-RADIUS=500;X-TITLE=355 Rantoul Street:geo:-70.8824043,42.5522933
END:VEVENT
BEGIN:VEVENT
DTSTART;TZID=America/New_York:20260531T110000
DTEND;TZID=America/New_York:20260531T120000
DTSTAMP:20260421T105812
CREATED:20260309T134902Z
LAST-MODIFIED:20260309T134902Z
UID:10038067-1780225200-1780228800@bevmain.org
SUMMARY:OmDrum Circle
DESCRIPTION:The OmDrum Circle is a fully facilitated instructional drum circle where we use the Drum as a tool for meditation and self-healing. A “judgment free” zone. African and Western styles of hand drumming. All ages and experience levels welcome. Bring a drum if you have one\, or rent one from us. \nDiscover the meditative and healing power of the Drum with OmDrum.
URL:https://bevmain.org/event/omdrum-circle/2026-05-31/
LOCATION:Wonder Yoga\, 240 Rantoul St\, Beverly\, 01915\, United States
CATEGORIES:Health & Wellness
ATTACH;FMTTYPE=image/jpeg:https://bevmain.org/wp-content/uploads/2026/03/OmDrumLogo.jpg
GEO:42.549606;-70.8838342
X-APPLE-STRUCTURED-LOCATION;VALUE=URI;X-ADDRESS=Wonder Yoga 240 Rantoul St Beverly 01915 United States;X-APPLE-RADIUS=500;X-TITLE=240 Rantoul St:geo:-70.8838342,42.549606
END:VEVENT
BEGIN:VEVENT
DTSTART;TZID=America/New_York:20260601T200000
DTEND;TZID=America/New_York:20260601T230000
DTSTAMP:20260421T105812
CREATED:20230628T150156Z
LAST-MODIFIED:20231108T191914Z
UID:10019350-1780344000-1780354800@bevmain.org
SUMMARY:Open Mic at Indo
DESCRIPTION:Hosted by Bob Kramer & Nick Consone!
URL:https://bevmain.org/event/open-mic-at-indo/2026-06-01/
LOCATION:The Indo\, 298 Cabot Street\, Beverly\, MA\, 01915\, United States
CATEGORIES:Beer/Wine,Comedy,Food,Nightlife
ATTACH;FMTTYPE=image/jpeg:https://bevmain.org/wp-content/uploads/2023/06/IndoOpenMic.jpg
GEO:42.5521772;-70.8790122
X-APPLE-STRUCTURED-LOCATION;VALUE=URI;X-ADDRESS=The Indo 298 Cabot Street Beverly MA 01915 United States;X-APPLE-RADIUS=500;X-TITLE=298 Cabot Street:geo:-70.8790122,42.5521772
END:VEVENT
END:VCALENDAR