BEGIN:VCALENDAR
VERSION:2.0
PRODID:-//Beverly Main Streets - ECPv6.15.20//NONSGML v1.0//EN
CALSCALE:GREGORIAN
METHOD:PUBLISH
X-WR-CALNAME:Beverly Main Streets
X-ORIGINAL-URL:https://bevmain.org
X-WR-CALDESC:Events for Beverly Main Streets
REFRESH-INTERVAL;VALUE=DURATION:PT1H
X-Robots-Tag:noindex
X-PUBLISHED-TTL:PT1H
BEGIN:VTIMEZONE
TZID:America/New_York
BEGIN:DAYLIGHT
TZOFFSETFROM:-0500
TZOFFSETTO:-0400
TZNAME:EDT
DTSTART:20260308T070000
END:DAYLIGHT
BEGIN:STANDARD
TZOFFSETFROM:-0400
TZOFFSETTO:-0500
TZNAME:EST
DTSTART:20261101T060000
END:STANDARD
BEGIN:DAYLIGHT
TZOFFSETFROM:-0500
TZOFFSETTO:-0400
TZNAME:EDT
DTSTART:20270314T070000
END:DAYLIGHT
BEGIN:STANDARD
TZOFFSETFROM:-0400
TZOFFSETTO:-0500
TZNAME:EST
DTSTART:20271107T060000
END:STANDARD
BEGIN:DAYLIGHT
TZOFFSETFROM:-0500
TZOFFSETTO:-0400
TZNAME:EDT
DTSTART:20280312T070000
END:DAYLIGHT
BEGIN:STANDARD
TZOFFSETFROM:-0400
TZOFFSETTO:-0500
TZNAME:EST
DTSTART:20281105T060000
END:STANDARD
BEGIN:DAYLIGHT
TZOFFSETFROM:-0500
TZOFFSETTO:-0400
TZNAME:EDT
DTSTART:20290311T070000
END:DAYLIGHT
BEGIN:STANDARD
TZOFFSETFROM:-0400
TZOFFSETTO:-0500
TZNAME:EST
DTSTART:20291104T060000
END:STANDARD
END:VTIMEZONE
BEGIN:VEVENT
DTSTART;TZID=America/New_York:20271025T140000
DTEND;TZID=America/New_York:20271025T210000
DTSTAMP:20260423T001530
CREATED:20260422T133258Z
LAST-MODIFIED:20260422T133258Z
UID:10039011-1824472800-1824498000@bevmain.org
SUMMARY:Burger & Beverage
DESCRIPTION:MONDAY BURGER NIGHT\nKick off the week at The Pickled Onion!\nEnjoy an 8oz cheeseburger & hand-cut fries with your choice of:\nMichelob Ultra\, Bud Light\, PBR\, or a non-alcoholic beverage\nNo need to cook — we’ve got you covered.
URL:https://bevmain.org/event/burger-beverage/2027-10-25/
LOCATION:The Pickled Onion\, 355 rantoul st\, Beverly\, 01915\, United States
ATTACH;FMTTYPE=image/jpeg:https://bevmain.org/wp-content/uploads/2026/04/IMG_7283.jpeg
GEO:42.5522933;-70.8824043
X-APPLE-STRUCTURED-LOCATION;VALUE=URI;X-ADDRESS=The Pickled Onion 355 rantoul st Beverly 01915 United States;X-APPLE-RADIUS=500;X-TITLE=355 rantoul st:geo:-70.8824043,42.5522933
END:VEVENT
BEGIN:VEVENT
DTSTART;TZID=America/New_York:20271026T210000
DTEND;TZID=America/New_York:20271027T010000
DTSTAMP:20260423T001530
CREATED:20230307T192014Z
LAST-MODIFIED:20230307T193159Z
UID:10015833-1824584400-1824598800@bevmain.org
SUMMARY:Trivia Tuesday
DESCRIPTION:Tuesday night trivia at the Pickled Onion\n355 Rantoul Street
URL:https://bevmain.org/event/trivia-tuesday-3/2027-10-26/
CATEGORIES:Beer/Wine,Free,Music/Concert,Nightlife
ATTACH;FMTTYPE=image/jpeg:https://bevmain.org/wp-content/uploads/2023/03/pickledoniontriviaUSE.jpg
END:VEVENT
BEGIN:VEVENT
DTSTART;TZID=America/New_York:20271101T140000
DTEND;TZID=America/New_York:20271101T210000
DTSTAMP:20260423T001530
CREATED:20260422T133258Z
LAST-MODIFIED:20260422T133258Z
UID:10039012-1825077600-1825102800@bevmain.org
SUMMARY:Burger & Beverage
DESCRIPTION:MONDAY BURGER NIGHT\nKick off the week at The Pickled Onion!\nEnjoy an 8oz cheeseburger & hand-cut fries with your choice of:\nMichelob Ultra\, Bud Light\, PBR\, or a non-alcoholic beverage\nNo need to cook — we’ve got you covered.
URL:https://bevmain.org/event/burger-beverage/2027-11-01/
LOCATION:The Pickled Onion\, 355 rantoul st\, Beverly\, 01915\, United States
ATTACH;FMTTYPE=image/jpeg:https://bevmain.org/wp-content/uploads/2026/04/IMG_7283.jpeg
GEO:42.5522933;-70.8824043
X-APPLE-STRUCTURED-LOCATION;VALUE=URI;X-ADDRESS=The Pickled Onion 355 rantoul st Beverly 01915 United States;X-APPLE-RADIUS=500;X-TITLE=355 rantoul st:geo:-70.8824043,42.5522933
END:VEVENT
BEGIN:VEVENT
DTSTART;TZID=America/New_York:20271102T210000
DTEND;TZID=America/New_York:20271103T010000
DTSTAMP:20260423T001530
CREATED:20230307T192014Z
LAST-MODIFIED:20230307T193159Z
UID:10015834-1825189200-1825203600@bevmain.org
SUMMARY:Trivia Tuesday
DESCRIPTION:Tuesday night trivia at the Pickled Onion\n355 Rantoul Street
URL:https://bevmain.org/event/trivia-tuesday-3/2027-11-02/
CATEGORIES:Beer/Wine,Free,Music/Concert,Nightlife
ATTACH;FMTTYPE=image/jpeg:https://bevmain.org/wp-content/uploads/2023/03/pickledoniontriviaUSE.jpg
END:VEVENT
BEGIN:VEVENT
DTSTART;TZID=America/New_York:20271108T140000
DTEND;TZID=America/New_York:20271108T210000
DTSTAMP:20260423T001530
CREATED:20260422T133258Z
LAST-MODIFIED:20260422T133258Z
UID:10039013-1825682400-1825707600@bevmain.org
SUMMARY:Burger & Beverage
DESCRIPTION:MONDAY BURGER NIGHT\nKick off the week at The Pickled Onion!\nEnjoy an 8oz cheeseburger & hand-cut fries with your choice of:\nMichelob Ultra\, Bud Light\, PBR\, or a non-alcoholic beverage\nNo need to cook — we’ve got you covered.
URL:https://bevmain.org/event/burger-beverage/2027-11-08/
LOCATION:The Pickled Onion\, 355 rantoul st\, Beverly\, 01915\, United States
ATTACH;FMTTYPE=image/jpeg:https://bevmain.org/wp-content/uploads/2026/04/IMG_7283.jpeg
GEO:42.5522933;-70.8824043
X-APPLE-STRUCTURED-LOCATION;VALUE=URI;X-ADDRESS=The Pickled Onion 355 rantoul st Beverly 01915 United States;X-APPLE-RADIUS=500;X-TITLE=355 rantoul st:geo:-70.8824043,42.5522933
END:VEVENT
BEGIN:VEVENT
DTSTART;TZID=America/New_York:20271109T210000
DTEND;TZID=America/New_York:20271110T010000
DTSTAMP:20260423T001530
CREATED:20230307T192014Z
LAST-MODIFIED:20230307T193159Z
UID:10015835-1825794000-1825808400@bevmain.org
SUMMARY:Trivia Tuesday
DESCRIPTION:Tuesday night trivia at the Pickled Onion\n355 Rantoul Street
URL:https://bevmain.org/event/trivia-tuesday-3/2027-11-09/
CATEGORIES:Beer/Wine,Free,Music/Concert,Nightlife
ATTACH;FMTTYPE=image/jpeg:https://bevmain.org/wp-content/uploads/2023/03/pickledoniontriviaUSE.jpg
END:VEVENT
BEGIN:VEVENT
DTSTART;TZID=America/New_York:20271115T140000
DTEND;TZID=America/New_York:20271115T210000
DTSTAMP:20260423T001530
CREATED:20260422T133258Z
LAST-MODIFIED:20260422T133258Z
UID:10039014-1826287200-1826312400@bevmain.org
SUMMARY:Burger & Beverage
DESCRIPTION:MONDAY BURGER NIGHT\nKick off the week at The Pickled Onion!\nEnjoy an 8oz cheeseburger & hand-cut fries with your choice of:\nMichelob Ultra\, Bud Light\, PBR\, or a non-alcoholic beverage\nNo need to cook — we’ve got you covered.
URL:https://bevmain.org/event/burger-beverage/2027-11-15/
LOCATION:The Pickled Onion\, 355 rantoul st\, Beverly\, 01915\, United States
ATTACH;FMTTYPE=image/jpeg:https://bevmain.org/wp-content/uploads/2026/04/IMG_7283.jpeg
GEO:42.5522933;-70.8824043
X-APPLE-STRUCTURED-LOCATION;VALUE=URI;X-ADDRESS=The Pickled Onion 355 rantoul st Beverly 01915 United States;X-APPLE-RADIUS=500;X-TITLE=355 rantoul st:geo:-70.8824043,42.5522933
END:VEVENT
BEGIN:VEVENT
DTSTART;TZID=America/New_York:20271116T210000
DTEND;TZID=America/New_York:20271117T010000
DTSTAMP:20260423T001530
CREATED:20230307T192014Z
LAST-MODIFIED:20230307T193159Z
UID:10015836-1826398800-1826413200@bevmain.org
SUMMARY:Trivia Tuesday
DESCRIPTION:Tuesday night trivia at the Pickled Onion\n355 Rantoul Street
URL:https://bevmain.org/event/trivia-tuesday-3/2027-11-16/
CATEGORIES:Beer/Wine,Free,Music/Concert,Nightlife
ATTACH;FMTTYPE=image/jpeg:https://bevmain.org/wp-content/uploads/2023/03/pickledoniontriviaUSE.jpg
END:VEVENT
BEGIN:VEVENT
DTSTART;TZID=America/New_York:20271122T140000
DTEND;TZID=America/New_York:20271122T210000
DTSTAMP:20260423T001530
CREATED:20260422T133258Z
LAST-MODIFIED:20260422T133258Z
UID:10039015-1826892000-1826917200@bevmain.org
SUMMARY:Burger & Beverage
DESCRIPTION:MONDAY BURGER NIGHT\nKick off the week at The Pickled Onion!\nEnjoy an 8oz cheeseburger & hand-cut fries with your choice of:\nMichelob Ultra\, Bud Light\, PBR\, or a non-alcoholic beverage\nNo need to cook — we’ve got you covered.
URL:https://bevmain.org/event/burger-beverage/2027-11-22/
LOCATION:The Pickled Onion\, 355 rantoul st\, Beverly\, 01915\, United States
ATTACH;FMTTYPE=image/jpeg:https://bevmain.org/wp-content/uploads/2026/04/IMG_7283.jpeg
GEO:42.5522933;-70.8824043
X-APPLE-STRUCTURED-LOCATION;VALUE=URI;X-ADDRESS=The Pickled Onion 355 rantoul st Beverly 01915 United States;X-APPLE-RADIUS=500;X-TITLE=355 rantoul st:geo:-70.8824043,42.5522933
END:VEVENT
BEGIN:VEVENT
DTSTART;TZID=America/New_York:20271123T210000
DTEND;TZID=America/New_York:20271124T010000
DTSTAMP:20260423T001530
CREATED:20230307T192014Z
LAST-MODIFIED:20230307T193159Z
UID:10015837-1827003600-1827018000@bevmain.org
SUMMARY:Trivia Tuesday
DESCRIPTION:Tuesday night trivia at the Pickled Onion\n355 Rantoul Street
URL:https://bevmain.org/event/trivia-tuesday-3/2027-11-23/
CATEGORIES:Beer/Wine,Free,Music/Concert,Nightlife
ATTACH;FMTTYPE=image/jpeg:https://bevmain.org/wp-content/uploads/2023/03/pickledoniontriviaUSE.jpg
END:VEVENT
BEGIN:VEVENT
DTSTART;TZID=America/New_York:20271129T140000
DTEND;TZID=America/New_York:20271129T210000
DTSTAMP:20260423T001530
CREATED:20260422T133258Z
LAST-MODIFIED:20260422T133258Z
UID:10039016-1827496800-1827522000@bevmain.org
SUMMARY:Burger & Beverage
DESCRIPTION:MONDAY BURGER NIGHT\nKick off the week at The Pickled Onion!\nEnjoy an 8oz cheeseburger & hand-cut fries with your choice of:\nMichelob Ultra\, Bud Light\, PBR\, or a non-alcoholic beverage\nNo need to cook — we’ve got you covered.
URL:https://bevmain.org/event/burger-beverage/2027-11-29/
LOCATION:The Pickled Onion\, 355 rantoul st\, Beverly\, 01915\, United States
ATTACH;FMTTYPE=image/jpeg:https://bevmain.org/wp-content/uploads/2026/04/IMG_7283.jpeg
GEO:42.5522933;-70.8824043
X-APPLE-STRUCTURED-LOCATION;VALUE=URI;X-ADDRESS=The Pickled Onion 355 rantoul st Beverly 01915 United States;X-APPLE-RADIUS=500;X-TITLE=355 rantoul st:geo:-70.8824043,42.5522933
END:VEVENT
BEGIN:VEVENT
DTSTART;TZID=America/New_York:20271130T210000
DTEND;TZID=America/New_York:20271201T010000
DTSTAMP:20260423T001530
CREATED:20230307T192014Z
LAST-MODIFIED:20230307T193159Z
UID:10015838-1827608400-1827622800@bevmain.org
SUMMARY:Trivia Tuesday
DESCRIPTION:Tuesday night trivia at the Pickled Onion\n355 Rantoul Street
URL:https://bevmain.org/event/trivia-tuesday-3/2027-11-30/
CATEGORIES:Beer/Wine,Free,Music/Concert,Nightlife
ATTACH;FMTTYPE=image/jpeg:https://bevmain.org/wp-content/uploads/2023/03/pickledoniontriviaUSE.jpg
END:VEVENT
BEGIN:VEVENT
DTSTART;TZID=America/New_York:20271206T140000
DTEND;TZID=America/New_York:20271206T210000
DTSTAMP:20260423T001530
CREATED:20260422T133258Z
LAST-MODIFIED:20260422T133258Z
UID:10039017-1828101600-1828126800@bevmain.org
SUMMARY:Burger & Beverage
DESCRIPTION:MONDAY BURGER NIGHT\nKick off the week at The Pickled Onion!\nEnjoy an 8oz cheeseburger & hand-cut fries with your choice of:\nMichelob Ultra\, Bud Light\, PBR\, or a non-alcoholic beverage\nNo need to cook — we’ve got you covered.
URL:https://bevmain.org/event/burger-beverage/2027-12-06/
LOCATION:The Pickled Onion\, 355 rantoul st\, Beverly\, 01915\, United States
ATTACH;FMTTYPE=image/jpeg:https://bevmain.org/wp-content/uploads/2026/04/IMG_7283.jpeg
GEO:42.5522933;-70.8824043
X-APPLE-STRUCTURED-LOCATION;VALUE=URI;X-ADDRESS=The Pickled Onion 355 rantoul st Beverly 01915 United States;X-APPLE-RADIUS=500;X-TITLE=355 rantoul st:geo:-70.8824043,42.5522933
END:VEVENT
BEGIN:VEVENT
DTSTART;TZID=America/New_York:20271207T210000
DTEND;TZID=America/New_York:20271208T010000
DTSTAMP:20260423T001530
CREATED:20230307T192014Z
LAST-MODIFIED:20230307T193159Z
UID:10015839-1828213200-1828227600@bevmain.org
SUMMARY:Trivia Tuesday
DESCRIPTION:Tuesday night trivia at the Pickled Onion\n355 Rantoul Street
URL:https://bevmain.org/event/trivia-tuesday-3/2027-12-07/
CATEGORIES:Beer/Wine,Free,Music/Concert,Nightlife
ATTACH;FMTTYPE=image/jpeg:https://bevmain.org/wp-content/uploads/2023/03/pickledoniontriviaUSE.jpg
END:VEVENT
BEGIN:VEVENT
DTSTART;TZID=America/New_York:20271213T140000
DTEND;TZID=America/New_York:20271213T210000
DTSTAMP:20260423T001530
CREATED:20260422T133258Z
LAST-MODIFIED:20260422T133258Z
UID:10039018-1828706400-1828731600@bevmain.org
SUMMARY:Burger & Beverage
DESCRIPTION:MONDAY BURGER NIGHT\nKick off the week at The Pickled Onion!\nEnjoy an 8oz cheeseburger & hand-cut fries with your choice of:\nMichelob Ultra\, Bud Light\, PBR\, or a non-alcoholic beverage\nNo need to cook — we’ve got you covered.
URL:https://bevmain.org/event/burger-beverage/2027-12-13/
LOCATION:The Pickled Onion\, 355 rantoul st\, Beverly\, 01915\, United States
ATTACH;FMTTYPE=image/jpeg:https://bevmain.org/wp-content/uploads/2026/04/IMG_7283.jpeg
GEO:42.5522933;-70.8824043
X-APPLE-STRUCTURED-LOCATION;VALUE=URI;X-ADDRESS=The Pickled Onion 355 rantoul st Beverly 01915 United States;X-APPLE-RADIUS=500;X-TITLE=355 rantoul st:geo:-70.8824043,42.5522933
END:VEVENT
BEGIN:VEVENT
DTSTART;TZID=America/New_York:20271214T210000
DTEND;TZID=America/New_York:20271215T010000
DTSTAMP:20260423T001530
CREATED:20230307T192014Z
LAST-MODIFIED:20230307T193159Z
UID:10015840-1828818000-1828832400@bevmain.org
SUMMARY:Trivia Tuesday
DESCRIPTION:Tuesday night trivia at the Pickled Onion\n355 Rantoul Street
URL:https://bevmain.org/event/trivia-tuesday-3/2027-12-14/
CATEGORIES:Beer/Wine,Free,Music/Concert,Nightlife
ATTACH;FMTTYPE=image/jpeg:https://bevmain.org/wp-content/uploads/2023/03/pickledoniontriviaUSE.jpg
END:VEVENT
BEGIN:VEVENT
DTSTART;TZID=America/New_York:20271220T140000
DTEND;TZID=America/New_York:20271220T210000
DTSTAMP:20260423T001530
CREATED:20260422T133258Z
LAST-MODIFIED:20260422T133258Z
UID:10039019-1829311200-1829336400@bevmain.org
SUMMARY:Burger & Beverage
DESCRIPTION:MONDAY BURGER NIGHT\nKick off the week at The Pickled Onion!\nEnjoy an 8oz cheeseburger & hand-cut fries with your choice of:\nMichelob Ultra\, Bud Light\, PBR\, or a non-alcoholic beverage\nNo need to cook — we’ve got you covered.
URL:https://bevmain.org/event/burger-beverage/2027-12-20/
LOCATION:The Pickled Onion\, 355 rantoul st\, Beverly\, 01915\, United States
ATTACH;FMTTYPE=image/jpeg:https://bevmain.org/wp-content/uploads/2026/04/IMG_7283.jpeg
GEO:42.5522933;-70.8824043
X-APPLE-STRUCTURED-LOCATION;VALUE=URI;X-ADDRESS=The Pickled Onion 355 rantoul st Beverly 01915 United States;X-APPLE-RADIUS=500;X-TITLE=355 rantoul st:geo:-70.8824043,42.5522933
END:VEVENT
BEGIN:VEVENT
DTSTART;TZID=America/New_York:20271221T210000
DTEND;TZID=America/New_York:20271222T010000
DTSTAMP:20260423T001530
CREATED:20230307T192014Z
LAST-MODIFIED:20230307T193159Z
UID:10015841-1829422800-1829437200@bevmain.org
SUMMARY:Trivia Tuesday
DESCRIPTION:Tuesday night trivia at the Pickled Onion\n355 Rantoul Street
URL:https://bevmain.org/event/trivia-tuesday-3/2027-12-21/
CATEGORIES:Beer/Wine,Free,Music/Concert,Nightlife
ATTACH;FMTTYPE=image/jpeg:https://bevmain.org/wp-content/uploads/2023/03/pickledoniontriviaUSE.jpg
END:VEVENT
BEGIN:VEVENT
DTSTART;TZID=America/New_York:20271227T140000
DTEND;TZID=America/New_York:20271227T210000
DTSTAMP:20260423T001531
CREATED:20260422T133258Z
LAST-MODIFIED:20260422T133258Z
UID:10039020-1829916000-1829941200@bevmain.org
SUMMARY:Burger & Beverage
DESCRIPTION:MONDAY BURGER NIGHT\nKick off the week at The Pickled Onion!\nEnjoy an 8oz cheeseburger & hand-cut fries with your choice of:\nMichelob Ultra\, Bud Light\, PBR\, or a non-alcoholic beverage\nNo need to cook — we’ve got you covered.
URL:https://bevmain.org/event/burger-beverage/2027-12-27/
LOCATION:The Pickled Onion\, 355 rantoul st\, Beverly\, 01915\, United States
ATTACH;FMTTYPE=image/jpeg:https://bevmain.org/wp-content/uploads/2026/04/IMG_7283.jpeg
GEO:42.5522933;-70.8824043
X-APPLE-STRUCTURED-LOCATION;VALUE=URI;X-ADDRESS=The Pickled Onion 355 rantoul st Beverly 01915 United States;X-APPLE-RADIUS=500;X-TITLE=355 rantoul st:geo:-70.8824043,42.5522933
END:VEVENT
BEGIN:VEVENT
DTSTART;TZID=America/New_York:20271228T210000
DTEND;TZID=America/New_York:20271229T010000
DTSTAMP:20260423T001531
CREATED:20230307T192014Z
LAST-MODIFIED:20230307T193159Z
UID:10015842-1830027600-1830042000@bevmain.org
SUMMARY:Trivia Tuesday
DESCRIPTION:Tuesday night trivia at the Pickled Onion\n355 Rantoul Street
URL:https://bevmain.org/event/trivia-tuesday-3/2027-12-28/
CATEGORIES:Beer/Wine,Free,Music/Concert,Nightlife
ATTACH;FMTTYPE=image/jpeg:https://bevmain.org/wp-content/uploads/2023/03/pickledoniontriviaUSE.jpg
END:VEVENT
BEGIN:VEVENT
DTSTART;TZID=America/New_York:20280103T140000
DTEND;TZID=America/New_York:20280103T210000
DTSTAMP:20260423T001531
CREATED:20260422T133258Z
LAST-MODIFIED:20260422T133258Z
UID:10039021-1830520800-1830546000@bevmain.org
SUMMARY:Burger & Beverage
DESCRIPTION:MONDAY BURGER NIGHT\nKick off the week at The Pickled Onion!\nEnjoy an 8oz cheeseburger & hand-cut fries with your choice of:\nMichelob Ultra\, Bud Light\, PBR\, or a non-alcoholic beverage\nNo need to cook — we’ve got you covered.
URL:https://bevmain.org/event/burger-beverage/2028-01-03/
LOCATION:The Pickled Onion\, 355 rantoul st\, Beverly\, 01915\, United States
ATTACH;FMTTYPE=image/jpeg:https://bevmain.org/wp-content/uploads/2026/04/IMG_7283.jpeg
GEO:42.5522933;-70.8824043
X-APPLE-STRUCTURED-LOCATION;VALUE=URI;X-ADDRESS=The Pickled Onion 355 rantoul st Beverly 01915 United States;X-APPLE-RADIUS=500;X-TITLE=355 rantoul st:geo:-70.8824043,42.5522933
END:VEVENT
BEGIN:VEVENT
DTSTART;TZID=America/New_York:20280104T210000
DTEND;TZID=America/New_York:20280105T010000
DTSTAMP:20260423T001531
CREATED:20230307T192014Z
LAST-MODIFIED:20230307T193159Z
UID:10015843-1830632400-1830646800@bevmain.org
SUMMARY:Trivia Tuesday
DESCRIPTION:Tuesday night trivia at the Pickled Onion\n355 Rantoul Street
URL:https://bevmain.org/event/trivia-tuesday-3/2028-01-04/
CATEGORIES:Beer/Wine,Free,Music/Concert,Nightlife
ATTACH;FMTTYPE=image/jpeg:https://bevmain.org/wp-content/uploads/2023/03/pickledoniontriviaUSE.jpg
END:VEVENT
BEGIN:VEVENT
DTSTART;TZID=America/New_York:20280110T140000
DTEND;TZID=America/New_York:20280110T210000
DTSTAMP:20260423T001531
CREATED:20260422T133258Z
LAST-MODIFIED:20260422T133258Z
UID:10039022-1831125600-1831150800@bevmain.org
SUMMARY:Burger & Beverage
DESCRIPTION:MONDAY BURGER NIGHT\nKick off the week at The Pickled Onion!\nEnjoy an 8oz cheeseburger & hand-cut fries with your choice of:\nMichelob Ultra\, Bud Light\, PBR\, or a non-alcoholic beverage\nNo need to cook — we’ve got you covered.
URL:https://bevmain.org/event/burger-beverage/2028-01-10/
LOCATION:The Pickled Onion\, 355 rantoul st\, Beverly\, 01915\, United States
ATTACH;FMTTYPE=image/jpeg:https://bevmain.org/wp-content/uploads/2026/04/IMG_7283.jpeg
GEO:42.5522933;-70.8824043
X-APPLE-STRUCTURED-LOCATION;VALUE=URI;X-ADDRESS=The Pickled Onion 355 rantoul st Beverly 01915 United States;X-APPLE-RADIUS=500;X-TITLE=355 rantoul st:geo:-70.8824043,42.5522933
END:VEVENT
BEGIN:VEVENT
DTSTART;TZID=America/New_York:20280111T210000
DTEND;TZID=America/New_York:20280112T010000
DTSTAMP:20260423T001531
CREATED:20230307T192014Z
LAST-MODIFIED:20230307T193159Z
UID:10015844-1831237200-1831251600@bevmain.org
SUMMARY:Trivia Tuesday
DESCRIPTION:Tuesday night trivia at the Pickled Onion\n355 Rantoul Street
URL:https://bevmain.org/event/trivia-tuesday-3/2028-01-11/
CATEGORIES:Beer/Wine,Free,Music/Concert,Nightlife
ATTACH;FMTTYPE=image/jpeg:https://bevmain.org/wp-content/uploads/2023/03/pickledoniontriviaUSE.jpg
END:VEVENT
BEGIN:VEVENT
DTSTART;TZID=America/New_York:20280117T140000
DTEND;TZID=America/New_York:20280117T210000
DTSTAMP:20260423T001531
CREATED:20260422T133258Z
LAST-MODIFIED:20260422T133258Z
UID:10039023-1831730400-1831755600@bevmain.org
SUMMARY:Burger & Beverage
DESCRIPTION:MONDAY BURGER NIGHT\nKick off the week at The Pickled Onion!\nEnjoy an 8oz cheeseburger & hand-cut fries with your choice of:\nMichelob Ultra\, Bud Light\, PBR\, or a non-alcoholic beverage\nNo need to cook — we’ve got you covered.
URL:https://bevmain.org/event/burger-beverage/2028-01-17/
LOCATION:The Pickled Onion\, 355 rantoul st\, Beverly\, 01915\, United States
ATTACH;FMTTYPE=image/jpeg:https://bevmain.org/wp-content/uploads/2026/04/IMG_7283.jpeg
GEO:42.5522933;-70.8824043
X-APPLE-STRUCTURED-LOCATION;VALUE=URI;X-ADDRESS=The Pickled Onion 355 rantoul st Beverly 01915 United States;X-APPLE-RADIUS=500;X-TITLE=355 rantoul st:geo:-70.8824043,42.5522933
END:VEVENT
BEGIN:VEVENT
DTSTART;TZID=America/New_York:20280124T140000
DTEND;TZID=America/New_York:20280124T210000
DTSTAMP:20260423T001531
CREATED:20260422T133258Z
LAST-MODIFIED:20260422T133258Z
UID:10039024-1832335200-1832360400@bevmain.org
SUMMARY:Burger & Beverage
DESCRIPTION:MONDAY BURGER NIGHT\nKick off the week at The Pickled Onion!\nEnjoy an 8oz cheeseburger & hand-cut fries with your choice of:\nMichelob Ultra\, Bud Light\, PBR\, or a non-alcoholic beverage\nNo need to cook — we’ve got you covered.
URL:https://bevmain.org/event/burger-beverage/2028-01-24/
LOCATION:The Pickled Onion\, 355 rantoul st\, Beverly\, 01915\, United States
ATTACH;FMTTYPE=image/jpeg:https://bevmain.org/wp-content/uploads/2026/04/IMG_7283.jpeg
GEO:42.5522933;-70.8824043
X-APPLE-STRUCTURED-LOCATION;VALUE=URI;X-ADDRESS=The Pickled Onion 355 rantoul st Beverly 01915 United States;X-APPLE-RADIUS=500;X-TITLE=355 rantoul st:geo:-70.8824043,42.5522933
END:VEVENT
BEGIN:VEVENT
DTSTART;TZID=America/New_York:20280131T140000
DTEND;TZID=America/New_York:20280131T210000
DTSTAMP:20260423T001531
CREATED:20260422T133258Z
LAST-MODIFIED:20260422T133258Z
UID:10039025-1832940000-1832965200@bevmain.org
SUMMARY:Burger & Beverage
DESCRIPTION:MONDAY BURGER NIGHT\nKick off the week at The Pickled Onion!\nEnjoy an 8oz cheeseburger & hand-cut fries with your choice of:\nMichelob Ultra\, Bud Light\, PBR\, or a non-alcoholic beverage\nNo need to cook — we’ve got you covered.
URL:https://bevmain.org/event/burger-beverage/2028-01-31/
LOCATION:The Pickled Onion\, 355 rantoul st\, Beverly\, 01915\, United States
ATTACH;FMTTYPE=image/jpeg:https://bevmain.org/wp-content/uploads/2026/04/IMG_7283.jpeg
GEO:42.5522933;-70.8824043
X-APPLE-STRUCTURED-LOCATION;VALUE=URI;X-ADDRESS=The Pickled Onion 355 rantoul st Beverly 01915 United States;X-APPLE-RADIUS=500;X-TITLE=355 rantoul st:geo:-70.8824043,42.5522933
END:VEVENT
BEGIN:VEVENT
DTSTART;TZID=America/New_York:20280207T140000
DTEND;TZID=America/New_York:20280207T210000
DTSTAMP:20260423T001531
CREATED:20260422T133258Z
LAST-MODIFIED:20260422T133258Z
UID:10039026-1833544800-1833570000@bevmain.org
SUMMARY:Burger & Beverage
DESCRIPTION:MONDAY BURGER NIGHT\nKick off the week at The Pickled Onion!\nEnjoy an 8oz cheeseburger & hand-cut fries with your choice of:\nMichelob Ultra\, Bud Light\, PBR\, or a non-alcoholic beverage\nNo need to cook — we’ve got you covered.
URL:https://bevmain.org/event/burger-beverage/2028-02-07/
LOCATION:The Pickled Onion\, 355 rantoul st\, Beverly\, 01915\, United States
ATTACH;FMTTYPE=image/jpeg:https://bevmain.org/wp-content/uploads/2026/04/IMG_7283.jpeg
GEO:42.5522933;-70.8824043
X-APPLE-STRUCTURED-LOCATION;VALUE=URI;X-ADDRESS=The Pickled Onion 355 rantoul st Beverly 01915 United States;X-APPLE-RADIUS=500;X-TITLE=355 rantoul st:geo:-70.8824043,42.5522933
END:VEVENT
BEGIN:VEVENT
DTSTART;TZID=America/New_York:20280214T140000
DTEND;TZID=America/New_York:20280214T210000
DTSTAMP:20260423T001531
CREATED:20260422T133258Z
LAST-MODIFIED:20260422T133258Z
UID:10039027-1834149600-1834174800@bevmain.org
SUMMARY:Burger & Beverage
DESCRIPTION:MONDAY BURGER NIGHT\nKick off the week at The Pickled Onion!\nEnjoy an 8oz cheeseburger & hand-cut fries with your choice of:\nMichelob Ultra\, Bud Light\, PBR\, or a non-alcoholic beverage\nNo need to cook — we’ve got you covered.
URL:https://bevmain.org/event/burger-beverage/2028-02-14/
LOCATION:The Pickled Onion\, 355 rantoul st\, Beverly\, 01915\, United States
ATTACH;FMTTYPE=image/jpeg:https://bevmain.org/wp-content/uploads/2026/04/IMG_7283.jpeg
GEO:42.5522933;-70.8824043
X-APPLE-STRUCTURED-LOCATION;VALUE=URI;X-ADDRESS=The Pickled Onion 355 rantoul st Beverly 01915 United States;X-APPLE-RADIUS=500;X-TITLE=355 rantoul st:geo:-70.8824043,42.5522933
END:VEVENT
BEGIN:VEVENT
DTSTART;TZID=America/New_York:20280221T140000
DTEND;TZID=America/New_York:20280221T210000
DTSTAMP:20260423T001531
CREATED:20260422T133258Z
LAST-MODIFIED:20260422T133258Z
UID:10039028-1834754400-1834779600@bevmain.org
SUMMARY:Burger & Beverage
DESCRIPTION:MONDAY BURGER NIGHT\nKick off the week at The Pickled Onion!\nEnjoy an 8oz cheeseburger & hand-cut fries with your choice of:\nMichelob Ultra\, Bud Light\, PBR\, or a non-alcoholic beverage\nNo need to cook — we’ve got you covered.
URL:https://bevmain.org/event/burger-beverage/2028-02-21/
LOCATION:The Pickled Onion\, 355 rantoul st\, Beverly\, 01915\, United States
ATTACH;FMTTYPE=image/jpeg:https://bevmain.org/wp-content/uploads/2026/04/IMG_7283.jpeg
GEO:42.5522933;-70.8824043
X-APPLE-STRUCTURED-LOCATION;VALUE=URI;X-ADDRESS=The Pickled Onion 355 rantoul st Beverly 01915 United States;X-APPLE-RADIUS=500;X-TITLE=355 rantoul st:geo:-70.8824043,42.5522933
END:VEVENT
END:VCALENDAR