BEGIN:VCALENDAR
VERSION:2.0
PRODID:-//Beverly Main Streets - ECPv6.15.20//NONSGML v1.0//EN
CALSCALE:GREGORIAN
METHOD:PUBLISH
X-WR-CALNAME:Beverly Main Streets
X-ORIGINAL-URL:https://bevmain.org
X-WR-CALDESC:Events for Beverly Main Streets
REFRESH-INTERVAL;VALUE=DURATION:PT1H
X-Robots-Tag:noindex
X-PUBLISHED-TTL:PT1H
BEGIN:VTIMEZONE
TZID:America/New_York
BEGIN:DAYLIGHT
TZOFFSETFROM:-0500
TZOFFSETTO:-0400
TZNAME:EDT
DTSTART:20270314T070000
END:DAYLIGHT
BEGIN:STANDARD
TZOFFSETFROM:-0400
TZOFFSETTO:-0500
TZNAME:EST
DTSTART:20271107T060000
END:STANDARD
BEGIN:DAYLIGHT
TZOFFSETFROM:-0500
TZOFFSETTO:-0400
TZNAME:EDT
DTSTART:20280312T070000
END:DAYLIGHT
BEGIN:STANDARD
TZOFFSETFROM:-0400
TZOFFSETTO:-0500
TZNAME:EST
DTSTART:20281105T060000
END:STANDARD
BEGIN:DAYLIGHT
TZOFFSETFROM:-0500
TZOFFSETTO:-0400
TZNAME:EDT
DTSTART:20290311T070000
END:DAYLIGHT
BEGIN:STANDARD
TZOFFSETFROM:-0400
TZOFFSETTO:-0500
TZNAME:EST
DTSTART:20291104T060000
END:STANDARD
END:VTIMEZONE
BEGIN:VEVENT
DTSTART;TZID=America/New_York:20280410T140000
DTEND;TZID=America/New_York:20280410T210000
DTSTAMP:20260423T032752
CREATED:20260422T133258Z
LAST-MODIFIED:20260422T133258Z
UID:10039035-1838988000-1839013200@bevmain.org
SUMMARY:Burger & Beverage
DESCRIPTION:MONDAY BURGER NIGHT\nKick off the week at The Pickled Onion!\nEnjoy an 8oz cheeseburger & hand-cut fries with your choice of:\nMichelob Ultra\, Bud Light\, PBR\, or a non-alcoholic beverage\nNo need to cook — we’ve got you covered.
URL:https://bevmain.org/event/burger-beverage/2028-04-10/
LOCATION:The Pickled Onion\, 355 rantoul st\, Beverly\, 01915\, United States
ATTACH;FMTTYPE=image/jpeg:https://bevmain.org/wp-content/uploads/2026/04/IMG_7283.jpeg
GEO:42.5522933;-70.8824043
X-APPLE-STRUCTURED-LOCATION;VALUE=URI;X-ADDRESS=The Pickled Onion 355 rantoul st Beverly 01915 United States;X-APPLE-RADIUS=500;X-TITLE=355 rantoul st:geo:-70.8824043,42.5522933
END:VEVENT
BEGIN:VEVENT
DTSTART;TZID=America/New_York:20280417T140000
DTEND;TZID=America/New_York:20280417T210000
DTSTAMP:20260423T032752
CREATED:20260422T133258Z
LAST-MODIFIED:20260422T133258Z
UID:10039036-1839592800-1839618000@bevmain.org
SUMMARY:Burger & Beverage
DESCRIPTION:MONDAY BURGER NIGHT\nKick off the week at The Pickled Onion!\nEnjoy an 8oz cheeseburger & hand-cut fries with your choice of:\nMichelob Ultra\, Bud Light\, PBR\, or a non-alcoholic beverage\nNo need to cook — we’ve got you covered.
URL:https://bevmain.org/event/burger-beverage/2028-04-17/
LOCATION:The Pickled Onion\, 355 rantoul st\, Beverly\, 01915\, United States
ATTACH;FMTTYPE=image/jpeg:https://bevmain.org/wp-content/uploads/2026/04/IMG_7283.jpeg
GEO:42.5522933;-70.8824043
X-APPLE-STRUCTURED-LOCATION;VALUE=URI;X-ADDRESS=The Pickled Onion 355 rantoul st Beverly 01915 United States;X-APPLE-RADIUS=500;X-TITLE=355 rantoul st:geo:-70.8824043,42.5522933
END:VEVENT
BEGIN:VEVENT
DTSTART;TZID=America/New_York:20280424T140000
DTEND;TZID=America/New_York:20280424T210000
DTSTAMP:20260423T032752
CREATED:20260422T133258Z
LAST-MODIFIED:20260422T133258Z
UID:10039037-1840197600-1840222800@bevmain.org
SUMMARY:Burger & Beverage
DESCRIPTION:MONDAY BURGER NIGHT\nKick off the week at The Pickled Onion!\nEnjoy an 8oz cheeseburger & hand-cut fries with your choice of:\nMichelob Ultra\, Bud Light\, PBR\, or a non-alcoholic beverage\nNo need to cook — we’ve got you covered.
URL:https://bevmain.org/event/burger-beverage/2028-04-24/
LOCATION:The Pickled Onion\, 355 rantoul st\, Beverly\, 01915\, United States
ATTACH;FMTTYPE=image/jpeg:https://bevmain.org/wp-content/uploads/2026/04/IMG_7283.jpeg
GEO:42.5522933;-70.8824043
X-APPLE-STRUCTURED-LOCATION;VALUE=URI;X-ADDRESS=The Pickled Onion 355 rantoul st Beverly 01915 United States;X-APPLE-RADIUS=500;X-TITLE=355 rantoul st:geo:-70.8824043,42.5522933
END:VEVENT
BEGIN:VEVENT
DTSTART;TZID=America/New_York:20280501T140000
DTEND;TZID=America/New_York:20280501T210000
DTSTAMP:20260423T032752
CREATED:20260422T133258Z
LAST-MODIFIED:20260422T133258Z
UID:10039038-1840802400-1840827600@bevmain.org
SUMMARY:Burger & Beverage
DESCRIPTION:MONDAY BURGER NIGHT\nKick off the week at The Pickled Onion!\nEnjoy an 8oz cheeseburger & hand-cut fries with your choice of:\nMichelob Ultra\, Bud Light\, PBR\, or a non-alcoholic beverage\nNo need to cook — we’ve got you covered.
URL:https://bevmain.org/event/burger-beverage/2028-05-01/
LOCATION:The Pickled Onion\, 355 rantoul st\, Beverly\, 01915\, United States
ATTACH;FMTTYPE=image/jpeg:https://bevmain.org/wp-content/uploads/2026/04/IMG_7283.jpeg
GEO:42.5522933;-70.8824043
X-APPLE-STRUCTURED-LOCATION;VALUE=URI;X-ADDRESS=The Pickled Onion 355 rantoul st Beverly 01915 United States;X-APPLE-RADIUS=500;X-TITLE=355 rantoul st:geo:-70.8824043,42.5522933
END:VEVENT
BEGIN:VEVENT
DTSTART;TZID=America/New_York:20280508T140000
DTEND;TZID=America/New_York:20280508T210000
DTSTAMP:20260423T032752
CREATED:20260422T133258Z
LAST-MODIFIED:20260422T133258Z
UID:10039039-1841407200-1841432400@bevmain.org
SUMMARY:Burger & Beverage
DESCRIPTION:MONDAY BURGER NIGHT\nKick off the week at The Pickled Onion!\nEnjoy an 8oz cheeseburger & hand-cut fries with your choice of:\nMichelob Ultra\, Bud Light\, PBR\, or a non-alcoholic beverage\nNo need to cook — we’ve got you covered.
URL:https://bevmain.org/event/burger-beverage/2028-05-08/
LOCATION:The Pickled Onion\, 355 rantoul st\, Beverly\, 01915\, United States
ATTACH;FMTTYPE=image/jpeg:https://bevmain.org/wp-content/uploads/2026/04/IMG_7283.jpeg
GEO:42.5522933;-70.8824043
X-APPLE-STRUCTURED-LOCATION;VALUE=URI;X-ADDRESS=The Pickled Onion 355 rantoul st Beverly 01915 United States;X-APPLE-RADIUS=500;X-TITLE=355 rantoul st:geo:-70.8824043,42.5522933
END:VEVENT
BEGIN:VEVENT
DTSTART;TZID=America/New_York:20280515T140000
DTEND;TZID=America/New_York:20280515T210000
DTSTAMP:20260423T032752
CREATED:20260422T133258Z
LAST-MODIFIED:20260422T133258Z
UID:10039040-1842012000-1842037200@bevmain.org
SUMMARY:Burger & Beverage
DESCRIPTION:MONDAY BURGER NIGHT\nKick off the week at The Pickled Onion!\nEnjoy an 8oz cheeseburger & hand-cut fries with your choice of:\nMichelob Ultra\, Bud Light\, PBR\, or a non-alcoholic beverage\nNo need to cook — we’ve got you covered.
URL:https://bevmain.org/event/burger-beverage/2028-05-15/
LOCATION:The Pickled Onion\, 355 rantoul st\, Beverly\, 01915\, United States
ATTACH;FMTTYPE=image/jpeg:https://bevmain.org/wp-content/uploads/2026/04/IMG_7283.jpeg
GEO:42.5522933;-70.8824043
X-APPLE-STRUCTURED-LOCATION;VALUE=URI;X-ADDRESS=The Pickled Onion 355 rantoul st Beverly 01915 United States;X-APPLE-RADIUS=500;X-TITLE=355 rantoul st:geo:-70.8824043,42.5522933
END:VEVENT
BEGIN:VEVENT
DTSTART;TZID=America/New_York:20280522T140000
DTEND;TZID=America/New_York:20280522T210000
DTSTAMP:20260423T032752
CREATED:20260422T133258Z
LAST-MODIFIED:20260422T133258Z
UID:10039041-1842616800-1842642000@bevmain.org
SUMMARY:Burger & Beverage
DESCRIPTION:MONDAY BURGER NIGHT\nKick off the week at The Pickled Onion!\nEnjoy an 8oz cheeseburger & hand-cut fries with your choice of:\nMichelob Ultra\, Bud Light\, PBR\, or a non-alcoholic beverage\nNo need to cook — we’ve got you covered.
URL:https://bevmain.org/event/burger-beverage/2028-05-22/
LOCATION:The Pickled Onion\, 355 rantoul st\, Beverly\, 01915\, United States
ATTACH;FMTTYPE=image/jpeg:https://bevmain.org/wp-content/uploads/2026/04/IMG_7283.jpeg
GEO:42.5522933;-70.8824043
X-APPLE-STRUCTURED-LOCATION;VALUE=URI;X-ADDRESS=The Pickled Onion 355 rantoul st Beverly 01915 United States;X-APPLE-RADIUS=500;X-TITLE=355 rantoul st:geo:-70.8824043,42.5522933
END:VEVENT
BEGIN:VEVENT
DTSTART;TZID=America/New_York:20280529T140000
DTEND;TZID=America/New_York:20280529T210000
DTSTAMP:20260423T032752
CREATED:20260422T133258Z
LAST-MODIFIED:20260422T133258Z
UID:10039042-1843221600-1843246800@bevmain.org
SUMMARY:Burger & Beverage
DESCRIPTION:MONDAY BURGER NIGHT\nKick off the week at The Pickled Onion!\nEnjoy an 8oz cheeseburger & hand-cut fries with your choice of:\nMichelob Ultra\, Bud Light\, PBR\, or a non-alcoholic beverage\nNo need to cook — we’ve got you covered.
URL:https://bevmain.org/event/burger-beverage/2028-05-29/
LOCATION:The Pickled Onion\, 355 rantoul st\, Beverly\, 01915\, United States
ATTACH;FMTTYPE=image/jpeg:https://bevmain.org/wp-content/uploads/2026/04/IMG_7283.jpeg
GEO:42.5522933;-70.8824043
X-APPLE-STRUCTURED-LOCATION;VALUE=URI;X-ADDRESS=The Pickled Onion 355 rantoul st Beverly 01915 United States;X-APPLE-RADIUS=500;X-TITLE=355 rantoul st:geo:-70.8824043,42.5522933
END:VEVENT
BEGIN:VEVENT
DTSTART;TZID=America/New_York:20280605T140000
DTEND;TZID=America/New_York:20280605T210000
DTSTAMP:20260423T032752
CREATED:20260422T133258Z
LAST-MODIFIED:20260422T133258Z
UID:10039043-1843826400-1843851600@bevmain.org
SUMMARY:Burger & Beverage
DESCRIPTION:MONDAY BURGER NIGHT\nKick off the week at The Pickled Onion!\nEnjoy an 8oz cheeseburger & hand-cut fries with your choice of:\nMichelob Ultra\, Bud Light\, PBR\, or a non-alcoholic beverage\nNo need to cook — we’ve got you covered.
URL:https://bevmain.org/event/burger-beverage/2028-06-05/
LOCATION:The Pickled Onion\, 355 rantoul st\, Beverly\, 01915\, United States
ATTACH;FMTTYPE=image/jpeg:https://bevmain.org/wp-content/uploads/2026/04/IMG_7283.jpeg
GEO:42.5522933;-70.8824043
X-APPLE-STRUCTURED-LOCATION;VALUE=URI;X-ADDRESS=The Pickled Onion 355 rantoul st Beverly 01915 United States;X-APPLE-RADIUS=500;X-TITLE=355 rantoul st:geo:-70.8824043,42.5522933
END:VEVENT
BEGIN:VEVENT
DTSTART;TZID=America/New_York:20280612T140000
DTEND;TZID=America/New_York:20280612T210000
DTSTAMP:20260423T032752
CREATED:20260422T133258Z
LAST-MODIFIED:20260422T133258Z
UID:10039044-1844431200-1844456400@bevmain.org
SUMMARY:Burger & Beverage
DESCRIPTION:MONDAY BURGER NIGHT\nKick off the week at The Pickled Onion!\nEnjoy an 8oz cheeseburger & hand-cut fries with your choice of:\nMichelob Ultra\, Bud Light\, PBR\, or a non-alcoholic beverage\nNo need to cook — we’ve got you covered.
URL:https://bevmain.org/event/burger-beverage/2028-06-12/
LOCATION:The Pickled Onion\, 355 rantoul st\, Beverly\, 01915\, United States
ATTACH;FMTTYPE=image/jpeg:https://bevmain.org/wp-content/uploads/2026/04/IMG_7283.jpeg
GEO:42.5522933;-70.8824043
X-APPLE-STRUCTURED-LOCATION;VALUE=URI;X-ADDRESS=The Pickled Onion 355 rantoul st Beverly 01915 United States;X-APPLE-RADIUS=500;X-TITLE=355 rantoul st:geo:-70.8824043,42.5522933
END:VEVENT
BEGIN:VEVENT
DTSTART;TZID=America/New_York:20280619T140000
DTEND;TZID=America/New_York:20280619T210000
DTSTAMP:20260423T032752
CREATED:20260422T133258Z
LAST-MODIFIED:20260422T133258Z
UID:10039045-1845036000-1845061200@bevmain.org
SUMMARY:Burger & Beverage
DESCRIPTION:MONDAY BURGER NIGHT\nKick off the week at The Pickled Onion!\nEnjoy an 8oz cheeseburger & hand-cut fries with your choice of:\nMichelob Ultra\, Bud Light\, PBR\, or a non-alcoholic beverage\nNo need to cook — we’ve got you covered.
URL:https://bevmain.org/event/burger-beverage/2028-06-19/
LOCATION:The Pickled Onion\, 355 rantoul st\, Beverly\, 01915\, United States
ATTACH;FMTTYPE=image/jpeg:https://bevmain.org/wp-content/uploads/2026/04/IMG_7283.jpeg
GEO:42.5522933;-70.8824043
X-APPLE-STRUCTURED-LOCATION;VALUE=URI;X-ADDRESS=The Pickled Onion 355 rantoul st Beverly 01915 United States;X-APPLE-RADIUS=500;X-TITLE=355 rantoul st:geo:-70.8824043,42.5522933
END:VEVENT
BEGIN:VEVENT
DTSTART;TZID=America/New_York:20280626T140000
DTEND;TZID=America/New_York:20280626T210000
DTSTAMP:20260423T032752
CREATED:20260422T133258Z
LAST-MODIFIED:20260422T133258Z
UID:10039046-1845640800-1845666000@bevmain.org
SUMMARY:Burger & Beverage
DESCRIPTION:MONDAY BURGER NIGHT\nKick off the week at The Pickled Onion!\nEnjoy an 8oz cheeseburger & hand-cut fries with your choice of:\nMichelob Ultra\, Bud Light\, PBR\, or a non-alcoholic beverage\nNo need to cook — we’ve got you covered.
URL:https://bevmain.org/event/burger-beverage/2028-06-26/
LOCATION:The Pickled Onion\, 355 rantoul st\, Beverly\, 01915\, United States
ATTACH;FMTTYPE=image/jpeg:https://bevmain.org/wp-content/uploads/2026/04/IMG_7283.jpeg
GEO:42.5522933;-70.8824043
X-APPLE-STRUCTURED-LOCATION;VALUE=URI;X-ADDRESS=The Pickled Onion 355 rantoul st Beverly 01915 United States;X-APPLE-RADIUS=500;X-TITLE=355 rantoul st:geo:-70.8824043,42.5522933
END:VEVENT
BEGIN:VEVENT
DTSTART;TZID=America/New_York:20280703T140000
DTEND;TZID=America/New_York:20280703T210000
DTSTAMP:20260423T032752
CREATED:20260422T133258Z
LAST-MODIFIED:20260422T133258Z
UID:10039047-1846245600-1846270800@bevmain.org
SUMMARY:Burger & Beverage
DESCRIPTION:MONDAY BURGER NIGHT\nKick off the week at The Pickled Onion!\nEnjoy an 8oz cheeseburger & hand-cut fries with your choice of:\nMichelob Ultra\, Bud Light\, PBR\, or a non-alcoholic beverage\nNo need to cook — we’ve got you covered.
URL:https://bevmain.org/event/burger-beverage/2028-07-03/
LOCATION:The Pickled Onion\, 355 rantoul st\, Beverly\, 01915\, United States
ATTACH;FMTTYPE=image/jpeg:https://bevmain.org/wp-content/uploads/2026/04/IMG_7283.jpeg
GEO:42.5522933;-70.8824043
X-APPLE-STRUCTURED-LOCATION;VALUE=URI;X-ADDRESS=The Pickled Onion 355 rantoul st Beverly 01915 United States;X-APPLE-RADIUS=500;X-TITLE=355 rantoul st:geo:-70.8824043,42.5522933
END:VEVENT
BEGIN:VEVENT
DTSTART;TZID=America/New_York:20280710T140000
DTEND;TZID=America/New_York:20280710T210000
DTSTAMP:20260423T032752
CREATED:20260422T133258Z
LAST-MODIFIED:20260422T133258Z
UID:10039048-1846850400-1846875600@bevmain.org
SUMMARY:Burger & Beverage
DESCRIPTION:MONDAY BURGER NIGHT\nKick off the week at The Pickled Onion!\nEnjoy an 8oz cheeseburger & hand-cut fries with your choice of:\nMichelob Ultra\, Bud Light\, PBR\, or a non-alcoholic beverage\nNo need to cook — we’ve got you covered.
URL:https://bevmain.org/event/burger-beverage/2028-07-10/
LOCATION:The Pickled Onion\, 355 rantoul st\, Beverly\, 01915\, United States
ATTACH;FMTTYPE=image/jpeg:https://bevmain.org/wp-content/uploads/2026/04/IMG_7283.jpeg
GEO:42.5522933;-70.8824043
X-APPLE-STRUCTURED-LOCATION;VALUE=URI;X-ADDRESS=The Pickled Onion 355 rantoul st Beverly 01915 United States;X-APPLE-RADIUS=500;X-TITLE=355 rantoul st:geo:-70.8824043,42.5522933
END:VEVENT
BEGIN:VEVENT
DTSTART;TZID=America/New_York:20280717T140000
DTEND;TZID=America/New_York:20280717T210000
DTSTAMP:20260423T032752
CREATED:20260422T133258Z
LAST-MODIFIED:20260422T133258Z
UID:10039049-1847455200-1847480400@bevmain.org
SUMMARY:Burger & Beverage
DESCRIPTION:MONDAY BURGER NIGHT\nKick off the week at The Pickled Onion!\nEnjoy an 8oz cheeseburger & hand-cut fries with your choice of:\nMichelob Ultra\, Bud Light\, PBR\, or a non-alcoholic beverage\nNo need to cook — we’ve got you covered.
URL:https://bevmain.org/event/burger-beverage/2028-07-17/
LOCATION:The Pickled Onion\, 355 rantoul st\, Beverly\, 01915\, United States
ATTACH;FMTTYPE=image/jpeg:https://bevmain.org/wp-content/uploads/2026/04/IMG_7283.jpeg
GEO:42.5522933;-70.8824043
X-APPLE-STRUCTURED-LOCATION;VALUE=URI;X-ADDRESS=The Pickled Onion 355 rantoul st Beverly 01915 United States;X-APPLE-RADIUS=500;X-TITLE=355 rantoul st:geo:-70.8824043,42.5522933
END:VEVENT
BEGIN:VEVENT
DTSTART;TZID=America/New_York:20280724T140000
DTEND;TZID=America/New_York:20280724T210000
DTSTAMP:20260423T032752
CREATED:20260422T133258Z
LAST-MODIFIED:20260422T133258Z
UID:10039050-1848060000-1848085200@bevmain.org
SUMMARY:Burger & Beverage
DESCRIPTION:MONDAY BURGER NIGHT\nKick off the week at The Pickled Onion!\nEnjoy an 8oz cheeseburger & hand-cut fries with your choice of:\nMichelob Ultra\, Bud Light\, PBR\, or a non-alcoholic beverage\nNo need to cook — we’ve got you covered.
URL:https://bevmain.org/event/burger-beverage/2028-07-24/
LOCATION:The Pickled Onion\, 355 rantoul st\, Beverly\, 01915\, United States
ATTACH;FMTTYPE=image/jpeg:https://bevmain.org/wp-content/uploads/2026/04/IMG_7283.jpeg
GEO:42.5522933;-70.8824043
X-APPLE-STRUCTURED-LOCATION;VALUE=URI;X-ADDRESS=The Pickled Onion 355 rantoul st Beverly 01915 United States;X-APPLE-RADIUS=500;X-TITLE=355 rantoul st:geo:-70.8824043,42.5522933
END:VEVENT
BEGIN:VEVENT
DTSTART;TZID=America/New_York:20280731T140000
DTEND;TZID=America/New_York:20280731T210000
DTSTAMP:20260423T032752
CREATED:20260422T133258Z
LAST-MODIFIED:20260422T133258Z
UID:10039051-1848664800-1848690000@bevmain.org
SUMMARY:Burger & Beverage
DESCRIPTION:MONDAY BURGER NIGHT\nKick off the week at The Pickled Onion!\nEnjoy an 8oz cheeseburger & hand-cut fries with your choice of:\nMichelob Ultra\, Bud Light\, PBR\, or a non-alcoholic beverage\nNo need to cook — we’ve got you covered.
URL:https://bevmain.org/event/burger-beverage/2028-07-31/
LOCATION:The Pickled Onion\, 355 rantoul st\, Beverly\, 01915\, United States
ATTACH;FMTTYPE=image/jpeg:https://bevmain.org/wp-content/uploads/2026/04/IMG_7283.jpeg
GEO:42.5522933;-70.8824043
X-APPLE-STRUCTURED-LOCATION;VALUE=URI;X-ADDRESS=The Pickled Onion 355 rantoul st Beverly 01915 United States;X-APPLE-RADIUS=500;X-TITLE=355 rantoul st:geo:-70.8824043,42.5522933
END:VEVENT
BEGIN:VEVENT
DTSTART;TZID=America/New_York:20280807T140000
DTEND;TZID=America/New_York:20280807T210000
DTSTAMP:20260423T032752
CREATED:20260422T133258Z
LAST-MODIFIED:20260422T133258Z
UID:10039052-1849269600-1849294800@bevmain.org
SUMMARY:Burger & Beverage
DESCRIPTION:MONDAY BURGER NIGHT\nKick off the week at The Pickled Onion!\nEnjoy an 8oz cheeseburger & hand-cut fries with your choice of:\nMichelob Ultra\, Bud Light\, PBR\, or a non-alcoholic beverage\nNo need to cook — we’ve got you covered.
URL:https://bevmain.org/event/burger-beverage/2028-08-07/
LOCATION:The Pickled Onion\, 355 rantoul st\, Beverly\, 01915\, United States
ATTACH;FMTTYPE=image/jpeg:https://bevmain.org/wp-content/uploads/2026/04/IMG_7283.jpeg
GEO:42.5522933;-70.8824043
X-APPLE-STRUCTURED-LOCATION;VALUE=URI;X-ADDRESS=The Pickled Onion 355 rantoul st Beverly 01915 United States;X-APPLE-RADIUS=500;X-TITLE=355 rantoul st:geo:-70.8824043,42.5522933
END:VEVENT
BEGIN:VEVENT
DTSTART;TZID=America/New_York:20280814T140000
DTEND;TZID=America/New_York:20280814T210000
DTSTAMP:20260423T032752
CREATED:20260422T133258Z
LAST-MODIFIED:20260422T133258Z
UID:10039053-1849874400-1849899600@bevmain.org
SUMMARY:Burger & Beverage
DESCRIPTION:MONDAY BURGER NIGHT\nKick off the week at The Pickled Onion!\nEnjoy an 8oz cheeseburger & hand-cut fries with your choice of:\nMichelob Ultra\, Bud Light\, PBR\, or a non-alcoholic beverage\nNo need to cook — we’ve got you covered.
URL:https://bevmain.org/event/burger-beverage/2028-08-14/
LOCATION:The Pickled Onion\, 355 rantoul st\, Beverly\, 01915\, United States
ATTACH;FMTTYPE=image/jpeg:https://bevmain.org/wp-content/uploads/2026/04/IMG_7283.jpeg
GEO:42.5522933;-70.8824043
X-APPLE-STRUCTURED-LOCATION;VALUE=URI;X-ADDRESS=The Pickled Onion 355 rantoul st Beverly 01915 United States;X-APPLE-RADIUS=500;X-TITLE=355 rantoul st:geo:-70.8824043,42.5522933
END:VEVENT
BEGIN:VEVENT
DTSTART;TZID=America/New_York:20280821T140000
DTEND;TZID=America/New_York:20280821T210000
DTSTAMP:20260423T032752
CREATED:20260422T133258Z
LAST-MODIFIED:20260422T133258Z
UID:10039054-1850479200-1850504400@bevmain.org
SUMMARY:Burger & Beverage
DESCRIPTION:MONDAY BURGER NIGHT\nKick off the week at The Pickled Onion!\nEnjoy an 8oz cheeseburger & hand-cut fries with your choice of:\nMichelob Ultra\, Bud Light\, PBR\, or a non-alcoholic beverage\nNo need to cook — we’ve got you covered.
URL:https://bevmain.org/event/burger-beverage/2028-08-21/
LOCATION:The Pickled Onion\, 355 rantoul st\, Beverly\, 01915\, United States
ATTACH;FMTTYPE=image/jpeg:https://bevmain.org/wp-content/uploads/2026/04/IMG_7283.jpeg
GEO:42.5522933;-70.8824043
X-APPLE-STRUCTURED-LOCATION;VALUE=URI;X-ADDRESS=The Pickled Onion 355 rantoul st Beverly 01915 United States;X-APPLE-RADIUS=500;X-TITLE=355 rantoul st:geo:-70.8824043,42.5522933
END:VEVENT
BEGIN:VEVENT
DTSTART;TZID=America/New_York:20280828T140000
DTEND;TZID=America/New_York:20280828T210000
DTSTAMP:20260423T032752
CREATED:20260422T133258Z
LAST-MODIFIED:20260422T133258Z
UID:10039055-1851084000-1851109200@bevmain.org
SUMMARY:Burger & Beverage
DESCRIPTION:MONDAY BURGER NIGHT\nKick off the week at The Pickled Onion!\nEnjoy an 8oz cheeseburger & hand-cut fries with your choice of:\nMichelob Ultra\, Bud Light\, PBR\, or a non-alcoholic beverage\nNo need to cook — we’ve got you covered.
URL:https://bevmain.org/event/burger-beverage/2028-08-28/
LOCATION:The Pickled Onion\, 355 rantoul st\, Beverly\, 01915\, United States
ATTACH;FMTTYPE=image/jpeg:https://bevmain.org/wp-content/uploads/2026/04/IMG_7283.jpeg
GEO:42.5522933;-70.8824043
X-APPLE-STRUCTURED-LOCATION;VALUE=URI;X-ADDRESS=The Pickled Onion 355 rantoul st Beverly 01915 United States;X-APPLE-RADIUS=500;X-TITLE=355 rantoul st:geo:-70.8824043,42.5522933
END:VEVENT
BEGIN:VEVENT
DTSTART;TZID=America/New_York:20280904T140000
DTEND;TZID=America/New_York:20280904T210000
DTSTAMP:20260423T032752
CREATED:20260422T133258Z
LAST-MODIFIED:20260422T133258Z
UID:10039056-1851688800-1851714000@bevmain.org
SUMMARY:Burger & Beverage
DESCRIPTION:MONDAY BURGER NIGHT\nKick off the week at The Pickled Onion!\nEnjoy an 8oz cheeseburger & hand-cut fries with your choice of:\nMichelob Ultra\, Bud Light\, PBR\, or a non-alcoholic beverage\nNo need to cook — we’ve got you covered.
URL:https://bevmain.org/event/burger-beverage/2028-09-04/
LOCATION:The Pickled Onion\, 355 rantoul st\, Beverly\, 01915\, United States
ATTACH;FMTTYPE=image/jpeg:https://bevmain.org/wp-content/uploads/2026/04/IMG_7283.jpeg
GEO:42.5522933;-70.8824043
X-APPLE-STRUCTURED-LOCATION;VALUE=URI;X-ADDRESS=The Pickled Onion 355 rantoul st Beverly 01915 United States;X-APPLE-RADIUS=500;X-TITLE=355 rantoul st:geo:-70.8824043,42.5522933
END:VEVENT
BEGIN:VEVENT
DTSTART;TZID=America/New_York:20280911T140000
DTEND;TZID=America/New_York:20280911T210000
DTSTAMP:20260423T032752
CREATED:20260422T133258Z
LAST-MODIFIED:20260422T133258Z
UID:10039057-1852293600-1852318800@bevmain.org
SUMMARY:Burger & Beverage
DESCRIPTION:MONDAY BURGER NIGHT\nKick off the week at The Pickled Onion!\nEnjoy an 8oz cheeseburger & hand-cut fries with your choice of:\nMichelob Ultra\, Bud Light\, PBR\, or a non-alcoholic beverage\nNo need to cook — we’ve got you covered.
URL:https://bevmain.org/event/burger-beverage/2028-09-11/
LOCATION:The Pickled Onion\, 355 rantoul st\, Beverly\, 01915\, United States
ATTACH;FMTTYPE=image/jpeg:https://bevmain.org/wp-content/uploads/2026/04/IMG_7283.jpeg
GEO:42.5522933;-70.8824043
X-APPLE-STRUCTURED-LOCATION;VALUE=URI;X-ADDRESS=The Pickled Onion 355 rantoul st Beverly 01915 United States;X-APPLE-RADIUS=500;X-TITLE=355 rantoul st:geo:-70.8824043,42.5522933
END:VEVENT
BEGIN:VEVENT
DTSTART;TZID=America/New_York:20280918T140000
DTEND;TZID=America/New_York:20280918T210000
DTSTAMP:20260423T032752
CREATED:20260422T133258Z
LAST-MODIFIED:20260422T133258Z
UID:10039058-1852898400-1852923600@bevmain.org
SUMMARY:Burger & Beverage
DESCRIPTION:MONDAY BURGER NIGHT\nKick off the week at The Pickled Onion!\nEnjoy an 8oz cheeseburger & hand-cut fries with your choice of:\nMichelob Ultra\, Bud Light\, PBR\, or a non-alcoholic beverage\nNo need to cook — we’ve got you covered.
URL:https://bevmain.org/event/burger-beverage/2028-09-18/
LOCATION:The Pickled Onion\, 355 rantoul st\, Beverly\, 01915\, United States
ATTACH;FMTTYPE=image/jpeg:https://bevmain.org/wp-content/uploads/2026/04/IMG_7283.jpeg
GEO:42.5522933;-70.8824043
X-APPLE-STRUCTURED-LOCATION;VALUE=URI;X-ADDRESS=The Pickled Onion 355 rantoul st Beverly 01915 United States;X-APPLE-RADIUS=500;X-TITLE=355 rantoul st:geo:-70.8824043,42.5522933
END:VEVENT
BEGIN:VEVENT
DTSTART;TZID=America/New_York:20280925T140000
DTEND;TZID=America/New_York:20280925T210000
DTSTAMP:20260423T032752
CREATED:20260422T133258Z
LAST-MODIFIED:20260422T133258Z
UID:10039059-1853503200-1853528400@bevmain.org
SUMMARY:Burger & Beverage
DESCRIPTION:MONDAY BURGER NIGHT\nKick off the week at The Pickled Onion!\nEnjoy an 8oz cheeseburger & hand-cut fries with your choice of:\nMichelob Ultra\, Bud Light\, PBR\, or a non-alcoholic beverage\nNo need to cook — we’ve got you covered.
URL:https://bevmain.org/event/burger-beverage/2028-09-25/
LOCATION:The Pickled Onion\, 355 rantoul st\, Beverly\, 01915\, United States
ATTACH;FMTTYPE=image/jpeg:https://bevmain.org/wp-content/uploads/2026/04/IMG_7283.jpeg
GEO:42.5522933;-70.8824043
X-APPLE-STRUCTURED-LOCATION;VALUE=URI;X-ADDRESS=The Pickled Onion 355 rantoul st Beverly 01915 United States;X-APPLE-RADIUS=500;X-TITLE=355 rantoul st:geo:-70.8824043,42.5522933
END:VEVENT
BEGIN:VEVENT
DTSTART;TZID=America/New_York:20281002T140000
DTEND;TZID=America/New_York:20281002T210000
DTSTAMP:20260423T032752
CREATED:20260422T133258Z
LAST-MODIFIED:20260422T133258Z
UID:10039060-1854108000-1854133200@bevmain.org
SUMMARY:Burger & Beverage
DESCRIPTION:MONDAY BURGER NIGHT\nKick off the week at The Pickled Onion!\nEnjoy an 8oz cheeseburger & hand-cut fries with your choice of:\nMichelob Ultra\, Bud Light\, PBR\, or a non-alcoholic beverage\nNo need to cook — we’ve got you covered.
URL:https://bevmain.org/event/burger-beverage/2028-10-02/
LOCATION:The Pickled Onion\, 355 rantoul st\, Beverly\, 01915\, United States
ATTACH;FMTTYPE=image/jpeg:https://bevmain.org/wp-content/uploads/2026/04/IMG_7283.jpeg
GEO:42.5522933;-70.8824043
X-APPLE-STRUCTURED-LOCATION;VALUE=URI;X-ADDRESS=The Pickled Onion 355 rantoul st Beverly 01915 United States;X-APPLE-RADIUS=500;X-TITLE=355 rantoul st:geo:-70.8824043,42.5522933
END:VEVENT
BEGIN:VEVENT
DTSTART;TZID=America/New_York:20281009T140000
DTEND;TZID=America/New_York:20281009T210000
DTSTAMP:20260423T032752
CREATED:20260422T133258Z
LAST-MODIFIED:20260422T133258Z
UID:10039061-1854712800-1854738000@bevmain.org
SUMMARY:Burger & Beverage
DESCRIPTION:MONDAY BURGER NIGHT\nKick off the week at The Pickled Onion!\nEnjoy an 8oz cheeseburger & hand-cut fries with your choice of:\nMichelob Ultra\, Bud Light\, PBR\, or a non-alcoholic beverage\nNo need to cook — we’ve got you covered.
URL:https://bevmain.org/event/burger-beverage/2028-10-09/
LOCATION:The Pickled Onion\, 355 rantoul st\, Beverly\, 01915\, United States
ATTACH;FMTTYPE=image/jpeg:https://bevmain.org/wp-content/uploads/2026/04/IMG_7283.jpeg
GEO:42.5522933;-70.8824043
X-APPLE-STRUCTURED-LOCATION;VALUE=URI;X-ADDRESS=The Pickled Onion 355 rantoul st Beverly 01915 United States;X-APPLE-RADIUS=500;X-TITLE=355 rantoul st:geo:-70.8824043,42.5522933
END:VEVENT
BEGIN:VEVENT
DTSTART;TZID=America/New_York:20281016T140000
DTEND;TZID=America/New_York:20281016T210000
DTSTAMP:20260423T032752
CREATED:20260422T133258Z
LAST-MODIFIED:20260422T133258Z
UID:10039062-1855317600-1855342800@bevmain.org
SUMMARY:Burger & Beverage
DESCRIPTION:MONDAY BURGER NIGHT\nKick off the week at The Pickled Onion!\nEnjoy an 8oz cheeseburger & hand-cut fries with your choice of:\nMichelob Ultra\, Bud Light\, PBR\, or a non-alcoholic beverage\nNo need to cook — we’ve got you covered.
URL:https://bevmain.org/event/burger-beverage/2028-10-16/
LOCATION:The Pickled Onion\, 355 rantoul st\, Beverly\, 01915\, United States
ATTACH;FMTTYPE=image/jpeg:https://bevmain.org/wp-content/uploads/2026/04/IMG_7283.jpeg
GEO:42.5522933;-70.8824043
X-APPLE-STRUCTURED-LOCATION;VALUE=URI;X-ADDRESS=The Pickled Onion 355 rantoul st Beverly 01915 United States;X-APPLE-RADIUS=500;X-TITLE=355 rantoul st:geo:-70.8824043,42.5522933
END:VEVENT
BEGIN:VEVENT
DTSTART;TZID=America/New_York:20281023T140000
DTEND;TZID=America/New_York:20281023T210000
DTSTAMP:20260423T032752
CREATED:20260422T133258Z
LAST-MODIFIED:20260422T133258Z
UID:10039063-1855922400-1855947600@bevmain.org
SUMMARY:Burger & Beverage
DESCRIPTION:MONDAY BURGER NIGHT\nKick off the week at The Pickled Onion!\nEnjoy an 8oz cheeseburger & hand-cut fries with your choice of:\nMichelob Ultra\, Bud Light\, PBR\, or a non-alcoholic beverage\nNo need to cook — we’ve got you covered.
URL:https://bevmain.org/event/burger-beverage/2028-10-23/
LOCATION:The Pickled Onion\, 355 rantoul st\, Beverly\, 01915\, United States
ATTACH;FMTTYPE=image/jpeg:https://bevmain.org/wp-content/uploads/2026/04/IMG_7283.jpeg
GEO:42.5522933;-70.8824043
X-APPLE-STRUCTURED-LOCATION;VALUE=URI;X-ADDRESS=The Pickled Onion 355 rantoul st Beverly 01915 United States;X-APPLE-RADIUS=500;X-TITLE=355 rantoul st:geo:-70.8824043,42.5522933
END:VEVENT
BEGIN:VEVENT
DTSTART;TZID=America/New_York:20281030T140000
DTEND;TZID=America/New_York:20281030T210000
DTSTAMP:20260423T032752
CREATED:20260422T133258Z
LAST-MODIFIED:20260422T133258Z
UID:10039064-1856527200-1856552400@bevmain.org
SUMMARY:Burger & Beverage
DESCRIPTION:MONDAY BURGER NIGHT\nKick off the week at The Pickled Onion!\nEnjoy an 8oz cheeseburger & hand-cut fries with your choice of:\nMichelob Ultra\, Bud Light\, PBR\, or a non-alcoholic beverage\nNo need to cook — we’ve got you covered.
URL:https://bevmain.org/event/burger-beverage/2028-10-30/
LOCATION:The Pickled Onion\, 355 rantoul st\, Beverly\, 01915\, United States
ATTACH;FMTTYPE=image/jpeg:https://bevmain.org/wp-content/uploads/2026/04/IMG_7283.jpeg
GEO:42.5522933;-70.8824043
X-APPLE-STRUCTURED-LOCATION;VALUE=URI;X-ADDRESS=The Pickled Onion 355 rantoul st Beverly 01915 United States;X-APPLE-RADIUS=500;X-TITLE=355 rantoul st:geo:-70.8824043,42.5522933
END:VEVENT
END:VCALENDAR