BEGIN:VCALENDAR
VERSION:2.0
PRODID:-//Beverly Main Streets - ECPv6.15.20//NONSGML v1.0//EN
CALSCALE:GREGORIAN
METHOD:PUBLISH
X-ORIGINAL-URL:https://bevmain.org
X-WR-CALDESC:Events for Beverly Main Streets
REFRESH-INTERVAL;VALUE=DURATION:PT1H
X-Robots-Tag:noindex
X-PUBLISHED-TTL:PT1H
BEGIN:VTIMEZONE
TZID:America/New_York
BEGIN:DAYLIGHT
TZOFFSETFROM:-0500
TZOFFSETTO:-0400
TZNAME:EDT
DTSTART:20270314T070000
END:DAYLIGHT
BEGIN:STANDARD
TZOFFSETFROM:-0400
TZOFFSETTO:-0500
TZNAME:EST
DTSTART:20271107T060000
END:STANDARD
BEGIN:DAYLIGHT
TZOFFSETFROM:-0500
TZOFFSETTO:-0400
TZNAME:EDT
DTSTART:20280312T070000
END:DAYLIGHT
BEGIN:STANDARD
TZOFFSETFROM:-0400
TZOFFSETTO:-0500
TZNAME:EST
DTSTART:20281105T060000
END:STANDARD
BEGIN:DAYLIGHT
TZOFFSETFROM:-0500
TZOFFSETTO:-0400
TZNAME:EDT
DTSTART:20290311T070000
END:DAYLIGHT
BEGIN:STANDARD
TZOFFSETFROM:-0400
TZOFFSETTO:-0500
TZNAME:EST
DTSTART:20291104T060000
END:STANDARD
END:VTIMEZONE
BEGIN:VEVENT
DTSTART;TZID=America/New_York:20280403T200000
DTEND;TZID=America/New_York:20280403T230000
DTSTAMP:20260422T225835
CREATED:20230628T150156Z
LAST-MODIFIED:20231108T191914Z
UID:10019446-1838404800-1838415600@bevmain.org
SUMMARY:Open Mic at Indo
DESCRIPTION:Hosted by Bob Kramer & Nick Consone!
URL:https://bevmain.org/event/open-mic-at-indo/2028-04-03/
LOCATION:The Indo\, 298 Cabot Street\, Beverly\, MA\, 01915\, United States
CATEGORIES:Beer/Wine,Comedy,Food,Nightlife
ATTACH;FMTTYPE=image/jpeg:https://bevmain.org/wp-content/uploads/2023/06/IndoOpenMic.jpg
GEO:42.5521772;-70.8790122
X-APPLE-STRUCTURED-LOCATION;VALUE=URI;X-ADDRESS=The Indo 298 Cabot Street Beverly MA 01915 United States;X-APPLE-RADIUS=500;X-TITLE=298 Cabot Street:geo:-70.8790122,42.5521772
END:VEVENT
BEGIN:VEVENT
DTSTART;TZID=America/New_York:20280410T200000
DTEND;TZID=America/New_York:20280410T230000
DTSTAMP:20260422T225835
CREATED:20230628T150156Z
LAST-MODIFIED:20231108T191914Z
UID:10019447-1839009600-1839020400@bevmain.org
SUMMARY:Open Mic at Indo
DESCRIPTION:Hosted by Bob Kramer & Nick Consone!
URL:https://bevmain.org/event/open-mic-at-indo/2028-04-10/
LOCATION:The Indo\, 298 Cabot Street\, Beverly\, MA\, 01915\, United States
CATEGORIES:Beer/Wine,Comedy,Food,Nightlife
ATTACH;FMTTYPE=image/jpeg:https://bevmain.org/wp-content/uploads/2023/06/IndoOpenMic.jpg
GEO:42.5521772;-70.8790122
X-APPLE-STRUCTURED-LOCATION;VALUE=URI;X-ADDRESS=The Indo 298 Cabot Street Beverly MA 01915 United States;X-APPLE-RADIUS=500;X-TITLE=298 Cabot Street:geo:-70.8790122,42.5521772
END:VEVENT
BEGIN:VEVENT
DTSTART;TZID=America/New_York:20280417T200000
DTEND;TZID=America/New_York:20280417T230000
DTSTAMP:20260422T225835
CREATED:20230628T150156Z
LAST-MODIFIED:20231108T191914Z
UID:10019448-1839614400-1839625200@bevmain.org
SUMMARY:Open Mic at Indo
DESCRIPTION:Hosted by Bob Kramer & Nick Consone!
URL:https://bevmain.org/event/open-mic-at-indo/2028-04-17/
LOCATION:The Indo\, 298 Cabot Street\, Beverly\, MA\, 01915\, United States
CATEGORIES:Beer/Wine,Comedy,Food,Nightlife
ATTACH;FMTTYPE=image/jpeg:https://bevmain.org/wp-content/uploads/2023/06/IndoOpenMic.jpg
GEO:42.5521772;-70.8790122
X-APPLE-STRUCTURED-LOCATION;VALUE=URI;X-ADDRESS=The Indo 298 Cabot Street Beverly MA 01915 United States;X-APPLE-RADIUS=500;X-TITLE=298 Cabot Street:geo:-70.8790122,42.5521772
END:VEVENT
BEGIN:VEVENT
DTSTART;TZID=America/New_York:20280424T200000
DTEND;TZID=America/New_York:20280424T230000
DTSTAMP:20260422T225835
CREATED:20230628T150156Z
LAST-MODIFIED:20231108T191914Z
UID:10019449-1840219200-1840230000@bevmain.org
SUMMARY:Open Mic at Indo
DESCRIPTION:Hosted by Bob Kramer & Nick Consone!
URL:https://bevmain.org/event/open-mic-at-indo/2028-04-24/
LOCATION:The Indo\, 298 Cabot Street\, Beverly\, MA\, 01915\, United States
CATEGORIES:Beer/Wine,Comedy,Food,Nightlife
ATTACH;FMTTYPE=image/jpeg:https://bevmain.org/wp-content/uploads/2023/06/IndoOpenMic.jpg
GEO:42.5521772;-70.8790122
X-APPLE-STRUCTURED-LOCATION;VALUE=URI;X-ADDRESS=The Indo 298 Cabot Street Beverly MA 01915 United States;X-APPLE-RADIUS=500;X-TITLE=298 Cabot Street:geo:-70.8790122,42.5521772
END:VEVENT
END:VCALENDAR