BEGIN:VCALENDAR
VERSION:2.0
PRODID:-//Beverly Main Streets - ECPv6.15.20//NONSGML v1.0//EN
CALSCALE:GREGORIAN
METHOD:PUBLISH
X-ORIGINAL-URL:https://bevmain.org
X-WR-CALDESC:Events for Beverly Main Streets
REFRESH-INTERVAL;VALUE=DURATION:PT1H
X-Robots-Tag:noindex
X-PUBLISHED-TTL:PT1H
BEGIN:VTIMEZONE
TZID:America/New_York
BEGIN:DAYLIGHT
TZOFFSETFROM:-0500
TZOFFSETTO:-0400
TZNAME:EDT
DTSTART:20260308T070000
END:DAYLIGHT
BEGIN:STANDARD
TZOFFSETFROM:-0400
TZOFFSETTO:-0500
TZNAME:EST
DTSTART:20261101T060000
END:STANDARD
BEGIN:DAYLIGHT
TZOFFSETFROM:-0500
TZOFFSETTO:-0400
TZNAME:EDT
DTSTART:20270314T070000
END:DAYLIGHT
BEGIN:STANDARD
TZOFFSETFROM:-0400
TZOFFSETTO:-0500
TZNAME:EST
DTSTART:20271107T060000
END:STANDARD
BEGIN:DAYLIGHT
TZOFFSETFROM:-0500
TZOFFSETTO:-0400
TZNAME:EDT
DTSTART:20280312T070000
END:DAYLIGHT
BEGIN:STANDARD
TZOFFSETFROM:-0400
TZOFFSETTO:-0500
TZNAME:EST
DTSTART:20281105T060000
END:STANDARD
END:VTIMEZONE
BEGIN:VEVENT
DTSTART;TZID=America/New_York:20270601T210000
DTEND;TZID=America/New_York:20270602T010000
DTSTAMP:20260423T022454
CREATED:20230307T192014Z
LAST-MODIFIED:20230307T193159Z
UID:10015812-1811883600-1811898000@bevmain.org
SUMMARY:Trivia Tuesday
DESCRIPTION:Tuesday night trivia at the Pickled Onion\n355 Rantoul Street
URL:https://bevmain.org/event/trivia-tuesday-3/2027-06-01/
CATEGORIES:Beer/Wine,Free,Music/Concert,Nightlife
ATTACH;FMTTYPE=image/jpeg:https://bevmain.org/wp-content/uploads/2023/03/pickledoniontriviaUSE.jpg
END:VEVENT
BEGIN:VEVENT
DTSTART;TZID=America/New_York:20270608T210000
DTEND;TZID=America/New_York:20270609T010000
DTSTAMP:20260423T022454
CREATED:20230307T192014Z
LAST-MODIFIED:20230307T193159Z
UID:10015813-1812488400-1812502800@bevmain.org
SUMMARY:Trivia Tuesday
DESCRIPTION:Tuesday night trivia at the Pickled Onion\n355 Rantoul Street
URL:https://bevmain.org/event/trivia-tuesday-3/2027-06-08/
CATEGORIES:Beer/Wine,Free,Music/Concert,Nightlife
ATTACH;FMTTYPE=image/jpeg:https://bevmain.org/wp-content/uploads/2023/03/pickledoniontriviaUSE.jpg
END:VEVENT
BEGIN:VEVENT
DTSTART;TZID=America/New_York:20270615T210000
DTEND;TZID=America/New_York:20270616T010000
DTSTAMP:20260423T022454
CREATED:20230307T192014Z
LAST-MODIFIED:20230307T193159Z
UID:10015814-1813093200-1813107600@bevmain.org
SUMMARY:Trivia Tuesday
DESCRIPTION:Tuesday night trivia at the Pickled Onion\n355 Rantoul Street
URL:https://bevmain.org/event/trivia-tuesday-3/2027-06-15/
CATEGORIES:Beer/Wine,Free,Music/Concert,Nightlife
ATTACH;FMTTYPE=image/jpeg:https://bevmain.org/wp-content/uploads/2023/03/pickledoniontriviaUSE.jpg
END:VEVENT
BEGIN:VEVENT
DTSTART;TZID=America/New_York:20270622T210000
DTEND;TZID=America/New_York:20270623T010000
DTSTAMP:20260423T022454
CREATED:20230307T192014Z
LAST-MODIFIED:20230307T193159Z
UID:10015815-1813698000-1813712400@bevmain.org
SUMMARY:Trivia Tuesday
DESCRIPTION:Tuesday night trivia at the Pickled Onion\n355 Rantoul Street
URL:https://bevmain.org/event/trivia-tuesday-3/2027-06-22/
CATEGORIES:Beer/Wine,Free,Music/Concert,Nightlife
ATTACH;FMTTYPE=image/jpeg:https://bevmain.org/wp-content/uploads/2023/03/pickledoniontriviaUSE.jpg
END:VEVENT
BEGIN:VEVENT
DTSTART;TZID=America/New_York:20270629T210000
DTEND;TZID=America/New_York:20270630T010000
DTSTAMP:20260423T022454
CREATED:20230307T192014Z
LAST-MODIFIED:20230307T193159Z
UID:10015816-1814302800-1814317200@bevmain.org
SUMMARY:Trivia Tuesday
DESCRIPTION:Tuesday night trivia at the Pickled Onion\n355 Rantoul Street
URL:https://bevmain.org/event/trivia-tuesday-3/2027-06-29/
CATEGORIES:Beer/Wine,Free,Music/Concert,Nightlife
ATTACH;FMTTYPE=image/jpeg:https://bevmain.org/wp-content/uploads/2023/03/pickledoniontriviaUSE.jpg
END:VEVENT
END:VCALENDAR