BEGIN:VCALENDAR
VERSION:2.0
PRODID:-//Beverly Main Streets - ECPv6.15.20//NONSGML v1.0//EN
CALSCALE:GREGORIAN
METHOD:PUBLISH
X-ORIGINAL-URL:https://bevmain.org
X-WR-CALDESC:Events for Beverly Main Streets
REFRESH-INTERVAL;VALUE=DURATION:PT1H
X-Robots-Tag:noindex
X-PUBLISHED-TTL:PT1H
BEGIN:VTIMEZONE
TZID:America/New_York
BEGIN:DAYLIGHT
TZOFFSETFROM:-0500
TZOFFSETTO:-0400
TZNAME:EDT
DTSTART:20240310T070000
END:DAYLIGHT
BEGIN:STANDARD
TZOFFSETFROM:-0400
TZOFFSETTO:-0500
TZNAME:EST
DTSTART:20241103T060000
END:STANDARD
BEGIN:DAYLIGHT
TZOFFSETFROM:-0500
TZOFFSETTO:-0400
TZNAME:EDT
DTSTART:20250309T070000
END:DAYLIGHT
BEGIN:STANDARD
TZOFFSETFROM:-0400
TZOFFSETTO:-0500
TZNAME:EST
DTSTART:20251102T060000
END:STANDARD
BEGIN:DAYLIGHT
TZOFFSETFROM:-0500
TZOFFSETTO:-0400
TZNAME:EDT
DTSTART:20260308T070000
END:DAYLIGHT
BEGIN:STANDARD
TZOFFSETFROM:-0400
TZOFFSETTO:-0500
TZNAME:EST
DTSTART:20261101T060000
END:STANDARD
END:VTIMEZONE
BEGIN:VEVENT
DTSTART;TZID=America/New_York:20250402T193000
DTEND;TZID=America/New_York:20250402T213000
DTSTAMP:20260422T050309
CREATED:20230307T180121Z
LAST-MODIFIED:20230307T194001Z
UID:10014662-1743622200-1743629400@bevmain.org
SUMMARY:Rhino Run Club
DESCRIPTION:Avid runner? just beginning? Looking for some friends to run with? JOIN us every Wednesday night at 7:30pm at Old Planters Brewing Co.
URL:https://bevmain.org/event/rhino-run-club/2025-04-02/
LOCATION:Old Planter's Brewing Co.\, 232 Rantoul St.\, Beverly\, MA\, 01915\, United States
CATEGORIES:Beer/Wine,Community Events,Free,Outdoor
ATTACH;FMTTYPE=image/jpeg:https://bevmain.org/wp-content/uploads/2023/03/rhinorunclub.jpg
GEO:42.5493085;-70.8838543
X-APPLE-STRUCTURED-LOCATION;VALUE=URI;X-ADDRESS=Old Planter's Brewing Co. 232 Rantoul St. Beverly MA 01915 United States;X-APPLE-RADIUS=500;X-TITLE=232 Rantoul St.:geo:-70.8838543,42.5493085
END:VEVENT
BEGIN:VEVENT
DTSTART;TZID=America/New_York:20250403T180000
DTEND;TZID=America/New_York:20250403T200000
DTSTAMP:20260422T050309
CREATED:20230307T165824Z
LAST-MODIFIED:20250207T134021Z
UID:10013607-1743703200-1743710400@bevmain.org
SUMMARY:RunABV - Run Club
DESCRIPTION:Attention Beverly Vehicles: 3.1 weekly run/walk every Thursday!\nRunners of all levels are invited down to the Gentile taproom for a 5k loop starting and ending at the brewery. Not a runner? Not a problem! Walking is encouraged\, just as long as you’re back for last call! We will depart the taproom at 6:00 so please come in a little early to drop off your stuff and sign in!\nWhen you’re done feel free to hang out\, meet new friends and enjoy some of Beverly’s finest brews! Kid and dog friendly and make sure to bring dinner or snacks to refuel when you get back!\nSo lace up and meet us at the taproom at 59 Park Street!
URL:https://bevmain.org/event/runabv-run-club/2025-04-03/
LOCATION:Gentile Brewing\, 59 Park Street\, Beverly\, MA\, 01915\, United States
CATEGORIES:Beer/Wine,Free,Outdoor
ATTACH;FMTTYPE=image/jpeg:https://bevmain.org/wp-content/uploads/2023/03/RunABV.jpg
GEO:42.5493727;-70.8842259
X-APPLE-STRUCTURED-LOCATION;VALUE=URI;X-ADDRESS=Gentile Brewing 59 Park Street Beverly MA 01915 United States;X-APPLE-RADIUS=500;X-TITLE=59 Park Street:geo:-70.8842259,42.5493727
END:VEVENT
BEGIN:VEVENT
DTSTART;TZID=America/New_York:20250407T170000
DTEND;TZID=America/New_York:20250407T190000
DTSTAMP:20260422T050309
CREATED:20230314T150712Z
LAST-MODIFIED:20230314T150712Z
UID:10017336-1744045200-1744052400@bevmain.org
SUMMARY:Backbeat Street Fleet Run Club
DESCRIPTION:Run Club meets every Monday from 5pm to 7pm with groups going out at 6pm. All walkers and runners welcome. Earn prizes each week!
URL:https://bevmain.org/event/backbeat-street-fleet-run-club/2025-04-07/
LOCATION:Backbeat Brewing\, 31A Park Street\, Beverly\, MA\, 01915\, United States
CATEGORIES:Beer/Wine,Community Events,Free,Outdoor
ATTACH;FMTTYPE=image/jpeg:https://bevmain.org/wp-content/uploads/2023/03/backbeatrunclub.jpg
GEO:42.5476788;-70.8846903
X-APPLE-STRUCTURED-LOCATION;VALUE=URI;X-ADDRESS=Backbeat Brewing 31A Park Street Beverly MA 01915 United States;X-APPLE-RADIUS=500;X-TITLE=31A Park Street:geo:-70.8846903,42.5476788
END:VEVENT
BEGIN:VEVENT
DTSTART;TZID=America/New_York:20250409T193000
DTEND;TZID=America/New_York:20250409T213000
DTSTAMP:20260422T050309
CREATED:20230307T180121Z
LAST-MODIFIED:20230307T194001Z
UID:10014663-1744227000-1744234200@bevmain.org
SUMMARY:Rhino Run Club
DESCRIPTION:Avid runner? just beginning? Looking for some friends to run with? JOIN us every Wednesday night at 7:30pm at Old Planters Brewing Co.
URL:https://bevmain.org/event/rhino-run-club/2025-04-09/
LOCATION:Old Planter's Brewing Co.\, 232 Rantoul St.\, Beverly\, MA\, 01915\, United States
CATEGORIES:Beer/Wine,Community Events,Free,Outdoor
ATTACH;FMTTYPE=image/jpeg:https://bevmain.org/wp-content/uploads/2023/03/rhinorunclub.jpg
GEO:42.5493085;-70.8838543
X-APPLE-STRUCTURED-LOCATION;VALUE=URI;X-ADDRESS=Old Planter's Brewing Co. 232 Rantoul St. Beverly MA 01915 United States;X-APPLE-RADIUS=500;X-TITLE=232 Rantoul St.:geo:-70.8838543,42.5493085
END:VEVENT
BEGIN:VEVENT
DTSTART;TZID=America/New_York:20250410T180000
DTEND;TZID=America/New_York:20250410T200000
DTSTAMP:20260422T050309
CREATED:20230307T165824Z
LAST-MODIFIED:20250207T134021Z
UID:10013608-1744308000-1744315200@bevmain.org
SUMMARY:RunABV - Run Club
DESCRIPTION:Attention Beverly Vehicles: 3.1 weekly run/walk every Thursday!\nRunners of all levels are invited down to the Gentile taproom for a 5k loop starting and ending at the brewery. Not a runner? Not a problem! Walking is encouraged\, just as long as you’re back for last call! We will depart the taproom at 6:00 so please come in a little early to drop off your stuff and sign in!\nWhen you’re done feel free to hang out\, meet new friends and enjoy some of Beverly’s finest brews! Kid and dog friendly and make sure to bring dinner or snacks to refuel when you get back!\nSo lace up and meet us at the taproom at 59 Park Street!
URL:https://bevmain.org/event/runabv-run-club/2025-04-10/
LOCATION:Gentile Brewing\, 59 Park Street\, Beverly\, MA\, 01915\, United States
CATEGORIES:Beer/Wine,Free,Outdoor
ATTACH;FMTTYPE=image/jpeg:https://bevmain.org/wp-content/uploads/2023/03/RunABV.jpg
GEO:42.5493727;-70.8842259
X-APPLE-STRUCTURED-LOCATION;VALUE=URI;X-ADDRESS=Gentile Brewing 59 Park Street Beverly MA 01915 United States;X-APPLE-RADIUS=500;X-TITLE=59 Park Street:geo:-70.8842259,42.5493727
END:VEVENT
BEGIN:VEVENT
DTSTART;TZID=America/New_York:20250414T170000
DTEND;TZID=America/New_York:20250414T190000
DTSTAMP:20260422T050309
CREATED:20230314T150712Z
LAST-MODIFIED:20230314T150712Z
UID:10017337-1744650000-1744657200@bevmain.org
SUMMARY:Backbeat Street Fleet Run Club
DESCRIPTION:Run Club meets every Monday from 5pm to 7pm with groups going out at 6pm. All walkers and runners welcome. Earn prizes each week!
URL:https://bevmain.org/event/backbeat-street-fleet-run-club/2025-04-14/
LOCATION:Backbeat Brewing\, 31A Park Street\, Beverly\, MA\, 01915\, United States
CATEGORIES:Beer/Wine,Community Events,Free,Outdoor
ATTACH;FMTTYPE=image/jpeg:https://bevmain.org/wp-content/uploads/2023/03/backbeatrunclub.jpg
GEO:42.5476788;-70.8846903
X-APPLE-STRUCTURED-LOCATION;VALUE=URI;X-ADDRESS=Backbeat Brewing 31A Park Street Beverly MA 01915 United States;X-APPLE-RADIUS=500;X-TITLE=31A Park Street:geo:-70.8846903,42.5476788
END:VEVENT
BEGIN:VEVENT
DTSTART;TZID=America/New_York:20250416T193000
DTEND;TZID=America/New_York:20250416T213000
DTSTAMP:20260422T050309
CREATED:20230307T180121Z
LAST-MODIFIED:20230307T194001Z
UID:10014664-1744831800-1744839000@bevmain.org
SUMMARY:Rhino Run Club
DESCRIPTION:Avid runner? just beginning? Looking for some friends to run with? JOIN us every Wednesday night at 7:30pm at Old Planters Brewing Co.
URL:https://bevmain.org/event/rhino-run-club/2025-04-16/
LOCATION:Old Planter's Brewing Co.\, 232 Rantoul St.\, Beverly\, MA\, 01915\, United States
CATEGORIES:Beer/Wine,Community Events,Free,Outdoor
ATTACH;FMTTYPE=image/jpeg:https://bevmain.org/wp-content/uploads/2023/03/rhinorunclub.jpg
GEO:42.5493085;-70.8838543
X-APPLE-STRUCTURED-LOCATION;VALUE=URI;X-ADDRESS=Old Planter's Brewing Co. 232 Rantoul St. Beverly MA 01915 United States;X-APPLE-RADIUS=500;X-TITLE=232 Rantoul St.:geo:-70.8838543,42.5493085
END:VEVENT
BEGIN:VEVENT
DTSTART;TZID=America/New_York:20250417T180000
DTEND;TZID=America/New_York:20250417T200000
DTSTAMP:20260422T050309
CREATED:20230307T165824Z
LAST-MODIFIED:20250207T134021Z
UID:10013609-1744912800-1744920000@bevmain.org
SUMMARY:RunABV - Run Club
DESCRIPTION:Attention Beverly Vehicles: 3.1 weekly run/walk every Thursday!\nRunners of all levels are invited down to the Gentile taproom for a 5k loop starting and ending at the brewery. Not a runner? Not a problem! Walking is encouraged\, just as long as you’re back for last call! We will depart the taproom at 6:00 so please come in a little early to drop off your stuff and sign in!\nWhen you’re done feel free to hang out\, meet new friends and enjoy some of Beverly’s finest brews! Kid and dog friendly and make sure to bring dinner or snacks to refuel when you get back!\nSo lace up and meet us at the taproom at 59 Park Street!
URL:https://bevmain.org/event/runabv-run-club/2025-04-17/
LOCATION:Gentile Brewing\, 59 Park Street\, Beverly\, MA\, 01915\, United States
CATEGORIES:Beer/Wine,Free,Outdoor
ATTACH;FMTTYPE=image/jpeg:https://bevmain.org/wp-content/uploads/2023/03/RunABV.jpg
GEO:42.5493727;-70.8842259
X-APPLE-STRUCTURED-LOCATION;VALUE=URI;X-ADDRESS=Gentile Brewing 59 Park Street Beverly MA 01915 United States;X-APPLE-RADIUS=500;X-TITLE=59 Park Street:geo:-70.8842259,42.5493727
END:VEVENT
BEGIN:VEVENT
DTSTART;TZID=America/New_York:20250421T170000
DTEND;TZID=America/New_York:20250421T190000
DTSTAMP:20260422T050309
CREATED:20230314T150712Z
LAST-MODIFIED:20230314T150712Z
UID:10017338-1745254800-1745262000@bevmain.org
SUMMARY:Backbeat Street Fleet Run Club
DESCRIPTION:Run Club meets every Monday from 5pm to 7pm with groups going out at 6pm. All walkers and runners welcome. Earn prizes each week!
URL:https://bevmain.org/event/backbeat-street-fleet-run-club/2025-04-21/
LOCATION:Backbeat Brewing\, 31A Park Street\, Beverly\, MA\, 01915\, United States
CATEGORIES:Beer/Wine,Community Events,Free,Outdoor
ATTACH;FMTTYPE=image/jpeg:https://bevmain.org/wp-content/uploads/2023/03/backbeatrunclub.jpg
GEO:42.5476788;-70.8846903
X-APPLE-STRUCTURED-LOCATION;VALUE=URI;X-ADDRESS=Backbeat Brewing 31A Park Street Beverly MA 01915 United States;X-APPLE-RADIUS=500;X-TITLE=31A Park Street:geo:-70.8846903,42.5476788
END:VEVENT
BEGIN:VEVENT
DTSTART;TZID=America/New_York:20250423T193000
DTEND;TZID=America/New_York:20250423T213000
DTSTAMP:20260422T050309
CREATED:20230307T180121Z
LAST-MODIFIED:20230307T194001Z
UID:10014665-1745436600-1745443800@bevmain.org
SUMMARY:Rhino Run Club
DESCRIPTION:Avid runner? just beginning? Looking for some friends to run with? JOIN us every Wednesday night at 7:30pm at Old Planters Brewing Co.
URL:https://bevmain.org/event/rhino-run-club/2025-04-23/
LOCATION:Old Planter's Brewing Co.\, 232 Rantoul St.\, Beverly\, MA\, 01915\, United States
CATEGORIES:Beer/Wine,Community Events,Free,Outdoor
ATTACH;FMTTYPE=image/jpeg:https://bevmain.org/wp-content/uploads/2023/03/rhinorunclub.jpg
GEO:42.5493085;-70.8838543
X-APPLE-STRUCTURED-LOCATION;VALUE=URI;X-ADDRESS=Old Planter's Brewing Co. 232 Rantoul St. Beverly MA 01915 United States;X-APPLE-RADIUS=500;X-TITLE=232 Rantoul St.:geo:-70.8838543,42.5493085
END:VEVENT
BEGIN:VEVENT
DTSTART;TZID=America/New_York:20250424T180000
DTEND;TZID=America/New_York:20250424T200000
DTSTAMP:20260422T050309
CREATED:20230307T165824Z
LAST-MODIFIED:20250207T134021Z
UID:10013610-1745517600-1745524800@bevmain.org
SUMMARY:RunABV - Run Club
DESCRIPTION:Attention Beverly Vehicles: 3.1 weekly run/walk every Thursday!\nRunners of all levels are invited down to the Gentile taproom for a 5k loop starting and ending at the brewery. Not a runner? Not a problem! Walking is encouraged\, just as long as you’re back for last call! We will depart the taproom at 6:00 so please come in a little early to drop off your stuff and sign in!\nWhen you’re done feel free to hang out\, meet new friends and enjoy some of Beverly’s finest brews! Kid and dog friendly and make sure to bring dinner or snacks to refuel when you get back!\nSo lace up and meet us at the taproom at 59 Park Street!
URL:https://bevmain.org/event/runabv-run-club/2025-04-24/
LOCATION:Gentile Brewing\, 59 Park Street\, Beverly\, MA\, 01915\, United States
CATEGORIES:Beer/Wine,Free,Outdoor
ATTACH;FMTTYPE=image/jpeg:https://bevmain.org/wp-content/uploads/2023/03/RunABV.jpg
GEO:42.5493727;-70.8842259
X-APPLE-STRUCTURED-LOCATION;VALUE=URI;X-ADDRESS=Gentile Brewing 59 Park Street Beverly MA 01915 United States;X-APPLE-RADIUS=500;X-TITLE=59 Park Street:geo:-70.8842259,42.5493727
END:VEVENT
BEGIN:VEVENT
DTSTART;TZID=America/New_York:20250428T170000
DTEND;TZID=America/New_York:20250428T190000
DTSTAMP:20260422T050309
CREATED:20230314T150712Z
LAST-MODIFIED:20230314T150712Z
UID:10017339-1745859600-1745866800@bevmain.org
SUMMARY:Backbeat Street Fleet Run Club
DESCRIPTION:Run Club meets every Monday from 5pm to 7pm with groups going out at 6pm. All walkers and runners welcome. Earn prizes each week!
URL:https://bevmain.org/event/backbeat-street-fleet-run-club/2025-04-28/
LOCATION:Backbeat Brewing\, 31A Park Street\, Beverly\, MA\, 01915\, United States
CATEGORIES:Beer/Wine,Community Events,Free,Outdoor
ATTACH;FMTTYPE=image/jpeg:https://bevmain.org/wp-content/uploads/2023/03/backbeatrunclub.jpg
GEO:42.5476788;-70.8846903
X-APPLE-STRUCTURED-LOCATION;VALUE=URI;X-ADDRESS=Backbeat Brewing 31A Park Street Beverly MA 01915 United States;X-APPLE-RADIUS=500;X-TITLE=31A Park Street:geo:-70.8846903,42.5476788
END:VEVENT
BEGIN:VEVENT
DTSTART;TZID=America/New_York:20250430T193000
DTEND;TZID=America/New_York:20250430T213000
DTSTAMP:20260422T050309
CREATED:20230307T180121Z
LAST-MODIFIED:20230307T194001Z
UID:10014666-1746041400-1746048600@bevmain.org
SUMMARY:Rhino Run Club
DESCRIPTION:Avid runner? just beginning? Looking for some friends to run with? JOIN us every Wednesday night at 7:30pm at Old Planters Brewing Co.
URL:https://bevmain.org/event/rhino-run-club/2025-04-30/
LOCATION:Old Planter's Brewing Co.\, 232 Rantoul St.\, Beverly\, MA\, 01915\, United States
CATEGORIES:Beer/Wine,Community Events,Free,Outdoor
ATTACH;FMTTYPE=image/jpeg:https://bevmain.org/wp-content/uploads/2023/03/rhinorunclub.jpg
GEO:42.5493085;-70.8838543
X-APPLE-STRUCTURED-LOCATION;VALUE=URI;X-ADDRESS=Old Planter's Brewing Co. 232 Rantoul St. Beverly MA 01915 United States;X-APPLE-RADIUS=500;X-TITLE=232 Rantoul St.:geo:-70.8838543,42.5493085
END:VEVENT
END:VCALENDAR