BEGIN:VCALENDAR
VERSION:2.0
PRODID:-//Beverly Main Streets - ECPv6.15.20//NONSGML v1.0//EN
CALSCALE:GREGORIAN
METHOD:PUBLISH
X-ORIGINAL-URL:https://bevmain.org
X-WR-CALDESC:Events for Beverly Main Streets
REFRESH-INTERVAL;VALUE=DURATION:PT1H
X-Robots-Tag:noindex
X-PUBLISHED-TTL:PT1H
BEGIN:VTIMEZONE
TZID:America/New_York
BEGIN:DAYLIGHT
TZOFFSETFROM:-0500
TZOFFSETTO:-0400
TZNAME:EDT
DTSTART:20250309T070000
END:DAYLIGHT
BEGIN:STANDARD
TZOFFSETFROM:-0400
TZOFFSETTO:-0500
TZNAME:EST
DTSTART:20251102T060000
END:STANDARD
BEGIN:DAYLIGHT
TZOFFSETFROM:-0500
TZOFFSETTO:-0400
TZNAME:EDT
DTSTART:20260308T070000
END:DAYLIGHT
BEGIN:STANDARD
TZOFFSETFROM:-0400
TZOFFSETTO:-0500
TZNAME:EST
DTSTART:20261101T060000
END:STANDARD
BEGIN:DAYLIGHT
TZOFFSETFROM:-0500
TZOFFSETTO:-0400
TZNAME:EDT
DTSTART:20270314T070000
END:DAYLIGHT
BEGIN:STANDARD
TZOFFSETFROM:-0400
TZOFFSETTO:-0500
TZNAME:EST
DTSTART:20271107T060000
END:STANDARD
END:VTIMEZONE
BEGIN:VEVENT
DTSTART;TZID=America/New_York:20260302T170000
DTEND;TZID=America/New_York:20260302T190000
DTSTAMP:20260421T133004
CREATED:20230314T150712Z
LAST-MODIFIED:20230314T150712Z
UID:10017383-1772470800-1772478000@bevmain.org
SUMMARY:Backbeat Street Fleet Run Club
DESCRIPTION:Run Club meets every Monday from 5pm to 7pm with groups going out at 6pm. All walkers and runners welcome. Earn prizes each week!
URL:https://bevmain.org/event/backbeat-street-fleet-run-club/2026-03-02/
LOCATION:Backbeat Brewing\, 31A Park Street\, Beverly\, MA\, 01915\, United States
CATEGORIES:Beer/Wine,Community Events,Free,Outdoor
ATTACH;FMTTYPE=image/jpeg:https://bevmain.org/wp-content/uploads/2023/03/backbeatrunclub.jpg
GEO:42.5476788;-70.8846903
X-APPLE-STRUCTURED-LOCATION;VALUE=URI;X-ADDRESS=Backbeat Brewing 31A Park Street Beverly MA 01915 United States;X-APPLE-RADIUS=500;X-TITLE=31A Park Street:geo:-70.8846903,42.5476788
END:VEVENT
BEGIN:VEVENT
DTSTART;TZID=America/New_York:20260304T193000
DTEND;TZID=America/New_York:20260304T213000
DTSTAMP:20260421T133004
CREATED:20230307T180121Z
LAST-MODIFIED:20230307T194001Z
UID:10014710-1772652600-1772659800@bevmain.org
SUMMARY:Rhino Run Club
DESCRIPTION:Avid runner? just beginning? Looking for some friends to run with? JOIN us every Wednesday night at 7:30pm at Old Planters Brewing Co.
URL:https://bevmain.org/event/rhino-run-club/2026-03-04/
LOCATION:Old Planter's Brewing Co.\, 232 Rantoul St.\, Beverly\, MA\, 01915\, United States
CATEGORIES:Beer/Wine,Community Events,Free,Outdoor
ATTACH;FMTTYPE=image/jpeg:https://bevmain.org/wp-content/uploads/2023/03/rhinorunclub.jpg
GEO:42.5493085;-70.8838543
X-APPLE-STRUCTURED-LOCATION;VALUE=URI;X-ADDRESS=Old Planter's Brewing Co. 232 Rantoul St. Beverly MA 01915 United States;X-APPLE-RADIUS=500;X-TITLE=232 Rantoul St.:geo:-70.8838543,42.5493085
END:VEVENT
BEGIN:VEVENT
DTSTART;TZID=America/New_York:20260305T180000
DTEND;TZID=America/New_York:20260305T200000
DTSTAMP:20260421T133004
CREATED:20230307T165824Z
LAST-MODIFIED:20250207T134021Z
UID:10013655-1772733600-1772740800@bevmain.org
SUMMARY:RunABV - Run Club
DESCRIPTION:Attention Beverly Vehicles: 3.1 weekly run/walk every Thursday!\nRunners of all levels are invited down to the Gentile taproom for a 5k loop starting and ending at the brewery. Not a runner? Not a problem! Walking is encouraged\, just as long as you’re back for last call! We will depart the taproom at 6:00 so please come in a little early to drop off your stuff and sign in!\nWhen you’re done feel free to hang out\, meet new friends and enjoy some of Beverly’s finest brews! Kid and dog friendly and make sure to bring dinner or snacks to refuel when you get back!\nSo lace up and meet us at the taproom at 59 Park Street!
URL:https://bevmain.org/event/runabv-run-club/2026-03-05/
LOCATION:Gentile Brewing\, 59 Park Street\, Beverly\, MA\, 01915\, United States
CATEGORIES:Beer/Wine,Free,Outdoor
ATTACH;FMTTYPE=image/jpeg:https://bevmain.org/wp-content/uploads/2023/03/RunABV.jpg
GEO:42.5493727;-70.8842259
X-APPLE-STRUCTURED-LOCATION;VALUE=URI;X-ADDRESS=Gentile Brewing 59 Park Street Beverly MA 01915 United States;X-APPLE-RADIUS=500;X-TITLE=59 Park Street:geo:-70.8842259,42.5493727
END:VEVENT
BEGIN:VEVENT
DTSTART;TZID=America/New_York:20260309T170000
DTEND;TZID=America/New_York:20260309T190000
DTSTAMP:20260421T133004
CREATED:20230314T150712Z
LAST-MODIFIED:20230314T150712Z
UID:10017384-1773075600-1773082800@bevmain.org
SUMMARY:Backbeat Street Fleet Run Club
DESCRIPTION:Run Club meets every Monday from 5pm to 7pm with groups going out at 6pm. All walkers and runners welcome. Earn prizes each week!
URL:https://bevmain.org/event/backbeat-street-fleet-run-club/2026-03-09/
LOCATION:Backbeat Brewing\, 31A Park Street\, Beverly\, MA\, 01915\, United States
CATEGORIES:Beer/Wine,Community Events,Free,Outdoor
ATTACH;FMTTYPE=image/jpeg:https://bevmain.org/wp-content/uploads/2023/03/backbeatrunclub.jpg
GEO:42.5476788;-70.8846903
X-APPLE-STRUCTURED-LOCATION;VALUE=URI;X-ADDRESS=Backbeat Brewing 31A Park Street Beverly MA 01915 United States;X-APPLE-RADIUS=500;X-TITLE=31A Park Street:geo:-70.8846903,42.5476788
END:VEVENT
BEGIN:VEVENT
DTSTART;TZID=America/New_York:20260311T193000
DTEND;TZID=America/New_York:20260311T213000
DTSTAMP:20260421T133004
CREATED:20230307T180121Z
LAST-MODIFIED:20230307T194001Z
UID:10014711-1773257400-1773264600@bevmain.org
SUMMARY:Rhino Run Club
DESCRIPTION:Avid runner? just beginning? Looking for some friends to run with? JOIN us every Wednesday night at 7:30pm at Old Planters Brewing Co.
URL:https://bevmain.org/event/rhino-run-club/2026-03-11/
LOCATION:Old Planter's Brewing Co.\, 232 Rantoul St.\, Beverly\, MA\, 01915\, United States
CATEGORIES:Beer/Wine,Community Events,Free,Outdoor
ATTACH;FMTTYPE=image/jpeg:https://bevmain.org/wp-content/uploads/2023/03/rhinorunclub.jpg
GEO:42.5493085;-70.8838543
X-APPLE-STRUCTURED-LOCATION;VALUE=URI;X-ADDRESS=Old Planter's Brewing Co. 232 Rantoul St. Beverly MA 01915 United States;X-APPLE-RADIUS=500;X-TITLE=232 Rantoul St.:geo:-70.8838543,42.5493085
END:VEVENT
BEGIN:VEVENT
DTSTART;TZID=America/New_York:20260312T180000
DTEND;TZID=America/New_York:20260312T200000
DTSTAMP:20260421T133004
CREATED:20230307T165824Z
LAST-MODIFIED:20250207T134021Z
UID:10013656-1773338400-1773345600@bevmain.org
SUMMARY:RunABV - Run Club
DESCRIPTION:Attention Beverly Vehicles: 3.1 weekly run/walk every Thursday!\nRunners of all levels are invited down to the Gentile taproom for a 5k loop starting and ending at the brewery. Not a runner? Not a problem! Walking is encouraged\, just as long as you’re back for last call! We will depart the taproom at 6:00 so please come in a little early to drop off your stuff and sign in!\nWhen you’re done feel free to hang out\, meet new friends and enjoy some of Beverly’s finest brews! Kid and dog friendly and make sure to bring dinner or snacks to refuel when you get back!\nSo lace up and meet us at the taproom at 59 Park Street!
URL:https://bevmain.org/event/runabv-run-club/2026-03-12/
LOCATION:Gentile Brewing\, 59 Park Street\, Beverly\, MA\, 01915\, United States
CATEGORIES:Beer/Wine,Free,Outdoor
ATTACH;FMTTYPE=image/jpeg:https://bevmain.org/wp-content/uploads/2023/03/RunABV.jpg
GEO:42.5493727;-70.8842259
X-APPLE-STRUCTURED-LOCATION;VALUE=URI;X-ADDRESS=Gentile Brewing 59 Park Street Beverly MA 01915 United States;X-APPLE-RADIUS=500;X-TITLE=59 Park Street:geo:-70.8842259,42.5493727
END:VEVENT
BEGIN:VEVENT
DTSTART;TZID=America/New_York:20260316T170000
DTEND;TZID=America/New_York:20260316T190000
DTSTAMP:20260421T133004
CREATED:20230314T150712Z
LAST-MODIFIED:20230314T150712Z
UID:10017385-1773680400-1773687600@bevmain.org
SUMMARY:Backbeat Street Fleet Run Club
DESCRIPTION:Run Club meets every Monday from 5pm to 7pm with groups going out at 6pm. All walkers and runners welcome. Earn prizes each week!
URL:https://bevmain.org/event/backbeat-street-fleet-run-club/2026-03-16/
LOCATION:Backbeat Brewing\, 31A Park Street\, Beverly\, MA\, 01915\, United States
CATEGORIES:Beer/Wine,Community Events,Free,Outdoor
ATTACH;FMTTYPE=image/jpeg:https://bevmain.org/wp-content/uploads/2023/03/backbeatrunclub.jpg
GEO:42.5476788;-70.8846903
X-APPLE-STRUCTURED-LOCATION;VALUE=URI;X-ADDRESS=Backbeat Brewing 31A Park Street Beverly MA 01915 United States;X-APPLE-RADIUS=500;X-TITLE=31A Park Street:geo:-70.8846903,42.5476788
END:VEVENT
BEGIN:VEVENT
DTSTART;TZID=America/New_York:20260318T193000
DTEND;TZID=America/New_York:20260318T213000
DTSTAMP:20260421T133004
CREATED:20230307T180121Z
LAST-MODIFIED:20230307T194001Z
UID:10014712-1773862200-1773869400@bevmain.org
SUMMARY:Rhino Run Club
DESCRIPTION:Avid runner? just beginning? Looking for some friends to run with? JOIN us every Wednesday night at 7:30pm at Old Planters Brewing Co.
URL:https://bevmain.org/event/rhino-run-club/2026-03-18/
LOCATION:Old Planter's Brewing Co.\, 232 Rantoul St.\, Beverly\, MA\, 01915\, United States
CATEGORIES:Beer/Wine,Community Events,Free,Outdoor
ATTACH;FMTTYPE=image/jpeg:https://bevmain.org/wp-content/uploads/2023/03/rhinorunclub.jpg
GEO:42.5493085;-70.8838543
X-APPLE-STRUCTURED-LOCATION;VALUE=URI;X-ADDRESS=Old Planter's Brewing Co. 232 Rantoul St. Beverly MA 01915 United States;X-APPLE-RADIUS=500;X-TITLE=232 Rantoul St.:geo:-70.8838543,42.5493085
END:VEVENT
BEGIN:VEVENT
DTSTART;TZID=America/New_York:20260319T180000
DTEND;TZID=America/New_York:20260319T200000
DTSTAMP:20260421T133004
CREATED:20230307T165824Z
LAST-MODIFIED:20250207T134021Z
UID:10013657-1773943200-1773950400@bevmain.org
SUMMARY:RunABV - Run Club
DESCRIPTION:Attention Beverly Vehicles: 3.1 weekly run/walk every Thursday!\nRunners of all levels are invited down to the Gentile taproom for a 5k loop starting and ending at the brewery. Not a runner? Not a problem! Walking is encouraged\, just as long as you’re back for last call! We will depart the taproom at 6:00 so please come in a little early to drop off your stuff and sign in!\nWhen you’re done feel free to hang out\, meet new friends and enjoy some of Beverly’s finest brews! Kid and dog friendly and make sure to bring dinner or snacks to refuel when you get back!\nSo lace up and meet us at the taproom at 59 Park Street!
URL:https://bevmain.org/event/runabv-run-club/2026-03-19/
LOCATION:Gentile Brewing\, 59 Park Street\, Beverly\, MA\, 01915\, United States
CATEGORIES:Beer/Wine,Free,Outdoor
ATTACH;FMTTYPE=image/jpeg:https://bevmain.org/wp-content/uploads/2023/03/RunABV.jpg
GEO:42.5493727;-70.8842259
X-APPLE-STRUCTURED-LOCATION;VALUE=URI;X-ADDRESS=Gentile Brewing 59 Park Street Beverly MA 01915 United States;X-APPLE-RADIUS=500;X-TITLE=59 Park Street:geo:-70.8842259,42.5493727
END:VEVENT
BEGIN:VEVENT
DTSTART;TZID=America/New_York:20260323T170000
DTEND;TZID=America/New_York:20260323T190000
DTSTAMP:20260421T133004
CREATED:20230314T150712Z
LAST-MODIFIED:20230314T150712Z
UID:10017386-1774285200-1774292400@bevmain.org
SUMMARY:Backbeat Street Fleet Run Club
DESCRIPTION:Run Club meets every Monday from 5pm to 7pm with groups going out at 6pm. All walkers and runners welcome. Earn prizes each week!
URL:https://bevmain.org/event/backbeat-street-fleet-run-club/2026-03-23/
LOCATION:Backbeat Brewing\, 31A Park Street\, Beverly\, MA\, 01915\, United States
CATEGORIES:Beer/Wine,Community Events,Free,Outdoor
ATTACH;FMTTYPE=image/jpeg:https://bevmain.org/wp-content/uploads/2023/03/backbeatrunclub.jpg
GEO:42.5476788;-70.8846903
X-APPLE-STRUCTURED-LOCATION;VALUE=URI;X-ADDRESS=Backbeat Brewing 31A Park Street Beverly MA 01915 United States;X-APPLE-RADIUS=500;X-TITLE=31A Park Street:geo:-70.8846903,42.5476788
END:VEVENT
BEGIN:VEVENT
DTSTART;TZID=America/New_York:20260325T193000
DTEND;TZID=America/New_York:20260325T213000
DTSTAMP:20260421T133004
CREATED:20230307T180121Z
LAST-MODIFIED:20230307T194001Z
UID:10014713-1774467000-1774474200@bevmain.org
SUMMARY:Rhino Run Club
DESCRIPTION:Avid runner? just beginning? Looking for some friends to run with? JOIN us every Wednesday night at 7:30pm at Old Planters Brewing Co.
URL:https://bevmain.org/event/rhino-run-club/2026-03-25/
LOCATION:Old Planter's Brewing Co.\, 232 Rantoul St.\, Beverly\, MA\, 01915\, United States
CATEGORIES:Beer/Wine,Community Events,Free,Outdoor
ATTACH;FMTTYPE=image/jpeg:https://bevmain.org/wp-content/uploads/2023/03/rhinorunclub.jpg
GEO:42.5493085;-70.8838543
X-APPLE-STRUCTURED-LOCATION;VALUE=URI;X-ADDRESS=Old Planter's Brewing Co. 232 Rantoul St. Beverly MA 01915 United States;X-APPLE-RADIUS=500;X-TITLE=232 Rantoul St.:geo:-70.8838543,42.5493085
END:VEVENT
BEGIN:VEVENT
DTSTART;TZID=America/New_York:20260326T180000
DTEND;TZID=America/New_York:20260326T200000
DTSTAMP:20260421T133005
CREATED:20230307T165824Z
LAST-MODIFIED:20250207T134021Z
UID:10013658-1774548000-1774555200@bevmain.org
SUMMARY:RunABV - Run Club
DESCRIPTION:Attention Beverly Vehicles: 3.1 weekly run/walk every Thursday!\nRunners of all levels are invited down to the Gentile taproom for a 5k loop starting and ending at the brewery. Not a runner? Not a problem! Walking is encouraged\, just as long as you’re back for last call! We will depart the taproom at 6:00 so please come in a little early to drop off your stuff and sign in!\nWhen you’re done feel free to hang out\, meet new friends and enjoy some of Beverly’s finest brews! Kid and dog friendly and make sure to bring dinner or snacks to refuel when you get back!\nSo lace up and meet us at the taproom at 59 Park Street!
URL:https://bevmain.org/event/runabv-run-club/2026-03-26/
LOCATION:Gentile Brewing\, 59 Park Street\, Beverly\, MA\, 01915\, United States
CATEGORIES:Beer/Wine,Free,Outdoor
ATTACH;FMTTYPE=image/jpeg:https://bevmain.org/wp-content/uploads/2023/03/RunABV.jpg
GEO:42.5493727;-70.8842259
X-APPLE-STRUCTURED-LOCATION;VALUE=URI;X-ADDRESS=Gentile Brewing 59 Park Street Beverly MA 01915 United States;X-APPLE-RADIUS=500;X-TITLE=59 Park Street:geo:-70.8842259,42.5493727
END:VEVENT
BEGIN:VEVENT
DTSTART;TZID=America/New_York:20260330T170000
DTEND;TZID=America/New_York:20260330T190000
DTSTAMP:20260421T133005
CREATED:20230314T150712Z
LAST-MODIFIED:20230314T150712Z
UID:10017387-1774890000-1774897200@bevmain.org
SUMMARY:Backbeat Street Fleet Run Club
DESCRIPTION:Run Club meets every Monday from 5pm to 7pm with groups going out at 6pm. All walkers and runners welcome. Earn prizes each week!
URL:https://bevmain.org/event/backbeat-street-fleet-run-club/2026-03-30/
LOCATION:Backbeat Brewing\, 31A Park Street\, Beverly\, MA\, 01915\, United States
CATEGORIES:Beer/Wine,Community Events,Free,Outdoor
ATTACH;FMTTYPE=image/jpeg:https://bevmain.org/wp-content/uploads/2023/03/backbeatrunclub.jpg
GEO:42.5476788;-70.8846903
X-APPLE-STRUCTURED-LOCATION;VALUE=URI;X-ADDRESS=Backbeat Brewing 31A Park Street Beverly MA 01915 United States;X-APPLE-RADIUS=500;X-TITLE=31A Park Street:geo:-70.8846903,42.5476788
END:VEVENT
END:VCALENDAR