BEGIN:VCALENDAR
VERSION:2.0
PRODID:-//Beverly Main Streets - ECPv6.15.20//NONSGML v1.0//EN
CALSCALE:GREGORIAN
METHOD:PUBLISH
X-ORIGINAL-URL:https://bevmain.org
X-WR-CALDESC:Events for Beverly Main Streets
REFRESH-INTERVAL;VALUE=DURATION:PT1H
X-Robots-Tag:noindex
X-PUBLISHED-TTL:PT1H
BEGIN:VTIMEZONE
TZID:America/New_York
BEGIN:DAYLIGHT
TZOFFSETFROM:-0500
TZOFFSETTO:-0400
TZNAME:EDT
DTSTART:20260308T070000
END:DAYLIGHT
BEGIN:STANDARD
TZOFFSETFROM:-0400
TZOFFSETTO:-0500
TZNAME:EST
DTSTART:20261101T060000
END:STANDARD
BEGIN:DAYLIGHT
TZOFFSETFROM:-0500
TZOFFSETTO:-0400
TZNAME:EDT
DTSTART:20270314T070000
END:DAYLIGHT
BEGIN:STANDARD
TZOFFSETFROM:-0400
TZOFFSETTO:-0500
TZNAME:EST
DTSTART:20271107T060000
END:STANDARD
BEGIN:DAYLIGHT
TZOFFSETFROM:-0500
TZOFFSETTO:-0400
TZNAME:EDT
DTSTART:20280312T070000
END:DAYLIGHT
BEGIN:STANDARD
TZOFFSETFROM:-0400
TZOFFSETTO:-0500
TZNAME:EST
DTSTART:20281105T060000
END:STANDARD
END:VTIMEZONE
BEGIN:VEVENT
DTSTART;TZID=America/New_York:20270901T193000
DTEND;TZID=America/New_York:20270901T213000
DTSTAMP:20260422T122126
CREATED:20230307T180121Z
LAST-MODIFIED:20230307T194001Z
UID:10014788-1819827000-1819834200@bevmain.org
SUMMARY:Rhino Run Club
DESCRIPTION:Avid runner? just beginning? Looking for some friends to run with? JOIN us every Wednesday night at 7:30pm at Old Planters Brewing Co.
URL:https://bevmain.org/event/rhino-run-club/2027-09-01/
LOCATION:Old Planter's Brewing Co.\, 232 Rantoul St.\, Beverly\, MA\, 01915\, United States
CATEGORIES:Beer/Wine,Community Events,Free,Outdoor
ATTACH;FMTTYPE=image/jpeg:https://bevmain.org/wp-content/uploads/2023/03/rhinorunclub.jpg
GEO:42.5493085;-70.8838543
X-APPLE-STRUCTURED-LOCATION;VALUE=URI;X-ADDRESS=Old Planter's Brewing Co. 232 Rantoul St. Beverly MA 01915 United States;X-APPLE-RADIUS=500;X-TITLE=232 Rantoul St.:geo:-70.8838543,42.5493085
END:VEVENT
BEGIN:VEVENT
DTSTART;TZID=America/New_York:20270902T180000
DTEND;TZID=America/New_York:20270902T200000
DTSTAMP:20260422T122126
CREATED:20230307T165824Z
LAST-MODIFIED:20250207T134021Z
UID:10013733-1819908000-1819915200@bevmain.org
SUMMARY:RunABV - Run Club
DESCRIPTION:Attention Beverly Vehicles: 3.1 weekly run/walk every Thursday!\nRunners of all levels are invited down to the Gentile taproom for a 5k loop starting and ending at the brewery. Not a runner? Not a problem! Walking is encouraged\, just as long as you’re back for last call! We will depart the taproom at 6:00 so please come in a little early to drop off your stuff and sign in!\nWhen you’re done feel free to hang out\, meet new friends and enjoy some of Beverly’s finest brews! Kid and dog friendly and make sure to bring dinner or snacks to refuel when you get back!\nSo lace up and meet us at the taproom at 59 Park Street!
URL:https://bevmain.org/event/runabv-run-club/2027-09-02/
LOCATION:Gentile Brewing\, 59 Park Street\, Beverly\, MA\, 01915\, United States
CATEGORIES:Beer/Wine,Free,Outdoor
ATTACH;FMTTYPE=image/jpeg:https://bevmain.org/wp-content/uploads/2023/03/RunABV.jpg
GEO:42.5493727;-70.8842259
X-APPLE-STRUCTURED-LOCATION;VALUE=URI;X-ADDRESS=Gentile Brewing 59 Park Street Beverly MA 01915 United States;X-APPLE-RADIUS=500;X-TITLE=59 Park Street:geo:-70.8842259,42.5493727
END:VEVENT
BEGIN:VEVENT
DTSTART;TZID=America/New_York:20270906T170000
DTEND;TZID=America/New_York:20270906T190000
DTSTAMP:20260422T122126
CREATED:20230314T150712Z
LAST-MODIFIED:20230314T150712Z
UID:10017462-1820250000-1820257200@bevmain.org
SUMMARY:Backbeat Street Fleet Run Club
DESCRIPTION:Run Club meets every Monday from 5pm to 7pm with groups going out at 6pm. All walkers and runners welcome. Earn prizes each week!
URL:https://bevmain.org/event/backbeat-street-fleet-run-club/2027-09-06/
LOCATION:Backbeat Brewing\, 31A Park Street\, Beverly\, MA\, 01915\, United States
CATEGORIES:Beer/Wine,Community Events,Free,Outdoor
ATTACH;FMTTYPE=image/jpeg:https://bevmain.org/wp-content/uploads/2023/03/backbeatrunclub.jpg
GEO:42.5476788;-70.8846903
X-APPLE-STRUCTURED-LOCATION;VALUE=URI;X-ADDRESS=Backbeat Brewing 31A Park Street Beverly MA 01915 United States;X-APPLE-RADIUS=500;X-TITLE=31A Park Street:geo:-70.8846903,42.5476788
END:VEVENT
BEGIN:VEVENT
DTSTART;TZID=America/New_York:20270908T193000
DTEND;TZID=America/New_York:20270908T213000
DTSTAMP:20260422T122126
CREATED:20230307T180121Z
LAST-MODIFIED:20230307T194001Z
UID:10014789-1820431800-1820439000@bevmain.org
SUMMARY:Rhino Run Club
DESCRIPTION:Avid runner? just beginning? Looking for some friends to run with? JOIN us every Wednesday night at 7:30pm at Old Planters Brewing Co.
URL:https://bevmain.org/event/rhino-run-club/2027-09-08/
LOCATION:Old Planter's Brewing Co.\, 232 Rantoul St.\, Beverly\, MA\, 01915\, United States
CATEGORIES:Beer/Wine,Community Events,Free,Outdoor
ATTACH;FMTTYPE=image/jpeg:https://bevmain.org/wp-content/uploads/2023/03/rhinorunclub.jpg
GEO:42.5493085;-70.8838543
X-APPLE-STRUCTURED-LOCATION;VALUE=URI;X-ADDRESS=Old Planter's Brewing Co. 232 Rantoul St. Beverly MA 01915 United States;X-APPLE-RADIUS=500;X-TITLE=232 Rantoul St.:geo:-70.8838543,42.5493085
END:VEVENT
BEGIN:VEVENT
DTSTART;TZID=America/New_York:20270909T180000
DTEND;TZID=America/New_York:20270909T200000
DTSTAMP:20260422T122126
CREATED:20230307T165824Z
LAST-MODIFIED:20250207T134021Z
UID:10013734-1820512800-1820520000@bevmain.org
SUMMARY:RunABV - Run Club
DESCRIPTION:Attention Beverly Vehicles: 3.1 weekly run/walk every Thursday!\nRunners of all levels are invited down to the Gentile taproom for a 5k loop starting and ending at the brewery. Not a runner? Not a problem! Walking is encouraged\, just as long as you’re back for last call! We will depart the taproom at 6:00 so please come in a little early to drop off your stuff and sign in!\nWhen you’re done feel free to hang out\, meet new friends and enjoy some of Beverly’s finest brews! Kid and dog friendly and make sure to bring dinner or snacks to refuel when you get back!\nSo lace up and meet us at the taproom at 59 Park Street!
URL:https://bevmain.org/event/runabv-run-club/2027-09-09/
LOCATION:Gentile Brewing\, 59 Park Street\, Beverly\, MA\, 01915\, United States
CATEGORIES:Beer/Wine,Free,Outdoor
ATTACH;FMTTYPE=image/jpeg:https://bevmain.org/wp-content/uploads/2023/03/RunABV.jpg
GEO:42.5493727;-70.8842259
X-APPLE-STRUCTURED-LOCATION;VALUE=URI;X-ADDRESS=Gentile Brewing 59 Park Street Beverly MA 01915 United States;X-APPLE-RADIUS=500;X-TITLE=59 Park Street:geo:-70.8842259,42.5493727
END:VEVENT
BEGIN:VEVENT
DTSTART;TZID=America/New_York:20270913T170000
DTEND;TZID=America/New_York:20270913T190000
DTSTAMP:20260422T122126
CREATED:20230314T150712Z
LAST-MODIFIED:20230314T150712Z
UID:10017463-1820854800-1820862000@bevmain.org
SUMMARY:Backbeat Street Fleet Run Club
DESCRIPTION:Run Club meets every Monday from 5pm to 7pm with groups going out at 6pm. All walkers and runners welcome. Earn prizes each week!
URL:https://bevmain.org/event/backbeat-street-fleet-run-club/2027-09-13/
LOCATION:Backbeat Brewing\, 31A Park Street\, Beverly\, MA\, 01915\, United States
CATEGORIES:Beer/Wine,Community Events,Free,Outdoor
ATTACH;FMTTYPE=image/jpeg:https://bevmain.org/wp-content/uploads/2023/03/backbeatrunclub.jpg
GEO:42.5476788;-70.8846903
X-APPLE-STRUCTURED-LOCATION;VALUE=URI;X-ADDRESS=Backbeat Brewing 31A Park Street Beverly MA 01915 United States;X-APPLE-RADIUS=500;X-TITLE=31A Park Street:geo:-70.8846903,42.5476788
END:VEVENT
BEGIN:VEVENT
DTSTART;TZID=America/New_York:20270915T193000
DTEND;TZID=America/New_York:20270915T213000
DTSTAMP:20260422T122126
CREATED:20230307T180121Z
LAST-MODIFIED:20230307T194001Z
UID:10014790-1821036600-1821043800@bevmain.org
SUMMARY:Rhino Run Club
DESCRIPTION:Avid runner? just beginning? Looking for some friends to run with? JOIN us every Wednesday night at 7:30pm at Old Planters Brewing Co.
URL:https://bevmain.org/event/rhino-run-club/2027-09-15/
LOCATION:Old Planter's Brewing Co.\, 232 Rantoul St.\, Beverly\, MA\, 01915\, United States
CATEGORIES:Beer/Wine,Community Events,Free,Outdoor
ATTACH;FMTTYPE=image/jpeg:https://bevmain.org/wp-content/uploads/2023/03/rhinorunclub.jpg
GEO:42.5493085;-70.8838543
X-APPLE-STRUCTURED-LOCATION;VALUE=URI;X-ADDRESS=Old Planter's Brewing Co. 232 Rantoul St. Beverly MA 01915 United States;X-APPLE-RADIUS=500;X-TITLE=232 Rantoul St.:geo:-70.8838543,42.5493085
END:VEVENT
BEGIN:VEVENT
DTSTART;TZID=America/New_York:20270916T180000
DTEND;TZID=America/New_York:20270916T200000
DTSTAMP:20260422T122126
CREATED:20230307T165824Z
LAST-MODIFIED:20250207T134021Z
UID:10013735-1821117600-1821124800@bevmain.org
SUMMARY:RunABV - Run Club
DESCRIPTION:Attention Beverly Vehicles: 3.1 weekly run/walk every Thursday!\nRunners of all levels are invited down to the Gentile taproom for a 5k loop starting and ending at the brewery. Not a runner? Not a problem! Walking is encouraged\, just as long as you’re back for last call! We will depart the taproom at 6:00 so please come in a little early to drop off your stuff and sign in!\nWhen you’re done feel free to hang out\, meet new friends and enjoy some of Beverly’s finest brews! Kid and dog friendly and make sure to bring dinner or snacks to refuel when you get back!\nSo lace up and meet us at the taproom at 59 Park Street!
URL:https://bevmain.org/event/runabv-run-club/2027-09-16/
LOCATION:Gentile Brewing\, 59 Park Street\, Beverly\, MA\, 01915\, United States
CATEGORIES:Beer/Wine,Free,Outdoor
ATTACH;FMTTYPE=image/jpeg:https://bevmain.org/wp-content/uploads/2023/03/RunABV.jpg
GEO:42.5493727;-70.8842259
X-APPLE-STRUCTURED-LOCATION;VALUE=URI;X-ADDRESS=Gentile Brewing 59 Park Street Beverly MA 01915 United States;X-APPLE-RADIUS=500;X-TITLE=59 Park Street:geo:-70.8842259,42.5493727
END:VEVENT
BEGIN:VEVENT
DTSTART;TZID=America/New_York:20270920T170000
DTEND;TZID=America/New_York:20270920T190000
DTSTAMP:20260422T122126
CREATED:20230314T150712Z
LAST-MODIFIED:20230314T150712Z
UID:10017464-1821459600-1821466800@bevmain.org
SUMMARY:Backbeat Street Fleet Run Club
DESCRIPTION:Run Club meets every Monday from 5pm to 7pm with groups going out at 6pm. All walkers and runners welcome. Earn prizes each week!
URL:https://bevmain.org/event/backbeat-street-fleet-run-club/2027-09-20/
LOCATION:Backbeat Brewing\, 31A Park Street\, Beverly\, MA\, 01915\, United States
CATEGORIES:Beer/Wine,Community Events,Free,Outdoor
ATTACH;FMTTYPE=image/jpeg:https://bevmain.org/wp-content/uploads/2023/03/backbeatrunclub.jpg
GEO:42.5476788;-70.8846903
X-APPLE-STRUCTURED-LOCATION;VALUE=URI;X-ADDRESS=Backbeat Brewing 31A Park Street Beverly MA 01915 United States;X-APPLE-RADIUS=500;X-TITLE=31A Park Street:geo:-70.8846903,42.5476788
END:VEVENT
BEGIN:VEVENT
DTSTART;TZID=America/New_York:20270922T193000
DTEND;TZID=America/New_York:20270922T213000
DTSTAMP:20260422T122126
CREATED:20230307T180121Z
LAST-MODIFIED:20230307T194001Z
UID:10014791-1821641400-1821648600@bevmain.org
SUMMARY:Rhino Run Club
DESCRIPTION:Avid runner? just beginning? Looking for some friends to run with? JOIN us every Wednesday night at 7:30pm at Old Planters Brewing Co.
URL:https://bevmain.org/event/rhino-run-club/2027-09-22/
LOCATION:Old Planter's Brewing Co.\, 232 Rantoul St.\, Beverly\, MA\, 01915\, United States
CATEGORIES:Beer/Wine,Community Events,Free,Outdoor
ATTACH;FMTTYPE=image/jpeg:https://bevmain.org/wp-content/uploads/2023/03/rhinorunclub.jpg
GEO:42.5493085;-70.8838543
X-APPLE-STRUCTURED-LOCATION;VALUE=URI;X-ADDRESS=Old Planter's Brewing Co. 232 Rantoul St. Beverly MA 01915 United States;X-APPLE-RADIUS=500;X-TITLE=232 Rantoul St.:geo:-70.8838543,42.5493085
END:VEVENT
BEGIN:VEVENT
DTSTART;TZID=America/New_York:20270923T180000
DTEND;TZID=America/New_York:20270923T200000
DTSTAMP:20260422T122126
CREATED:20230307T165824Z
LAST-MODIFIED:20250207T134021Z
UID:10013736-1821722400-1821729600@bevmain.org
SUMMARY:RunABV - Run Club
DESCRIPTION:Attention Beverly Vehicles: 3.1 weekly run/walk every Thursday!\nRunners of all levels are invited down to the Gentile taproom for a 5k loop starting and ending at the brewery. Not a runner? Not a problem! Walking is encouraged\, just as long as you’re back for last call! We will depart the taproom at 6:00 so please come in a little early to drop off your stuff and sign in!\nWhen you’re done feel free to hang out\, meet new friends and enjoy some of Beverly’s finest brews! Kid and dog friendly and make sure to bring dinner or snacks to refuel when you get back!\nSo lace up and meet us at the taproom at 59 Park Street!
URL:https://bevmain.org/event/runabv-run-club/2027-09-23/
LOCATION:Gentile Brewing\, 59 Park Street\, Beverly\, MA\, 01915\, United States
CATEGORIES:Beer/Wine,Free,Outdoor
ATTACH;FMTTYPE=image/jpeg:https://bevmain.org/wp-content/uploads/2023/03/RunABV.jpg
GEO:42.5493727;-70.8842259
X-APPLE-STRUCTURED-LOCATION;VALUE=URI;X-ADDRESS=Gentile Brewing 59 Park Street Beverly MA 01915 United States;X-APPLE-RADIUS=500;X-TITLE=59 Park Street:geo:-70.8842259,42.5493727
END:VEVENT
BEGIN:VEVENT
DTSTART;TZID=America/New_York:20270927T170000
DTEND;TZID=America/New_York:20270927T190000
DTSTAMP:20260422T122126
CREATED:20230314T150712Z
LAST-MODIFIED:20230314T150712Z
UID:10017465-1822064400-1822071600@bevmain.org
SUMMARY:Backbeat Street Fleet Run Club
DESCRIPTION:Run Club meets every Monday from 5pm to 7pm with groups going out at 6pm. All walkers and runners welcome. Earn prizes each week!
URL:https://bevmain.org/event/backbeat-street-fleet-run-club/2027-09-27/
LOCATION:Backbeat Brewing\, 31A Park Street\, Beverly\, MA\, 01915\, United States
CATEGORIES:Beer/Wine,Community Events,Free,Outdoor
ATTACH;FMTTYPE=image/jpeg:https://bevmain.org/wp-content/uploads/2023/03/backbeatrunclub.jpg
GEO:42.5476788;-70.8846903
X-APPLE-STRUCTURED-LOCATION;VALUE=URI;X-ADDRESS=Backbeat Brewing 31A Park Street Beverly MA 01915 United States;X-APPLE-RADIUS=500;X-TITLE=31A Park Street:geo:-70.8846903,42.5476788
END:VEVENT
BEGIN:VEVENT
DTSTART;TZID=America/New_York:20270929T193000
DTEND;TZID=America/New_York:20270929T213000
DTSTAMP:20260422T122126
CREATED:20230307T180121Z
LAST-MODIFIED:20230307T194001Z
UID:10014792-1822246200-1822253400@bevmain.org
SUMMARY:Rhino Run Club
DESCRIPTION:Avid runner? just beginning? Looking for some friends to run with? JOIN us every Wednesday night at 7:30pm at Old Planters Brewing Co.
URL:https://bevmain.org/event/rhino-run-club/2027-09-29/
LOCATION:Old Planter's Brewing Co.\, 232 Rantoul St.\, Beverly\, MA\, 01915\, United States
CATEGORIES:Beer/Wine,Community Events,Free,Outdoor
ATTACH;FMTTYPE=image/jpeg:https://bevmain.org/wp-content/uploads/2023/03/rhinorunclub.jpg
GEO:42.5493085;-70.8838543
X-APPLE-STRUCTURED-LOCATION;VALUE=URI;X-ADDRESS=Old Planter's Brewing Co. 232 Rantoul St. Beverly MA 01915 United States;X-APPLE-RADIUS=500;X-TITLE=232 Rantoul St.:geo:-70.8838543,42.5493085
END:VEVENT
BEGIN:VEVENT
DTSTART;TZID=America/New_York:20270930T180000
DTEND;TZID=America/New_York:20270930T200000
DTSTAMP:20260422T122126
CREATED:20230307T165824Z
LAST-MODIFIED:20250207T134021Z
UID:10013737-1822327200-1822334400@bevmain.org
SUMMARY:RunABV - Run Club
DESCRIPTION:Attention Beverly Vehicles: 3.1 weekly run/walk every Thursday!\nRunners of all levels are invited down to the Gentile taproom for a 5k loop starting and ending at the brewery. Not a runner? Not a problem! Walking is encouraged\, just as long as you’re back for last call! We will depart the taproom at 6:00 so please come in a little early to drop off your stuff and sign in!\nWhen you’re done feel free to hang out\, meet new friends and enjoy some of Beverly’s finest brews! Kid and dog friendly and make sure to bring dinner or snacks to refuel when you get back!\nSo lace up and meet us at the taproom at 59 Park Street!
URL:https://bevmain.org/event/runabv-run-club/2027-09-30/
LOCATION:Gentile Brewing\, 59 Park Street\, Beverly\, MA\, 01915\, United States
CATEGORIES:Beer/Wine,Free,Outdoor
ATTACH;FMTTYPE=image/jpeg:https://bevmain.org/wp-content/uploads/2023/03/RunABV.jpg
GEO:42.5493727;-70.8842259
X-APPLE-STRUCTURED-LOCATION;VALUE=URI;X-ADDRESS=Gentile Brewing 59 Park Street Beverly MA 01915 United States;X-APPLE-RADIUS=500;X-TITLE=59 Park Street:geo:-70.8842259,42.5493727
END:VEVENT
END:VCALENDAR