BEGIN:VCALENDAR
VERSION:2.0
PRODID:-//Beverly Main Streets - ECPv6.15.20//NONSGML v1.0//EN
CALSCALE:GREGORIAN
METHOD:PUBLISH
X-ORIGINAL-URL:https://bevmain.org
X-WR-CALDESC:Events for Beverly Main Streets
REFRESH-INTERVAL;VALUE=DURATION:PT1H
X-Robots-Tag:noindex
X-PUBLISHED-TTL:PT1H
BEGIN:VTIMEZONE
TZID:America/New_York
BEGIN:DAYLIGHT
TZOFFSETFROM:-0500
TZOFFSETTO:-0400
TZNAME:EDT
DTSTART:20220313T070000
END:DAYLIGHT
BEGIN:STANDARD
TZOFFSETFROM:-0400
TZOFFSETTO:-0500
TZNAME:EST
DTSTART:20221106T060000
END:STANDARD
BEGIN:DAYLIGHT
TZOFFSETFROM:-0500
TZOFFSETTO:-0400
TZNAME:EDT
DTSTART:20230312T070000
END:DAYLIGHT
BEGIN:STANDARD
TZOFFSETFROM:-0400
TZOFFSETTO:-0500
TZNAME:EST
DTSTART:20231105T060000
END:STANDARD
BEGIN:DAYLIGHT
TZOFFSETFROM:-0500
TZOFFSETTO:-0400
TZNAME:EDT
DTSTART:20240310T070000
END:DAYLIGHT
BEGIN:STANDARD
TZOFFSETFROM:-0400
TZOFFSETTO:-0500
TZNAME:EST
DTSTART:20241103T060000
END:STANDARD
END:VTIMEZONE
BEGIN:VEVENT
DTSTART;TZID=America/New_York:20230402T110000
DTEND;TZID=America/New_York:20230402T140000
DTSTAMP:20260424T082315
CREATED:20230328T142347Z
LAST-MODIFIED:20230328T142347Z
UID:10017774-1680433200-1680444000@bevmain.org
SUMMARY:Swap a Style
DESCRIPTION:Got some clothes you’re looking to get off your hands? Bring them in and see if you can find a hidden gem from someone else’s wardrobe! (Preregistration recommended)
URL:https://bevmain.org/event/swap-a-style/
LOCATION:The Castle: A Board Game Cafe\, 240 Rantoul Street\, Beverly\, MA\, 01915\, United States
CATEGORIES:Community Events,Free
ATTACH;FMTTYPE=image/png:https://bevmain.org/wp-content/uploads/2023/03/clothingswap.png
GEO:42.549606;-70.8838342
X-APPLE-STRUCTURED-LOCATION;VALUE=URI;X-ADDRESS=The Castle: A Board Game Cafe 240 Rantoul Street Beverly MA 01915 United States;X-APPLE-RADIUS=500;X-TITLE=240 Rantoul Street:geo:-70.8838342,42.549606
END:VEVENT
END:VCALENDAR