BEGIN:VCALENDAR
VERSION:2.0
PRODID:-//Beverly Main Streets - ECPv6.15.20//NONSGML v1.0//EN
CALSCALE:GREGORIAN
METHOD:PUBLISH
X-ORIGINAL-URL:https://bevmain.org
X-WR-CALDESC:Events for Beverly Main Streets
REFRESH-INTERVAL;VALUE=DURATION:PT1H
X-Robots-Tag:noindex
X-PUBLISHED-TTL:PT1H
BEGIN:VTIMEZONE
TZID:America/New_York
BEGIN:DAYLIGHT
TZOFFSETFROM:-0500
TZOFFSETTO:-0400
TZNAME:EDT
DTSTART:20240310T070000
END:DAYLIGHT
BEGIN:STANDARD
TZOFFSETFROM:-0400
TZOFFSETTO:-0500
TZNAME:EST
DTSTART:20241103T060000
END:STANDARD
BEGIN:DAYLIGHT
TZOFFSETFROM:-0500
TZOFFSETTO:-0400
TZNAME:EDT
DTSTART:20250309T070000
END:DAYLIGHT
BEGIN:STANDARD
TZOFFSETFROM:-0400
TZOFFSETTO:-0500
TZNAME:EST
DTSTART:20251102T060000
END:STANDARD
BEGIN:DAYLIGHT
TZOFFSETFROM:-0500
TZOFFSETTO:-0400
TZNAME:EDT
DTSTART:20260308T070000
END:DAYLIGHT
BEGIN:STANDARD
TZOFFSETFROM:-0400
TZOFFSETTO:-0500
TZNAME:EST
DTSTART:20261101T060000
END:STANDARD
END:VTIMEZONE
BEGIN:VEVENT
DTSTART;TZID=America/New_York:20250318T190000
DTEND;TZID=America/New_York:20250318T200000
DTSTAMP:20260423T060208
CREATED:20250303T143628Z
LAST-MODIFIED:20250303T143628Z
UID:10027458-1742324400-1742328000@bevmain.org
SUMMARY:Author Talk with Ted Reinstein
DESCRIPTION:Journalist and author Ted Reinstein has reported all around New England for 25 years\, telling the colorful stories of this historic yet ever-changing corner of America. Now\, he condenses his travels into a single\, unique labor of love: a journey through the heart and soul of New England\, meeting the most memorable people—and their unlikely stories—all along the way. People whose struggles\, toughness\, triumphs\, and humor not only define the very essence of New England\, but represent the timeless best of America as well. \nSince 1995\, Ted Reinstein has been a reporter for Boston/WCVB’s celebrated Chronicle\, the nation’s longest-running\, locally-produced nightly news magazine.
URL:https://bevmain.org/event/author-talk-with-ted-reinstein/
LOCATION:Beverly Public Library\, 32 Essex Street\, Beverly\, MA\, 01915\, United States
CATEGORIES:Community Events,Free
ATTACH;FMTTYPE=image/jpeg:https://bevmain.org/wp-content/uploads/2025/03/ted-reinstein-flyer-2025.jpg
ORGANIZER;CN="Beverly Public Library":MAILTO:karasin@noblenet.org
GEO:42.5508812;-70.876672
X-APPLE-STRUCTURED-LOCATION;VALUE=URI;X-ADDRESS=Beverly Public Library 32 Essex Street Beverly MA 01915 United States;X-APPLE-RADIUS=500;X-TITLE=32 Essex Street:geo:-70.876672,42.5508812
END:VEVENT
END:VCALENDAR