BEGIN:VCALENDAR
VERSION:2.0
PRODID:-//Beverly Main Streets - ECPv6.15.20//NONSGML v1.0//EN
CALSCALE:GREGORIAN
METHOD:PUBLISH
X-ORIGINAL-URL:https://bevmain.org
X-WR-CALDESC:Events for Beverly Main Streets
REFRESH-INTERVAL;VALUE=DURATION:PT1H
X-Robots-Tag:noindex
X-PUBLISHED-TTL:PT1H
BEGIN:VTIMEZONE
TZID:America/New_York
BEGIN:DAYLIGHT
TZOFFSETFROM:-0500
TZOFFSETTO:-0400
TZNAME:EDT
DTSTART:20240310T070000
END:DAYLIGHT
BEGIN:STANDARD
TZOFFSETFROM:-0400
TZOFFSETTO:-0500
TZNAME:EST
DTSTART:20241103T060000
END:STANDARD
BEGIN:DAYLIGHT
TZOFFSETFROM:-0500
TZOFFSETTO:-0400
TZNAME:EDT
DTSTART:20250309T070000
END:DAYLIGHT
BEGIN:STANDARD
TZOFFSETFROM:-0400
TZOFFSETTO:-0500
TZNAME:EST
DTSTART:20251102T060000
END:STANDARD
BEGIN:DAYLIGHT
TZOFFSETFROM:-0500
TZOFFSETTO:-0400
TZNAME:EDT
DTSTART:20260308T070000
END:DAYLIGHT
BEGIN:STANDARD
TZOFFSETFROM:-0400
TZOFFSETTO:-0500
TZNAME:EST
DTSTART:20261101T060000
END:STANDARD
END:VTIMEZONE
BEGIN:VEVENT
DTSTART;TZID=America/New_York:20250412T193000
DTEND;TZID=America/New_York:20250412T193000
DTSTAMP:20260423T045302
CREATED:20250318T180352Z
LAST-MODIFIED:20250318T180352Z
UID:10027526-1744486200-1744486200@bevmain.org
SUMMARY:Ancient Aliens Live
DESCRIPTION:Ancient Aliens LIVE is an experiential extension of Ancient Aliens that explores the theory that extraterrestrials have visited Earth for thousands of years. \nThe ninety-minute live experience celebrates the long-running program Ancient Aliens on The HISTORY Channel and features leading Ancient Astronaut theorist Giorgio A. Tsoukalos\, investigative mythologist William Henry\, UK government UFO investigator Nick Pope\, and ancient civilizations expert\, Jason Martell\, as they discuss thought-provoking extraterrestrial theories on fan-favorite topics from Ancient Egypt to the moon\, paving the long road to Disclosure.
URL:https://bevmain.org/event/ancient-aliens-live/
LOCATION:The Cabot\, 286 Cabot Street\, Beverly\, MA\, 01915\, United States
ATTACH;FMTTYPE=image/jpeg:https://bevmain.org/wp-content/uploads/2025/03/Ancient-Aliens-LIve.jpg
GEO:42.5514727;-70.878838
X-APPLE-STRUCTURED-LOCATION;VALUE=URI;X-ADDRESS=The Cabot 286 Cabot Street Beverly MA 01915 United States;X-APPLE-RADIUS=500;X-TITLE=286 Cabot Street:geo:-70.878838,42.5514727
END:VEVENT
END:VCALENDAR