BEGIN:VCALENDAR
VERSION:2.0
PRODID:-//Beverly Main Streets - ECPv6.15.20//NONSGML v1.0//EN
CALSCALE:GREGORIAN
METHOD:PUBLISH
X-WR-CALNAME:Beverly Main Streets
X-ORIGINAL-URL:https://bevmain.org
X-WR-CALDESC:Events for Beverly Main Streets
REFRESH-INTERVAL;VALUE=DURATION:PT1H
X-Robots-Tag:noindex
X-PUBLISHED-TTL:PT1H
BEGIN:VTIMEZONE
TZID:America/New_York
BEGIN:DAYLIGHT
TZOFFSETFROM:-0500
TZOFFSETTO:-0400
TZNAME:EDT
DTSTART:20250309T070000
END:DAYLIGHT
BEGIN:STANDARD
TZOFFSETFROM:-0400
TZOFFSETTO:-0500
TZNAME:EST
DTSTART:20251102T060000
END:STANDARD
BEGIN:DAYLIGHT
TZOFFSETFROM:-0500
TZOFFSETTO:-0400
TZNAME:EDT
DTSTART:20260308T070000
END:DAYLIGHT
BEGIN:STANDARD
TZOFFSETFROM:-0400
TZOFFSETTO:-0500
TZNAME:EST
DTSTART:20261101T060000
END:STANDARD
BEGIN:DAYLIGHT
TZOFFSETFROM:-0500
TZOFFSETTO:-0400
TZNAME:EDT
DTSTART:20270314T070000
END:DAYLIGHT
BEGIN:STANDARD
TZOFFSETFROM:-0400
TZOFFSETTO:-0500
TZNAME:EST
DTSTART:20271107T060000
END:STANDARD
END:VTIMEZONE
BEGIN:VEVENT
DTSTART;TZID=America/New_York:20260601T150000
DTEND;TZID=America/New_York:20260601T210000
DTSTAMP:20260421T131500
CREATED:20260106T150850Z
LAST-MODIFIED:20260106T150851Z
UID:10031001-1780326000-1780347600@bevmain.org
SUMMARY:Pre-Theater Pre-Fixe Menu
DESCRIPTION:Already have tickets to The Cabot? Why not enjoy dinner and a show! \nStop by for a delicious 3-course meal with a pre-fixe price of $28 when you order off our Pre-Theater Menu! \n*This offer is only available on performance days at The Cabot
URL:https://bevmain.org/event/pre-theater-pre-fixe-menu-2/2026-06-01/
LOCATION:La Qchara\, 275 Cabot Street\, Beverly\, 01915\, United States
CATEGORIES:Food,Theatre
ATTACH;FMTTYPE=image/jpeg:https://bevmain.org/wp-content/uploads/2025/05/Pre-Theater-Pre-Fixe-Beverly-Main-Streets-Event.jpg
ORGANIZER;CN="La Qchara":MAILTO:marketing@laqchara.com
GEO:42.5509677;-70.8781069
X-APPLE-STRUCTURED-LOCATION;VALUE=URI;X-ADDRESS=La Qchara 275 Cabot Street Beverly 01915 United States;X-APPLE-RADIUS=500;X-TITLE=275 Cabot Street:geo:-70.8781069,42.5509677
END:VEVENT
BEGIN:VEVENT
DTSTART;TZID=America/New_York:20260603T150000
DTEND;TZID=America/New_York:20260603T210000
DTSTAMP:20260421T131500
CREATED:20260106T150850Z
LAST-MODIFIED:20260106T150851Z
UID:10031003-1780498800-1780520400@bevmain.org
SUMMARY:Pre-Theater Pre-Fixe Menu
DESCRIPTION:Already have tickets to The Cabot? Why not enjoy dinner and a show! \nStop by for a delicious 3-course meal with a pre-fixe price of $28 when you order off our Pre-Theater Menu! \n*This offer is only available on performance days at The Cabot
URL:https://bevmain.org/event/pre-theater-pre-fixe-menu-2/2026-06-03/
LOCATION:La Qchara\, 275 Cabot Street\, Beverly\, 01915\, United States
CATEGORIES:Food,Theatre
ATTACH;FMTTYPE=image/jpeg:https://bevmain.org/wp-content/uploads/2025/05/Pre-Theater-Pre-Fixe-Beverly-Main-Streets-Event.jpg
ORGANIZER;CN="La Qchara":MAILTO:marketing@laqchara.com
GEO:42.5509677;-70.8781069
X-APPLE-STRUCTURED-LOCATION;VALUE=URI;X-ADDRESS=La Qchara 275 Cabot Street Beverly 01915 United States;X-APPLE-RADIUS=500;X-TITLE=275 Cabot Street:geo:-70.8781069,42.5509677
END:VEVENT
BEGIN:VEVENT
DTSTART;TZID=America/New_York:20260604T150000
DTEND;TZID=America/New_York:20260604T210000
DTSTAMP:20260421T131500
CREATED:20260106T150850Z
LAST-MODIFIED:20260106T150851Z
UID:10031004-1780585200-1780606800@bevmain.org
SUMMARY:Pre-Theater Pre-Fixe Menu
DESCRIPTION:Already have tickets to The Cabot? Why not enjoy dinner and a show! \nStop by for a delicious 3-course meal with a pre-fixe price of $28 when you order off our Pre-Theater Menu! \n*This offer is only available on performance days at The Cabot
URL:https://bevmain.org/event/pre-theater-pre-fixe-menu-2/2026-06-04/
LOCATION:La Qchara\, 275 Cabot Street\, Beverly\, 01915\, United States
CATEGORIES:Food,Theatre
ATTACH;FMTTYPE=image/jpeg:https://bevmain.org/wp-content/uploads/2025/05/Pre-Theater-Pre-Fixe-Beverly-Main-Streets-Event.jpg
ORGANIZER;CN="La Qchara":MAILTO:marketing@laqchara.com
GEO:42.5509677;-70.8781069
X-APPLE-STRUCTURED-LOCATION;VALUE=URI;X-ADDRESS=La Qchara 275 Cabot Street Beverly 01915 United States;X-APPLE-RADIUS=500;X-TITLE=275 Cabot Street:geo:-70.8781069,42.5509677
END:VEVENT
BEGIN:VEVENT
DTSTART;TZID=America/New_York:20260605T150000
DTEND;TZID=America/New_York:20260605T210000
DTSTAMP:20260421T131500
CREATED:20260106T150850Z
LAST-MODIFIED:20260106T150851Z
UID:10031005-1780671600-1780693200@bevmain.org
SUMMARY:Pre-Theater Pre-Fixe Menu
DESCRIPTION:Already have tickets to The Cabot? Why not enjoy dinner and a show! \nStop by for a delicious 3-course meal with a pre-fixe price of $28 when you order off our Pre-Theater Menu! \n*This offer is only available on performance days at The Cabot
URL:https://bevmain.org/event/pre-theater-pre-fixe-menu-2/2026-06-05/
LOCATION:La Qchara\, 275 Cabot Street\, Beverly\, 01915\, United States
CATEGORIES:Food,Theatre
ATTACH;FMTTYPE=image/jpeg:https://bevmain.org/wp-content/uploads/2025/05/Pre-Theater-Pre-Fixe-Beverly-Main-Streets-Event.jpg
ORGANIZER;CN="La Qchara":MAILTO:marketing@laqchara.com
GEO:42.5509677;-70.8781069
X-APPLE-STRUCTURED-LOCATION;VALUE=URI;X-ADDRESS=La Qchara 275 Cabot Street Beverly 01915 United States;X-APPLE-RADIUS=500;X-TITLE=275 Cabot Street:geo:-70.8781069,42.5509677
END:VEVENT
BEGIN:VEVENT
DTSTART;TZID=America/New_York:20260606T150000
DTEND;TZID=America/New_York:20260606T210000
DTSTAMP:20260421T131500
CREATED:20260106T150850Z
LAST-MODIFIED:20260106T150851Z
UID:10031006-1780758000-1780779600@bevmain.org
SUMMARY:Pre-Theater Pre-Fixe Menu
DESCRIPTION:Already have tickets to The Cabot? Why not enjoy dinner and a show! \nStop by for a delicious 3-course meal with a pre-fixe price of $28 when you order off our Pre-Theater Menu! \n*This offer is only available on performance days at The Cabot
URL:https://bevmain.org/event/pre-theater-pre-fixe-menu-2/2026-06-06/
LOCATION:La Qchara\, 275 Cabot Street\, Beverly\, 01915\, United States
CATEGORIES:Food,Theatre
ATTACH;FMTTYPE=image/jpeg:https://bevmain.org/wp-content/uploads/2025/05/Pre-Theater-Pre-Fixe-Beverly-Main-Streets-Event.jpg
ORGANIZER;CN="La Qchara":MAILTO:marketing@laqchara.com
GEO:42.5509677;-70.8781069
X-APPLE-STRUCTURED-LOCATION;VALUE=URI;X-ADDRESS=La Qchara 275 Cabot Street Beverly 01915 United States;X-APPLE-RADIUS=500;X-TITLE=275 Cabot Street:geo:-70.8781069,42.5509677
END:VEVENT
BEGIN:VEVENT
DTSTART;TZID=America/New_York:20260607T150000
DTEND;TZID=America/New_York:20260607T210000
DTSTAMP:20260421T131500
CREATED:20260106T150850Z
LAST-MODIFIED:20260106T150851Z
UID:10031007-1780844400-1780866000@bevmain.org
SUMMARY:Pre-Theater Pre-Fixe Menu
DESCRIPTION:Already have tickets to The Cabot? Why not enjoy dinner and a show! \nStop by for a delicious 3-course meal with a pre-fixe price of $28 when you order off our Pre-Theater Menu! \n*This offer is only available on performance days at The Cabot
URL:https://bevmain.org/event/pre-theater-pre-fixe-menu-2/2026-06-07/
LOCATION:La Qchara\, 275 Cabot Street\, Beverly\, 01915\, United States
CATEGORIES:Food,Theatre
ATTACH;FMTTYPE=image/jpeg:https://bevmain.org/wp-content/uploads/2025/05/Pre-Theater-Pre-Fixe-Beverly-Main-Streets-Event.jpg
ORGANIZER;CN="La Qchara":MAILTO:marketing@laqchara.com
GEO:42.5509677;-70.8781069
X-APPLE-STRUCTURED-LOCATION;VALUE=URI;X-ADDRESS=La Qchara 275 Cabot Street Beverly 01915 United States;X-APPLE-RADIUS=500;X-TITLE=275 Cabot Street:geo:-70.8781069,42.5509677
END:VEVENT
BEGIN:VEVENT
DTSTART;TZID=America/New_York:20260608T150000
DTEND;TZID=America/New_York:20260608T210000
DTSTAMP:20260421T131500
CREATED:20260106T150850Z
LAST-MODIFIED:20260106T150851Z
UID:10031008-1780930800-1780952400@bevmain.org
SUMMARY:Pre-Theater Pre-Fixe Menu
DESCRIPTION:Already have tickets to The Cabot? Why not enjoy dinner and a show! \nStop by for a delicious 3-course meal with a pre-fixe price of $28 when you order off our Pre-Theater Menu! \n*This offer is only available on performance days at The Cabot
URL:https://bevmain.org/event/pre-theater-pre-fixe-menu-2/2026-06-08/
LOCATION:La Qchara\, 275 Cabot Street\, Beverly\, 01915\, United States
CATEGORIES:Food,Theatre
ATTACH;FMTTYPE=image/jpeg:https://bevmain.org/wp-content/uploads/2025/05/Pre-Theater-Pre-Fixe-Beverly-Main-Streets-Event.jpg
ORGANIZER;CN="La Qchara":MAILTO:marketing@laqchara.com
GEO:42.5509677;-70.8781069
X-APPLE-STRUCTURED-LOCATION;VALUE=URI;X-ADDRESS=La Qchara 275 Cabot Street Beverly 01915 United States;X-APPLE-RADIUS=500;X-TITLE=275 Cabot Street:geo:-70.8781069,42.5509677
END:VEVENT
BEGIN:VEVENT
DTSTART;TZID=America/New_York:20260610T150000
DTEND;TZID=America/New_York:20260610T210000
DTSTAMP:20260421T131500
CREATED:20260106T150850Z
LAST-MODIFIED:20260106T150851Z
UID:10031010-1781103600-1781125200@bevmain.org
SUMMARY:Pre-Theater Pre-Fixe Menu
DESCRIPTION:Already have tickets to The Cabot? Why not enjoy dinner and a show! \nStop by for a delicious 3-course meal with a pre-fixe price of $28 when you order off our Pre-Theater Menu! \n*This offer is only available on performance days at The Cabot
URL:https://bevmain.org/event/pre-theater-pre-fixe-menu-2/2026-06-10/
LOCATION:La Qchara\, 275 Cabot Street\, Beverly\, 01915\, United States
CATEGORIES:Food,Theatre
ATTACH;FMTTYPE=image/jpeg:https://bevmain.org/wp-content/uploads/2025/05/Pre-Theater-Pre-Fixe-Beverly-Main-Streets-Event.jpg
ORGANIZER;CN="La Qchara":MAILTO:marketing@laqchara.com
GEO:42.5509677;-70.8781069
X-APPLE-STRUCTURED-LOCATION;VALUE=URI;X-ADDRESS=La Qchara 275 Cabot Street Beverly 01915 United States;X-APPLE-RADIUS=500;X-TITLE=275 Cabot Street:geo:-70.8781069,42.5509677
END:VEVENT
BEGIN:VEVENT
DTSTART;TZID=America/New_York:20260611T150000
DTEND;TZID=America/New_York:20260611T210000
DTSTAMP:20260421T131500
CREATED:20260106T150850Z
LAST-MODIFIED:20260106T150851Z
UID:10031011-1781190000-1781211600@bevmain.org
SUMMARY:Pre-Theater Pre-Fixe Menu
DESCRIPTION:Already have tickets to The Cabot? Why not enjoy dinner and a show! \nStop by for a delicious 3-course meal with a pre-fixe price of $28 when you order off our Pre-Theater Menu! \n*This offer is only available on performance days at The Cabot
URL:https://bevmain.org/event/pre-theater-pre-fixe-menu-2/2026-06-11/
LOCATION:La Qchara\, 275 Cabot Street\, Beverly\, 01915\, United States
CATEGORIES:Food,Theatre
ATTACH;FMTTYPE=image/jpeg:https://bevmain.org/wp-content/uploads/2025/05/Pre-Theater-Pre-Fixe-Beverly-Main-Streets-Event.jpg
ORGANIZER;CN="La Qchara":MAILTO:marketing@laqchara.com
GEO:42.5509677;-70.8781069
X-APPLE-STRUCTURED-LOCATION;VALUE=URI;X-ADDRESS=La Qchara 275 Cabot Street Beverly 01915 United States;X-APPLE-RADIUS=500;X-TITLE=275 Cabot Street:geo:-70.8781069,42.5509677
END:VEVENT
BEGIN:VEVENT
DTSTART;TZID=America/New_York:20260612T150000
DTEND;TZID=America/New_York:20260612T210000
DTSTAMP:20260421T131500
CREATED:20260106T150850Z
LAST-MODIFIED:20260106T150851Z
UID:10031012-1781276400-1781298000@bevmain.org
SUMMARY:Pre-Theater Pre-Fixe Menu
DESCRIPTION:Already have tickets to The Cabot? Why not enjoy dinner and a show! \nStop by for a delicious 3-course meal with a pre-fixe price of $28 when you order off our Pre-Theater Menu! \n*This offer is only available on performance days at The Cabot
URL:https://bevmain.org/event/pre-theater-pre-fixe-menu-2/2026-06-12/
LOCATION:La Qchara\, 275 Cabot Street\, Beverly\, 01915\, United States
CATEGORIES:Food,Theatre
ATTACH;FMTTYPE=image/jpeg:https://bevmain.org/wp-content/uploads/2025/05/Pre-Theater-Pre-Fixe-Beverly-Main-Streets-Event.jpg
ORGANIZER;CN="La Qchara":MAILTO:marketing@laqchara.com
GEO:42.5509677;-70.8781069
X-APPLE-STRUCTURED-LOCATION;VALUE=URI;X-ADDRESS=La Qchara 275 Cabot Street Beverly 01915 United States;X-APPLE-RADIUS=500;X-TITLE=275 Cabot Street:geo:-70.8781069,42.5509677
END:VEVENT
BEGIN:VEVENT
DTSTART;TZID=America/New_York:20260613T150000
DTEND;TZID=America/New_York:20260613T210000
DTSTAMP:20260421T131500
CREATED:20260106T150850Z
LAST-MODIFIED:20260106T150851Z
UID:10031013-1781362800-1781384400@bevmain.org
SUMMARY:Pre-Theater Pre-Fixe Menu
DESCRIPTION:Already have tickets to The Cabot? Why not enjoy dinner and a show! \nStop by for a delicious 3-course meal with a pre-fixe price of $28 when you order off our Pre-Theater Menu! \n*This offer is only available on performance days at The Cabot
URL:https://bevmain.org/event/pre-theater-pre-fixe-menu-2/2026-06-13/
LOCATION:La Qchara\, 275 Cabot Street\, Beverly\, 01915\, United States
CATEGORIES:Food,Theatre
ATTACH;FMTTYPE=image/jpeg:https://bevmain.org/wp-content/uploads/2025/05/Pre-Theater-Pre-Fixe-Beverly-Main-Streets-Event.jpg
ORGANIZER;CN="La Qchara":MAILTO:marketing@laqchara.com
GEO:42.5509677;-70.8781069
X-APPLE-STRUCTURED-LOCATION;VALUE=URI;X-ADDRESS=La Qchara 275 Cabot Street Beverly 01915 United States;X-APPLE-RADIUS=500;X-TITLE=275 Cabot Street:geo:-70.8781069,42.5509677
END:VEVENT
BEGIN:VEVENT
DTSTART;TZID=America/New_York:20260614T150000
DTEND;TZID=America/New_York:20260614T210000
DTSTAMP:20260421T131500
CREATED:20260106T150850Z
LAST-MODIFIED:20260106T150851Z
UID:10031014-1781449200-1781470800@bevmain.org
SUMMARY:Pre-Theater Pre-Fixe Menu
DESCRIPTION:Already have tickets to The Cabot? Why not enjoy dinner and a show! \nStop by for a delicious 3-course meal with a pre-fixe price of $28 when you order off our Pre-Theater Menu! \n*This offer is only available on performance days at The Cabot
URL:https://bevmain.org/event/pre-theater-pre-fixe-menu-2/2026-06-14/
LOCATION:La Qchara\, 275 Cabot Street\, Beverly\, 01915\, United States
CATEGORIES:Food,Theatre
ATTACH;FMTTYPE=image/jpeg:https://bevmain.org/wp-content/uploads/2025/05/Pre-Theater-Pre-Fixe-Beverly-Main-Streets-Event.jpg
ORGANIZER;CN="La Qchara":MAILTO:marketing@laqchara.com
GEO:42.5509677;-70.8781069
X-APPLE-STRUCTURED-LOCATION;VALUE=URI;X-ADDRESS=La Qchara 275 Cabot Street Beverly 01915 United States;X-APPLE-RADIUS=500;X-TITLE=275 Cabot Street:geo:-70.8781069,42.5509677
END:VEVENT
BEGIN:VEVENT
DTSTART;TZID=America/New_York:20260615T150000
DTEND;TZID=America/New_York:20260615T210000
DTSTAMP:20260421T131500
CREATED:20260106T150850Z
LAST-MODIFIED:20260106T150851Z
UID:10031015-1781535600-1781557200@bevmain.org
SUMMARY:Pre-Theater Pre-Fixe Menu
DESCRIPTION:Already have tickets to The Cabot? Why not enjoy dinner and a show! \nStop by for a delicious 3-course meal with a pre-fixe price of $28 when you order off our Pre-Theater Menu! \n*This offer is only available on performance days at The Cabot
URL:https://bevmain.org/event/pre-theater-pre-fixe-menu-2/2026-06-15/
LOCATION:La Qchara\, 275 Cabot Street\, Beverly\, 01915\, United States
CATEGORIES:Food,Theatre
ATTACH;FMTTYPE=image/jpeg:https://bevmain.org/wp-content/uploads/2025/05/Pre-Theater-Pre-Fixe-Beverly-Main-Streets-Event.jpg
ORGANIZER;CN="La Qchara":MAILTO:marketing@laqchara.com
GEO:42.5509677;-70.8781069
X-APPLE-STRUCTURED-LOCATION;VALUE=URI;X-ADDRESS=La Qchara 275 Cabot Street Beverly 01915 United States;X-APPLE-RADIUS=500;X-TITLE=275 Cabot Street:geo:-70.8781069,42.5509677
END:VEVENT
BEGIN:VEVENT
DTSTART;TZID=America/New_York:20260617T150000
DTEND;TZID=America/New_York:20260617T210000
DTSTAMP:20260421T131500
CREATED:20260106T150850Z
LAST-MODIFIED:20260106T150851Z
UID:10031017-1781708400-1781730000@bevmain.org
SUMMARY:Pre-Theater Pre-Fixe Menu
DESCRIPTION:Already have tickets to The Cabot? Why not enjoy dinner and a show! \nStop by for a delicious 3-course meal with a pre-fixe price of $28 when you order off our Pre-Theater Menu! \n*This offer is only available on performance days at The Cabot
URL:https://bevmain.org/event/pre-theater-pre-fixe-menu-2/2026-06-17/
LOCATION:La Qchara\, 275 Cabot Street\, Beverly\, 01915\, United States
CATEGORIES:Food,Theatre
ATTACH;FMTTYPE=image/jpeg:https://bevmain.org/wp-content/uploads/2025/05/Pre-Theater-Pre-Fixe-Beverly-Main-Streets-Event.jpg
ORGANIZER;CN="La Qchara":MAILTO:marketing@laqchara.com
GEO:42.5509677;-70.8781069
X-APPLE-STRUCTURED-LOCATION;VALUE=URI;X-ADDRESS=La Qchara 275 Cabot Street Beverly 01915 United States;X-APPLE-RADIUS=500;X-TITLE=275 Cabot Street:geo:-70.8781069,42.5509677
END:VEVENT
BEGIN:VEVENT
DTSTART;TZID=America/New_York:20260618T150000
DTEND;TZID=America/New_York:20260618T210000
DTSTAMP:20260421T131500
CREATED:20260106T150850Z
LAST-MODIFIED:20260106T150851Z
UID:10031018-1781794800-1781816400@bevmain.org
SUMMARY:Pre-Theater Pre-Fixe Menu
DESCRIPTION:Already have tickets to The Cabot? Why not enjoy dinner and a show! \nStop by for a delicious 3-course meal with a pre-fixe price of $28 when you order off our Pre-Theater Menu! \n*This offer is only available on performance days at The Cabot
URL:https://bevmain.org/event/pre-theater-pre-fixe-menu-2/2026-06-18/
LOCATION:La Qchara\, 275 Cabot Street\, Beverly\, 01915\, United States
CATEGORIES:Food,Theatre
ATTACH;FMTTYPE=image/jpeg:https://bevmain.org/wp-content/uploads/2025/05/Pre-Theater-Pre-Fixe-Beverly-Main-Streets-Event.jpg
ORGANIZER;CN="La Qchara":MAILTO:marketing@laqchara.com
GEO:42.5509677;-70.8781069
X-APPLE-STRUCTURED-LOCATION;VALUE=URI;X-ADDRESS=La Qchara 275 Cabot Street Beverly 01915 United States;X-APPLE-RADIUS=500;X-TITLE=275 Cabot Street:geo:-70.8781069,42.5509677
END:VEVENT
BEGIN:VEVENT
DTSTART;TZID=America/New_York:20260619T150000
DTEND;TZID=America/New_York:20260619T210000
DTSTAMP:20260421T131500
CREATED:20260106T150850Z
LAST-MODIFIED:20260106T150851Z
UID:10031019-1781881200-1781902800@bevmain.org
SUMMARY:Pre-Theater Pre-Fixe Menu
DESCRIPTION:Already have tickets to The Cabot? Why not enjoy dinner and a show! \nStop by for a delicious 3-course meal with a pre-fixe price of $28 when you order off our Pre-Theater Menu! \n*This offer is only available on performance days at The Cabot
URL:https://bevmain.org/event/pre-theater-pre-fixe-menu-2/2026-06-19/
LOCATION:La Qchara\, 275 Cabot Street\, Beverly\, 01915\, United States
CATEGORIES:Food,Theatre
ATTACH;FMTTYPE=image/jpeg:https://bevmain.org/wp-content/uploads/2025/05/Pre-Theater-Pre-Fixe-Beverly-Main-Streets-Event.jpg
ORGANIZER;CN="La Qchara":MAILTO:marketing@laqchara.com
GEO:42.5509677;-70.8781069
X-APPLE-STRUCTURED-LOCATION;VALUE=URI;X-ADDRESS=La Qchara 275 Cabot Street Beverly 01915 United States;X-APPLE-RADIUS=500;X-TITLE=275 Cabot Street:geo:-70.8781069,42.5509677
END:VEVENT
BEGIN:VEVENT
DTSTART;TZID=America/New_York:20260620T150000
DTEND;TZID=America/New_York:20260620T210000
DTSTAMP:20260421T131500
CREATED:20260106T150850Z
LAST-MODIFIED:20260106T150851Z
UID:10031020-1781967600-1781989200@bevmain.org
SUMMARY:Pre-Theater Pre-Fixe Menu
DESCRIPTION:Already have tickets to The Cabot? Why not enjoy dinner and a show! \nStop by for a delicious 3-course meal with a pre-fixe price of $28 when you order off our Pre-Theater Menu! \n*This offer is only available on performance days at The Cabot
URL:https://bevmain.org/event/pre-theater-pre-fixe-menu-2/2026-06-20/
LOCATION:La Qchara\, 275 Cabot Street\, Beverly\, 01915\, United States
CATEGORIES:Food,Theatre
ATTACH;FMTTYPE=image/jpeg:https://bevmain.org/wp-content/uploads/2025/05/Pre-Theater-Pre-Fixe-Beverly-Main-Streets-Event.jpg
ORGANIZER;CN="La Qchara":MAILTO:marketing@laqchara.com
GEO:42.5509677;-70.8781069
X-APPLE-STRUCTURED-LOCATION;VALUE=URI;X-ADDRESS=La Qchara 275 Cabot Street Beverly 01915 United States;X-APPLE-RADIUS=500;X-TITLE=275 Cabot Street:geo:-70.8781069,42.5509677
END:VEVENT
BEGIN:VEVENT
DTSTART;TZID=America/New_York:20260621T150000
DTEND;TZID=America/New_York:20260621T210000
DTSTAMP:20260421T131500
CREATED:20260106T150850Z
LAST-MODIFIED:20260106T150851Z
UID:10031021-1782054000-1782075600@bevmain.org
SUMMARY:Pre-Theater Pre-Fixe Menu
DESCRIPTION:Already have tickets to The Cabot? Why not enjoy dinner and a show! \nStop by for a delicious 3-course meal with a pre-fixe price of $28 when you order off our Pre-Theater Menu! \n*This offer is only available on performance days at The Cabot
URL:https://bevmain.org/event/pre-theater-pre-fixe-menu-2/2026-06-21/
LOCATION:La Qchara\, 275 Cabot Street\, Beverly\, 01915\, United States
CATEGORIES:Food,Theatre
ATTACH;FMTTYPE=image/jpeg:https://bevmain.org/wp-content/uploads/2025/05/Pre-Theater-Pre-Fixe-Beverly-Main-Streets-Event.jpg
ORGANIZER;CN="La Qchara":MAILTO:marketing@laqchara.com
GEO:42.5509677;-70.8781069
X-APPLE-STRUCTURED-LOCATION;VALUE=URI;X-ADDRESS=La Qchara 275 Cabot Street Beverly 01915 United States;X-APPLE-RADIUS=500;X-TITLE=275 Cabot Street:geo:-70.8781069,42.5509677
END:VEVENT
BEGIN:VEVENT
DTSTART;TZID=America/New_York:20260622T150000
DTEND;TZID=America/New_York:20260622T210000
DTSTAMP:20260421T131500
CREATED:20260106T150850Z
LAST-MODIFIED:20260106T150851Z
UID:10031022-1782140400-1782162000@bevmain.org
SUMMARY:Pre-Theater Pre-Fixe Menu
DESCRIPTION:Already have tickets to The Cabot? Why not enjoy dinner and a show! \nStop by for a delicious 3-course meal with a pre-fixe price of $28 when you order off our Pre-Theater Menu! \n*This offer is only available on performance days at The Cabot
URL:https://bevmain.org/event/pre-theater-pre-fixe-menu-2/2026-06-22/
LOCATION:La Qchara\, 275 Cabot Street\, Beverly\, 01915\, United States
CATEGORIES:Food,Theatre
ATTACH;FMTTYPE=image/jpeg:https://bevmain.org/wp-content/uploads/2025/05/Pre-Theater-Pre-Fixe-Beverly-Main-Streets-Event.jpg
ORGANIZER;CN="La Qchara":MAILTO:marketing@laqchara.com
GEO:42.5509677;-70.8781069
X-APPLE-STRUCTURED-LOCATION;VALUE=URI;X-ADDRESS=La Qchara 275 Cabot Street Beverly 01915 United States;X-APPLE-RADIUS=500;X-TITLE=275 Cabot Street:geo:-70.8781069,42.5509677
END:VEVENT
BEGIN:VEVENT
DTSTART;TZID=America/New_York:20260624T150000
DTEND;TZID=America/New_York:20260624T210000
DTSTAMP:20260421T131500
CREATED:20260106T150850Z
LAST-MODIFIED:20260106T150851Z
UID:10031024-1782313200-1782334800@bevmain.org
SUMMARY:Pre-Theater Pre-Fixe Menu
DESCRIPTION:Already have tickets to The Cabot? Why not enjoy dinner and a show! \nStop by for a delicious 3-course meal with a pre-fixe price of $28 when you order off our Pre-Theater Menu! \n*This offer is only available on performance days at The Cabot
URL:https://bevmain.org/event/pre-theater-pre-fixe-menu-2/2026-06-24/
LOCATION:La Qchara\, 275 Cabot Street\, Beverly\, 01915\, United States
CATEGORIES:Food,Theatre
ATTACH;FMTTYPE=image/jpeg:https://bevmain.org/wp-content/uploads/2025/05/Pre-Theater-Pre-Fixe-Beverly-Main-Streets-Event.jpg
ORGANIZER;CN="La Qchara":MAILTO:marketing@laqchara.com
GEO:42.5509677;-70.8781069
X-APPLE-STRUCTURED-LOCATION;VALUE=URI;X-ADDRESS=La Qchara 275 Cabot Street Beverly 01915 United States;X-APPLE-RADIUS=500;X-TITLE=275 Cabot Street:geo:-70.8781069,42.5509677
END:VEVENT
BEGIN:VEVENT
DTSTART;TZID=America/New_York:20260625T150000
DTEND;TZID=America/New_York:20260625T210000
DTSTAMP:20260421T131500
CREATED:20260106T150850Z
LAST-MODIFIED:20260106T150851Z
UID:10031025-1782399600-1782421200@bevmain.org
SUMMARY:Pre-Theater Pre-Fixe Menu
DESCRIPTION:Already have tickets to The Cabot? Why not enjoy dinner and a show! \nStop by for a delicious 3-course meal with a pre-fixe price of $28 when you order off our Pre-Theater Menu! \n*This offer is only available on performance days at The Cabot
URL:https://bevmain.org/event/pre-theater-pre-fixe-menu-2/2026-06-25/
LOCATION:La Qchara\, 275 Cabot Street\, Beverly\, 01915\, United States
CATEGORIES:Food,Theatre
ATTACH;FMTTYPE=image/jpeg:https://bevmain.org/wp-content/uploads/2025/05/Pre-Theater-Pre-Fixe-Beverly-Main-Streets-Event.jpg
ORGANIZER;CN="La Qchara":MAILTO:marketing@laqchara.com
GEO:42.5509677;-70.8781069
X-APPLE-STRUCTURED-LOCATION;VALUE=URI;X-ADDRESS=La Qchara 275 Cabot Street Beverly 01915 United States;X-APPLE-RADIUS=500;X-TITLE=275 Cabot Street:geo:-70.8781069,42.5509677
END:VEVENT
BEGIN:VEVENT
DTSTART;TZID=America/New_York:20260626T150000
DTEND;TZID=America/New_York:20260626T210000
DTSTAMP:20260421T131500
CREATED:20260106T150850Z
LAST-MODIFIED:20260106T150851Z
UID:10031026-1782486000-1782507600@bevmain.org
SUMMARY:Pre-Theater Pre-Fixe Menu
DESCRIPTION:Already have tickets to The Cabot? Why not enjoy dinner and a show! \nStop by for a delicious 3-course meal with a pre-fixe price of $28 when you order off our Pre-Theater Menu! \n*This offer is only available on performance days at The Cabot
URL:https://bevmain.org/event/pre-theater-pre-fixe-menu-2/2026-06-26/
LOCATION:La Qchara\, 275 Cabot Street\, Beverly\, 01915\, United States
CATEGORIES:Food,Theatre
ATTACH;FMTTYPE=image/jpeg:https://bevmain.org/wp-content/uploads/2025/05/Pre-Theater-Pre-Fixe-Beverly-Main-Streets-Event.jpg
ORGANIZER;CN="La Qchara":MAILTO:marketing@laqchara.com
GEO:42.5509677;-70.8781069
X-APPLE-STRUCTURED-LOCATION;VALUE=URI;X-ADDRESS=La Qchara 275 Cabot Street Beverly 01915 United States;X-APPLE-RADIUS=500;X-TITLE=275 Cabot Street:geo:-70.8781069,42.5509677
END:VEVENT
BEGIN:VEVENT
DTSTART;TZID=America/New_York:20260627T150000
DTEND;TZID=America/New_York:20260627T210000
DTSTAMP:20260421T131500
CREATED:20260106T150850Z
LAST-MODIFIED:20260106T150851Z
UID:10031027-1782572400-1782594000@bevmain.org
SUMMARY:Pre-Theater Pre-Fixe Menu
DESCRIPTION:Already have tickets to The Cabot? Why not enjoy dinner and a show! \nStop by for a delicious 3-course meal with a pre-fixe price of $28 when you order off our Pre-Theater Menu! \n*This offer is only available on performance days at The Cabot
URL:https://bevmain.org/event/pre-theater-pre-fixe-menu-2/2026-06-27/
LOCATION:La Qchara\, 275 Cabot Street\, Beverly\, 01915\, United States
CATEGORIES:Food,Theatre
ATTACH;FMTTYPE=image/jpeg:https://bevmain.org/wp-content/uploads/2025/05/Pre-Theater-Pre-Fixe-Beverly-Main-Streets-Event.jpg
ORGANIZER;CN="La Qchara":MAILTO:marketing@laqchara.com
GEO:42.5509677;-70.8781069
X-APPLE-STRUCTURED-LOCATION;VALUE=URI;X-ADDRESS=La Qchara 275 Cabot Street Beverly 01915 United States;X-APPLE-RADIUS=500;X-TITLE=275 Cabot Street:geo:-70.8781069,42.5509677
END:VEVENT
BEGIN:VEVENT
DTSTART;TZID=America/New_York:20260628T150000
DTEND;TZID=America/New_York:20260628T210000
DTSTAMP:20260421T131500
CREATED:20260106T150850Z
LAST-MODIFIED:20260106T150851Z
UID:10031028-1782658800-1782680400@bevmain.org
SUMMARY:Pre-Theater Pre-Fixe Menu
DESCRIPTION:Already have tickets to The Cabot? Why not enjoy dinner and a show! \nStop by for a delicious 3-course meal with a pre-fixe price of $28 when you order off our Pre-Theater Menu! \n*This offer is only available on performance days at The Cabot
URL:https://bevmain.org/event/pre-theater-pre-fixe-menu-2/2026-06-28/
LOCATION:La Qchara\, 275 Cabot Street\, Beverly\, 01915\, United States
CATEGORIES:Food,Theatre
ATTACH;FMTTYPE=image/jpeg:https://bevmain.org/wp-content/uploads/2025/05/Pre-Theater-Pre-Fixe-Beverly-Main-Streets-Event.jpg
ORGANIZER;CN="La Qchara":MAILTO:marketing@laqchara.com
GEO:42.5509677;-70.8781069
X-APPLE-STRUCTURED-LOCATION;VALUE=URI;X-ADDRESS=La Qchara 275 Cabot Street Beverly 01915 United States;X-APPLE-RADIUS=500;X-TITLE=275 Cabot Street:geo:-70.8781069,42.5509677
END:VEVENT
BEGIN:VEVENT
DTSTART;TZID=America/New_York:20260629T150000
DTEND;TZID=America/New_York:20260629T210000
DTSTAMP:20260421T131500
CREATED:20260106T150850Z
LAST-MODIFIED:20260106T150851Z
UID:10031029-1782745200-1782766800@bevmain.org
SUMMARY:Pre-Theater Pre-Fixe Menu
DESCRIPTION:Already have tickets to The Cabot? Why not enjoy dinner and a show! \nStop by for a delicious 3-course meal with a pre-fixe price of $28 when you order off our Pre-Theater Menu! \n*This offer is only available on performance days at The Cabot
URL:https://bevmain.org/event/pre-theater-pre-fixe-menu-2/2026-06-29/
LOCATION:La Qchara\, 275 Cabot Street\, Beverly\, 01915\, United States
CATEGORIES:Food,Theatre
ATTACH;FMTTYPE=image/jpeg:https://bevmain.org/wp-content/uploads/2025/05/Pre-Theater-Pre-Fixe-Beverly-Main-Streets-Event.jpg
ORGANIZER;CN="La Qchara":MAILTO:marketing@laqchara.com
GEO:42.5509677;-70.8781069
X-APPLE-STRUCTURED-LOCATION;VALUE=URI;X-ADDRESS=La Qchara 275 Cabot Street Beverly 01915 United States;X-APPLE-RADIUS=500;X-TITLE=275 Cabot Street:geo:-70.8781069,42.5509677
END:VEVENT
END:VCALENDAR