BEGIN:VCALENDAR
VERSION:2.0
PRODID:-//Beverly Main Streets - ECPv6.15.20//NONSGML v1.0//EN
CALSCALE:GREGORIAN
METHOD:PUBLISH
X-ORIGINAL-URL:https://bevmain.org
X-WR-CALDESC:Events for Beverly Main Streets
REFRESH-INTERVAL;VALUE=DURATION:PT1H
X-Robots-Tag:noindex
X-PUBLISHED-TTL:PT1H
BEGIN:VTIMEZONE
TZID:America/New_York
BEGIN:DAYLIGHT
TZOFFSETFROM:-0500
TZOFFSETTO:-0400
TZNAME:EDT
DTSTART:20270314T070000
END:DAYLIGHT
BEGIN:STANDARD
TZOFFSETFROM:-0400
TZOFFSETTO:-0500
TZNAME:EST
DTSTART:20271107T060000
END:STANDARD
BEGIN:DAYLIGHT
TZOFFSETFROM:-0500
TZOFFSETTO:-0400
TZNAME:EDT
DTSTART:20280312T070000
END:DAYLIGHT
BEGIN:STANDARD
TZOFFSETFROM:-0400
TZOFFSETTO:-0500
TZNAME:EST
DTSTART:20281105T060000
END:STANDARD
BEGIN:DAYLIGHT
TZOFFSETFROM:-0500
TZOFFSETTO:-0400
TZNAME:EDT
DTSTART:20290311T070000
END:DAYLIGHT
BEGIN:STANDARD
TZOFFSETFROM:-0400
TZOFFSETTO:-0500
TZNAME:EST
DTSTART:20291104T060000
END:STANDARD
END:VTIMEZONE
BEGIN:VEVENT
DTSTART;TZID=America/New_York:20280606T200000
DTEND;TZID=America/New_York:20280606T220000
DTSTAMP:20260424T174956
CREATED:20230628T145939Z
LAST-MODIFIED:20230628T145939Z
UID:10019194-1843934400-1843941600@bevmain.org
SUMMARY:Geeks Who Drink Trivia at Indo
DESCRIPTION:Quizzes cover everything from Hungary to The Hunger Games\, from science to sports\, from the Billboard Hot 100 to Better Call Saul. \nEach quiz consists of seven rounds of eight questions each\, in a variety of formats\, including audio and visual rounds. \nTeams can be up to six players\, and winning teams get Indo gift certificates!
URL:https://bevmain.org/event/geeks-who-drink-trivia-at-indo/2028-06-06/
LOCATION:The Indo\, 298 Cabot Street\, Beverly\, MA\, 01915\, United States
CATEGORIES:Beer/Wine,Food,Nightlife
ATTACH;FMTTYPE=image/jpeg:https://bevmain.org/wp-content/uploads/2023/06/geekswhodrinkIndo.jpg
GEO:42.5521772;-70.8790122
X-APPLE-STRUCTURED-LOCATION;VALUE=URI;X-ADDRESS=The Indo 298 Cabot Street Beverly MA 01915 United States;X-APPLE-RADIUS=500;X-TITLE=298 Cabot Street:geo:-70.8790122,42.5521772
END:VEVENT
BEGIN:VEVENT
DTSTART;TZID=America/New_York:20280607T193000
DTEND;TZID=America/New_York:20280607T233000
DTSTAMP:20260424T174956
CREATED:20260424T161822Z
LAST-MODIFIED:20260424T161822Z
UID:10039313-1844019000-1844033400@bevmain.org
SUMMARY:Not Your Mother's Trivia
DESCRIPTION:Weekly trivia night with questions geared for ages 25+.\nCome on your own or grab some friends for a team. Enjoy delicious\, affordable drinks while having a good time showing off your knowledge. Prizes for the top 3 scores!
URL:https://bevmain.org/event/not-your-mothers-trivia/2028-06-07/
LOCATION:Spear Post  331\, 3 Judson Street / Pond St entrance\, Beverly\, MA\, 01915\, United States
CATEGORIES:Free
ATTACH;FMTTYPE=image/jpeg:https://bevmain.org/wp-content/uploads/2026/04/4871.jpg
END:VEVENT
BEGIN:VEVENT
DTSTART;TZID=America/New_York:20280613T200000
DTEND;TZID=America/New_York:20280613T220000
DTSTAMP:20260424T174956
CREATED:20230628T145939Z
LAST-MODIFIED:20230628T145939Z
UID:10019195-1844539200-1844546400@bevmain.org
SUMMARY:Geeks Who Drink Trivia at Indo
DESCRIPTION:Quizzes cover everything from Hungary to The Hunger Games\, from science to sports\, from the Billboard Hot 100 to Better Call Saul. \nEach quiz consists of seven rounds of eight questions each\, in a variety of formats\, including audio and visual rounds. \nTeams can be up to six players\, and winning teams get Indo gift certificates!
URL:https://bevmain.org/event/geeks-who-drink-trivia-at-indo/2028-06-13/
LOCATION:The Indo\, 298 Cabot Street\, Beverly\, MA\, 01915\, United States
CATEGORIES:Beer/Wine,Food,Nightlife
ATTACH;FMTTYPE=image/jpeg:https://bevmain.org/wp-content/uploads/2023/06/geekswhodrinkIndo.jpg
GEO:42.5521772;-70.8790122
X-APPLE-STRUCTURED-LOCATION;VALUE=URI;X-ADDRESS=The Indo 298 Cabot Street Beverly MA 01915 United States;X-APPLE-RADIUS=500;X-TITLE=298 Cabot Street:geo:-70.8790122,42.5521772
END:VEVENT
BEGIN:VEVENT
DTSTART;TZID=America/New_York:20280614T193000
DTEND;TZID=America/New_York:20280614T233000
DTSTAMP:20260424T174956
CREATED:20260424T161822Z
LAST-MODIFIED:20260424T161822Z
UID:10039314-1844623800-1844638200@bevmain.org
SUMMARY:Not Your Mother's Trivia
DESCRIPTION:Weekly trivia night with questions geared for ages 25+.\nCome on your own or grab some friends for a team. Enjoy delicious\, affordable drinks while having a good time showing off your knowledge. Prizes for the top 3 scores!
URL:https://bevmain.org/event/not-your-mothers-trivia/2028-06-14/
LOCATION:Spear Post  331\, 3 Judson Street / Pond St entrance\, Beverly\, MA\, 01915\, United States
CATEGORIES:Free
ATTACH;FMTTYPE=image/jpeg:https://bevmain.org/wp-content/uploads/2026/04/4871.jpg
END:VEVENT
BEGIN:VEVENT
DTSTART;TZID=America/New_York:20280620T200000
DTEND;TZID=America/New_York:20280620T220000
DTSTAMP:20260424T174956
CREATED:20230628T145939Z
LAST-MODIFIED:20230628T145939Z
UID:10019196-1845144000-1845151200@bevmain.org
SUMMARY:Geeks Who Drink Trivia at Indo
DESCRIPTION:Quizzes cover everything from Hungary to The Hunger Games\, from science to sports\, from the Billboard Hot 100 to Better Call Saul. \nEach quiz consists of seven rounds of eight questions each\, in a variety of formats\, including audio and visual rounds. \nTeams can be up to six players\, and winning teams get Indo gift certificates!
URL:https://bevmain.org/event/geeks-who-drink-trivia-at-indo/2028-06-20/
LOCATION:The Indo\, 298 Cabot Street\, Beverly\, MA\, 01915\, United States
CATEGORIES:Beer/Wine,Food,Nightlife
ATTACH;FMTTYPE=image/jpeg:https://bevmain.org/wp-content/uploads/2023/06/geekswhodrinkIndo.jpg
GEO:42.5521772;-70.8790122
X-APPLE-STRUCTURED-LOCATION;VALUE=URI;X-ADDRESS=The Indo 298 Cabot Street Beverly MA 01915 United States;X-APPLE-RADIUS=500;X-TITLE=298 Cabot Street:geo:-70.8790122,42.5521772
END:VEVENT
BEGIN:VEVENT
DTSTART;TZID=America/New_York:20280621T193000
DTEND;TZID=America/New_York:20280621T233000
DTSTAMP:20260424T174956
CREATED:20260424T161822Z
LAST-MODIFIED:20260424T161822Z
UID:10039315-1845228600-1845243000@bevmain.org
SUMMARY:Not Your Mother's Trivia
DESCRIPTION:Weekly trivia night with questions geared for ages 25+.\nCome on your own or grab some friends for a team. Enjoy delicious\, affordable drinks while having a good time showing off your knowledge. Prizes for the top 3 scores!
URL:https://bevmain.org/event/not-your-mothers-trivia/2028-06-21/
LOCATION:Spear Post  331\, 3 Judson Street / Pond St entrance\, Beverly\, MA\, 01915\, United States
CATEGORIES:Free
ATTACH;FMTTYPE=image/jpeg:https://bevmain.org/wp-content/uploads/2026/04/4871.jpg
END:VEVENT
BEGIN:VEVENT
DTSTART;TZID=America/New_York:20280627T200000
DTEND;TZID=America/New_York:20280627T220000
DTSTAMP:20260424T174956
CREATED:20230628T145939Z
LAST-MODIFIED:20230628T145939Z
UID:10019197-1845748800-1845756000@bevmain.org
SUMMARY:Geeks Who Drink Trivia at Indo
DESCRIPTION:Quizzes cover everything from Hungary to The Hunger Games\, from science to sports\, from the Billboard Hot 100 to Better Call Saul. \nEach quiz consists of seven rounds of eight questions each\, in a variety of formats\, including audio and visual rounds. \nTeams can be up to six players\, and winning teams get Indo gift certificates!
URL:https://bevmain.org/event/geeks-who-drink-trivia-at-indo/2028-06-27/
LOCATION:The Indo\, 298 Cabot Street\, Beverly\, MA\, 01915\, United States
CATEGORIES:Beer/Wine,Food,Nightlife
ATTACH;FMTTYPE=image/jpeg:https://bevmain.org/wp-content/uploads/2023/06/geekswhodrinkIndo.jpg
GEO:42.5521772;-70.8790122
X-APPLE-STRUCTURED-LOCATION;VALUE=URI;X-ADDRESS=The Indo 298 Cabot Street Beverly MA 01915 United States;X-APPLE-RADIUS=500;X-TITLE=298 Cabot Street:geo:-70.8790122,42.5521772
END:VEVENT
BEGIN:VEVENT
DTSTART;TZID=America/New_York:20280628T193000
DTEND;TZID=America/New_York:20280628T233000
DTSTAMP:20260424T174956
CREATED:20260424T161822Z
LAST-MODIFIED:20260424T161822Z
UID:10039316-1845833400-1845847800@bevmain.org
SUMMARY:Not Your Mother's Trivia
DESCRIPTION:Weekly trivia night with questions geared for ages 25+.\nCome on your own or grab some friends for a team. Enjoy delicious\, affordable drinks while having a good time showing off your knowledge. Prizes for the top 3 scores!
URL:https://bevmain.org/event/not-your-mothers-trivia/2028-06-28/
LOCATION:Spear Post  331\, 3 Judson Street / Pond St entrance\, Beverly\, MA\, 01915\, United States
CATEGORIES:Free
ATTACH;FMTTYPE=image/jpeg:https://bevmain.org/wp-content/uploads/2026/04/4871.jpg
END:VEVENT
END:VCALENDAR