BEGIN:VCALENDAR
VERSION:2.0
PRODID:-//Beverly Main Streets - ECPv6.15.20//NONSGML v1.0//EN
CALSCALE:GREGORIAN
METHOD:PUBLISH
X-WR-CALNAME:Beverly Main Streets
X-ORIGINAL-URL:https://bevmain.org
X-WR-CALDESC:Events for Beverly Main Streets
REFRESH-INTERVAL;VALUE=DURATION:PT1H
X-Robots-Tag:noindex
X-PUBLISHED-TTL:PT1H
BEGIN:VTIMEZONE
TZID:America/New_York
BEGIN:DAYLIGHT
TZOFFSETFROM:-0500
TZOFFSETTO:-0400
TZNAME:EDT
DTSTART:20290311T070000
END:DAYLIGHT
BEGIN:STANDARD
TZOFFSETFROM:-0400
TZOFFSETTO:-0500
TZNAME:EST
DTSTART:20291104T060000
END:STANDARD
BEGIN:DAYLIGHT
TZOFFSETFROM:-0500
TZOFFSETTO:-0400
TZNAME:EDT
DTSTART:20300310T070000
END:DAYLIGHT
BEGIN:STANDARD
TZOFFSETFROM:-0400
TZOFFSETTO:-0500
TZNAME:EST
DTSTART:20301103T060000
END:STANDARD
BEGIN:DAYLIGHT
TZOFFSETFROM:-0500
TZOFFSETTO:-0400
TZNAME:EDT
DTSTART:20310309T070000
END:DAYLIGHT
BEGIN:STANDARD
TZOFFSETFROM:-0400
TZOFFSETTO:-0500
TZNAME:EST
DTSTART:20311102T060000
END:STANDARD
END:VTIMEZONE
BEGIN:VEVENT
DTSTART;TZID=America/New_York:20300501T193000
DTEND;TZID=America/New_York:20300501T233000
DTSTAMP:20260425T235054
CREATED:20260424T161822Z
LAST-MODIFIED:20260424T161822Z
UID:10039412-1903894200-1903908600@bevmain.org
SUMMARY:Not Your Mother's Trivia
DESCRIPTION:Weekly trivia night with questions geared for ages 25+.\nCome on your own or grab some friends for a team. Enjoy delicious\, affordable drinks while having a good time showing off your knowledge. Prizes for the top 3 scores!
URL:https://bevmain.org/event/not-your-mothers-trivia/2030-05-01/
LOCATION:Spear Post  331\, 3 Judson Street / Pond St entrance\, Beverly\, MA\, 01915\, United States
CATEGORIES:Free
ATTACH;FMTTYPE=image/jpeg:https://bevmain.org/wp-content/uploads/2026/04/4871.jpg
END:VEVENT
BEGIN:VEVENT
DTSTART;TZID=America/New_York:20300508T193000
DTEND;TZID=America/New_York:20300508T233000
DTSTAMP:20260425T235054
CREATED:20260424T161822Z
LAST-MODIFIED:20260424T161822Z
UID:10039413-1904499000-1904513400@bevmain.org
SUMMARY:Not Your Mother's Trivia
DESCRIPTION:Weekly trivia night with questions geared for ages 25+.\nCome on your own or grab some friends for a team. Enjoy delicious\, affordable drinks while having a good time showing off your knowledge. Prizes for the top 3 scores!
URL:https://bevmain.org/event/not-your-mothers-trivia/2030-05-08/
LOCATION:Spear Post  331\, 3 Judson Street / Pond St entrance\, Beverly\, MA\, 01915\, United States
CATEGORIES:Free
ATTACH;FMTTYPE=image/jpeg:https://bevmain.org/wp-content/uploads/2026/04/4871.jpg
END:VEVENT
BEGIN:VEVENT
DTSTART;TZID=America/New_York:20300515T193000
DTEND;TZID=America/New_York:20300515T233000
DTSTAMP:20260425T235054
CREATED:20260424T161822Z
LAST-MODIFIED:20260424T161822Z
UID:10039414-1905103800-1905118200@bevmain.org
SUMMARY:Not Your Mother's Trivia
DESCRIPTION:Weekly trivia night with questions geared for ages 25+.\nCome on your own or grab some friends for a team. Enjoy delicious\, affordable drinks while having a good time showing off your knowledge. Prizes for the top 3 scores!
URL:https://bevmain.org/event/not-your-mothers-trivia/2030-05-15/
LOCATION:Spear Post  331\, 3 Judson Street / Pond St entrance\, Beverly\, MA\, 01915\, United States
CATEGORIES:Free
ATTACH;FMTTYPE=image/jpeg:https://bevmain.org/wp-content/uploads/2026/04/4871.jpg
END:VEVENT
BEGIN:VEVENT
DTSTART;TZID=America/New_York:20300522T193000
DTEND;TZID=America/New_York:20300522T233000
DTSTAMP:20260425T235054
CREATED:20260424T161822Z
LAST-MODIFIED:20260424T161822Z
UID:10039415-1905708600-1905723000@bevmain.org
SUMMARY:Not Your Mother's Trivia
DESCRIPTION:Weekly trivia night with questions geared for ages 25+.\nCome on your own or grab some friends for a team. Enjoy delicious\, affordable drinks while having a good time showing off your knowledge. Prizes for the top 3 scores!
URL:https://bevmain.org/event/not-your-mothers-trivia/2030-05-22/
LOCATION:Spear Post  331\, 3 Judson Street / Pond St entrance\, Beverly\, MA\, 01915\, United States
CATEGORIES:Free
ATTACH;FMTTYPE=image/jpeg:https://bevmain.org/wp-content/uploads/2026/04/4871.jpg
END:VEVENT
BEGIN:VEVENT
DTSTART;TZID=America/New_York:20300529T193000
DTEND;TZID=America/New_York:20300529T233000
DTSTAMP:20260425T235054
CREATED:20260424T161822Z
LAST-MODIFIED:20260424T161822Z
UID:10039416-1906313400-1906327800@bevmain.org
SUMMARY:Not Your Mother's Trivia
DESCRIPTION:Weekly trivia night with questions geared for ages 25+.\nCome on your own or grab some friends for a team. Enjoy delicious\, affordable drinks while having a good time showing off your knowledge. Prizes for the top 3 scores!
URL:https://bevmain.org/event/not-your-mothers-trivia/2030-05-29/
LOCATION:Spear Post  331\, 3 Judson Street / Pond St entrance\, Beverly\, MA\, 01915\, United States
CATEGORIES:Free
ATTACH;FMTTYPE=image/jpeg:https://bevmain.org/wp-content/uploads/2026/04/4871.jpg
END:VEVENT
END:VCALENDAR