BEGIN:VCALENDAR
VERSION:2.0
PRODID:-//Beverly Main Streets - ECPv6.15.20//NONSGML v1.0//EN
CALSCALE:GREGORIAN
METHOD:PUBLISH
X-ORIGINAL-URL:https://bevmain.org
X-WR-CALDESC:Events for Beverly Main Streets
REFRESH-INTERVAL;VALUE=DURATION:PT1H
X-Robots-Tag:noindex
X-PUBLISHED-TTL:PT1H
BEGIN:VTIMEZONE
TZID:America/New_York
BEGIN:DAYLIGHT
TZOFFSETFROM:-0500
TZOFFSETTO:-0400
TZNAME:EDT
DTSTART:20270314T070000
END:DAYLIGHT
BEGIN:STANDARD
TZOFFSETFROM:-0400
TZOFFSETTO:-0500
TZNAME:EST
DTSTART:20271107T060000
END:STANDARD
BEGIN:DAYLIGHT
TZOFFSETFROM:-0500
TZOFFSETTO:-0400
TZNAME:EDT
DTSTART:20280312T070000
END:DAYLIGHT
BEGIN:STANDARD
TZOFFSETFROM:-0400
TZOFFSETTO:-0500
TZNAME:EST
DTSTART:20281105T060000
END:STANDARD
BEGIN:DAYLIGHT
TZOFFSETFROM:-0500
TZOFFSETTO:-0400
TZNAME:EDT
DTSTART:20290311T070000
END:DAYLIGHT
BEGIN:STANDARD
TZOFFSETFROM:-0400
TZOFFSETTO:-0500
TZNAME:EST
DTSTART:20291104T060000
END:STANDARD
END:VTIMEZONE
BEGIN:VEVENT
DTSTART;TZID=America/New_York:20280222T200000
DTEND;TZID=America/New_York:20280222T220000
DTSTAMP:20260425T131933
CREATED:20230628T145939Z
LAST-MODIFIED:20230628T145939Z
UID:10019179-1834862400-1834869600@bevmain.org
SUMMARY:Geeks Who Drink Trivia at Indo
DESCRIPTION:Quizzes cover everything from Hungary to The Hunger Games\, from science to sports\, from the Billboard Hot 100 to Better Call Saul. \nEach quiz consists of seven rounds of eight questions each\, in a variety of formats\, including audio and visual rounds. \nTeams can be up to six players\, and winning teams get Indo gift certificates!
URL:https://bevmain.org/event/geeks-who-drink-trivia-at-indo/2028-02-22/
LOCATION:The Indo\, 298 Cabot Street\, Beverly\, MA\, 01915\, United States
CATEGORIES:Beer/Wine,Food,Nightlife
ATTACH;FMTTYPE=image/jpeg:https://bevmain.org/wp-content/uploads/2023/06/geekswhodrinkIndo.jpg
GEO:42.5521772;-70.8790122
X-APPLE-STRUCTURED-LOCATION;VALUE=URI;X-ADDRESS=The Indo 298 Cabot Street Beverly MA 01915 United States;X-APPLE-RADIUS=500;X-TITLE=298 Cabot Street:geo:-70.8790122,42.5521772
END:VEVENT
BEGIN:VEVENT
DTSTART;TZID=America/New_York:20280223T190000
DTEND;TZID=America/New_York:20280223T210000
DTSTAMP:20260425T131933
CREATED:20230417T144418Z
LAST-MODIFIED:20230417T144436Z
UID:10018097-1834945200-1834952400@bevmain.org
SUMMARY:Trivia Night at Backbeat Brewing
DESCRIPTION:Wednesday at 6:45pm is Trivia Night at Backbeat Brewing Company!
URL:https://bevmain.org/event/trivia-night-at-backbeat-brewing/2028-02-23/
LOCATION:MA
CATEGORIES:Beer/Wine,Food,Nightlife
ATTACH;FMTTYPE=image/jpeg:https://bevmain.org/wp-content/uploads/2023/04/backbeatlogo.jpg
END:VEVENT
BEGIN:VEVENT
DTSTART;TZID=America/New_York:20280223T193000
DTEND;TZID=America/New_York:20280223T233000
DTSTAMP:20260425T131933
CREATED:20260424T161822Z
LAST-MODIFIED:20260424T161822Z
UID:10039298-1834947000-1834961400@bevmain.org
SUMMARY:Not Your Mother's Trivia
DESCRIPTION:Weekly trivia night with questions geared for ages 25+.\nCome on your own or grab some friends for a team. Enjoy delicious\, affordable drinks while having a good time showing off your knowledge. Prizes for the top 3 scores!
URL:https://bevmain.org/event/not-your-mothers-trivia/2028-02-23/
LOCATION:Spear Post  331\, 3 Judson Street / Pond St entrance\, Beverly\, MA\, 01915\, United States
CATEGORIES:Free
ATTACH;FMTTYPE=image/jpeg:https://bevmain.org/wp-content/uploads/2026/04/4871.jpg
END:VEVENT
BEGIN:VEVENT
DTSTART;TZID=America/New_York:20280224T190000
DTEND;TZID=America/New_York:20280224T210000
DTSTAMP:20260425T131933
CREATED:20230307T174243Z
LAST-MODIFIED:20230315T143421Z
UID:10014290-1835031600-1835038800@bevmain.org
SUMMARY:Thursday Night Trivia
DESCRIPTION:Like a little friendly competition? want to win cool prizes? Come to TRIVIA Thursday nights at 7pm at Old Planters Brewing Co!
URL:https://bevmain.org/event/thursday-night-trivia/2028-02-24/
LOCATION:Old Planter's Brewing Co.\, 232 Rantoul St.\, Beverly\, MA\, 01915\, United States
CATEGORIES:Beer/Wine,Free,Nightlife
ATTACH;FMTTYPE=image/jpeg:https://bevmain.org/wp-content/uploads/2023/03/thursdaytriviaoldplanters.jpg
GEO:42.5493085;-70.8838543
X-APPLE-STRUCTURED-LOCATION;VALUE=URI;X-ADDRESS=Old Planter's Brewing Co. 232 Rantoul St. Beverly MA 01915 United States;X-APPLE-RADIUS=500;X-TITLE=232 Rantoul St.:geo:-70.8838543,42.5493085
END:VEVENT
BEGIN:VEVENT
DTSTART;TZID=America/New_York:20280229T200000
DTEND;TZID=America/New_York:20280229T220000
DTSTAMP:20260425T131933
CREATED:20230628T145939Z
LAST-MODIFIED:20230628T145939Z
UID:10019180-1835467200-1835474400@bevmain.org
SUMMARY:Geeks Who Drink Trivia at Indo
DESCRIPTION:Quizzes cover everything from Hungary to The Hunger Games\, from science to sports\, from the Billboard Hot 100 to Better Call Saul. \nEach quiz consists of seven rounds of eight questions each\, in a variety of formats\, including audio and visual rounds. \nTeams can be up to six players\, and winning teams get Indo gift certificates!
URL:https://bevmain.org/event/geeks-who-drink-trivia-at-indo/2028-02-29/
LOCATION:The Indo\, 298 Cabot Street\, Beverly\, MA\, 01915\, United States
CATEGORIES:Beer/Wine,Food,Nightlife
ATTACH;FMTTYPE=image/jpeg:https://bevmain.org/wp-content/uploads/2023/06/geekswhodrinkIndo.jpg
GEO:42.5521772;-70.8790122
X-APPLE-STRUCTURED-LOCATION;VALUE=URI;X-ADDRESS=The Indo 298 Cabot Street Beverly MA 01915 United States;X-APPLE-RADIUS=500;X-TITLE=298 Cabot Street:geo:-70.8790122,42.5521772
END:VEVENT
BEGIN:VEVENT
DTSTART;TZID=America/New_York:20280301T190000
DTEND;TZID=America/New_York:20280301T210000
DTSTAMP:20260425T131933
CREATED:20230417T144418Z
LAST-MODIFIED:20230417T144436Z
UID:10018098-1835550000-1835557200@bevmain.org
SUMMARY:Trivia Night at Backbeat Brewing
DESCRIPTION:Wednesday at 6:45pm is Trivia Night at Backbeat Brewing Company!
URL:https://bevmain.org/event/trivia-night-at-backbeat-brewing/2028-03-01/
LOCATION:MA
CATEGORIES:Beer/Wine,Food,Nightlife
ATTACH;FMTTYPE=image/jpeg:https://bevmain.org/wp-content/uploads/2023/04/backbeatlogo.jpg
END:VEVENT
BEGIN:VEVENT
DTSTART;TZID=America/New_York:20280301T193000
DTEND;TZID=America/New_York:20280301T233000
DTSTAMP:20260425T131933
CREATED:20260424T161822Z
LAST-MODIFIED:20260424T161822Z
UID:10039299-1835551800-1835566200@bevmain.org
SUMMARY:Not Your Mother's Trivia
DESCRIPTION:Weekly trivia night with questions geared for ages 25+.\nCome on your own or grab some friends for a team. Enjoy delicious\, affordable drinks while having a good time showing off your knowledge. Prizes for the top 3 scores!
URL:https://bevmain.org/event/not-your-mothers-trivia/2028-03-01/
LOCATION:Spear Post  331\, 3 Judson Street / Pond St entrance\, Beverly\, MA\, 01915\, United States
CATEGORIES:Free
ATTACH;FMTTYPE=image/jpeg:https://bevmain.org/wp-content/uploads/2026/04/4871.jpg
END:VEVENT
BEGIN:VEVENT
DTSTART;TZID=America/New_York:20280302T190000
DTEND;TZID=America/New_York:20280302T210000
DTSTAMP:20260425T131933
CREATED:20230307T174243Z
LAST-MODIFIED:20230315T143421Z
UID:10014291-1835636400-1835643600@bevmain.org
SUMMARY:Thursday Night Trivia
DESCRIPTION:Like a little friendly competition? want to win cool prizes? Come to TRIVIA Thursday nights at 7pm at Old Planters Brewing Co!
URL:https://bevmain.org/event/thursday-night-trivia/2028-03-02/
LOCATION:Old Planter's Brewing Co.\, 232 Rantoul St.\, Beverly\, MA\, 01915\, United States
CATEGORIES:Beer/Wine,Free,Nightlife
ATTACH;FMTTYPE=image/jpeg:https://bevmain.org/wp-content/uploads/2023/03/thursdaytriviaoldplanters.jpg
GEO:42.5493085;-70.8838543
X-APPLE-STRUCTURED-LOCATION;VALUE=URI;X-ADDRESS=Old Planter's Brewing Co. 232 Rantoul St. Beverly MA 01915 United States;X-APPLE-RADIUS=500;X-TITLE=232 Rantoul St.:geo:-70.8838543,42.5493085
END:VEVENT
BEGIN:VEVENT
DTSTART;TZID=America/New_York:20280307T200000
DTEND;TZID=America/New_York:20280307T220000
DTSTAMP:20260425T131933
CREATED:20230628T145939Z
LAST-MODIFIED:20230628T145939Z
UID:10019181-1836072000-1836079200@bevmain.org
SUMMARY:Geeks Who Drink Trivia at Indo
DESCRIPTION:Quizzes cover everything from Hungary to The Hunger Games\, from science to sports\, from the Billboard Hot 100 to Better Call Saul. \nEach quiz consists of seven rounds of eight questions each\, in a variety of formats\, including audio and visual rounds. \nTeams can be up to six players\, and winning teams get Indo gift certificates!
URL:https://bevmain.org/event/geeks-who-drink-trivia-at-indo/2028-03-07/
LOCATION:The Indo\, 298 Cabot Street\, Beverly\, MA\, 01915\, United States
CATEGORIES:Beer/Wine,Food,Nightlife
ATTACH;FMTTYPE=image/jpeg:https://bevmain.org/wp-content/uploads/2023/06/geekswhodrinkIndo.jpg
GEO:42.5521772;-70.8790122
X-APPLE-STRUCTURED-LOCATION;VALUE=URI;X-ADDRESS=The Indo 298 Cabot Street Beverly MA 01915 United States;X-APPLE-RADIUS=500;X-TITLE=298 Cabot Street:geo:-70.8790122,42.5521772
END:VEVENT
BEGIN:VEVENT
DTSTART;TZID=America/New_York:20280308T190000
DTEND;TZID=America/New_York:20280308T210000
DTSTAMP:20260425T131933
CREATED:20230417T144418Z
LAST-MODIFIED:20230417T144436Z
UID:10018099-1836154800-1836162000@bevmain.org
SUMMARY:Trivia Night at Backbeat Brewing
DESCRIPTION:Wednesday at 6:45pm is Trivia Night at Backbeat Brewing Company!
URL:https://bevmain.org/event/trivia-night-at-backbeat-brewing/2028-03-08/
LOCATION:MA
CATEGORIES:Beer/Wine,Food,Nightlife
ATTACH;FMTTYPE=image/jpeg:https://bevmain.org/wp-content/uploads/2023/04/backbeatlogo.jpg
END:VEVENT
BEGIN:VEVENT
DTSTART;TZID=America/New_York:20280308T193000
DTEND;TZID=America/New_York:20280308T233000
DTSTAMP:20260425T131933
CREATED:20260424T161822Z
LAST-MODIFIED:20260424T161822Z
UID:10039300-1836156600-1836171000@bevmain.org
SUMMARY:Not Your Mother's Trivia
DESCRIPTION:Weekly trivia night with questions geared for ages 25+.\nCome on your own or grab some friends for a team. Enjoy delicious\, affordable drinks while having a good time showing off your knowledge. Prizes for the top 3 scores!
URL:https://bevmain.org/event/not-your-mothers-trivia/2028-03-08/
LOCATION:Spear Post  331\, 3 Judson Street / Pond St entrance\, Beverly\, MA\, 01915\, United States
CATEGORIES:Free
ATTACH;FMTTYPE=image/jpeg:https://bevmain.org/wp-content/uploads/2026/04/4871.jpg
END:VEVENT
BEGIN:VEVENT
DTSTART;TZID=America/New_York:20280309T190000
DTEND;TZID=America/New_York:20280309T210000
DTSTAMP:20260425T131933
CREATED:20230307T174243Z
LAST-MODIFIED:20230315T143421Z
UID:10017495-1836241200-1836248400@bevmain.org
SUMMARY:Thursday Night Trivia
DESCRIPTION:Like a little friendly competition? want to win cool prizes? Come to TRIVIA Thursday nights at 7pm at Old Planters Brewing Co!
URL:https://bevmain.org/event/thursday-night-trivia/2028-03-09/
LOCATION:Old Planter's Brewing Co.\, 232 Rantoul St.\, Beverly\, MA\, 01915\, United States
CATEGORIES:Beer/Wine,Free,Nightlife
ATTACH;FMTTYPE=image/jpeg:https://bevmain.org/wp-content/uploads/2023/03/thursdaytriviaoldplanters.jpg
GEO:42.5493085;-70.8838543
X-APPLE-STRUCTURED-LOCATION;VALUE=URI;X-ADDRESS=Old Planter's Brewing Co. 232 Rantoul St. Beverly MA 01915 United States;X-APPLE-RADIUS=500;X-TITLE=232 Rantoul St.:geo:-70.8838543,42.5493085
END:VEVENT
BEGIN:VEVENT
DTSTART;TZID=America/New_York:20280314T200000
DTEND;TZID=America/New_York:20280314T220000
DTSTAMP:20260425T131933
CREATED:20230628T145939Z
LAST-MODIFIED:20230628T145939Z
UID:10019182-1836676800-1836684000@bevmain.org
SUMMARY:Geeks Who Drink Trivia at Indo
DESCRIPTION:Quizzes cover everything from Hungary to The Hunger Games\, from science to sports\, from the Billboard Hot 100 to Better Call Saul. \nEach quiz consists of seven rounds of eight questions each\, in a variety of formats\, including audio and visual rounds. \nTeams can be up to six players\, and winning teams get Indo gift certificates!
URL:https://bevmain.org/event/geeks-who-drink-trivia-at-indo/2028-03-14/
LOCATION:The Indo\, 298 Cabot Street\, Beverly\, MA\, 01915\, United States
CATEGORIES:Beer/Wine,Food,Nightlife
ATTACH;FMTTYPE=image/jpeg:https://bevmain.org/wp-content/uploads/2023/06/geekswhodrinkIndo.jpg
GEO:42.5521772;-70.8790122
X-APPLE-STRUCTURED-LOCATION;VALUE=URI;X-ADDRESS=The Indo 298 Cabot Street Beverly MA 01915 United States;X-APPLE-RADIUS=500;X-TITLE=298 Cabot Street:geo:-70.8790122,42.5521772
END:VEVENT
BEGIN:VEVENT
DTSTART;TZID=America/New_York:20280315T190000
DTEND;TZID=America/New_York:20280315T210000
DTSTAMP:20260425T131933
CREATED:20230417T144418Z
LAST-MODIFIED:20230417T144436Z
UID:10018100-1836759600-1836766800@bevmain.org
SUMMARY:Trivia Night at Backbeat Brewing
DESCRIPTION:Wednesday at 6:45pm is Trivia Night at Backbeat Brewing Company!
URL:https://bevmain.org/event/trivia-night-at-backbeat-brewing/2028-03-15/
LOCATION:MA
CATEGORIES:Beer/Wine,Food,Nightlife
ATTACH;FMTTYPE=image/jpeg:https://bevmain.org/wp-content/uploads/2023/04/backbeatlogo.jpg
END:VEVENT
BEGIN:VEVENT
DTSTART;TZID=America/New_York:20280315T193000
DTEND;TZID=America/New_York:20280315T233000
DTSTAMP:20260425T131933
CREATED:20260424T161822Z
LAST-MODIFIED:20260424T161822Z
UID:10039301-1836761400-1836775800@bevmain.org
SUMMARY:Not Your Mother's Trivia
DESCRIPTION:Weekly trivia night with questions geared for ages 25+.\nCome on your own or grab some friends for a team. Enjoy delicious\, affordable drinks while having a good time showing off your knowledge. Prizes for the top 3 scores!
URL:https://bevmain.org/event/not-your-mothers-trivia/2028-03-15/
LOCATION:Spear Post  331\, 3 Judson Street / Pond St entrance\, Beverly\, MA\, 01915\, United States
CATEGORIES:Free
ATTACH;FMTTYPE=image/jpeg:https://bevmain.org/wp-content/uploads/2026/04/4871.jpg
END:VEVENT
BEGIN:VEVENT
DTSTART;TZID=America/New_York:20280321T200000
DTEND;TZID=America/New_York:20280321T220000
DTSTAMP:20260425T131933
CREATED:20230628T145939Z
LAST-MODIFIED:20230628T145939Z
UID:10019183-1837281600-1837288800@bevmain.org
SUMMARY:Geeks Who Drink Trivia at Indo
DESCRIPTION:Quizzes cover everything from Hungary to The Hunger Games\, from science to sports\, from the Billboard Hot 100 to Better Call Saul. \nEach quiz consists of seven rounds of eight questions each\, in a variety of formats\, including audio and visual rounds. \nTeams can be up to six players\, and winning teams get Indo gift certificates!
URL:https://bevmain.org/event/geeks-who-drink-trivia-at-indo/2028-03-21/
LOCATION:The Indo\, 298 Cabot Street\, Beverly\, MA\, 01915\, United States
CATEGORIES:Beer/Wine,Food,Nightlife
ATTACH;FMTTYPE=image/jpeg:https://bevmain.org/wp-content/uploads/2023/06/geekswhodrinkIndo.jpg
GEO:42.5521772;-70.8790122
X-APPLE-STRUCTURED-LOCATION;VALUE=URI;X-ADDRESS=The Indo 298 Cabot Street Beverly MA 01915 United States;X-APPLE-RADIUS=500;X-TITLE=298 Cabot Street:geo:-70.8790122,42.5521772
END:VEVENT
BEGIN:VEVENT
DTSTART;TZID=America/New_York:20280322T190000
DTEND;TZID=America/New_York:20280322T210000
DTSTAMP:20260425T131933
CREATED:20230417T144418Z
LAST-MODIFIED:20230417T144436Z
UID:10018101-1837364400-1837371600@bevmain.org
SUMMARY:Trivia Night at Backbeat Brewing
DESCRIPTION:Wednesday at 6:45pm is Trivia Night at Backbeat Brewing Company!
URL:https://bevmain.org/event/trivia-night-at-backbeat-brewing/2028-03-22/
LOCATION:MA
CATEGORIES:Beer/Wine,Food,Nightlife
ATTACH;FMTTYPE=image/jpeg:https://bevmain.org/wp-content/uploads/2023/04/backbeatlogo.jpg
END:VEVENT
BEGIN:VEVENT
DTSTART;TZID=America/New_York:20280322T193000
DTEND;TZID=America/New_York:20280322T233000
DTSTAMP:20260425T131933
CREATED:20260424T161822Z
LAST-MODIFIED:20260424T161822Z
UID:10039302-1837366200-1837380600@bevmain.org
SUMMARY:Not Your Mother's Trivia
DESCRIPTION:Weekly trivia night with questions geared for ages 25+.\nCome on your own or grab some friends for a team. Enjoy delicious\, affordable drinks while having a good time showing off your knowledge. Prizes for the top 3 scores!
URL:https://bevmain.org/event/not-your-mothers-trivia/2028-03-22/
LOCATION:Spear Post  331\, 3 Judson Street / Pond St entrance\, Beverly\, MA\, 01915\, United States
CATEGORIES:Free
ATTACH;FMTTYPE=image/jpeg:https://bevmain.org/wp-content/uploads/2026/04/4871.jpg
END:VEVENT
BEGIN:VEVENT
DTSTART;TZID=America/New_York:20280328T200000
DTEND;TZID=America/New_York:20280328T220000
DTSTAMP:20260425T131933
CREATED:20230628T145939Z
LAST-MODIFIED:20230628T145939Z
UID:10019184-1837886400-1837893600@bevmain.org
SUMMARY:Geeks Who Drink Trivia at Indo
DESCRIPTION:Quizzes cover everything from Hungary to The Hunger Games\, from science to sports\, from the Billboard Hot 100 to Better Call Saul. \nEach quiz consists of seven rounds of eight questions each\, in a variety of formats\, including audio and visual rounds. \nTeams can be up to six players\, and winning teams get Indo gift certificates!
URL:https://bevmain.org/event/geeks-who-drink-trivia-at-indo/2028-03-28/
LOCATION:The Indo\, 298 Cabot Street\, Beverly\, MA\, 01915\, United States
CATEGORIES:Beer/Wine,Food,Nightlife
ATTACH;FMTTYPE=image/jpeg:https://bevmain.org/wp-content/uploads/2023/06/geekswhodrinkIndo.jpg
GEO:42.5521772;-70.8790122
X-APPLE-STRUCTURED-LOCATION;VALUE=URI;X-ADDRESS=The Indo 298 Cabot Street Beverly MA 01915 United States;X-APPLE-RADIUS=500;X-TITLE=298 Cabot Street:geo:-70.8790122,42.5521772
END:VEVENT
BEGIN:VEVENT
DTSTART;TZID=America/New_York:20280329T190000
DTEND;TZID=America/New_York:20280329T210000
DTSTAMP:20260425T131933
CREATED:20230417T144418Z
LAST-MODIFIED:20230417T144436Z
UID:10018102-1837969200-1837976400@bevmain.org
SUMMARY:Trivia Night at Backbeat Brewing
DESCRIPTION:Wednesday at 6:45pm is Trivia Night at Backbeat Brewing Company!
URL:https://bevmain.org/event/trivia-night-at-backbeat-brewing/2028-03-29/
LOCATION:MA
CATEGORIES:Beer/Wine,Food,Nightlife
ATTACH;FMTTYPE=image/jpeg:https://bevmain.org/wp-content/uploads/2023/04/backbeatlogo.jpg
END:VEVENT
BEGIN:VEVENT
DTSTART;TZID=America/New_York:20280329T193000
DTEND;TZID=America/New_York:20280329T233000
DTSTAMP:20260425T131933
CREATED:20260424T161822Z
LAST-MODIFIED:20260424T161822Z
UID:10039303-1837971000-1837985400@bevmain.org
SUMMARY:Not Your Mother's Trivia
DESCRIPTION:Weekly trivia night with questions geared for ages 25+.\nCome on your own or grab some friends for a team. Enjoy delicious\, affordable drinks while having a good time showing off your knowledge. Prizes for the top 3 scores!
URL:https://bevmain.org/event/not-your-mothers-trivia/2028-03-29/
LOCATION:Spear Post  331\, 3 Judson Street / Pond St entrance\, Beverly\, MA\, 01915\, United States
CATEGORIES:Free
ATTACH;FMTTYPE=image/jpeg:https://bevmain.org/wp-content/uploads/2026/04/4871.jpg
END:VEVENT
BEGIN:VEVENT
DTSTART;TZID=America/New_York:20280404T200000
DTEND;TZID=America/New_York:20280404T220000
DTSTAMP:20260425T131933
CREATED:20230628T145939Z
LAST-MODIFIED:20230628T145939Z
UID:10019185-1838491200-1838498400@bevmain.org
SUMMARY:Geeks Who Drink Trivia at Indo
DESCRIPTION:Quizzes cover everything from Hungary to The Hunger Games\, from science to sports\, from the Billboard Hot 100 to Better Call Saul. \nEach quiz consists of seven rounds of eight questions each\, in a variety of formats\, including audio and visual rounds. \nTeams can be up to six players\, and winning teams get Indo gift certificates!
URL:https://bevmain.org/event/geeks-who-drink-trivia-at-indo/2028-04-04/
LOCATION:The Indo\, 298 Cabot Street\, Beverly\, MA\, 01915\, United States
CATEGORIES:Beer/Wine,Food,Nightlife
ATTACH;FMTTYPE=image/jpeg:https://bevmain.org/wp-content/uploads/2023/06/geekswhodrinkIndo.jpg
GEO:42.5521772;-70.8790122
X-APPLE-STRUCTURED-LOCATION;VALUE=URI;X-ADDRESS=The Indo 298 Cabot Street Beverly MA 01915 United States;X-APPLE-RADIUS=500;X-TITLE=298 Cabot Street:geo:-70.8790122,42.5521772
END:VEVENT
BEGIN:VEVENT
DTSTART;TZID=America/New_York:20280405T190000
DTEND;TZID=America/New_York:20280405T210000
DTSTAMP:20260425T131933
CREATED:20230417T144418Z
LAST-MODIFIED:20230417T144436Z
UID:10018103-1838574000-1838581200@bevmain.org
SUMMARY:Trivia Night at Backbeat Brewing
DESCRIPTION:Wednesday at 6:45pm is Trivia Night at Backbeat Brewing Company!
URL:https://bevmain.org/event/trivia-night-at-backbeat-brewing/2028-04-05/
LOCATION:MA
CATEGORIES:Beer/Wine,Food,Nightlife
ATTACH;FMTTYPE=image/jpeg:https://bevmain.org/wp-content/uploads/2023/04/backbeatlogo.jpg
END:VEVENT
BEGIN:VEVENT
DTSTART;TZID=America/New_York:20280405T193000
DTEND;TZID=America/New_York:20280405T233000
DTSTAMP:20260425T131933
CREATED:20260424T161822Z
LAST-MODIFIED:20260424T161822Z
UID:10039304-1838575800-1838590200@bevmain.org
SUMMARY:Not Your Mother's Trivia
DESCRIPTION:Weekly trivia night with questions geared for ages 25+.\nCome on your own or grab some friends for a team. Enjoy delicious\, affordable drinks while having a good time showing off your knowledge. Prizes for the top 3 scores!
URL:https://bevmain.org/event/not-your-mothers-trivia/2028-04-05/
LOCATION:Spear Post  331\, 3 Judson Street / Pond St entrance\, Beverly\, MA\, 01915\, United States
CATEGORIES:Free
ATTACH;FMTTYPE=image/jpeg:https://bevmain.org/wp-content/uploads/2026/04/4871.jpg
END:VEVENT
BEGIN:VEVENT
DTSTART;TZID=America/New_York:20280411T200000
DTEND;TZID=America/New_York:20280411T220000
DTSTAMP:20260425T131933
CREATED:20230628T145939Z
LAST-MODIFIED:20230628T145939Z
UID:10019186-1839096000-1839103200@bevmain.org
SUMMARY:Geeks Who Drink Trivia at Indo
DESCRIPTION:Quizzes cover everything from Hungary to The Hunger Games\, from science to sports\, from the Billboard Hot 100 to Better Call Saul. \nEach quiz consists of seven rounds of eight questions each\, in a variety of formats\, including audio and visual rounds. \nTeams can be up to six players\, and winning teams get Indo gift certificates!
URL:https://bevmain.org/event/geeks-who-drink-trivia-at-indo/2028-04-11/
LOCATION:The Indo\, 298 Cabot Street\, Beverly\, MA\, 01915\, United States
CATEGORIES:Beer/Wine,Food,Nightlife
ATTACH;FMTTYPE=image/jpeg:https://bevmain.org/wp-content/uploads/2023/06/geekswhodrinkIndo.jpg
GEO:42.5521772;-70.8790122
X-APPLE-STRUCTURED-LOCATION;VALUE=URI;X-ADDRESS=The Indo 298 Cabot Street Beverly MA 01915 United States;X-APPLE-RADIUS=500;X-TITLE=298 Cabot Street:geo:-70.8790122,42.5521772
END:VEVENT
BEGIN:VEVENT
DTSTART;TZID=America/New_York:20280412T190000
DTEND;TZID=America/New_York:20280412T210000
DTSTAMP:20260425T131933
CREATED:20230417T144418Z
LAST-MODIFIED:20230417T144436Z
UID:10018104-1839178800-1839186000@bevmain.org
SUMMARY:Trivia Night at Backbeat Brewing
DESCRIPTION:Wednesday at 6:45pm is Trivia Night at Backbeat Brewing Company!
URL:https://bevmain.org/event/trivia-night-at-backbeat-brewing/2028-04-12/
LOCATION:MA
CATEGORIES:Beer/Wine,Food,Nightlife
ATTACH;FMTTYPE=image/jpeg:https://bevmain.org/wp-content/uploads/2023/04/backbeatlogo.jpg
END:VEVENT
BEGIN:VEVENT
DTSTART;TZID=America/New_York:20280412T193000
DTEND;TZID=America/New_York:20280412T233000
DTSTAMP:20260425T131933
CREATED:20260424T161822Z
LAST-MODIFIED:20260424T161822Z
UID:10039305-1839180600-1839195000@bevmain.org
SUMMARY:Not Your Mother's Trivia
DESCRIPTION:Weekly trivia night with questions geared for ages 25+.\nCome on your own or grab some friends for a team. Enjoy delicious\, affordable drinks while having a good time showing off your knowledge. Prizes for the top 3 scores!
URL:https://bevmain.org/event/not-your-mothers-trivia/2028-04-12/
LOCATION:Spear Post  331\, 3 Judson Street / Pond St entrance\, Beverly\, MA\, 01915\, United States
CATEGORIES:Free
ATTACH;FMTTYPE=image/jpeg:https://bevmain.org/wp-content/uploads/2026/04/4871.jpg
END:VEVENT
BEGIN:VEVENT
DTSTART;TZID=America/New_York:20280418T200000
DTEND;TZID=America/New_York:20280418T220000
DTSTAMP:20260425T131933
CREATED:20230628T145939Z
LAST-MODIFIED:20230628T145939Z
UID:10019187-1839700800-1839708000@bevmain.org
SUMMARY:Geeks Who Drink Trivia at Indo
DESCRIPTION:Quizzes cover everything from Hungary to The Hunger Games\, from science to sports\, from the Billboard Hot 100 to Better Call Saul. \nEach quiz consists of seven rounds of eight questions each\, in a variety of formats\, including audio and visual rounds. \nTeams can be up to six players\, and winning teams get Indo gift certificates!
URL:https://bevmain.org/event/geeks-who-drink-trivia-at-indo/2028-04-18/
LOCATION:The Indo\, 298 Cabot Street\, Beverly\, MA\, 01915\, United States
CATEGORIES:Beer/Wine,Food,Nightlife
ATTACH;FMTTYPE=image/jpeg:https://bevmain.org/wp-content/uploads/2023/06/geekswhodrinkIndo.jpg
GEO:42.5521772;-70.8790122
X-APPLE-STRUCTURED-LOCATION;VALUE=URI;X-ADDRESS=The Indo 298 Cabot Street Beverly MA 01915 United States;X-APPLE-RADIUS=500;X-TITLE=298 Cabot Street:geo:-70.8790122,42.5521772
END:VEVENT
BEGIN:VEVENT
DTSTART;TZID=America/New_York:20280419T193000
DTEND;TZID=America/New_York:20280419T233000
DTSTAMP:20260425T131933
CREATED:20260424T161822Z
LAST-MODIFIED:20260424T161822Z
UID:10039306-1839785400-1839799800@bevmain.org
SUMMARY:Not Your Mother's Trivia
DESCRIPTION:Weekly trivia night with questions geared for ages 25+.\nCome on your own or grab some friends for a team. Enjoy delicious\, affordable drinks while having a good time showing off your knowledge. Prizes for the top 3 scores!
URL:https://bevmain.org/event/not-your-mothers-trivia/2028-04-19/
LOCATION:Spear Post  331\, 3 Judson Street / Pond St entrance\, Beverly\, MA\, 01915\, United States
CATEGORIES:Free
ATTACH;FMTTYPE=image/jpeg:https://bevmain.org/wp-content/uploads/2026/04/4871.jpg
END:VEVENT
BEGIN:VEVENT
DTSTART;TZID=America/New_York:20280425T200000
DTEND;TZID=America/New_York:20280425T220000
DTSTAMP:20260425T131933
CREATED:20230628T145939Z
LAST-MODIFIED:20230628T145939Z
UID:10019188-1840305600-1840312800@bevmain.org
SUMMARY:Geeks Who Drink Trivia at Indo
DESCRIPTION:Quizzes cover everything from Hungary to The Hunger Games\, from science to sports\, from the Billboard Hot 100 to Better Call Saul. \nEach quiz consists of seven rounds of eight questions each\, in a variety of formats\, including audio and visual rounds. \nTeams can be up to six players\, and winning teams get Indo gift certificates!
URL:https://bevmain.org/event/geeks-who-drink-trivia-at-indo/2028-04-25/
LOCATION:The Indo\, 298 Cabot Street\, Beverly\, MA\, 01915\, United States
CATEGORIES:Beer/Wine,Food,Nightlife
ATTACH;FMTTYPE=image/jpeg:https://bevmain.org/wp-content/uploads/2023/06/geekswhodrinkIndo.jpg
GEO:42.5521772;-70.8790122
X-APPLE-STRUCTURED-LOCATION;VALUE=URI;X-ADDRESS=The Indo 298 Cabot Street Beverly MA 01915 United States;X-APPLE-RADIUS=500;X-TITLE=298 Cabot Street:geo:-70.8790122,42.5521772
END:VEVENT
END:VCALENDAR