BEGIN:VCALENDAR
VERSION:2.0
PRODID:-//Beverly Main Streets - ECPv6.15.20//NONSGML v1.0//EN
CALSCALE:GREGORIAN
METHOD:PUBLISH
X-ORIGINAL-URL:https://bevmain.org
X-WR-CALDESC:Events for Beverly Main Streets
REFRESH-INTERVAL;VALUE=DURATION:PT1H
X-Robots-Tag:noindex
X-PUBLISHED-TTL:PT1H
BEGIN:VTIMEZONE
TZID:America/New_York
BEGIN:DAYLIGHT
TZOFFSETFROM:-0500
TZOFFSETTO:-0400
TZNAME:EDT
DTSTART:20240310T070000
END:DAYLIGHT
BEGIN:STANDARD
TZOFFSETFROM:-0400
TZOFFSETTO:-0500
TZNAME:EST
DTSTART:20241103T060000
END:STANDARD
BEGIN:DAYLIGHT
TZOFFSETFROM:-0500
TZOFFSETTO:-0400
TZNAME:EDT
DTSTART:20250309T070000
END:DAYLIGHT
BEGIN:STANDARD
TZOFFSETFROM:-0400
TZOFFSETTO:-0500
TZNAME:EST
DTSTART:20251102T060000
END:STANDARD
BEGIN:DAYLIGHT
TZOFFSETFROM:-0500
TZOFFSETTO:-0400
TZNAME:EDT
DTSTART:20260308T070000
END:DAYLIGHT
BEGIN:STANDARD
TZOFFSETFROM:-0400
TZOFFSETTO:-0500
TZNAME:EST
DTSTART:20261101T060000
END:STANDARD
END:VTIMEZONE
BEGIN:VEVENT
DTSTART;TZID=America/New_York:20250920T150000
DTEND;TZID=America/New_York:20250920T173000
DTSTAMP:20260419T111716
CREATED:20250731T131046Z
LAST-MODIFIED:20250731T131046Z
UID:10035335-1758380400-1758389400@bevmain.org
SUMMARY:Tarot & Tea at Jolie!
DESCRIPTION:Join us for our next scheduled Tarot & Tea Event on Saturday\, September 20\, 2025\, 3:00-5:30pm.\nEach guest will receive a private 15 minute reading and enjoy a Jolie High Tea at our Beverly location.\nThis is a ticketed event which sells out fast! Tickets may be purchased online.
URL:https://bevmain.org/event/tarot-tea-at-jolie/
LOCATION:Jolie Tea Company\, Cabot Street\, Beverly\, Massachusetts\, 01915\, United States
CATEGORIES:Health & Wellness
ATTACH;FMTTYPE=image/jpeg:https://bevmain.org/wp-content/uploads/2025/07/TarotAndTea.jpg
ORGANIZER;CN="Jolie Tea Company":MAILTO:tea@jolieteaco.com
GEO:42.5478344;-70.8792364
X-APPLE-STRUCTURED-LOCATION;VALUE=URI;X-ADDRESS=Jolie Tea Company Cabot Street Beverly Massachusetts 01915 United States;X-APPLE-RADIUS=500;X-TITLE=Cabot Street:geo:-70.8792364,42.5478344
END:VEVENT
END:VCALENDAR