BEGIN:VCALENDAR
VERSION:2.0
PRODID:-//Beverly Main Streets - ECPv6.15.20//NONSGML v1.0//EN
CALSCALE:GREGORIAN
METHOD:PUBLISH
X-WR-CALNAME:Beverly Main Streets
X-ORIGINAL-URL:https://bevmain.org
X-WR-CALDESC:Events for Beverly Main Streets
REFRESH-INTERVAL;VALUE=DURATION:PT1H
X-Robots-Tag:noindex
X-PUBLISHED-TTL:PT1H
BEGIN:VTIMEZONE
TZID:America/New_York
BEGIN:DAYLIGHT
TZOFFSETFROM:-0500
TZOFFSETTO:-0400
TZNAME:EDT
DTSTART:20250309T070000
END:DAYLIGHT
BEGIN:STANDARD
TZOFFSETFROM:-0400
TZOFFSETTO:-0500
TZNAME:EST
DTSTART:20251102T060000
END:STANDARD
BEGIN:DAYLIGHT
TZOFFSETFROM:-0500
TZOFFSETTO:-0400
TZNAME:EDT
DTSTART:20260308T070000
END:DAYLIGHT
BEGIN:STANDARD
TZOFFSETFROM:-0400
TZOFFSETTO:-0500
TZNAME:EST
DTSTART:20261101T060000
END:STANDARD
BEGIN:DAYLIGHT
TZOFFSETFROM:-0500
TZOFFSETTO:-0400
TZNAME:EDT
DTSTART:20270314T070000
END:DAYLIGHT
BEGIN:STANDARD
TZOFFSETFROM:-0400
TZOFFSETTO:-0500
TZNAME:EST
DTSTART:20271107T060000
END:STANDARD
END:VTIMEZONE
BEGIN:VEVENT
DTSTART;TZID=America/New_York:20260425T113000
DTEND;TZID=America/New_York:20260425T150000
DTSTAMP:20260421T175205
CREATED:20240201T164418Z
LAST-MODIFIED:20250218T183714Z
UID:10026613-1777116600-1777129200@bevmain.org
SUMMARY:Kids Eat Free at A&B
DESCRIPTION:Saturdays from 11:30 am to 3:00 pm\, receive a free kid’s meal with the purchase of an adult entree or burger. \nFor Kids 10+under – Dine in only – Not valid with other promotions
URL:https://bevmain.org/event/kids-eat-free-at-ab-2/2026-04-25/
LOCATION:A&B Burgers\, 206 Cabot Street\, Beverly\, MA\, 01915\, United States
CATEGORIES:Food,Free,Kids
ATTACH;FMTTYPE=image/png:https://bevmain.org/wp-content/uploads/2024/01/updated-kids-eat-free-insta-post-.png
GEO:42.5482847;-70.8792096
X-APPLE-STRUCTURED-LOCATION;VALUE=URI;X-ADDRESS=A&B Burgers 206 Cabot Street Beverly MA 01915 United States;X-APPLE-RADIUS=500;X-TITLE=206 Cabot Street:geo:-70.8792096,42.5482847
END:VEVENT
BEGIN:VEVENT
DTSTART;TZID=America/New_York:20260502T113000
DTEND;TZID=America/New_York:20260502T150000
DTSTAMP:20260421T175205
CREATED:20240201T164418Z
LAST-MODIFIED:20250218T183714Z
UID:10026614-1777721400-1777734000@bevmain.org
SUMMARY:Kids Eat Free at A&B
DESCRIPTION:Saturdays from 11:30 am to 3:00 pm\, receive a free kid’s meal with the purchase of an adult entree or burger. \nFor Kids 10+under – Dine in only – Not valid with other promotions
URL:https://bevmain.org/event/kids-eat-free-at-ab-2/2026-05-02/
LOCATION:A&B Burgers\, 206 Cabot Street\, Beverly\, MA\, 01915\, United States
CATEGORIES:Food,Free,Kids
ATTACH;FMTTYPE=image/png:https://bevmain.org/wp-content/uploads/2024/01/updated-kids-eat-free-insta-post-.png
GEO:42.5482847;-70.8792096
X-APPLE-STRUCTURED-LOCATION;VALUE=URI;X-ADDRESS=A&B Burgers 206 Cabot Street Beverly MA 01915 United States;X-APPLE-RADIUS=500;X-TITLE=206 Cabot Street:geo:-70.8792096,42.5482847
END:VEVENT
BEGIN:VEVENT
DTSTART;TZID=America/New_York:20260509T113000
DTEND;TZID=America/New_York:20260509T150000
DTSTAMP:20260421T175205
CREATED:20240201T164418Z
LAST-MODIFIED:20250218T183714Z
UID:10026615-1778326200-1778338800@bevmain.org
SUMMARY:Kids Eat Free at A&B
DESCRIPTION:Saturdays from 11:30 am to 3:00 pm\, receive a free kid’s meal with the purchase of an adult entree or burger. \nFor Kids 10+under – Dine in only – Not valid with other promotions
URL:https://bevmain.org/event/kids-eat-free-at-ab-2/2026-05-09/
LOCATION:A&B Burgers\, 206 Cabot Street\, Beverly\, MA\, 01915\, United States
CATEGORIES:Food,Free,Kids
ATTACH;FMTTYPE=image/png:https://bevmain.org/wp-content/uploads/2024/01/updated-kids-eat-free-insta-post-.png
GEO:42.5482847;-70.8792096
X-APPLE-STRUCTURED-LOCATION;VALUE=URI;X-ADDRESS=A&B Burgers 206 Cabot Street Beverly MA 01915 United States;X-APPLE-RADIUS=500;X-TITLE=206 Cabot Street:geo:-70.8792096,42.5482847
END:VEVENT
BEGIN:VEVENT
DTSTART;TZID=America/New_York:20260516T113000
DTEND;TZID=America/New_York:20260516T150000
DTSTAMP:20260421T175205
CREATED:20240201T164418Z
LAST-MODIFIED:20250218T183714Z
UID:10026616-1778931000-1778943600@bevmain.org
SUMMARY:Kids Eat Free at A&B
DESCRIPTION:Saturdays from 11:30 am to 3:00 pm\, receive a free kid’s meal with the purchase of an adult entree or burger. \nFor Kids 10+under – Dine in only – Not valid with other promotions
URL:https://bevmain.org/event/kids-eat-free-at-ab-2/2026-05-16/
LOCATION:A&B Burgers\, 206 Cabot Street\, Beverly\, MA\, 01915\, United States
CATEGORIES:Food,Free,Kids
ATTACH;FMTTYPE=image/png:https://bevmain.org/wp-content/uploads/2024/01/updated-kids-eat-free-insta-post-.png
GEO:42.5482847;-70.8792096
X-APPLE-STRUCTURED-LOCATION;VALUE=URI;X-ADDRESS=A&B Burgers 206 Cabot Street Beverly MA 01915 United States;X-APPLE-RADIUS=500;X-TITLE=206 Cabot Street:geo:-70.8792096,42.5482847
END:VEVENT
BEGIN:VEVENT
DTSTART;TZID=America/New_York:20260523T113000
DTEND;TZID=America/New_York:20260523T150000
DTSTAMP:20260421T175205
CREATED:20240201T164418Z
LAST-MODIFIED:20250218T183714Z
UID:10026617-1779535800-1779548400@bevmain.org
SUMMARY:Kids Eat Free at A&B
DESCRIPTION:Saturdays from 11:30 am to 3:00 pm\, receive a free kid’s meal with the purchase of an adult entree or burger. \nFor Kids 10+under – Dine in only – Not valid with other promotions
URL:https://bevmain.org/event/kids-eat-free-at-ab-2/2026-05-23/
LOCATION:A&B Burgers\, 206 Cabot Street\, Beverly\, MA\, 01915\, United States
CATEGORIES:Food,Free,Kids
ATTACH;FMTTYPE=image/png:https://bevmain.org/wp-content/uploads/2024/01/updated-kids-eat-free-insta-post-.png
GEO:42.5482847;-70.8792096
X-APPLE-STRUCTURED-LOCATION;VALUE=URI;X-ADDRESS=A&B Burgers 206 Cabot Street Beverly MA 01915 United States;X-APPLE-RADIUS=500;X-TITLE=206 Cabot Street:geo:-70.8792096,42.5482847
END:VEVENT
BEGIN:VEVENT
DTSTART;TZID=America/New_York:20260530T113000
DTEND;TZID=America/New_York:20260530T150000
DTSTAMP:20260421T175205
CREATED:20240201T164418Z
LAST-MODIFIED:20250218T183714Z
UID:10026618-1780140600-1780153200@bevmain.org
SUMMARY:Kids Eat Free at A&B
DESCRIPTION:Saturdays from 11:30 am to 3:00 pm\, receive a free kid’s meal with the purchase of an adult entree or burger. \nFor Kids 10+under – Dine in only – Not valid with other promotions
URL:https://bevmain.org/event/kids-eat-free-at-ab-2/2026-05-30/
LOCATION:A&B Burgers\, 206 Cabot Street\, Beverly\, MA\, 01915\, United States
CATEGORIES:Food,Free,Kids
ATTACH;FMTTYPE=image/png:https://bevmain.org/wp-content/uploads/2024/01/updated-kids-eat-free-insta-post-.png
GEO:42.5482847;-70.8792096
X-APPLE-STRUCTURED-LOCATION;VALUE=URI;X-ADDRESS=A&B Burgers 206 Cabot Street Beverly MA 01915 United States;X-APPLE-RADIUS=500;X-TITLE=206 Cabot Street:geo:-70.8792096,42.5482847
END:VEVENT
BEGIN:VEVENT
DTSTART;TZID=America/New_York:20260606T113000
DTEND;TZID=America/New_York:20260606T150000
DTSTAMP:20260421T175205
CREATED:20240201T164418Z
LAST-MODIFIED:20250218T183714Z
UID:10026619-1780745400-1780758000@bevmain.org
SUMMARY:Kids Eat Free at A&B
DESCRIPTION:Saturdays from 11:30 am to 3:00 pm\, receive a free kid’s meal with the purchase of an adult entree or burger. \nFor Kids 10+under – Dine in only – Not valid with other promotions
URL:https://bevmain.org/event/kids-eat-free-at-ab-2/2026-06-06/
LOCATION:A&B Burgers\, 206 Cabot Street\, Beverly\, MA\, 01915\, United States
CATEGORIES:Food,Free,Kids
ATTACH;FMTTYPE=image/png:https://bevmain.org/wp-content/uploads/2024/01/updated-kids-eat-free-insta-post-.png
GEO:42.5482847;-70.8792096
X-APPLE-STRUCTURED-LOCATION;VALUE=URI;X-ADDRESS=A&B Burgers 206 Cabot Street Beverly MA 01915 United States;X-APPLE-RADIUS=500;X-TITLE=206 Cabot Street:geo:-70.8792096,42.5482847
END:VEVENT
BEGIN:VEVENT
DTSTART;TZID=America/New_York:20260613T113000
DTEND;TZID=America/New_York:20260613T150000
DTSTAMP:20260421T175205
CREATED:20240201T164418Z
LAST-MODIFIED:20250218T183714Z
UID:10026620-1781350200-1781362800@bevmain.org
SUMMARY:Kids Eat Free at A&B
DESCRIPTION:Saturdays from 11:30 am to 3:00 pm\, receive a free kid’s meal with the purchase of an adult entree or burger. \nFor Kids 10+under – Dine in only – Not valid with other promotions
URL:https://bevmain.org/event/kids-eat-free-at-ab-2/2026-06-13/
LOCATION:A&B Burgers\, 206 Cabot Street\, Beverly\, MA\, 01915\, United States
CATEGORIES:Food,Free,Kids
ATTACH;FMTTYPE=image/png:https://bevmain.org/wp-content/uploads/2024/01/updated-kids-eat-free-insta-post-.png
GEO:42.5482847;-70.8792096
X-APPLE-STRUCTURED-LOCATION;VALUE=URI;X-ADDRESS=A&B Burgers 206 Cabot Street Beverly MA 01915 United States;X-APPLE-RADIUS=500;X-TITLE=206 Cabot Street:geo:-70.8792096,42.5482847
END:VEVENT
BEGIN:VEVENT
DTSTART;TZID=America/New_York:20260620T113000
DTEND;TZID=America/New_York:20260620T150000
DTSTAMP:20260421T175205
CREATED:20240201T164418Z
LAST-MODIFIED:20250218T183714Z
UID:10026621-1781955000-1781967600@bevmain.org
SUMMARY:Kids Eat Free at A&B
DESCRIPTION:Saturdays from 11:30 am to 3:00 pm\, receive a free kid’s meal with the purchase of an adult entree or burger. \nFor Kids 10+under – Dine in only – Not valid with other promotions
URL:https://bevmain.org/event/kids-eat-free-at-ab-2/2026-06-20/
LOCATION:A&B Burgers\, 206 Cabot Street\, Beverly\, MA\, 01915\, United States
CATEGORIES:Food,Free,Kids
ATTACH;FMTTYPE=image/png:https://bevmain.org/wp-content/uploads/2024/01/updated-kids-eat-free-insta-post-.png
GEO:42.5482847;-70.8792096
X-APPLE-STRUCTURED-LOCATION;VALUE=URI;X-ADDRESS=A&B Burgers 206 Cabot Street Beverly MA 01915 United States;X-APPLE-RADIUS=500;X-TITLE=206 Cabot Street:geo:-70.8792096,42.5482847
END:VEVENT
BEGIN:VEVENT
DTSTART;TZID=America/New_York:20260627T113000
DTEND;TZID=America/New_York:20260627T150000
DTSTAMP:20260421T175205
CREATED:20240201T164418Z
LAST-MODIFIED:20250218T183714Z
UID:10026622-1782559800-1782572400@bevmain.org
SUMMARY:Kids Eat Free at A&B
DESCRIPTION:Saturdays from 11:30 am to 3:00 pm\, receive a free kid’s meal with the purchase of an adult entree or burger. \nFor Kids 10+under – Dine in only – Not valid with other promotions
URL:https://bevmain.org/event/kids-eat-free-at-ab-2/2026-06-27/
LOCATION:A&B Burgers\, 206 Cabot Street\, Beverly\, MA\, 01915\, United States
CATEGORIES:Food,Free,Kids
ATTACH;FMTTYPE=image/png:https://bevmain.org/wp-content/uploads/2024/01/updated-kids-eat-free-insta-post-.png
GEO:42.5482847;-70.8792096
X-APPLE-STRUCTURED-LOCATION;VALUE=URI;X-ADDRESS=A&B Burgers 206 Cabot Street Beverly MA 01915 United States;X-APPLE-RADIUS=500;X-TITLE=206 Cabot Street:geo:-70.8792096,42.5482847
END:VEVENT
BEGIN:VEVENT
DTSTART;TZID=America/New_York:20260704T113000
DTEND;TZID=America/New_York:20260704T150000
DTSTAMP:20260421T175205
CREATED:20240201T164418Z
LAST-MODIFIED:20250218T183714Z
UID:10026623-1783164600-1783177200@bevmain.org
SUMMARY:Kids Eat Free at A&B
DESCRIPTION:Saturdays from 11:30 am to 3:00 pm\, receive a free kid’s meal with the purchase of an adult entree or burger. \nFor Kids 10+under – Dine in only – Not valid with other promotions
URL:https://bevmain.org/event/kids-eat-free-at-ab-2/2026-07-04/
LOCATION:A&B Burgers\, 206 Cabot Street\, Beverly\, MA\, 01915\, United States
CATEGORIES:Food,Free,Kids
ATTACH;FMTTYPE=image/png:https://bevmain.org/wp-content/uploads/2024/01/updated-kids-eat-free-insta-post-.png
GEO:42.5482847;-70.8792096
X-APPLE-STRUCTURED-LOCATION;VALUE=URI;X-ADDRESS=A&B Burgers 206 Cabot Street Beverly MA 01915 United States;X-APPLE-RADIUS=500;X-TITLE=206 Cabot Street:geo:-70.8792096,42.5482847
END:VEVENT
BEGIN:VEVENT
DTSTART;TZID=America/New_York:20260711T113000
DTEND;TZID=America/New_York:20260711T150000
DTSTAMP:20260421T175205
CREATED:20240201T164418Z
LAST-MODIFIED:20250218T183714Z
UID:10026624-1783769400-1783782000@bevmain.org
SUMMARY:Kids Eat Free at A&B
DESCRIPTION:Saturdays from 11:30 am to 3:00 pm\, receive a free kid’s meal with the purchase of an adult entree or burger. \nFor Kids 10+under – Dine in only – Not valid with other promotions
URL:https://bevmain.org/event/kids-eat-free-at-ab-2/2026-07-11/
LOCATION:A&B Burgers\, 206 Cabot Street\, Beverly\, MA\, 01915\, United States
CATEGORIES:Food,Free,Kids
ATTACH;FMTTYPE=image/png:https://bevmain.org/wp-content/uploads/2024/01/updated-kids-eat-free-insta-post-.png
GEO:42.5482847;-70.8792096
X-APPLE-STRUCTURED-LOCATION;VALUE=URI;X-ADDRESS=A&B Burgers 206 Cabot Street Beverly MA 01915 United States;X-APPLE-RADIUS=500;X-TITLE=206 Cabot Street:geo:-70.8792096,42.5482847
END:VEVENT
BEGIN:VEVENT
DTSTART;TZID=America/New_York:20260718T113000
DTEND;TZID=America/New_York:20260718T150000
DTSTAMP:20260421T175205
CREATED:20240201T164418Z
LAST-MODIFIED:20250218T183714Z
UID:10026625-1784374200-1784386800@bevmain.org
SUMMARY:Kids Eat Free at A&B
DESCRIPTION:Saturdays from 11:30 am to 3:00 pm\, receive a free kid’s meal with the purchase of an adult entree or burger. \nFor Kids 10+under – Dine in only – Not valid with other promotions
URL:https://bevmain.org/event/kids-eat-free-at-ab-2/2026-07-18/
LOCATION:A&B Burgers\, 206 Cabot Street\, Beverly\, MA\, 01915\, United States
CATEGORIES:Food,Free,Kids
ATTACH;FMTTYPE=image/png:https://bevmain.org/wp-content/uploads/2024/01/updated-kids-eat-free-insta-post-.png
GEO:42.5482847;-70.8792096
X-APPLE-STRUCTURED-LOCATION;VALUE=URI;X-ADDRESS=A&B Burgers 206 Cabot Street Beverly MA 01915 United States;X-APPLE-RADIUS=500;X-TITLE=206 Cabot Street:geo:-70.8792096,42.5482847
END:VEVENT
BEGIN:VEVENT
DTSTART;TZID=America/New_York:20260725T113000
DTEND;TZID=America/New_York:20260725T150000
DTSTAMP:20260421T175205
CREATED:20240201T164418Z
LAST-MODIFIED:20250218T183714Z
UID:10026626-1784979000-1784991600@bevmain.org
SUMMARY:Kids Eat Free at A&B
DESCRIPTION:Saturdays from 11:30 am to 3:00 pm\, receive a free kid’s meal with the purchase of an adult entree or burger. \nFor Kids 10+under – Dine in only – Not valid with other promotions
URL:https://bevmain.org/event/kids-eat-free-at-ab-2/2026-07-25/
LOCATION:A&B Burgers\, 206 Cabot Street\, Beverly\, MA\, 01915\, United States
CATEGORIES:Food,Free,Kids
ATTACH;FMTTYPE=image/png:https://bevmain.org/wp-content/uploads/2024/01/updated-kids-eat-free-insta-post-.png
GEO:42.5482847;-70.8792096
X-APPLE-STRUCTURED-LOCATION;VALUE=URI;X-ADDRESS=A&B Burgers 206 Cabot Street Beverly MA 01915 United States;X-APPLE-RADIUS=500;X-TITLE=206 Cabot Street:geo:-70.8792096,42.5482847
END:VEVENT
BEGIN:VEVENT
DTSTART;TZID=America/New_York:20260801T113000
DTEND;TZID=America/New_York:20260801T150000
DTSTAMP:20260421T175205
CREATED:20240201T164418Z
LAST-MODIFIED:20250218T183714Z
UID:10026627-1785583800-1785596400@bevmain.org
SUMMARY:Kids Eat Free at A&B
DESCRIPTION:Saturdays from 11:30 am to 3:00 pm\, receive a free kid’s meal with the purchase of an adult entree or burger. \nFor Kids 10+under – Dine in only – Not valid with other promotions
URL:https://bevmain.org/event/kids-eat-free-at-ab-2/2026-08-01/
LOCATION:A&B Burgers\, 206 Cabot Street\, Beverly\, MA\, 01915\, United States
CATEGORIES:Food,Free,Kids
ATTACH;FMTTYPE=image/png:https://bevmain.org/wp-content/uploads/2024/01/updated-kids-eat-free-insta-post-.png
GEO:42.5482847;-70.8792096
X-APPLE-STRUCTURED-LOCATION;VALUE=URI;X-ADDRESS=A&B Burgers 206 Cabot Street Beverly MA 01915 United States;X-APPLE-RADIUS=500;X-TITLE=206 Cabot Street:geo:-70.8792096,42.5482847
END:VEVENT
BEGIN:VEVENT
DTSTART;TZID=America/New_York:20260808T113000
DTEND;TZID=America/New_York:20260808T150000
DTSTAMP:20260421T175205
CREATED:20240201T164418Z
LAST-MODIFIED:20250218T183714Z
UID:10026628-1786188600-1786201200@bevmain.org
SUMMARY:Kids Eat Free at A&B
DESCRIPTION:Saturdays from 11:30 am to 3:00 pm\, receive a free kid’s meal with the purchase of an adult entree or burger. \nFor Kids 10+under – Dine in only – Not valid with other promotions
URL:https://bevmain.org/event/kids-eat-free-at-ab-2/2026-08-08/
LOCATION:A&B Burgers\, 206 Cabot Street\, Beverly\, MA\, 01915\, United States
CATEGORIES:Food,Free,Kids
ATTACH;FMTTYPE=image/png:https://bevmain.org/wp-content/uploads/2024/01/updated-kids-eat-free-insta-post-.png
GEO:42.5482847;-70.8792096
X-APPLE-STRUCTURED-LOCATION;VALUE=URI;X-ADDRESS=A&B Burgers 206 Cabot Street Beverly MA 01915 United States;X-APPLE-RADIUS=500;X-TITLE=206 Cabot Street:geo:-70.8792096,42.5482847
END:VEVENT
BEGIN:VEVENT
DTSTART;TZID=America/New_York:20260815T113000
DTEND;TZID=America/New_York:20260815T150000
DTSTAMP:20260421T175205
CREATED:20240201T164418Z
LAST-MODIFIED:20250218T183714Z
UID:10026629-1786793400-1786806000@bevmain.org
SUMMARY:Kids Eat Free at A&B
DESCRIPTION:Saturdays from 11:30 am to 3:00 pm\, receive a free kid’s meal with the purchase of an adult entree or burger. \nFor Kids 10+under – Dine in only – Not valid with other promotions
URL:https://bevmain.org/event/kids-eat-free-at-ab-2/2026-08-15/
LOCATION:A&B Burgers\, 206 Cabot Street\, Beverly\, MA\, 01915\, United States
CATEGORIES:Food,Free,Kids
ATTACH;FMTTYPE=image/png:https://bevmain.org/wp-content/uploads/2024/01/updated-kids-eat-free-insta-post-.png
GEO:42.5482847;-70.8792096
X-APPLE-STRUCTURED-LOCATION;VALUE=URI;X-ADDRESS=A&B Burgers 206 Cabot Street Beverly MA 01915 United States;X-APPLE-RADIUS=500;X-TITLE=206 Cabot Street:geo:-70.8792096,42.5482847
END:VEVENT
BEGIN:VEVENT
DTSTART;TZID=America/New_York:20260822T113000
DTEND;TZID=America/New_York:20260822T150000
DTSTAMP:20260421T175205
CREATED:20240201T164418Z
LAST-MODIFIED:20250218T183714Z
UID:10026630-1787398200-1787410800@bevmain.org
SUMMARY:Kids Eat Free at A&B
DESCRIPTION:Saturdays from 11:30 am to 3:00 pm\, receive a free kid’s meal with the purchase of an adult entree or burger. \nFor Kids 10+under – Dine in only – Not valid with other promotions
URL:https://bevmain.org/event/kids-eat-free-at-ab-2/2026-08-22/
LOCATION:A&B Burgers\, 206 Cabot Street\, Beverly\, MA\, 01915\, United States
CATEGORIES:Food,Free,Kids
ATTACH;FMTTYPE=image/png:https://bevmain.org/wp-content/uploads/2024/01/updated-kids-eat-free-insta-post-.png
GEO:42.5482847;-70.8792096
X-APPLE-STRUCTURED-LOCATION;VALUE=URI;X-ADDRESS=A&B Burgers 206 Cabot Street Beverly MA 01915 United States;X-APPLE-RADIUS=500;X-TITLE=206 Cabot Street:geo:-70.8792096,42.5482847
END:VEVENT
BEGIN:VEVENT
DTSTART;TZID=America/New_York:20260829T113000
DTEND;TZID=America/New_York:20260829T150000
DTSTAMP:20260421T175205
CREATED:20240201T164418Z
LAST-MODIFIED:20250218T183714Z
UID:10026631-1788003000-1788015600@bevmain.org
SUMMARY:Kids Eat Free at A&B
DESCRIPTION:Saturdays from 11:30 am to 3:00 pm\, receive a free kid’s meal with the purchase of an adult entree or burger. \nFor Kids 10+under – Dine in only – Not valid with other promotions
URL:https://bevmain.org/event/kids-eat-free-at-ab-2/2026-08-29/
LOCATION:A&B Burgers\, 206 Cabot Street\, Beverly\, MA\, 01915\, United States
CATEGORIES:Food,Free,Kids
ATTACH;FMTTYPE=image/png:https://bevmain.org/wp-content/uploads/2024/01/updated-kids-eat-free-insta-post-.png
GEO:42.5482847;-70.8792096
X-APPLE-STRUCTURED-LOCATION;VALUE=URI;X-ADDRESS=A&B Burgers 206 Cabot Street Beverly MA 01915 United States;X-APPLE-RADIUS=500;X-TITLE=206 Cabot Street:geo:-70.8792096,42.5482847
END:VEVENT
BEGIN:VEVENT
DTSTART;TZID=America/New_York:20260905T113000
DTEND;TZID=America/New_York:20260905T150000
DTSTAMP:20260421T175205
CREATED:20240201T164418Z
LAST-MODIFIED:20250218T183714Z
UID:10026632-1788607800-1788620400@bevmain.org
SUMMARY:Kids Eat Free at A&B
DESCRIPTION:Saturdays from 11:30 am to 3:00 pm\, receive a free kid’s meal with the purchase of an adult entree or burger. \nFor Kids 10+under – Dine in only – Not valid with other promotions
URL:https://bevmain.org/event/kids-eat-free-at-ab-2/2026-09-05/
LOCATION:A&B Burgers\, 206 Cabot Street\, Beverly\, MA\, 01915\, United States
CATEGORIES:Food,Free,Kids
ATTACH;FMTTYPE=image/png:https://bevmain.org/wp-content/uploads/2024/01/updated-kids-eat-free-insta-post-.png
GEO:42.5482847;-70.8792096
X-APPLE-STRUCTURED-LOCATION;VALUE=URI;X-ADDRESS=A&B Burgers 206 Cabot Street Beverly MA 01915 United States;X-APPLE-RADIUS=500;X-TITLE=206 Cabot Street:geo:-70.8792096,42.5482847
END:VEVENT
BEGIN:VEVENT
DTSTART;TZID=America/New_York:20260912T113000
DTEND;TZID=America/New_York:20260912T150000
DTSTAMP:20260421T175205
CREATED:20240201T164418Z
LAST-MODIFIED:20250218T183714Z
UID:10026633-1789212600-1789225200@bevmain.org
SUMMARY:Kids Eat Free at A&B
DESCRIPTION:Saturdays from 11:30 am to 3:00 pm\, receive a free kid’s meal with the purchase of an adult entree or burger. \nFor Kids 10+under – Dine in only – Not valid with other promotions
URL:https://bevmain.org/event/kids-eat-free-at-ab-2/2026-09-12/
LOCATION:A&B Burgers\, 206 Cabot Street\, Beverly\, MA\, 01915\, United States
CATEGORIES:Food,Free,Kids
ATTACH;FMTTYPE=image/png:https://bevmain.org/wp-content/uploads/2024/01/updated-kids-eat-free-insta-post-.png
GEO:42.5482847;-70.8792096
X-APPLE-STRUCTURED-LOCATION;VALUE=URI;X-ADDRESS=A&B Burgers 206 Cabot Street Beverly MA 01915 United States;X-APPLE-RADIUS=500;X-TITLE=206 Cabot Street:geo:-70.8792096,42.5482847
END:VEVENT
BEGIN:VEVENT
DTSTART;TZID=America/New_York:20260919T113000
DTEND;TZID=America/New_York:20260919T150000
DTSTAMP:20260421T175205
CREATED:20240201T164418Z
LAST-MODIFIED:20250218T183714Z
UID:10026634-1789817400-1789830000@bevmain.org
SUMMARY:Kids Eat Free at A&B
DESCRIPTION:Saturdays from 11:30 am to 3:00 pm\, receive a free kid’s meal with the purchase of an adult entree or burger. \nFor Kids 10+under – Dine in only – Not valid with other promotions
URL:https://bevmain.org/event/kids-eat-free-at-ab-2/2026-09-19/
LOCATION:A&B Burgers\, 206 Cabot Street\, Beverly\, MA\, 01915\, United States
CATEGORIES:Food,Free,Kids
ATTACH;FMTTYPE=image/png:https://bevmain.org/wp-content/uploads/2024/01/updated-kids-eat-free-insta-post-.png
GEO:42.5482847;-70.8792096
X-APPLE-STRUCTURED-LOCATION;VALUE=URI;X-ADDRESS=A&B Burgers 206 Cabot Street Beverly MA 01915 United States;X-APPLE-RADIUS=500;X-TITLE=206 Cabot Street:geo:-70.8792096,42.5482847
END:VEVENT
BEGIN:VEVENT
DTSTART;TZID=America/New_York:20260926T113000
DTEND;TZID=America/New_York:20260926T150000
DTSTAMP:20260421T175205
CREATED:20240201T164418Z
LAST-MODIFIED:20250218T183714Z
UID:10026635-1790422200-1790434800@bevmain.org
SUMMARY:Kids Eat Free at A&B
DESCRIPTION:Saturdays from 11:30 am to 3:00 pm\, receive a free kid’s meal with the purchase of an adult entree or burger. \nFor Kids 10+under – Dine in only – Not valid with other promotions
URL:https://bevmain.org/event/kids-eat-free-at-ab-2/2026-09-26/
LOCATION:A&B Burgers\, 206 Cabot Street\, Beverly\, MA\, 01915\, United States
CATEGORIES:Food,Free,Kids
ATTACH;FMTTYPE=image/png:https://bevmain.org/wp-content/uploads/2024/01/updated-kids-eat-free-insta-post-.png
GEO:42.5482847;-70.8792096
X-APPLE-STRUCTURED-LOCATION;VALUE=URI;X-ADDRESS=A&B Burgers 206 Cabot Street Beverly MA 01915 United States;X-APPLE-RADIUS=500;X-TITLE=206 Cabot Street:geo:-70.8792096,42.5482847
END:VEVENT
BEGIN:VEVENT
DTSTART;TZID=America/New_York:20261003T113000
DTEND;TZID=America/New_York:20261003T150000
DTSTAMP:20260421T175205
CREATED:20240201T164418Z
LAST-MODIFIED:20250218T183714Z
UID:10026636-1791027000-1791039600@bevmain.org
SUMMARY:Kids Eat Free at A&B
DESCRIPTION:Saturdays from 11:30 am to 3:00 pm\, receive a free kid’s meal with the purchase of an adult entree or burger. \nFor Kids 10+under – Dine in only – Not valid with other promotions
URL:https://bevmain.org/event/kids-eat-free-at-ab-2/2026-10-03/
LOCATION:A&B Burgers\, 206 Cabot Street\, Beverly\, MA\, 01915\, United States
CATEGORIES:Food,Free,Kids
ATTACH;FMTTYPE=image/png:https://bevmain.org/wp-content/uploads/2024/01/updated-kids-eat-free-insta-post-.png
GEO:42.5482847;-70.8792096
X-APPLE-STRUCTURED-LOCATION;VALUE=URI;X-ADDRESS=A&B Burgers 206 Cabot Street Beverly MA 01915 United States;X-APPLE-RADIUS=500;X-TITLE=206 Cabot Street:geo:-70.8792096,42.5482847
END:VEVENT
BEGIN:VEVENT
DTSTART;TZID=America/New_York:20261010T113000
DTEND;TZID=America/New_York:20261010T150000
DTSTAMP:20260421T175205
CREATED:20240201T164418Z
LAST-MODIFIED:20250218T183714Z
UID:10026637-1791631800-1791644400@bevmain.org
SUMMARY:Kids Eat Free at A&B
DESCRIPTION:Saturdays from 11:30 am to 3:00 pm\, receive a free kid’s meal with the purchase of an adult entree or burger. \nFor Kids 10+under – Dine in only – Not valid with other promotions
URL:https://bevmain.org/event/kids-eat-free-at-ab-2/2026-10-10/
LOCATION:A&B Burgers\, 206 Cabot Street\, Beverly\, MA\, 01915\, United States
CATEGORIES:Food,Free,Kids
ATTACH;FMTTYPE=image/png:https://bevmain.org/wp-content/uploads/2024/01/updated-kids-eat-free-insta-post-.png
GEO:42.5482847;-70.8792096
X-APPLE-STRUCTURED-LOCATION;VALUE=URI;X-ADDRESS=A&B Burgers 206 Cabot Street Beverly MA 01915 United States;X-APPLE-RADIUS=500;X-TITLE=206 Cabot Street:geo:-70.8792096,42.5482847
END:VEVENT
BEGIN:VEVENT
DTSTART;TZID=America/New_York:20261017T113000
DTEND;TZID=America/New_York:20261017T150000
DTSTAMP:20260421T175205
CREATED:20240201T164418Z
LAST-MODIFIED:20250218T183714Z
UID:10026638-1792236600-1792249200@bevmain.org
SUMMARY:Kids Eat Free at A&B
DESCRIPTION:Saturdays from 11:30 am to 3:00 pm\, receive a free kid’s meal with the purchase of an adult entree or burger. \nFor Kids 10+under – Dine in only – Not valid with other promotions
URL:https://bevmain.org/event/kids-eat-free-at-ab-2/2026-10-17/
LOCATION:A&B Burgers\, 206 Cabot Street\, Beverly\, MA\, 01915\, United States
CATEGORIES:Food,Free,Kids
ATTACH;FMTTYPE=image/png:https://bevmain.org/wp-content/uploads/2024/01/updated-kids-eat-free-insta-post-.png
GEO:42.5482847;-70.8792096
X-APPLE-STRUCTURED-LOCATION;VALUE=URI;X-ADDRESS=A&B Burgers 206 Cabot Street Beverly MA 01915 United States;X-APPLE-RADIUS=500;X-TITLE=206 Cabot Street:geo:-70.8792096,42.5482847
END:VEVENT
BEGIN:VEVENT
DTSTART;TZID=America/New_York:20261024T113000
DTEND;TZID=America/New_York:20261024T150000
DTSTAMP:20260421T175205
CREATED:20240201T164418Z
LAST-MODIFIED:20250218T183714Z
UID:10026639-1792841400-1792854000@bevmain.org
SUMMARY:Kids Eat Free at A&B
DESCRIPTION:Saturdays from 11:30 am to 3:00 pm\, receive a free kid’s meal with the purchase of an adult entree or burger. \nFor Kids 10+under – Dine in only – Not valid with other promotions
URL:https://bevmain.org/event/kids-eat-free-at-ab-2/2026-10-24/
LOCATION:A&B Burgers\, 206 Cabot Street\, Beverly\, MA\, 01915\, United States
CATEGORIES:Food,Free,Kids
ATTACH;FMTTYPE=image/png:https://bevmain.org/wp-content/uploads/2024/01/updated-kids-eat-free-insta-post-.png
GEO:42.5482847;-70.8792096
X-APPLE-STRUCTURED-LOCATION;VALUE=URI;X-ADDRESS=A&B Burgers 206 Cabot Street Beverly MA 01915 United States;X-APPLE-RADIUS=500;X-TITLE=206 Cabot Street:geo:-70.8792096,42.5482847
END:VEVENT
BEGIN:VEVENT
DTSTART;TZID=America/New_York:20261031T113000
DTEND;TZID=America/New_York:20261031T150000
DTSTAMP:20260421T175205
CREATED:20240201T164418Z
LAST-MODIFIED:20250218T183714Z
UID:10026640-1793446200-1793458800@bevmain.org
SUMMARY:Kids Eat Free at A&B
DESCRIPTION:Saturdays from 11:30 am to 3:00 pm\, receive a free kid’s meal with the purchase of an adult entree or burger. \nFor Kids 10+under – Dine in only – Not valid with other promotions
URL:https://bevmain.org/event/kids-eat-free-at-ab-2/2026-10-31/
LOCATION:A&B Burgers\, 206 Cabot Street\, Beverly\, MA\, 01915\, United States
CATEGORIES:Food,Free,Kids
ATTACH;FMTTYPE=image/png:https://bevmain.org/wp-content/uploads/2024/01/updated-kids-eat-free-insta-post-.png
GEO:42.5482847;-70.8792096
X-APPLE-STRUCTURED-LOCATION;VALUE=URI;X-ADDRESS=A&B Burgers 206 Cabot Street Beverly MA 01915 United States;X-APPLE-RADIUS=500;X-TITLE=206 Cabot Street:geo:-70.8792096,42.5482847
END:VEVENT
BEGIN:VEVENT
DTSTART;TZID=America/New_York:20261107T113000
DTEND;TZID=America/New_York:20261107T150000
DTSTAMP:20260421T175205
CREATED:20240201T164418Z
LAST-MODIFIED:20250218T183714Z
UID:10026641-1794051000-1794063600@bevmain.org
SUMMARY:Kids Eat Free at A&B
DESCRIPTION:Saturdays from 11:30 am to 3:00 pm\, receive a free kid’s meal with the purchase of an adult entree or burger. \nFor Kids 10+under – Dine in only – Not valid with other promotions
URL:https://bevmain.org/event/kids-eat-free-at-ab-2/2026-11-07/
LOCATION:A&B Burgers\, 206 Cabot Street\, Beverly\, MA\, 01915\, United States
CATEGORIES:Food,Free,Kids
ATTACH;FMTTYPE=image/png:https://bevmain.org/wp-content/uploads/2024/01/updated-kids-eat-free-insta-post-.png
GEO:42.5482847;-70.8792096
X-APPLE-STRUCTURED-LOCATION;VALUE=URI;X-ADDRESS=A&B Burgers 206 Cabot Street Beverly MA 01915 United States;X-APPLE-RADIUS=500;X-TITLE=206 Cabot Street:geo:-70.8792096,42.5482847
END:VEVENT
BEGIN:VEVENT
DTSTART;TZID=America/New_York:20261114T113000
DTEND;TZID=America/New_York:20261114T150000
DTSTAMP:20260421T175205
CREATED:20240201T164418Z
LAST-MODIFIED:20250218T183714Z
UID:10026642-1794655800-1794668400@bevmain.org
SUMMARY:Kids Eat Free at A&B
DESCRIPTION:Saturdays from 11:30 am to 3:00 pm\, receive a free kid’s meal with the purchase of an adult entree or burger. \nFor Kids 10+under – Dine in only – Not valid with other promotions
URL:https://bevmain.org/event/kids-eat-free-at-ab-2/2026-11-14/
LOCATION:A&B Burgers\, 206 Cabot Street\, Beverly\, MA\, 01915\, United States
CATEGORIES:Food,Free,Kids
ATTACH;FMTTYPE=image/png:https://bevmain.org/wp-content/uploads/2024/01/updated-kids-eat-free-insta-post-.png
GEO:42.5482847;-70.8792096
X-APPLE-STRUCTURED-LOCATION;VALUE=URI;X-ADDRESS=A&B Burgers 206 Cabot Street Beverly MA 01915 United States;X-APPLE-RADIUS=500;X-TITLE=206 Cabot Street:geo:-70.8792096,42.5482847
END:VEVENT
END:VCALENDAR