BEGIN:VCALENDAR
VERSION:2.0
PRODID:-//Beverly Main Streets - ECPv6.15.20//NONSGML v1.0//EN
CALSCALE:GREGORIAN
METHOD:PUBLISH
X-ORIGINAL-URL:https://bevmain.org
X-WR-CALDESC:Events for Beverly Main Streets
REFRESH-INTERVAL;VALUE=DURATION:PT1H
X-Robots-Tag:noindex
X-PUBLISHED-TTL:PT1H
BEGIN:VTIMEZONE
TZID:America/New_York
BEGIN:DAYLIGHT
TZOFFSETFROM:-0500
TZOFFSETTO:-0400
TZNAME:EDT
DTSTART:20230312T070000
END:DAYLIGHT
BEGIN:STANDARD
TZOFFSETFROM:-0400
TZOFFSETTO:-0500
TZNAME:EST
DTSTART:20231105T060000
END:STANDARD
BEGIN:DAYLIGHT
TZOFFSETFROM:-0500
TZOFFSETTO:-0400
TZNAME:EDT
DTSTART:20240310T070000
END:DAYLIGHT
BEGIN:STANDARD
TZOFFSETFROM:-0400
TZOFFSETTO:-0500
TZNAME:EST
DTSTART:20241103T060000
END:STANDARD
BEGIN:DAYLIGHT
TZOFFSETFROM:-0500
TZOFFSETTO:-0400
TZNAME:EDT
DTSTART:20250309T070000
END:DAYLIGHT
BEGIN:STANDARD
TZOFFSETFROM:-0400
TZOFFSETTO:-0500
TZNAME:EST
DTSTART:20251102T060000
END:STANDARD
END:VTIMEZONE
BEGIN:VEVENT
DTSTART;TZID=America/New_York:20241130T190000
DTEND;TZID=America/New_York:20241130T220000
DTSTAMP:20260422T231512
CREATED:20240829T143945Z
LAST-MODIFIED:20240904T132312Z
UID:10024879-1732993200-1733004000@bevmain.org
SUMMARY:BHS 20 Year Reunion
DESCRIPTION:Come celebrate our 20 year reunion in style at Mission Boathouse. Ticket price includes entrance and full buffet. Cash bar.\n\nThe cost is $60.00 per person/ticket. Please Venmo your payment to Sarah Charland (@Sayiscool6) with a note that says “BHS Reunion”. You will receive a confirmation e-mail once you register and submit your payment.\n\nREGISTER here: https://rb.gy/69LJ7W.\n\n\n\nNOTE: We will be raffling off a basket of local gift cards. Each raffle ticket is is $5.00 (cash only). All proceeds will be sent to Beverly Bootstraps as a donation\, in honor of the classmates we have lost over the years.\nQuestions? Contact me at Sarah.Charland@gmail.com.\n\nLooking forward to seeing you!!
URL:https://bevmain.org/event/bhs-20-year-reunion/
LOCATION:Mission Boathouse\, 1 Water Street\, Beverly\, MA\, 01915
CATEGORIES:Beer/Wine,Community Events,Networking Events
ATTACH;FMTTYPE=image/png:https://bevmain.org/wp-content/uploads/2024/08/Class-Reunion-Flyer-v2.png
GEO:42.5409129;-70.8856425
X-APPLE-STRUCTURED-LOCATION;VALUE=URI;X-ADDRESS=Mission Boathouse 1 Water Street Beverly MA 01915;X-APPLE-RADIUS=500;X-TITLE=1 Water Street:geo:-70.8856425,42.5409129
END:VEVENT
END:VCALENDAR